{"text_format":"1","workbook":"xlsx","n_sheets":19,"sheets":["はじめに","ステップ1（地上の状況）","ステップ2（地下フロア構造）","ステップ3（流入口リスト）","ステップ4（グルーピング）","ステップ5（地下浸水状況）","元シート","ステップ6（異変認知時間）","ステップ7（避難意思決定時間）","ステップ8（移動時間の算定）","在館者密度表","ステップ9（避難行動余裕時間の算定）","流入量グラフ","水深グラフ","個別流入量","区画水深","越流水深","リスト","ステップ3（流入口リスト）backup"],"not_rendered":{"charts":48,"images":39,"macros":1,"external_links":0,"defined_names":31,"comments":0,"pivot_tables":0},"unopened":[],"bounds":{"document_bytes":16777216,"sheet_cells":100000,"rows_first":2000,"rows_last":500,"rows_between":2000,"halvings":0,"cell_chars":16384,"cell_head_chars":4096},"cells_cut":0,"cells_raw":0,"read":"whole","date_system":"1900"}

{"sheet":"はじめに","index":0,"n_rows":120,"n_cols":23,"rows_kept":120,"cut":false,"hidden":false,"merged":[[86,1,86,5],[86,6,86,10],[120,1,122,10],[56,14,62,22],[64,14,64,22],[53,1,57,10],[68,1,70,10],[32,14,32,20],[14,1,14,10],[15,1,15,10],[16,1,16,10],[6,13,6,22],[17,1,17,10],[5,1,10,10],[13,1,13,10],[18,1,18,10],[19,1,19,10],[20,1,20,10],[21,1,25,10],[28,1,32,10],[33,19,38,19],[33,20,38,20],[33,14,38,14],[33,15,38,15],[33,16,38,16],[33,17,38,17],[33,18,38,18]]}
[]
[]
[null,"はじめに"]
[]
[null,"１．地下街等浸水時避難計画策定支援システムについて"]
[null,"「地下街等浸水時避難計画策定支援システム」（以下、「本システム」という。）は、「地下街等浸水時避難計画策定の手引き（案）」（以下、「手引き」という。）の浸水時避難安全検討法に従って、地下街等の避難計画の策定を支援することを目的に、洪水予報や浸水想定等の情報から、地下空間における浸水状況の推定、避難所要時間（おおよその時間）等を算出するためのエクセルを使った簡易ソフトウェアです。",null,null,null,null,null,null,null,null,null,null,null,"◆「地下街等浸水時避難計画策定の手引き（案）」はこちら"]
[null,null,null,null,null,null,null,null,null,null,null,null,null,"http://www.mlit.go.jp/river/shishin_guideline/bousai/saigai/tisiki/sinsui_tebiki/index.html"]
[]
[]
[]
[]
[]
[null,"２．本システムの適用範囲"]
[]
[null,"■システムの利用者："]
[null,"　◇施設管理者：主に商業施設・ビル地下の管理者の避難安全検討用"]
[null,"　◇自治体：施設管理者からの計画策定報告内容の確認用"]
[null,"■課題：地下街等における浸水状況、避難時間の簡便な想定"]
[null,"■対象災害：河川堤防の決壊、集中豪雨などによる浸水被害"]
[null,"■提供方法：システム（Excel）,活用マニュアル（PDF）"]
[null,"■ねらい・効果："]
[null,"手引きに準拠した避難安全検討法を、Excelで流入口の諸元や地下施設の構造を選択・入力するだけで簡便に実施できるものです。管理者自らが容易に浸水危険性や安全性の評価を行うことができるようになることで、計画策定の動議付けや目的・課題・対策の共有、根拠資料となり、計画策定が推進されることを期待しています。"]
[]
[]
[]
[]
[]
[null,"３．本システムが対象とする地下空間タイプ"]
[null,"地下空間には様々なタイプがあり、規模と利用者属性で分類すると下図のようになります。このうち、本システムが対象とする地下空間については、青線で囲っています。\n但し、対象範囲であっても、地下で隣接するビル等とつながっている場合は対象外とします。"]
[null,null,null,null,null,null,null,null,null,null,null,null,null,"◆各シートの表の色について"]
[null,null,null,null,null,null,null,null,null,null,null,null,null,"　各シートの表の色は下記のような対応になっています。"]
[]
[null,null,null,null,null,null,null,null,null,null,null,null,null,null,"項目欄"]
[null,null,null,null,null,null,null,null,null,null,null,null,null,null,"項目欄","自動入力","必須入力","任意変更可\n規定値あり","任意入力","算定結果","（特に重要）\n算定結果"]
[]
[]
[]
[]
[]
[]
[]
[]
[]
[]
[]
[]
[]
[]
[]
[]
[]
[]
[null,"４．本システムで行う内容について"]
[null,"本システムでは、地下空間の避難安全性検討を行います。\n避難安全性検討とは、 『 地下空間の浸水により避難が困難になる時間』 と『 安全な地上までの避難行動所要時間』 を各々 算定し比較検討することで、避難安全性が確保されているかを評価 、検討するものです 。",null,null,null,null,null,null,null,null,null,null,null,null,"もう少し詳しく"]
[]
[null,null,null,null,null,null,null,null,null,null,null,null,null,null,"■地下空間浸水時避難安全検討法について"]
[null,null,null,null,null,null,null,null,null,null,null,null,null,null,"●「地下街等浸水時避難計画策定の手引き（案）」では、避難安全対策の課題把握として、地下街等の浸水被害の発生過程を理解し、その過程の段階毎に必要であるソフト（避難誘導・防災体制等）、ハード（避難安全対策施設整備等）の避難安全対策を把握し、現状で不足している対策、課題を抽出、整理することになっています。\n●その避難安全性の検討は、避難困難水深になる時間と、それに伴う避難行動所要時間によって行うものとされており、その手法が「地下空間浸水時避難安全検討法」として整理されています。"]
[]
[]
[]
[]
[]
[]
[]
[null,null,null,null,null,null,null,null,null,null,null,null,null,null,"＜地下街等の浸水被害の発生過程と避難行動の時間＞"]
[]
[]
[null,"５．具体的には・・・"]
[null,"具体的には、下図に示す９つのステップを実施することで、避難安全性の検討を行います。"]
[]
[]
[]
[]
[]
[]
[]
[]
[]
[]
[]
[]
[]
[]
[]
[]
[]
[null,"①避難困難水深になる時間(Ts)",null,null,null,null,"②避難行動所要時間(Th)"]
[]
[null,null,null,null,null,null,null,null,null,null,null,null,null,null,"■避難安全検討法の流れと９つのステップ"]
[]
[null,null,null,null,null,null,null,null,null,null,null,null,null,null,null,"ステップ１"]
[]
[]
[]
[null,null,null,null,null,null,null,null,null,null,null,null,null,null,null,"ステップ2"]
[]
[]
[null,null,null,null,null,null,null,null,null,null,null,null,null,null,null,"ステップ3"]
[]
[]
[]
[null,null,null,null,null,null,null,null,null,null,null,null,null,null,"ステップ４～５",null,null,null,null,null,null,null,"ステップ６～８"]
[null,null,"①避難困難水深になる時間(Ts)は、",null,null,null,null,"②避難行動所要時間(Th)は、"]
[null,null,"下図のⅠとⅡの水深到達時間が早い方",null,null,null,null,"上図のt1+t2+t3+t4(a)+t4(2)+t5"]
[]
[]
[]
[]
[]
[]
[]
[]
[]
[null,null,"③避難行動余裕時間"]
[null,null,"＝ ①避難困難水深になる時間(Ts) - ②避難行動所要時間(Th)"]
[]
[null,null,"③避難行動余裕時間 ＞ ０となれば避難安全性評価が「○」となります。"]
[null,null,"「○」とならなかった場合は、浸水対策や避難対策を立てて再度計算を行います。",null,null,null,null,null,null,null,null,null,null,null,null,null,null,null,"ステップ9"]
[]
[null,"６．では始めましょう"]

{"sheet":"ステップ1（地上の状況）","index":1,"n_rows":50,"n_cols":15,"rows_kept":50,"cut":false,"hidden":false,"merged":[[6,14,9,14],[46,13,47,13],[11,2,18,3],[7,8,7,9],[11,0,14,0],[5,8,5,9],[5,6,5,7],[7,6,7,7],[6,13,9,13],[25,13,30,13]]}
[null,"↑の","　　をクリックで左の説明を閉じる"]
[null,"↑の","　　をクリックで左の説明を開く"]
["◆ここでやること",null,"■ステップ１：地上の想定浸水状況の入力",null,null,null,null,null,null,null,null,null,null,"◆解説"]
[]
[null,null,null,null,null,null,"必須入力"]
["■ステップ１：地上の想定浸水状況の入力",null,"①地上の想定最大浸水深",null,null,null,null,null,"(m)",null,null,null,null,"①「地上の最大浸水深」は、","①「地上の最大浸水深」は、"]
[null,null,null,null,null,null,"必須入力",null,null,null,null,null,null,"・洪水・内水・高潮ハザードマップに記載されている最大浸水深を確認して入力します。\n・例えば１ｍ～２ｍなどの情報の場合は、安全側の検討を行うために大きい方の数値を入力してください。","・「地点別浸水シミュレーション検索システム」の検索結果から確認することもできます。\n・「地点別浸水シミュレーション検索システム」は、浸水想定区域図を電子地図上に表示するシステムです。"]
["①「地上の想定最大浸水深」を入力します。",null,"②地上の想定浸水速度",null,null,null,null,null,"(cm/分)"]
[]
["②「地上の想定浸水速度」を入力します。"]
[null,null,null,null,null,null,null,null,null,null,null,null,null,"＜洪水ハザードマップの例＞","＜地点別浸水シミュレーション検索システムの例＞"]
["※最大浸水深になるまでは、想定浸水速度で水位が上昇し、最大浸水深になった後は、それが継続すると仮定して計算が行われます。\n\n※時間経過とともに地上から地下にどれくらいの量の氾濫水が地下に入り込むかを計算するために必要となります。",null,"地上の\n想定浸水状況"]
[]
[null,null,null,null,null,"時間(min)","水深(m)"]
[null,null,null,null,null,0,0,null,{"$f":"$F$16","v":{"$error":"#DIV/0!"}},{"$f":"$G$16","v":0}]
[null,null,null,null,null,{"$f":"$G$6*100/$G$8","v":{"$error":"#DIV/0!"}},{"$f":"$G$6","v":0},null,{"$f":"$F$16","v":{"$error":"#DIV/0!"}},{"$f":"$G$16","v":0}]
["③「ステップ２」へ進みます。",null,null,null,null,360,{"$f":"G16","v":0}]
[]
[]
[null,null,null,null,"グラフ内の時間（分）は、想定浸水速度で浸水した場合に想定最大浸水深に到達する時間です。"]
[null,null,null,null,"グラフは、入力した数値と連動しています。"]
[null,null,null,null,null,null,null,null,null,null,null,null,null,"ハザードマップをインターネットで探しましょう。","地点別浸水シミュレーション検索システムで検索しましょう。"]
[null,null,null,null,null,null,null,null,null,null,null,null,null,"http://disaportal.gsi.go.jp/","http://suiboumap.gsi.go.jp/"]
[]
[null,null,null,null,null,null,null,null,null,null,null,null,null,"②「地上の想定浸水速度」は、"]
[null,null,null,null,null,null,null,null,null,null,null,null,null,"地上の浸水深の水位上昇速度のことです。\n手引きでは、\n・最大浸水深が５０ｃｍ未満の場合は２ｃｍ／分\n・最大浸水深が５０ｃｍ以上２ｍ未満の場合は３ｃｍ／分\n・最大浸水深が２ｍ以上の場合は適宜設定\nとされています。\n\n※個別の検討結果がある場合には、この限りではありません。"]
[]
[]
[]
[]
[]
[null,null,null,null,null,null,null,null,null,null,null,null,null,"＜想定浸水速度と最大浸水深の関係例のグラフ＞"]
[]
[]
[]
[]
[]
[]
[]
[]
[]
[]
[]
[]
[]
[]
[null,null,null,null,null,null,null,null,null,null,null,null,null,"※また、①②をはじめとした河川についての情報をお聞きになりたい場合は、お近くの国土交通省河川事務所へお問い合わせください。"]
[]
[]
[null,null,null,null,null,null,null,null,null,null,null,null,null,"＜地上から氾濫水が地下へ流入するイメージ図＞"]

{"sheet":"ステップ2（地下フロア構造）","index":2,"n_rows":50,"n_cols":22,"rows_kept":50,"cut":false,"hidden":false,"merged":[[4,2,6,3],[23,0,24,0],[26,0,27,0],[13,21,14,21],[28,21,29,21],[25,5,25,8],[23,9,23,11],[24,9,24,11],[25,9,25,11],[16,9,17,11],[25,12,25,14],[28,9,28,11],[29,5,29,8],[28,5,28,8],[26,5,26,8],[27,5,27,8],[23,5,23,8],[7,0,10,0],[22,5,22,8],[16,3,16,4],[19,5,19,8],[20,5,20,8],[21,5,21,8],[18,3,18,4],[13,0,22,0],[38,9,38,11],[34,5,34,8],[35,5,35,8],[36,5,36,8],[34,9,34,11],[35,9,35,11],[36,9,36,11],[38,5,38,8],[30,5,30,8],[29,9,29,11],[30,9,30,11],[37,9,37,11],[37,5,37,8],[31,5,31,8],[32,5,32,8],[33,5,33,8],[31,9,31,11],[32,9,32,11],[33,9,33,11],[24,5,24,8],[18,9,18,11],[15,2,17,2],[15,3,15,16],[16,5,17,8],[18,5,18,8],[24,15,24,16],[19,15,19,16],[19,9,19,11],[20,9,20,11],[21,9,21,11],[22,9,22,11],[19,12,19,14],[20,12,20,14],[21,12,21,14],[22,12,22,14],[20,15,20,16],[21,15,21,16],[22,15,22,16],[38,15,38,16],[30,15,30,16],[31,15,31,16],[32,15,32,16],[33,15,33,16],[34,15,34,16],[35,15,35,16],[36,15,36,16],[37,15,37,16],[5,21,10,21],[15,21,17,21],[29,15,29,16],[25,15,25,16],[26,15,26,16],[27,15,27,16],[28,15,28,16],[16,15,17,16],[31,12,31,14],[23,12,23,14],[24,12,24,14],[23,15,23,16],[18,15,18,16],[16,12,17,14],[18,12,18,14],[32,12,32,14],[38,12,38,14],[33,12,33,14],[34,12,34,14],[35,12,35,14],[36,12,36,14],[37,12,37,14],[26,9,26,11],[27,9,27,11],[28,12,28,14],[29,12,29,14],[30,12,30,14],[26,12,26,14],[27,12,27,14]]}
[null,"↑の","　　をクリックで左の説明を閉じる"]
[null,"↑の","　　をクリックで左の説明を開く"]
["◆ここでやること",null,"■ステップ２-１：地下のフロア構成の入力",null,null,null,null,null,null,null,null,null,null,null,null,null,null,null,null,null,null,"◆解説"]
[]
["■ステップ２-１：地下のフロア構成の入力",null,"　　 区画・部屋\n\nフロア",null,"区画・部屋",null,null,null,null,null,null,null,null,null,null,null,null,null,null,null,null,"◆区画・部屋、床面積、高さについて"]
["①区画・部屋の数をフロアごとに入力します。",null,null,null,"①数","番号",null,null,null,null,null,null,null,null,null,null,null,null,null,null,null,"ここでは、「区画・部屋」を階段や換気口などのいわゆる「流入口」から氾濫水が流入してくる可能性はあるが、周囲からは流入してこない区切られた地下空間と定義しています。\n\n氾濫水の流入量から、地下空間に湛水する範囲や、水深を想定する（＝計算する）ことが必要となるため、浸水床面積と高さを入力します。\nまた、浸水しない部分がある場合は、それを合わせた全体床面積を入力します。これは、浸水しない部分にいる人の避難にかかる時間も想定する必要があるためです。"]
[null,null,null,null,"必須選択","自動入力"]
["　※区画・部屋の定義は右の解説を参照してください。\n　※最大５フロア×４区画・部屋　まで入力できます。\n　※区画・部屋の数をプルダウンリストで選択すると、\n　　右側に区画・部屋の番号が自動で入力されます。\n　※さらに、ステップ２－２の表にもフロア名と区画・\n　　部屋番号が自動で入力されます。",null,"地下１階",null,0,{"$f":"IF(E8=0,\"\",CHOOSE(E8,\"B1a\",\"B1a\",\"B1a\",\"B1a\"))","v":""},{"$f":"IF(E8=0,\"\",CHOOSE(E8,\"\",\"B1b\",\"B1b\",\"B1b\"))","v":""},{"$f":"IF(E8=0,\"\",CHOOSE(E8,\"\",\"\",\"B1c\",\"B1c\"))","v":""},{"$f":"IF(E8=0,\"\",CHOOSE(E8,\"\",\"\",\"\",\"B1d\"))","v":""},null,{"$f":"IF($E8=0,0,CHOOSE($E8,1,1,1,1))","v":0},{"$f":"IF($E8=0,0,CHOOSE($E8,0,2,2,2))","v":0},{"$f":"IF($E8=0,0,CHOOSE($E8,0,0,3,3))","v":0},{"$f":"IF($E8=0,0,CHOOSE($E8,0,0,0,4))","v":0},{"$f":"E8","v":0}]
[null,null,"地下２階",null,0,{"$f":"IF(E9=0,\"\",CHOOSE(E9,\"B2a\",\"B2a\",\"B2a\",\"B2a\"))","v":""},{"$f":"IF(E9=0,\"\",CHOOSE(E9,\"\",\"B2b\",\"B2b\",\"B2b\"))","v":""},{"$f":"IF(E9=0,\"\",CHOOSE(E9,\"\",\"\",\"B2c\",\"B2c\"))","v":""},{"$f":"IF(E9=0,\"\",CHOOSE(E9,\"\",\"\",\"\",\"B2d\"))","v":""},null,{"$f":"IF($E9=0,0,CHOOSE($E9,$O8+1,$O8+1,$O8+1,$O8+1))","v":0},{"$f":"IF($E9=0,0,CHOOSE($E9,0,$O8+2,$O8+2,$O8+2))","v":0},{"$f":"IF($E9=0,0,CHOOSE($E9,0,0,$O8+3,$O8+3))","v":0},{"$f":"IF($E9=0,0,CHOOSE($E9,0,0,0,$O8+4))","v":0},{"$f":"O8+E9","v":0}]
[null,null,"地下３階",null,0,{"$f":"IF(E10=0,\"\",CHOOSE(E10,\"B3a\",\"B3a\",\"B3a\",\"B3a\"))","v":""},{"$f":"IF(E10=0,\"\",CHOOSE(E10,\"\",\"B3b\",\"B3b\",\"B3b\"))","v":""},{"$f":"IF(E10=0,\"\",CHOOSE(E10,\"\",\"\",\"B3c\",\"B3c\"))","v":""},{"$f":"IF(E10=0,\"\",CHOOSE(E10,\"\",\"\",\"\",\"B3d\"))","v":""},null,{"$f":"IF($E10=0,0,CHOOSE($E10,$O9+1,$O9+1,$O9+1,$O9+1))","v":0},{"$f":"IF($E10=0,0,CHOOSE($E10,0,$O9+2,$O9+2,$O9+2))","v":0},{"$f":"IF($E10=0,0,CHOOSE($E10,0,0,$O9+3,$O9+3))","v":0},{"$f":"IF($E10=0,0,CHOOSE($E10,0,0,0,$O9+4))","v":0},{"$f":"O9+E10","v":0}]
[null,null,"地下４階",null,0,{"$f":"IF(E11=0,\"\",CHOOSE(E11,\"B4a\",\"B4a\",\"B4a\",\"B4a\"))","v":""},{"$f":"IF(E11=0,\"\",CHOOSE(E11,\"\",\"B4b\",\"B4b\",\"B4b\"))","v":""},{"$f":"IF(E11=0,\"\",CHOOSE(E11,\"\",\"\",\"B4c\",\"B4c\"))","v":""},{"$f":"IF(E11=0,\"\",CHOOSE(E11,\"\",\"\",\"\",\"B4d\"))","v":""},null,{"$f":"IF($E11=0,0,CHOOSE($E11,$O10+1,$O10+1,$O10+1,$O10+1))","v":0},{"$f":"IF($E11=0,0,CHOOSE($E11,0,$O10+2,$O10+2,$O10+2))","v":0},{"$f":"IF($E11=0,0,CHOOSE($E11,0,0,$O10+3,$O10+3))","v":0},{"$f":"IF($E11=0,0,CHOOSE($E11,0,0,0,$O10+4))","v":0},{"$f":"O10+E11","v":0}]
["■ステップ２-２：各区画・部屋の床面積と",null,"地下５階",null,0,{"$f":"IF(E12=0,\"\",CHOOSE(E12,\"B5a\",\"B5a\",\"B5a\",\"B5a\"))","v":""},{"$f":"IF(E12=0,\"\",CHOOSE(E12,\"\",\"B5b\",\"B5b\",\"B5b\"))","v":""},{"$f":"IF(E12=0,\"\",CHOOSE(E12,\"\",\"\",\"B5c\",\"B5c\"))","v":""},{"$f":"IF(E12=0,\"\",CHOOSE(E12,\"\",\"\",\"\",\"B5d\"))","v":""},null,{"$f":"IF($E12=0,0,CHOOSE($E12,$O11+1,$O11+1,$O11+1,$O11+1))","v":0},{"$f":"IF($E12=0,0,CHOOSE($E12,0,$O11+2,$O11+2,$O11+2))","v":0},{"$f":"IF($E12=0,0,CHOOSE($E12,0,0,$O11+3,$O11+3))","v":0},{"$f":"IF($E12=0,0,CHOOSE($E12,0,0,0,$O11+4))","v":0},{"$f":"O11+E12","v":0},null,null,null,null,null,null,"◆例えば、フロア平面図１のような地下フロアで、"]
["　高さの入力",null,null,null,null,null,null,null,null,null,null,null,null,null,null,null,null,null,null,null,null,"区画１は、階段と換気口aから氾濫水が入ってくる可能性がある区画です。"]
["②区画・部屋の「名称」を入力します。\n（任意入力）\n\n③区画・部屋の「浸水床面積(m2)」を入力します。\n（必須入力）\n\n④区画・部屋の「全体床面積(m2)」を入力します。\n（必須入力）",null,"■ステップ２-２：各区画・部屋の床面積と高さの入力",null,null,null,null,null,null,null,null,null,null,null,null,null,null,null,null,null,null,"区画２、区画３は、それぞれ換気口b、換気口cから氾濫水が入ってくる可能性がありますが、ドアを開けなければ区画１の氾濫水が入ってこないとして、別々の区画とします。"]
[]
[null,null,"フロア","区画・部屋",null,null,null,null,null,null,null,null,null,null,null,null,null,null,null,null,null,"区画４は、流入口が無く、ドアがあっても閉じたままであれば、氾濫水が入らないと考えて、浸水床面積からは除外します。\nしかし、人がいて避難することを考えて、全体床面積には含めます。"]
[null,null,null,"番号",null,"②名　称",null,null,null,"③浸水床面積\n（ｍ２）",null,null,"④全体床面積\n（ｍ２）",null,null,"⑤高さ\n（ｍ）"]
[null,null,null,"総数：",{"$f":"COUNTA(D20:D39)-COUNTIF(D20:D39,\"\")","v":0}]
[null,null,"自動入力","自動入力",null,"任意入力",null,null,null,"必須入力",null,null,"必須入力",null,null,"必須入力"]
[null,1,{"$f":"IF(ISERROR(VLOOKUP(B20,$R$20:$T$39,2,FALSE)),\"\",VLOOKUP(B20,$R$20:$T$39,3,FALSE))","v":""},{"$f":"IF(ISERROR(VLOOKUP(B20,$R$20:$T$39,2,FALSE)),\"\",VLOOKUP(B20,$R$20:$T$39,2,FALSE))","v":""},null,null,null,null,null,null,null,null,null,null,null,null,null,{"$f":"$K$8","v":0},{"$f":"$F$8","v":""},"地下1階"]
[null,2,{"$f":"IF(ISERROR(VLOOKUP(B21,$R$20:$T$39,2,FALSE)),\"\",VLOOKUP(B21,$R$20:$T$39,3,FALSE))","v":""},{"$f":"IF(ISERROR(VLOOKUP(B21,$R$20:$T$39,2,FALSE)),\"\",VLOOKUP(B21,$R$20:$T$39,2,FALSE))","v":""},null,null,null,null,null,null,null,null,null,null,null,null,null,{"$f":"$L$8","v":0},{"$f":"$G$8","v":""},"地下1階"]
[null,3,"","",null,null,null,null,null,null,null,null,null,null,null,null,null,{"$f":"$M$8","v":0},{"$f":"$H$8","v":""},"地下1階"]
[null,4,"","",null,null,null,null,null,null,null,null,null,null,null,null,null,{"$f":"$N$8","v":0},{"$f":"$I$8","v":""},"地下1階"]
["　※浸水はしないが、避難すべき人がいるスペースがある\n　　場合は、そのスペースの床面積を浸水床面積に加えて\n　　全体床面積とします。",5,"","",null,null,null,null,null,null,null,null,null,null,null,null,null,{"$f":"$K$9","v":0},{"$f":"$F$9","v":""},"地下2階"]
[null,6,"","",null,null,null,null,null,null,null,null,null,null,null,null,null,{"$f":"$L$9","v":0},{"$f":"$G$9","v":""},"地下2階"]
[null,7,"","",null,null,null,null,null,null,null,null,null,null,null,null,null,{"$f":"$M$9","v":0},{"$f":"$H$9","v":""},"地下2階"]
["⑤区画・部屋の「高さ(m)」を入力します。\n（必須入力）",8,"","",null,null,null,null,null,null,null,null,null,null,null,null,null,{"$f":"$N$9","v":0},{"$f":"$I$9","v":""},"地下2階"]
[null,9,"","",null,null,null,null,null,null,null,null,null,null,null,null,null,{"$f":"$K$10","v":0},{"$f":"$F$10","v":""},"地下3階",null,"◆フロア平面図２の区画２ように、"]
[null,10,"","",null,null,null,null,null,null,null,null,null,null,null,null,null,{"$f":"$L$10","v":0},{"$f":"$G$10","v":""},"地下3階",null,"ドアを開けて氾濫水が入ってきてしまう状況であれば、区画２は区画1の浸水床面積に含める形になります。"]
["⑥「ステップ３」へ進みます。",11,{"$f":"IF(ISERROR(VLOOKUP(B30,$R$20:$T$39,2,FALSE)),\"\",VLOOKUP(B30,$R$20:$T$39,3,FALSE))","v":""},{"$f":"IF(ISERROR(VLOOKUP(B30,$R$20:$T$39,2,FALSE)),\"\",VLOOKUP(B30,$R$20:$T$39,2,FALSE))","v":""},null,null,null,null,null,null,null,null,null,null,null,null,null,{"$f":"$M$10","v":0},{"$f":"$H$10","v":""},"地下3階"]
[null,12,"","",null,null,null,null,null,null,null,null,null,null,null,null,null,{"$f":"$N$10","v":0},{"$f":"$I$10","v":""},"地下3階"]
[null,13,"","",null,null,null,null,null,null,null,null,null,null,null,null,null,{"$f":"$K$11","v":0},{"$f":"$F$11","v":""},"地下4階"]
[null,14,"","",null,null,null,null,null,null,null,null,null,null,null,null,null,{"$f":"$L$11","v":0},{"$f":"$G$11","v":""},"地下4階"]
[null,15,"","",null,null,null,null,null,null,null,null,null,null,null,null,null,{"$f":"$M$11","v":0},{"$f":"$H$11","v":""},"地下4階"]
[null,16,"","",null,null,null,null,null,null,null,null,null,null,null,null,null,{"$f":"$N$11","v":0},{"$f":"$I$11","v":""},"地下4階"]
[null,17,"","",null,null,null,null,null,null,null,null,null,null,null,null,null,{"$f":"$K$12","v":0},{"$f":"$F$12","v":""},"地下5階"]
[null,18,"","",null,null,null,null,null,null,null,null,null,null,null,null,null,{"$f":"$L$12","v":0},{"$f":"$G$12","v":""},"地下5階"]
[null,19,"","",null,null,null,null,null,null,null,null,null,null,null,null,null,{"$f":"$M$12","v":0},{"$f":"$H$12","v":""},"地下5階"]
[null,20,"","",null,null,null,null,null,null,null,null,null,null,null,null,null,{"$f":"$N$12","v":0},{"$f":"$I$12","v":""},"地下5階",null,"◆フロア横断図（浸水床面積と全体床面積）"]
[]
[]
[]
[]
[]
[]
[]
[]
[null,null,null,null,null,null,null,null,null,null,null,null,null,null,null,null,null,null,null,null,null,"※浸水しなくても、避難する人がいる場合は、全体床面積に含めます。"]
[]
[null,null,null,null,null,null,null,null,null,null,null,null,null,null,null,null,null,null,null,null,null,"＜ドアのある区画・部屋のの考え方＞"]

{"sheet":"ステップ3（流入口リスト）","index":3,"n_rows":509,"n_cols":21,"rows_kept":509,"cut":false,"hidden":false,"merged":[[2,12,2,15],[28,0,32,0],[40,0,42,0],[48,0,50,0],[55,0,57,0],[3,10,3,18],[4,7,5,7],[4,10,4,14],[4,15,4,16],[6,16,7,16],[4,9,5,9],[4,17,5,17],[4,18,5,18],[59,0,61,0],[119,20,123,20],[124,20,125,20],[54,20,56,20],[66,20,70,20],[82,20,83,20],[34,20,35,20],[4,0,5,0],[6,6,7,6],[6,7,7,7],[6,8,7,8],[4,8,5,8],[4,3,5,5],[4,2,7,2],[6,3,6,5],[20,0,21,0],[7,0,9,0],[10,0,12,0],[14,0,15,0],[17,0,18,0],[4,20,6,20],[4,6,5,6]]}
[null,"↑の","　　をクリックで左の説明を閉じる"]
[null,"↑の","　　をクリックで左の説明を開く",null,null,null,null,null,null,null,null,null,null,null,null,null,"　　　　↓バックアップ機能あり"]
["◆ここでやること",null,"■ステップ３：流入口リストの作成",null,null,null,null,null,"※リスト作成後クリックします→",null,1,null,"a)、b)、c)の内容が同じものを探して\nグループ化します",null,null,null,null,null,null,null,"◆解説"]
["■ステップ３：流入口リストの作成",null,null,null,null,null,null,null,null,null,"※地盤高…地盤高が流入口がある場所で異なる場合、「標高」または「最も低い流入口位置の地盤高との差分」\n　　　　　を入力します。地盤高がどの流入口でも同じ場合や流入口が「地上」ではない場合は、入力不要です。",null,null,null,null,null,null,null,null,null,"＜流入口の例＞"]
["①流入経路の流入口と流入先をプルダウンリストから選択します。",null,"流入口\n番号","①流入経路",null,null,"②流入口の種別","③メモ","④\na)流入口の名称","⑤流入幅\n\nB","⑥流入高1",null,null,null,null,"⑦流入高2",null,"⑧\n流入高\n合　計\n①＋②","⑩\nグループ番号\n",null,"流入口とは、階段、エスカレーター、換気口などが流入経路となって氾濫水が地下へ入り込むときの入口のことです。\n流入量計算に必要なのは下記に示すように流入幅と流入高であり、流入口種別で計算が変わることはありませんが、このあとで防水板や土のうの設置などの対策や、避難に内部階段を使用する等の設定を行う際に流入口種別が必要となります。"]
[null,null,null,null,null,null,null,null,null,null,"地盤高\n※\nH0","歩道高\n\nH1","流入口\n設置高\nH2","流入口\n側壁高\nH3","b)流入高\n小計\nHS","c)対策高\n\nHT","仕様"]
["※ステップ２で自動作成された区画・部屋番号が流入口と流入先のプルダウンリストとして選択できます。",null,null,"必須入力　選択式",null,null,"必須入力　選択式\n（「リスト」シートで\n項目の追加が可能）","任意入力","自動入力","必須\n入力","任意\n入力","任意\n入力","任意\n入力","任意\n入力","自動集計","任意入力\n99入力で\n完全封鎖","任意入力","自動集計","自動入力"]
["②流入口の種別をプルダウンリストから選択します。",null,null,"流入口","→","流入先",null,null,null,"(m)","(m)","(m)","(m)","(m)","(m)","(m)",null,"(m)",null,null,"地下空間への氾濫水の流入状況の模式図（例）"]
[null,null,null,null,null,null,null,null,null,{"$f":"SUM(J10:J600)","v":0}]
[null,null,1,null,"→",null,null,null,{"$f":"G10&\"（\"&D10&E10&F10&\"）\"","v":"（→）"},null,null,null,null,null,{"$f":"IF(D10=\"地上\",K10-MIN(IF(D$10:D$509=\"地上\",K$10:K$509)),0)+SUM(L10:N10)","v":0},null,null,{"$f":"O10+P10","v":0}]
["※リストは「リスト」シートで増やすことができます。\nここのセルで任意記入もできますが、リストには反映されません。",null,2,null,"→",null,null,null,"（→）",null,null,null,null,null,{"$f":"IF(D11=\"地上\",K11-MIN(IF(D$10:D$509=\"地上\",K$10:K$509)),0)+SUM(L11:N11)","v":0},null,null,0]
[null,null,3,null,"→",null,null,null,"（→）",null,null,null,null,null,{"$f":"IF(D12=\"地上\",K12-MIN(IF(D$10:D$509=\"地上\",K$10:K$509)),0)+SUM(L12:N12)","v":0},null,null,0]
[null,null,4,null,"→",null,null,null,"（→）",null,null,null,null,null,{"$f":"IF(D13=\"地上\",K13-MIN(IF(D$10:D$509=\"地上\",K$10:K$509)),0)+SUM(L13:N13)","v":0},null,null,0]
[null,null,5,null,"→",null,null,null,"（→）",null,null,null,null,null,{"$f":"IF(D14=\"地上\",K14-MIN(IF(D$10:D$509=\"地上\",K$10:K$509)),0)+SUM(L14:N14)","v":0},null,null,0]
["③メモは、図面番号や図面上の番号等、地下管理者が理解しやすい項目を入力します。",null,6,null,"→",null,null,null,"（→）",null,null,null,null,null,{"$f":"IF(D15=\"地上\",K15-MIN(IF(D$10:D$509=\"地上\",K$10:K$509)),0)+SUM(L15:N15)","v":0},null,null,0]
[null,null,7,null,"→",null,null,null,"（→）",null,null,null,null,null,{"$f":"IF(D16=\"地上\",K16-MIN(IF(D$10:D$509=\"地上\",K$10:K$509)),0)+SUM(L16:N16)","v":0},null,null,0]
[null,null,8,null,"→",null,null,null,"（→）",null,null,null,null,null,{"$f":"IF(D17=\"地上\",K17-MIN(IF(D$10:D$509=\"地上\",K$10:K$509)),0)+SUM(L17:N17)","v":0},null,null,0]
["④流入口の名称は、流入経路と流入種別を組み合わせて自動的に入力されます",null,9,null,"→",null,null,null,"（→）",null,null,null,null,null,{"$f":"IF(D18=\"地上\",K18-MIN(IF(D$10:D$509=\"地上\",K$10:K$509)),0)+SUM(L18:N18)","v":0},null,null,0]
[null,null,10,null,"→",null,null,null,"（→）",null,null,null,null,null,{"$f":"IF(D19=\"地上\",K19-MIN(IF(D$10:D$509=\"地上\",K$10:K$509)),0)+SUM(L19:N19)","v":0},null,null,0]
[null,null,11,null,"→",null,null,null,"（→）",null,null,null,null,null,{"$f":"IF(D20=\"地上\",K20-MIN(IF(D$10:D$509=\"地上\",K$10:K$509)),0)+SUM(L20:N20)","v":0},null,null,0]
["※自動的に名称を付けるのは、グルーピングに役立ちます。",null,12,null,"→",null,null,null,"（→）",null,null,null,null,null,{"$f":"IF(D21=\"地上\",K21-MIN(IF(D$10:D$509=\"地上\",K$10:K$509)),0)+SUM(L21:N21)","v":0},null,null,0]
[null,null,13,null,"→",null,null,null,"（→）",null,null,null,null,null,{"$f":"IF(D22=\"地上\",K22-MIN(IF(D$10:D$509=\"地上\",K$10:K$509)),0)+SUM(L22:N22)","v":0},null,null,0]
[null,null,14,null,"→",null,null,null,"（→）",null,null,null,null,null,{"$f":"IF(D23=\"地上\",K23-MIN(IF(D$10:D$509=\"地上\",K$10:K$509)),0)+SUM(L23:N23)","v":0},null,null,0]
["⑤流入口の流入幅を入力します。",null,15,null,"→",null,null,null,"（→）",null,null,null,null,null,{"$f":"IF(D24=\"地上\",K24-MIN(IF(D$10:D$509=\"地上\",K$10:K$509)),0)+SUM(L24:N24)","v":0},null,null,0]
[null,null,16,null,"→",null,null,null,"（→）",null,null,null,null,null,{"$f":"IF(D25=\"地上\",K25-MIN(IF(D$10:D$509=\"地上\",K$10:K$509)),0)+SUM(L25:N25)","v":0},null,null,0,null,null,"＜流入口からの流入量の計算＞"]
["⑥-1道路高を入力します。",null,17,null,"→",null,null,null,"（→）",null,null,null,null,null,{"$f":"IF(D26=\"地上\",K26-MIN(IF(D$10:D$509=\"地上\",K$10:K$509)),0)+SUM(L26:N26)","v":0},null,null,0]
["（流入口が地上の場合のみ）",null,18,null,"→",null,null,null,"（→）",null,null,null,null,null,{"$f":"IF(D27=\"地上\",K27-MIN(IF(D$10:D$509=\"地上\",K$10:K$509)),0)+SUM(L27:N27)","v":0},null,null,0]
[null,null,19,null,"→",null,null,null,"（→）",null,null,null,null,null,{"$f":"IF(D28=\"地上\",K28-MIN(IF(D$10:D$509=\"地上\",K$10:K$509)),0)+SUM(L28:N28)","v":0},null,null,0]
["※道路高が流入口の場所によって異なる場合、「標高」または「最も低い道路高との差分」を入力します。\n※この場合、地上の全流入口に道路高を入力する必要があります。\n※道路高がどの流入口でも同じ場合は、入力は不要です。",null,20,null,"→",null,null,null,"（→）",null,null,null,null,null,{"$f":"IF(D29=\"地上\",K29-MIN(IF(D$10:D$509=\"地上\",K$10:K$509)),0)+SUM(L29:N29)","v":0},null,null,0]
[null,null,21,null,"→",null,null,null,"（→）",null,null,null,null,null,{"$f":"IF(D30=\"地上\",K30-MIN(IF(D$10:D$509=\"地上\",K$10:K$509)),0)+SUM(L30:N30)","v":0},null,null,0]
[null,null,22,null,"→",null,null,null,"（→）",null,null,null,null,null,{"$f":"IF(D31=\"地上\",K31-MIN(IF(D$10:D$509=\"地上\",K$10:K$509)),0)+SUM(L31:N31)","v":0},null,null,0]
[null,null,23,null,"→",null,null,null,"（→）",null,null,null,null,null,{"$f":"IF(D32=\"地上\",K32-MIN(IF(D$10:D$509=\"地上\",K$10:K$509)),0)+SUM(L32:N32)","v":0},null,null,0]
[null,null,24,null,"→",null,null,null,"（→）",null,null,null,null,null,{"$f":"IF(D33=\"地上\",K33-MIN(IF(D$10:D$509=\"地上\",K$10:K$509)),0)+SUM(L33:N33)","v":0},null,null,0]
["⑥-2歩道高を入力します。",null,25,null,"→",null,null,null,"（→）",null,null,null,null,null,{"$f":"IF(D34=\"地上\",K34-MIN(IF(D$10:D$509=\"地上\",K$10:K$509)),0)+SUM(L34:N34)","v":0},null,null,0]
["（流入口が地上の場合のみ）",null,26,null,"→",null,null,null,"（→）",null,null,null,null,null,{"$f":"IF(D35=\"地上\",K35-MIN(IF(D$10:D$509=\"地上\",K$10:K$509)),0)+SUM(L35:N35)","v":0},null,null,0,null,null,"流入口からの流入量は、流入口の幅と越流水深（地上水深－流入高）より計算し、その結果から、地下空間や階段が浸水して避難困難になる時間を算定します。"]
[null,null,27,null,"→",null,null,null,"（→）",null,null,null,null,null,{"$f":"IF(D36=\"地上\",K36-MIN(IF(D$10:D$509=\"地上\",K$10:K$509)),0)+SUM(L36:N36)","v":0},null,null,0]
["⑥-3流入口設置高を入力します。",null,28,null,"→",null,null,null,"（→）",null,null,null,null,null,{"$f":"IF(D37=\"地上\",K37-MIN(IF(D$10:D$509=\"地上\",K$10:K$509)),0)+SUM(L37:N37)","v":0},null,null,0]
[null,null,29,null,"→",null,null,null,"（→）",null,null,null,null,null,{"$f":"IF(D38=\"地上\",K38-MIN(IF(D$10:D$509=\"地上\",K$10:K$509)),0)+SUM(L38:N38)","v":0},null,null,0,null,null,"＜流入幅、流入高の考え方(1)＞"]
["⑥-4流入口側壁高を入力します。",null,30,null,"→",null,null,null,"（→）",null,null,null,null,null,{"$f":"IF(D39=\"地上\",K39-MIN(IF(D$10:D$509=\"地上\",K$10:K$509)),0)+SUM(L39:N39)","v":0},null,null,0]
[null,null,31,null,"→",null,null,null,"（→）",null,null,null,null,null,{"$f":"IF(D40=\"地上\",K40-MIN(IF(D$10:D$509=\"地上\",K$10:K$509)),0)+SUM(L40:N40)","v":0},null,null,0]
["※側壁がある階段やエスカレータは、正面と側壁がある側面、対面では流入を開始する高さが変わるため、別々の流入口として設定する必要があります。",null,32,null,"→",null,null,null,"（→）",null,null,null,null,null,{"$f":"IF(D41=\"地上\",K41-MIN(IF(D$10:D$509=\"地上\",K$10:K$509)),0)+SUM(L41:N41)","v":0},null,null,0]
[null,null,33,null,"→",null,null,null,"（→）",null,null,null,null,null,{"$f":"IF(D42=\"地上\",K42-MIN(IF(D$10:D$509=\"地上\",K$10:K$509)),0)+SUM(L42:N42)","v":0},null,null,0]
[null,null,34,null,"→",null,null,null,"（→）",null,null,null,null,null,{"$f":"IF(D43=\"地上\",K43-MIN(IF(D$10:D$509=\"地上\",K$10:K$509)),0)+SUM(L43:N43)","v":0},null,null,0]
[null,null,35,null,"→",null,null,null,"（→）",null,null,null,null,null,{"$f":"IF(D44=\"地上\",K44-MIN(IF(D$10:D$509=\"地上\",K$10:K$509)),0)+SUM(L44:N44)","v":0},null,null,0]
["⑥-5流入高小計が自動的に計算されます。",null,36,null,"→",null,null,null,"（→）",null,null,null,null,null,{"$f":"IF(D45=\"地上\",K45-MIN(IF(D$10:D$509=\"地上\",K$10:K$509)),0)+SUM(L45:N45)","v":0},null,null,0]
[null,null,37,null,"→",null,null,null,"（→）",null,null,null,null,null,{"$f":"IF(D46=\"地上\",K46-MIN(IF(D$10:D$509=\"地上\",K$10:K$509)),0)+SUM(L46:N46)","v":0},null,null,0]
["⑦-1流入口対策高を入力します。",null,38,null,"→",null,null,null,"（→）",null,null,null,null,null,{"$f":"IF(D47=\"地上\",K47-MIN(IF(D$10:D$509=\"地上\",K$10:K$509)),0)+SUM(L47:N47)","v":0},null,null,0]
[null,null,39,null,"→",null,null,null,"（→）",null,null,null,null,null,{"$f":"IF(D48=\"地上\",K48-MIN(IF(D$10:D$509=\"地上\",K$10:K$509)),0)+SUM(L48:N48)","v":0},null,null,0]
["※防水板、土のう等の対策を行っている、または対策の有無で避難困難時間を比較するなどの場合に入力します。",null,40,null,"→",null,null,null,"（→）",null,null,null,null,null,{"$f":"IF(D49=\"地上\",K49-MIN(IF(D$10:D$509=\"地上\",K$10:K$509)),0)+SUM(L49:N49)","v":0},null,null,0]
[null,null,41,null,"→",null,null,null,"（→）",null,null,null,null,null,{"$f":"IF(D50=\"地上\",K50-MIN(IF(D$10:D$509=\"地上\",K$10:K$509)),0)+SUM(L50:N50)","v":0},null,null,0]
[null,null,42,null,"→",null,null,null,"（→）",null,null,null,null,null,{"$f":"IF(D51=\"地上\",K51-MIN(IF(D$10:D$509=\"地上\",K$10:K$509)),0)+SUM(L51:N51)","v":0},null,null,0]
["⑦-2対策の仕様を必要に応じて記入します。",null,43,null,"→",null,null,null,"（→）",null,null,null,null,null,{"$f":"IF(D52=\"地上\",K52-MIN(IF(D$10:D$509=\"地上\",K$10:K$509)),0)+SUM(L52:N52)","v":0},null,null,0]
[null,null,44,null,"→",null,null,null,"（→）",null,null,null,null,null,{"$f":"IF(D53=\"地上\",K53-MIN(IF(D$10:D$509=\"地上\",K$10:K$509)),0)+SUM(L53:N53)","v":0},null,null,0]
["⑧流入高合計が自動的に計算されます。",null,45,null,"→",null,null,null,"（→）",null,null,null,null,null,{"$f":"IF(D54=\"地上\",K54-MIN(IF(D$10:D$509=\"地上\",K$10:K$509)),0)+SUM(L54:N54)","v":0},null,null,0]
[null,null,46,null,"→",null,null,null,"（→）",null,null,null,null,null,{"$f":"IF(D55=\"地上\",K55-MIN(IF(D$10:D$509=\"地上\",K$10:K$509)),0)+SUM(L55:N55)","v":0},null,null,0,null,null,"側壁がある階段やエスカレータは、正面と側壁がある側面、対面では流入を開始する高さが変わるため、別々の流入口として設定する必要があります。"]
["⑨「グルーピング」ボタンをクリックしてグルーピングを行います。",null,47,null,"→",null,null,null,"（→）",null,null,null,null,null,{"$f":"IF(D56=\"地上\",K56-MIN(IF(D$10:D$509=\"地上\",K$10:K$509)),0)+SUM(L56:N56)","v":0},null,null,0]
[null,null,48,null,"→",null,null,null,"（→）",null,null,null,null,null,{"$f":"IF(D57=\"地上\",K57-MIN(IF(D$10:D$509=\"地上\",K$10:K$509)),0)+SUM(L57:N57)","v":0},null,null,0]
[null,null,49,null,"→",null,null,null,"（→）",null,null,null,null,null,{"$f":"IF(D58=\"地上\",K58-MIN(IF(D$10:D$509=\"地上\",K$10:K$509)),0)+SUM(L58:N58)","v":0},null,null,0,null,null,"・外部階段と内部階段"]
[null,null,50,null,"→",null,null,null,"（→）",null,null,null,null,null,{"$f":"IF(D59=\"地上\",K59-MIN(IF(D$10:D$509=\"地上\",K$10:K$509)),0)+SUM(L59:N59)","v":0},null,null,0]
["⑩グルーピングを行った際に、その流入口がどのグループになったかがわかるように、グループ番号が自動的に入力されます。",null,51,null,"→",null,null,null,"（→）",null,null,null,null,null,{"$f":"IF(D60=\"地上\",K60-MIN(IF(D$10:D$509=\"地上\",K$10:K$509)),0)+SUM(L60:N60)","v":0},null,null,0]
[null,null,52,null,"→",null,null,null,"（→）",null,null,null,null,null,{"$f":"IF(D61=\"地上\",K61-MIN(IF(D$10:D$509=\"地上\",K$10:K$509)),0)+SUM(L61:N61)","v":0},null,null,0]
[null,null,53,null,"→",null,null,null,"（→）",null,null,null,null,null,{"$f":"IF(D62=\"地上\",K62-MIN(IF(D$10:D$509=\"地上\",K$10:K$509)),0)+SUM(L62:N62)","v":0},null,null,0]
[null,null,54,null,"→",null,null,null,"（→）",null,null,null,null,null,{"$f":"IF(D63=\"地上\",K63-MIN(IF(D$10:D$509=\"地上\",K$10:K$509)),0)+SUM(L63:N63)","v":0},null,null,0]
[null,null,55,null,"→",null,null,null,"（→）",null,null,null,null,null,{"$f":"IF(D64=\"地上\",K64-MIN(IF(D$10:D$509=\"地上\",K$10:K$509)),0)+SUM(L64:N64)","v":0},null,null,0]
["⑪「ステップ4」へ進みます。",null,56,null,"→",null,null,null,"（→）",null,null,null,null,null,{"$f":"IF(D65=\"地上\",K65-MIN(IF(D$10:D$509=\"地上\",K$10:K$509)),0)+SUM(L65:N65)","v":0},null,null,0]
[null,null,57,null,"→",null,null,null,"（→）",null,null,null,null,null,{"$f":"IF(D66=\"地上\",K66-MIN(IF(D$10:D$509=\"地上\",K$10:K$509)),0)+SUM(L66:N66)","v":0},null,null,0,null,null,"　　　　　　　　　　　　　　　"]
[null,null,58,null,"→",null,null,null,"（→）",null,null,null,null,null,{"$f":"IF(D67=\"地上\",K67-MIN(IF(D$10:D$509=\"地上\",K$10:K$509)),0)+SUM(L67:N67)","v":0},null,null,0,null,null,"　　外部階段…区画・部屋外の階段で地上出入口が建物の外にある階段\n　　　　　　　（地上の浸水深が高い場合は危険なので避難に利用しない。）\n　　内部階段…区画・部屋内の階段、または区画・部屋外の階段で地上出入口が\n　　　　　　　建物内にある階段（避難に利用する。）"]
[null,null,59,null,"→",null,null,null,"（→）",null,null,null,null,null,{"$f":"IF(D68=\"地上\",K68-MIN(IF(D$10:D$509=\"地上\",K$10:K$509)),0)+SUM(L68:N68)","v":0},null,null,0]
[null,null,60,null,"→",null,null,null,"（→）",null,null,null,null,null,{"$f":"IF(D69=\"地上\",K69-MIN(IF(D$10:D$509=\"地上\",K$10:K$509)),0)+SUM(L69:N69)","v":0},null,null,0]
[null,null,61,null,"→",null,null,null,"（→）",null,null,null,null,null,{"$f":"IF(D70=\"地上\",K70-MIN(IF(D$10:D$509=\"地上\",K$10:K$509)),0)+SUM(L70:N70)","v":0},null,null,0]
[null,null,62,null,"→",null,null,null,"（→）",null,null,null,null,null,{"$f":"IF(D71=\"地上\",K71-MIN(IF(D$10:D$509=\"地上\",K$10:K$509)),0)+SUM(L71:N71)","v":0},null,null,0]
[null,null,63,null,"→",null,null,null,"（→）",null,null,null,null,null,{"$f":"IF(D72=\"地上\",K72-MIN(IF(D$10:D$509=\"地上\",K$10:K$509)),0)+SUM(L72:N72)","v":0},null,null,0,null,null,"＜流入幅、流入高の考え方(2)＞"]
[null,null,64,null,"→",null,null,null,"（→）",null,null,null,null,null,{"$f":"IF(D73=\"地上\",K73-MIN(IF(D$10:D$509=\"地上\",K$10:K$509)),0)+SUM(L73:N73)","v":0},null,null,0]
[null,null,65,null,"→",null,null,null,{"$f":"G74&\"（\"&D74&E74&F74&\"）\"","v":"（→）"},null,null,null,null,null,{"$f":"IF(D74=\"地上\",K74-MIN(IF(D$10:D$509=\"地上\",K$10:K$509)),0)+SUM(L74:N74)","v":0},null,null,{"$f":"O74+P74","v":0}]
[null,null,66,null,"→",null,null,null,"（→）",null,null,null,null,null,{"$f":"IF(D75=\"地上\",K75-MIN(IF(D$10:D$509=\"地上\",K$10:K$509)),0)+SUM(L75:N75)","v":0},null,null,0]
[null,null,67,null,"→",null,null,null,"（→）",null,null,null,null,null,{"$f":"IF(D76=\"地上\",K76-MIN(IF(D$10:D$509=\"地上\",K$10:K$509)),0)+SUM(L76:N76)","v":0},null,null,0]
[null,null,68,null,"→",null,null,null,"（→）",null,null,null,null,null,{"$f":"IF(D77=\"地上\",K77-MIN(IF(D$10:D$509=\"地上\",K$10:K$509)),0)+SUM(L77:N77)","v":0},null,null,0]
[null,null,69,null,"→",null,null,null,"（→）",null,null,null,null,null,{"$f":"IF(D78=\"地上\",K78-MIN(IF(D$10:D$509=\"地上\",K$10:K$509)),0)+SUM(L78:N78)","v":0},null,null,0]
[null,null,70,null,"→",null,null,null,"（→）",null,null,null,null,null,{"$f":"IF(D79=\"地上\",K79-MIN(IF(D$10:D$509=\"地上\",K$10:K$509)),0)+SUM(L79:N79)","v":0},null,null,0]
[null,null,71,null,"→",null,null,null,"（→）",null,null,null,null,null,{"$f":"IF(D80=\"地上\",K80-MIN(IF(D$10:D$509=\"地上\",K$10:K$509)),0)+SUM(L80:N80)","v":0},null,null,0]
[null,null,72,null,"→",null,null,null,"（→）",null,null,null,null,null,{"$f":"IF(D81=\"地上\",K81-MIN(IF(D$10:D$509=\"地上\",K$10:K$509)),0)+SUM(L81:N81)","v":0},null,null,0]
[null,null,73,null,"→",null,null,null,"（→）",null,null,null,null,null,{"$f":"IF(D82=\"地上\",K82-MIN(IF(D$10:D$509=\"地上\",K$10:K$509)),0)+SUM(L82:N82)","v":0},null,null,0]
[null,null,74,null,"→",null,null,null,"（→）",null,null,null,null,null,{"$f":"IF(D83=\"地上\",K83-MIN(IF(D$10:D$509=\"地上\",K$10:K$509)),0)+SUM(L83:N83)","v":0},null,null,0,null,null,"※実際の防水板や土のう等は施設の出入口に設置されますが、計算上は施設内の地上１階の全ての階段やエスカレータの正面部分に設置されたと考えます。"]
[null,null,75,null,"→",null,null,null,"（→）",null,null,null,null,null,{"$f":"IF(D84=\"地上\",K84-MIN(IF(D$10:D$509=\"地上\",K$10:K$509)),0)+SUM(L84:N84)","v":0},null,null,0]
[null,null,76,null,"→",null,null,null,"（→）",null,null,null,null,null,{"$f":"IF(D85=\"地上\",K85-MIN(IF(D$10:D$509=\"地上\",K$10:K$509)),0)+SUM(L85:N85)","v":0},null,null,0]
[null,null,77,null,"→",null,null,null,"（→）",null,null,null,null,null,{"$f":"IF(D86=\"地上\",K86-MIN(IF(D$10:D$509=\"地上\",K$10:K$509)),0)+SUM(L86:N86)","v":0},null,null,0]
[null,null,78,null,"→",null,null,null,"（→）",null,null,null,null,null,{"$f":"IF(D87=\"地上\",K87-MIN(IF(D$10:D$509=\"地上\",K$10:K$509)),0)+SUM(L87:N87)","v":0},null,null,0]
[null,null,79,null,"→",null,null,null,"（→）",null,null,null,null,null,{"$f":"IF(D88=\"地上\",K88-MIN(IF(D$10:D$509=\"地上\",K$10:K$509)),0)+SUM(L88:N88)","v":0},null,null,0]
[null,null,80,null,"→",null,null,null,"（→）",null,null,null,null,null,{"$f":"IF(D89=\"地上\",K89-MIN(IF(D$10:D$509=\"地上\",K$10:K$509)),0)+SUM(L89:N89)","v":0},null,null,0]
[null,null,81,null,"→",null,null,null,"（→）",null,null,null,null,null,{"$f":"IF(D90=\"地上\",K90-MIN(IF(D$10:D$509=\"地上\",K$10:K$509)),0)+SUM(L90:N90)","v":0},null,null,0]
[null,null,82,null,"→",null,null,null,"（→）",null,null,null,null,null,{"$f":"IF(D91=\"地上\",K91-MIN(IF(D$10:D$509=\"地上\",K$10:K$509)),0)+SUM(L91:N91)","v":0},null,null,0]
[null,null,83,null,"→",null,null,null,"（→）",null,null,null,null,null,{"$f":"IF(D92=\"地上\",K92-MIN(IF(D$10:D$509=\"地上\",K$10:K$509)),0)+SUM(L92:N92)","v":0},null,null,0]
[null,null,84,null,"→",null,null,null,"（→）",null,null,null,null,null,{"$f":"IF(D93=\"地上\",K93-MIN(IF(D$10:D$509=\"地上\",K$10:K$509)),0)+SUM(L93:N93)","v":0},null,null,0]
[null,null,85,null,"→",null,null,null,"（→）",null,null,null,null,null,{"$f":"IF(D94=\"地上\",K94-MIN(IF(D$10:D$509=\"地上\",K$10:K$509)),0)+SUM(L94:N94)","v":0},null,null,0]
[null,null,86,null,"→",null,null,null,"（→）",null,null,null,null,null,{"$f":"IF(D95=\"地上\",K95-MIN(IF(D$10:D$509=\"地上\",K$10:K$509)),0)+SUM(L95:N95)","v":0},null,null,0]
[null,null,87,null,"→",null,null,null,"（→）",null,null,null,null,null,{"$f":"IF(D96=\"地上\",K96-MIN(IF(D$10:D$509=\"地上\",K$10:K$509)),0)+SUM(L96:N96)","v":0},null,null,0]
[null,null,88,null,"→",null,null,null,"（→）",null,null,null,null,null,{"$f":"IF(D97=\"地上\",K97-MIN(IF(D$10:D$509=\"地上\",K$10:K$509)),0)+SUM(L97:N97)","v":0},null,null,0]
[null,null,89,null,"→",null,null,null,"（→）",null,null,null,null,null,{"$f":"IF(D98=\"地上\",K98-MIN(IF(D$10:D$509=\"地上\",K$10:K$509)),0)+SUM(L98:N98)","v":0},null,null,0]
[null,null,90,null,"→",null,null,null,"（→）",null,null,null,null,null,{"$f":"IF(D99=\"地上\",K99-MIN(IF(D$10:D$509=\"地上\",K$10:K$509)),0)+SUM(L99:N99)","v":0},null,null,0]
[null,null,91,null,"→",null,null,null,"（→）",null,null,null,null,null,{"$f":"IF(D100=\"地上\",K100-MIN(IF(D$10:D$509=\"地上\",K$10:K$509)),0)+SUM(L100:N100)","v":0},null,null,0]
[null,null,92,null,"→",null,null,null,"（→）",null,null,null,null,null,{"$f":"IF(D101=\"地上\",K101-MIN(IF(D$10:D$509=\"地上\",K$10:K$509)),0)+SUM(L101:N101)","v":0},null,null,0]
[null,null,93,null,"→",null,null,null,"（→）",null,null,null,null,null,{"$f":"IF(D102=\"地上\",K102-MIN(IF(D$10:D$509=\"地上\",K$10:K$509)),0)+SUM(L102:N102)","v":0},null,null,0]
[null,null,94,null,"→",null,null,null,"（→）",null,null,null,null,null,{"$f":"IF(D103=\"地上\",K103-MIN(IF(D$10:D$509=\"地上\",K$10:K$509)),0)+SUM(L103:N103)","v":0},null,null,0]
[null,null,95,null,"→",null,null,null,"（→）",null,null,null,null,null,{"$f":"IF(D104=\"地上\",K104-MIN(IF(D$10:D$509=\"地上\",K$10:K$509)),0)+SUM(L104:N104)","v":0},null,null,0]
[null,null,96,null,"→",null,null,null,"（→）",null,null,null,null,null,{"$f":"IF(D105=\"地上\",K105-MIN(IF(D$10:D$509=\"地上\",K$10:K$509)),0)+SUM(L105:N105)","v":0},null,null,0]
[null,null,97,null,"→",null,null,null,"（→）",null,null,null,null,null,{"$f":"IF(D106=\"地上\",K106-MIN(IF(D$10:D$509=\"地上\",K$10:K$509)),0)+SUM(L106:N106)","v":0},null,null,0]
[null,null,98,null,"→",null,null,null,"（→）",null,null,null,null,null,{"$f":"IF(D107=\"地上\",K107-MIN(IF(D$10:D$509=\"地上\",K$10:K$509)),0)+SUM(L107:N107)","v":0},null,null,0,null,null,"＜流入口のある地点の地盤高が異なる場合＞"]
[null,null,99,null,"→",null,null,null,"（→）",null,null,null,null,null,{"$f":"IF(D108=\"地上\",K108-MIN(IF(D$10:D$509=\"地上\",K$10:K$509)),0)+SUM(L108:N108)","v":0},null,null,0]
[null,null,100,null,"→",null,null,null,"（→）",null,null,null,null,null,{"$f":"IF(D109=\"地上\",K109-MIN(IF(D$10:D$509=\"地上\",K$10:K$509)),0)+SUM(L109:N109)","v":0},null,null,0]
[null,null,101,null,"→",null,null,null,"（→）",null,null,null,null,null,{"$f":"IF(D110=\"地上\",K110-MIN(IF(D$10:D$509=\"地上\",K$10:K$509)),0)+SUM(L110:N110)","v":0},null,null,0]
[null,null,102,null,"→",null,null,null,"（→）",null,null,null,null,null,{"$f":"IF(D111=\"地上\",K111-MIN(IF(D$10:D$509=\"地上\",K$10:K$509)),0)+SUM(L111:N111)","v":0},null,null,0]
[null,null,103,null,"→",null,null,null,"（→）",null,null,null,null,null,{"$f":"IF(D112=\"地上\",K112-MIN(IF(D$10:D$509=\"地上\",K$10:K$509)),0)+SUM(L112:N112)","v":0},null,null,0]
[null,null,104,null,"→",null,null,null,"（→）",null,null,null,null,null,{"$f":"IF(D113=\"地上\",K113-MIN(IF(D$10:D$509=\"地上\",K$10:K$509)),0)+SUM(L113:N113)","v":0},null,null,0]
[null,null,105,null,"→",null,null,null,"（→）",null,null,null,null,null,{"$f":"IF(D114=\"地上\",K114-MIN(IF(D$10:D$509=\"地上\",K$10:K$509)),0)+SUM(L114:N114)","v":0},null,null,0]
[null,null,106,null,"→",null,null,null,"（→）",null,null,null,null,null,{"$f":"IF(D115=\"地上\",K115-MIN(IF(D$10:D$509=\"地上\",K$10:K$509)),0)+SUM(L115:N115)","v":0},null,null,0]
[null,null,107,null,"→",null,null,null,"（→）",null,null,null,null,null,{"$f":"IF(D116=\"地上\",K116-MIN(IF(D$10:D$509=\"地上\",K$10:K$509)),0)+SUM(L116:N116)","v":0},null,null,0]
[null,null,108,null,"→",null,null,null,"（→）",null,null,null,null,null,{"$f":"IF(D117=\"地上\",K117-MIN(IF(D$10:D$509=\"地上\",K$10:K$509)),0)+SUM(L117:N117)","v":0},null,null,0]
[null,null,109,null,"→",null,null,null,"（→）",null,null,null,null,null,{"$f":"IF(D118=\"地上\",K118-MIN(IF(D$10:D$509=\"地上\",K$10:K$509)),0)+SUM(L118:N118)","v":0},null,null,0]
[null,null,110,null,"→",null,null,null,"（→）",null,null,null,null,null,{"$f":"IF(D119=\"地上\",K119-MIN(IF(D$10:D$509=\"地上\",K$10:K$509)),0)+SUM(L119:N119)","v":0},null,null,0,null,null,"次のいずれかの数値を地盤高に入力します。（結果は同じになります。）"]
[null,null,111,null,"→",null,null,null,"（→）",null,null,null,null,null,{"$f":"IF(D120=\"地上\",K120-MIN(IF(D$10:D$509=\"地上\",K$10:K$509)),0)+SUM(L120:N120)","v":0},null,null,0,null,null,"(1)地盤高をそのまま入力\n　自動的に最も低い流入口aの地盤高との差分をとって流入高に加えます。\n(2)最も低い位置の地盤高（流入口a）を０として差分を入力\n　自動的にそのまま流入口に加えます。"]
[null,null,112,null,"→",null,null,null,"（→）",null,null,null,null,null,{"$f":"IF(D121=\"地上\",K121-MIN(IF(D$10:D$509=\"地上\",K$10:K$509)),0)+SUM(L121:N121)","v":0},null,null,0]
[null,null,113,null,"→",null,null,null,"（→）",null,null,null,null,null,{"$f":"IF(D122=\"地上\",K122-MIN(IF(D$10:D$509=\"地上\",K$10:K$509)),0)+SUM(L122:N122)","v":0},null,null,0]
[null,null,114,null,"→",null,null,null,"（→）",null,null,null,null,null,{"$f":"IF(D123=\"地上\",K123-MIN(IF(D$10:D$509=\"地上\",K$10:K$509)),0)+SUM(L123:N123)","v":0},null,null,0]
[null,null,115,null,"→",null,null,null,"（→）",null,null,null,null,null,{"$f":"IF(D124=\"地上\",K124-MIN(IF(D$10:D$509=\"地上\",K$10:K$509)),0)+SUM(L124:N124)","v":0},null,null,0]
[null,null,116,null,"→",null,null,null,"（→）",null,null,null,null,null,{"$f":"IF(D125=\"地上\",K125-MIN(IF(D$10:D$509=\"地上\",K$10:K$509)),0)+SUM(L125:N125)","v":0},null,null,0,null,null,"※地盤高を入力する場合は、地上の全流入口に地盤高を入力する必要があります。\n※地盤高がどこも同じ場合は、入力は不要です。"]
[null,null,117,null,"→",null,null,null,"（→）",null,null,null,null,null,{"$f":"IF(D126=\"地上\",K126-MIN(IF(D$10:D$509=\"地上\",K$10:K$509)),0)+SUM(L126:N126)","v":0},null,null,0]
[null,null,118,null,"→",null,null,null,"（→）",null,null,null,null,null,{"$f":"IF(D127=\"地上\",K127-MIN(IF(D$10:D$509=\"地上\",K$10:K$509)),0)+SUM(L127:N127)","v":0},null,null,0]
[null,null,119,null,"→",null,null,null,"（→）",null,null,null,null,null,{"$f":"IF(D128=\"地上\",K128-MIN(IF(D$10:D$509=\"地上\",K$10:K$509)),0)+SUM(L128:N128)","v":0},null,null,0]
[null,null,120,null,"→",null,null,null,"（→）",null,null,null,null,null,{"$f":"IF(D129=\"地上\",K129-MIN(IF(D$10:D$509=\"地上\",K$10:K$509)),0)+SUM(L129:N129)","v":0},null,null,0]
[null,null,121,null,"→",null,null,null,"（→）",null,null,null,null,null,{"$f":"IF(D130=\"地上\",K130-MIN(IF(D$10:D$509=\"地上\",K$10:K$509)),0)+SUM(L130:N130)","v":0},null,null,0]
[null,null,122,null,"→",null,null,null,"（→）",null,null,null,null,null,{"$f":"IF(D131=\"地上\",K131-MIN(IF(D$10:D$509=\"地上\",K$10:K$509)),0)+SUM(L131:N131)","v":0},null,null,0]
[null,null,123,null,"→",null,null,null,"（→）",null,null,null,null,null,{"$f":"IF(D132=\"地上\",K132-MIN(IF(D$10:D$509=\"地上\",K$10:K$509)),0)+SUM(L132:N132)","v":0},null,null,0]
[null,null,124,null,"→",null,null,null,"（→）",null,null,null,null,null,{"$f":"IF(D133=\"地上\",K133-MIN(IF(D$10:D$509=\"地上\",K$10:K$509)),0)+SUM(L133:N133)","v":0},null,null,0]
[null,null,125,null,"→",null,null,null,"（→）",null,null,null,null,null,{"$f":"IF(D134=\"地上\",K134-MIN(IF(D$10:D$509=\"地上\",K$10:K$509)),0)+SUM(L134:N134)","v":0},null,null,0]
[null,null,126,null,"→",null,null,null,"（→）",null,null,null,null,null,{"$f":"IF(D135=\"地上\",K135-MIN(IF(D$10:D$509=\"地上\",K$10:K$509)),0)+SUM(L135:N135)","v":0},null,null,0]
[null,null,127,null,"→",null,null,null,"（→）",null,null,null,null,null,{"$f":"IF(D136=\"地上\",K136-MIN(IF(D$10:D$509=\"地上\",K$10:K$509)),0)+SUM(L136:N136)","v":0},null,null,0]
[null,null,128,null,"→",null,null,null,"（→）",null,null,null,null,null,{"$f":"IF(D137=\"地上\",K137-MIN(IF(D$10:D$509=\"地上\",K$10:K$509)),0)+SUM(L137:N137)","v":0},null,null,0]
[null,null,129,null,"→",null,null,null,{"$f":"G138&\"（\"&D138&E138&F138&\"）\"","v":"（→）"},null,null,null,null,null,{"$f":"IF(D138=\"地上\",K138-MIN(IF(D$10:D$509=\"地上\",K$10:K$509)),0)+SUM(L138:N138)","v":0},null,null,{"$f":"O138+P138","v":0}]
[null,null,130,null,"→",null,null,null,"（→）",null,null,null,null,null,{"$f":"IF(D139=\"地上\",K139-MIN(IF(D$10:D$509=\"地上\",K$10:K$509)),0)+SUM(L139:N139)","v":0},null,null,0]
[null,null,131,null,"→",null,null,null,"（→）",null,null,null,null,null,{"$f":"IF(D140=\"地上\",K140-MIN(IF(D$10:D$509=\"地上\",K$10:K$509)),0)+SUM(L140:N140)","v":0},null,null,0]
[null,null,132,null,"→",null,null,null,"（→）",null,null,null,null,null,{"$f":"IF(D141=\"地上\",K141-MIN(IF(D$10:D$509=\"地上\",K$10:K$509)),0)+SUM(L141:N141)","v":0},null,null,0]
[null,null,133,null,"→",null,null,null,"（→）",null,null,null,null,null,{"$f":"IF(D142=\"地上\",K142-MIN(IF(D$10:D$509=\"地上\",K$10:K$509)),0)+SUM(L142:N142)","v":0},null,null,0]
[null,null,134,null,"→",null,null,null,"（→）",null,null,null,null,null,{"$f":"IF(D143=\"地上\",K143-MIN(IF(D$10:D$509=\"地上\",K$10:K$509)),0)+SUM(L143:N143)","v":0},null,null,0]
[null,null,135,null,"→",null,null,null,"（→）",null,null,null,null,null,{"$f":"IF(D144=\"地上\",K144-MIN(IF(D$10:D$509=\"地上\",K$10:K$509)),0)+SUM(L144:N144)","v":0},null,null,0]
[null,null,136,null,"→",null,null,null,"（→）",null,null,null,null,null,{"$f":"IF(D145=\"地上\",K145-MIN(IF(D$10:D$509=\"地上\",K$10:K$509)),0)+SUM(L145:N145)","v":0},null,null,0]
[null,null,137,null,"→",null,null,null,"（→）",null,null,null,null,null,{"$f":"IF(D146=\"地上\",K146-MIN(IF(D$10:D$509=\"地上\",K$10:K$509)),0)+SUM(L146:N146)","v":0},null,null,0]
[null,null,138,null,"→",null,null,null,"（→）",null,null,null,null,null,{"$f":"IF(D147=\"地上\",K147-MIN(IF(D$10:D$509=\"地上\",K$10:K$509)),0)+SUM(L147:N147)","v":0},null,null,0]
[null,null,139,null,"→",null,null,null,"（→）",null,null,null,null,null,{"$f":"IF(D148=\"地上\",K148-MIN(IF(D$10:D$509=\"地上\",K$10:K$509)),0)+SUM(L148:N148)","v":0},null,null,0]
[null,null,140,null,"→",null,null,null,"（→）",null,null,null,null,null,{"$f":"IF(D149=\"地上\",K149-MIN(IF(D$10:D$509=\"地上\",K$10:K$509)),0)+SUM(L149:N149)","v":0},null,null,0]
[null,null,141,null,"→",null,null,null,"（→）",null,null,null,null,null,{"$f":"IF(D150=\"地上\",K150-MIN(IF(D$10:D$509=\"地上\",K$10:K$509)),0)+SUM(L150:N150)","v":0},null,null,0]
[null,null,142,null,"→",null,null,null,"（→）",null,null,null,null,null,{"$f":"IF(D151=\"地上\",K151-MIN(IF(D$10:D$509=\"地上\",K$10:K$509)),0)+SUM(L151:N151)","v":0},null,null,0]
[null,null,143,null,"→",null,null,null,"（→）",null,null,null,null,null,{"$f":"IF(D152=\"地上\",K152-MIN(IF(D$10:D$509=\"地上\",K$10:K$509)),0)+SUM(L152:N152)","v":0},null,null,0]
[null,null,144,null,"→",null,null,null,"（→）",null,null,null,null,null,{"$f":"IF(D153=\"地上\",K153-MIN(IF(D$10:D$509=\"地上\",K$10:K$509)),0)+SUM(L153:N153)","v":0},null,null,0]
[null,null,145,null,"→",null,null,null,"（→）",null,null,null,null,null,{"$f":"IF(D154=\"地上\",K154-MIN(IF(D$10:D$509=\"地上\",K$10:K$509)),0)+SUM(L154:N154)","v":0},null,null,0]
[null,null,146,null,"→",null,null,null,"（→）",null,null,null,null,null,{"$f":"IF(D155=\"地上\",K155-MIN(IF(D$10:D$509=\"地上\",K$10:K$509)),0)+SUM(L155:N155)","v":0},null,null,0]
[null,null,147,null,"→",null,null,null,"（→）",null,null,null,null,null,{"$f":"IF(D156=\"地上\",K156-MIN(IF(D$10:D$509=\"地上\",K$10:K$509)),0)+SUM(L156:N156)","v":0},null,null,0]
[null,null,148,null,"→",null,null,null,"（→）",null,null,null,null,null,{"$f":"IF(D157=\"地上\",K157-MIN(IF(D$10:D$509=\"地上\",K$10:K$509)),0)+SUM(L157:N157)","v":0},null,null,0]
[null,null,149,null,"→",null,null,null,"（→）",null,null,null,null,null,{"$f":"IF(D158=\"地上\",K158-MIN(IF(D$10:D$509=\"地上\",K$10:K$509)),0)+SUM(L158:N158)","v":0},null,null,0]
[null,null,150,null,"→",null,null,null,"（→）",null,null,null,null,null,{"$f":"IF(D159=\"地上\",K159-MIN(IF(D$10:D$509=\"地上\",K$10:K$509)),0)+SUM(L159:N159)","v":0},null,null,0]
[null,null,151,null,"→",null,null,null,"（→）",null,null,null,null,null,{"$f":"IF(D160=\"地上\",K160-MIN(IF(D$10:D$509=\"地上\",K$10:K$509)),0)+SUM(L160:N160)","v":0},null,null,0]
[null,null,152,null,"→",null,null,null,"（→）",null,null,null,null,null,{"$f":"IF(D161=\"地上\",K161-MIN(IF(D$10:D$509=\"地上\",K$10:K$509)),0)+SUM(L161:N161)","v":0},null,null,0]
[null,null,153,null,"→",null,null,null,"（→）",null,null,null,null,null,{"$f":"IF(D162=\"地上\",K162-MIN(IF(D$10:D$509=\"地上\",K$10:K$509)),0)+SUM(L162:N162)","v":0},null,null,0]
[null,null,154,null,"→",null,null,null,"（→）",null,null,null,null,null,{"$f":"IF(D163=\"地上\",K163-MIN(IF(D$10:D$509=\"地上\",K$10:K$509)),0)+SUM(L163:N163)","v":0},null,null,0]
[null,null,155,null,"→",null,null,null,"（→）",null,null,null,null,null,{"$f":"IF(D164=\"地上\",K164-MIN(IF(D$10:D$509=\"地上\",K$10:K$509)),0)+SUM(L164:N164)","v":0},null,null,0]
[null,null,156,null,"→",null,null,null,"（→）",null,null,null,null,null,{"$f":"IF(D165=\"地上\",K165-MIN(IF(D$10:D$509=\"地上\",K$10:K$509)),0)+SUM(L165:N165)","v":0},null,null,0]
[null,null,157,null,"→",null,null,null,"（→）",null,null,null,null,null,{"$f":"IF(D166=\"地上\",K166-MIN(IF(D$10:D$509=\"地上\",K$10:K$509)),0)+SUM(L166:N166)","v":0},null,null,0]
[null,null,158,null,"→",null,null,null,"（→）",null,null,null,null,null,{"$f":"IF(D167=\"地上\",K167-MIN(IF(D$10:D$509=\"地上\",K$10:K$509)),0)+SUM(L167:N167)","v":0},null,null,0]
[null,null,159,null,"→",null,null,null,"（→）",null,null,null,null,null,{"$f":"IF(D168=\"地上\",K168-MIN(IF(D$10:D$509=\"地上\",K$10:K$509)),0)+SUM(L168:N168)","v":0},null,null,0]
[null,null,160,null,"→",null,null,null,"（→）",null,null,null,null,null,{"$f":"IF(D169=\"地上\",K169-MIN(IF(D$10:D$509=\"地上\",K$10:K$509)),0)+SUM(L169:N169)","v":0},null,null,0]
[null,null,161,null,"→",null,null,null,"（→）",null,null,null,null,null,{"$f":"IF(D170=\"地上\",K170-MIN(IF(D$10:D$509=\"地上\",K$10:K$509)),0)+SUM(L170:N170)","v":0},null,null,0]
[null,null,162,null,"→",null,null,null,"（→）",null,null,null,null,null,{"$f":"IF(D171=\"地上\",K171-MIN(IF(D$10:D$509=\"地上\",K$10:K$509)),0)+SUM(L171:N171)","v":0},null,null,0]
[null,null,163,null,"→",null,null,null,"（→）",null,null,null,null,null,{"$f":"IF(D172=\"地上\",K172-MIN(IF(D$10:D$509=\"地上\",K$10:K$509)),0)+SUM(L172:N172)","v":0},null,null,0]
[null,null,164,null,"→",null,null,null,"（→）",null,null,null,null,null,{"$f":"IF(D173=\"地上\",K173-MIN(IF(D$10:D$509=\"地上\",K$10:K$509)),0)+SUM(L173:N173)","v":0},null,null,0]
[null,null,165,null,"→",null,null,null,"（→）",null,null,null,null,null,{"$f":"IF(D174=\"地上\",K174-MIN(IF(D$10:D$509=\"地上\",K$10:K$509)),0)+SUM(L174:N174)","v":0},null,null,0]
[null,null,166,null,"→",null,null,null,"（→）",null,null,null,null,null,{"$f":"IF(D175=\"地上\",K175-MIN(IF(D$10:D$509=\"地上\",K$10:K$509)),0)+SUM(L175:N175)","v":0},null,null,0]
[null,null,167,null,"→",null,null,null,"（→）",null,null,null,null,null,{"$f":"IF(D176=\"地上\",K176-MIN(IF(D$10:D$509=\"地上\",K$10:K$509)),0)+SUM(L176:N176)","v":0},null,null,0]
[null,null,168,null,"→",null,null,null,"（→）",null,null,null,null,null,{"$f":"IF(D177=\"地上\",K177-MIN(IF(D$10:D$509=\"地上\",K$10:K$509)),0)+SUM(L177:N177)","v":0},null,null,0]
[null,null,169,null,"→",null,null,null,"（→）",null,null,null,null,null,{"$f":"IF(D178=\"地上\",K178-MIN(IF(D$10:D$509=\"地上\",K$10:K$509)),0)+SUM(L178:N178)","v":0},null,null,0]
[null,null,170,null,"→",null,null,null,"（→）",null,null,null,null,null,{"$f":"IF(D179=\"地上\",K179-MIN(IF(D$10:D$509=\"地上\",K$10:K$509)),0)+SUM(L179:N179)","v":0},null,null,0]
[null,null,171,null,"→",null,null,null,"（→）",null,null,null,null,null,{"$f":"IF(D180=\"地上\",K180-MIN(IF(D$10:D$509=\"地上\",K$10:K$509)),0)+SUM(L180:N180)","v":0},null,null,0]
[null,null,172,null,"→",null,null,null,"（→）",null,null,null,null,null,{"$f":"IF(D181=\"地上\",K181-MIN(IF(D$10:D$509=\"地上\",K$10:K$509)),0)+SUM(L181:N181)","v":0},null,null,0]
[null,null,173,null,"→",null,null,null,"（→）",null,null,null,null,null,{"$f":"IF(D182=\"地上\",K182-MIN(IF(D$10:D$509=\"地上\",K$10:K$509)),0)+SUM(L182:N182)","v":0},null,null,0]
[null,null,174,null,"→",null,null,null,"（→）",null,null,null,null,null,{"$f":"IF(D183=\"地上\",K183-MIN(IF(D$10:D$509=\"地上\",K$10:K$509)),0)+SUM(L183:N183)","v":0},null,null,0]
[null,null,175,null,"→",null,null,null,"（→）",null,null,null,null,null,{"$f":"IF(D184=\"地上\",K184-MIN(IF(D$10:D$509=\"地上\",K$10:K$509)),0)+SUM(L184:N184)","v":0},null,null,0]
[null,null,176,null,"→",null,null,null,"（→）",null,null,null,null,null,{"$f":"IF(D185=\"地上\",K185-MIN(IF(D$10:D$509=\"地上\",K$10:K$509)),0)+SUM(L185:N185)","v":0},null,null,0]
[null,null,177,null,"→",null,null,null,"（→）",null,null,null,null,null,{"$f":"IF(D186=\"地上\",K186-MIN(IF(D$10:D$509=\"地上\",K$10:K$509)),0)+SUM(L186:N186)","v":0},null,null,0]
[null,null,178,null,"→",null,null,null,"（→）",null,null,null,null,null,{"$f":"IF(D187=\"地上\",K187-MIN(IF(D$10:D$509=\"地上\",K$10:K$509)),0)+SUM(L187:N187)","v":0},null,null,0]
[null,null,179,null,"→",null,null,null,"（→）",null,null,null,null,null,{"$f":"IF(D188=\"地上\",K188-MIN(IF(D$10:D$509=\"地上\",K$10:K$509)),0)+SUM(L188:N188)","v":0},null,null,0]
[null,null,180,null,"→",null,null,null,"（→）",null,null,null,null,null,{"$f":"IF(D189=\"地上\",K189-MIN(IF(D$10:D$509=\"地上\",K$10:K$509)),0)+SUM(L189:N189)","v":0},null,null,0]
[null,null,181,null,"→",null,null,null,"（→）",null,null,null,null,null,{"$f":"IF(D190=\"地上\",K190-MIN(IF(D$10:D$509=\"地上\",K$10:K$509)),0)+SUM(L190:N190)","v":0},null,null,0]
[null,null,182,null,"→",null,null,null,"（→）",null,null,null,null,null,{"$f":"IF(D191=\"地上\",K191-MIN(IF(D$10:D$509=\"地上\",K$10:K$509)),0)+SUM(L191:N191)","v":0},null,null,0]
[null,null,183,null,"→",null,null,null,"（→）",null,null,null,null,null,{"$f":"IF(D192=\"地上\",K192-MIN(IF(D$10:D$509=\"地上\",K$10:K$509)),0)+SUM(L192:N192)","v":0},null,null,0]
[null,null,184,null,"→",null,null,null,"（→）",null,null,null,null,null,{"$f":"IF(D193=\"地上\",K193-MIN(IF(D$10:D$509=\"地上\",K$10:K$509)),0)+SUM(L193:N193)","v":0},null,null,0]
[null,null,185,null,"→",null,null,null,"（→）",null,null,null,null,null,{"$f":"IF(D194=\"地上\",K194-MIN(IF(D$10:D$509=\"地上\",K$10:K$509)),0)+SUM(L194:N194)","v":0},null,null,0]
[null,null,186,null,"→",null,null,null,"（→）",null,null,null,null,null,{"$f":"IF(D195=\"地上\",K195-MIN(IF(D$10:D$509=\"地上\",K$10:K$509)),0)+SUM(L195:N195)","v":0},null,null,0]
[null,null,187,null,"→",null,null,null,"（→）",null,null,null,null,null,{"$f":"IF(D196=\"地上\",K196-MIN(IF(D$10:D$509=\"地上\",K$10:K$509)),0)+SUM(L196:N196)","v":0},null,null,0]
[null,null,188,null,"→",null,null,null,"（→）",null,null,null,null,null,{"$f":"IF(D197=\"地上\",K197-MIN(IF(D$10:D$509=\"地上\",K$10:K$509)),0)+SUM(L197:N197)","v":0},null,null,0]
[null,null,189,null,"→",null,null,null,"（→）",null,null,null,null,null,{"$f":"IF(D198=\"地上\",K198-MIN(IF(D$10:D$509=\"地上\",K$10:K$509)),0)+SUM(L198:N198)","v":0},null,null,0]
[null,null,190,null,"→",null,null,null,"（→）",null,null,null,null,null,{"$f":"IF(D199=\"地上\",K199-MIN(IF(D$10:D$509=\"地上\",K$10:K$509)),0)+SUM(L199:N199)","v":0},null,null,0]
[null,null,191,null,"→",null,null,null,"（→）",null,null,null,null,null,{"$f":"IF(D200=\"地上\",K200-MIN(IF(D$10:D$509=\"地上\",K$10:K$509)),0)+SUM(L200:N200)","v":0},null,null,0]
[null,null,192,null,"→",null,null,null,"（→）",null,null,null,null,null,{"$f":"IF(D201=\"地上\",K201-MIN(IF(D$10:D$509=\"地上\",K$10:K$509)),0)+SUM(L201:N201)","v":0},null,null,0]
[null,null,193,null,"→",null,null,null,{"$f":"G202&\"（\"&D202&E202&F202&\"）\"","v":"（→）"},null,null,null,null,null,{"$f":"IF(D202=\"地上\",K202-MIN(IF(D$10:D$509=\"地上\",K$10:K$509)),0)+SUM(L202:N202)","v":0},null,null,{"$f":"O202+P202","v":0}]
[null,null,194,null,"→",null,null,null,"（→）",null,null,null,null,null,{"$f":"IF(D203=\"地上\",K203-MIN(IF(D$10:D$509=\"地上\",K$10:K$509)),0)+SUM(L203:N203)","v":0},null,null,0]
[null,null,195,null,"→",null,null,null,"（→）",null,null,null,null,null,{"$f":"IF(D204=\"地上\",K204-MIN(IF(D$10:D$509=\"地上\",K$10:K$509)),0)+SUM(L204:N204)","v":0},null,null,0]
[null,null,196,null,"→",null,null,null,"（→）",null,null,null,null,null,{"$f":"IF(D205=\"地上\",K205-MIN(IF(D$10:D$509=\"地上\",K$10:K$509)),0)+SUM(L205:N205)","v":0},null,null,0]
[null,null,197,null,"→",null,null,null,"（→）",null,null,null,null,null,{"$f":"IF(D206=\"地上\",K206-MIN(IF(D$10:D$509=\"地上\",K$10:K$509)),0)+SUM(L206:N206)","v":0},null,null,0]
[null,null,198,null,"→",null,null,null,"（→）",null,null,null,null,null,{"$f":"IF(D207=\"地上\",K207-MIN(IF(D$10:D$509=\"地上\",K$10:K$509)),0)+SUM(L207:N207)","v":0},null,null,0]
[null,null,199,null,"→",null,null,null,"（→）",null,null,null,null,null,{"$f":"IF(D208=\"地上\",K208-MIN(IF(D$10:D$509=\"地上\",K$10:K$509)),0)+SUM(L208:N208)","v":0},null,null,0]
[null,null,200,null,"→",null,null,null,"（→）",null,null,null,null,null,{"$f":"IF(D209=\"地上\",K209-MIN(IF(D$10:D$509=\"地上\",K$10:K$509)),0)+SUM(L209:N209)","v":0},null,null,0]
[null,null,201,null,"→",null,null,null,"（→）",null,null,null,null,null,{"$f":"IF(D210=\"地上\",K210-MIN(IF(D$10:D$509=\"地上\",K$10:K$509)),0)+SUM(L210:N210)","v":0},null,null,0]
[null,null,202,null,"→",null,null,null,"（→）",null,null,null,null,null,{"$f":"IF(D211=\"地上\",K211-MIN(IF(D$10:D$509=\"地上\",K$10:K$509)),0)+SUM(L211:N211)","v":0},null,null,0]
[null,null,203,null,"→",null,null,null,"（→）",null,null,null,null,null,{"$f":"IF(D212=\"地上\",K212-MIN(IF(D$10:D$509=\"地上\",K$10:K$509)),0)+SUM(L212:N212)","v":0},null,null,0]
[null,null,204,null,"→",null,null,null,"（→）",null,null,null,null,null,{"$f":"IF(D213=\"地上\",K213-MIN(IF(D$10:D$509=\"地上\",K$10:K$509)),0)+SUM(L213:N213)","v":0},null,null,0]
[null,null,205,null,"→",null,null,null,"（→）",null,null,null,null,null,{"$f":"IF(D214=\"地上\",K214-MIN(IF(D$10:D$509=\"地上\",K$10:K$509)),0)+SUM(L214:N214)","v":0},null,null,0]
[null,null,206,null,"→",null,null,null,"（→）",null,null,null,null,null,{"$f":"IF(D215=\"地上\",K215-MIN(IF(D$10:D$509=\"地上\",K$10:K$509)),0)+SUM(L215:N215)","v":0},null,null,0]
[null,null,207,null,"→",null,null,null,"（→）",null,null,null,null,null,{"$f":"IF(D216=\"地上\",K216-MIN(IF(D$10:D$509=\"地上\",K$10:K$509)),0)+SUM(L216:N216)","v":0},null,null,0]
[null,null,208,null,"→",null,null,null,"（→）",null,null,null,null,null,{"$f":"IF(D217=\"地上\",K217-MIN(IF(D$10:D$509=\"地上\",K$10:K$509)),0)+SUM(L217:N217)","v":0},null,null,0]
[null,null,209,null,"→",null,null,null,"（→）",null,null,null,null,null,{"$f":"IF(D218=\"地上\",K218-MIN(IF(D$10:D$509=\"地上\",K$10:K$509)),0)+SUM(L218:N218)","v":0},null,null,0]
[null,null,210,null,"→",null,null,null,"（→）",null,null,null,null,null,{"$f":"IF(D219=\"地上\",K219-MIN(IF(D$10:D$509=\"地上\",K$10:K$509)),0)+SUM(L219:N219)","v":0},null,null,0]
[null,null,211,null,"→",null,null,null,"（→）",null,null,null,null,null,{"$f":"IF(D220=\"地上\",K220-MIN(IF(D$10:D$509=\"地上\",K$10:K$509)),0)+SUM(L220:N220)","v":0},null,null,0]
[null,null,212,null,"→",null,null,null,"（→）",null,null,null,null,null,{"$f":"IF(D221=\"地上\",K221-MIN(IF(D$10:D$509=\"地上\",K$10:K$509)),0)+SUM(L221:N221)","v":0},null,null,0]
[null,null,213,null,"→",null,null,null,"（→）",null,null,null,null,null,{"$f":"IF(D222=\"地上\",K222-MIN(IF(D$10:D$509=\"地上\",K$10:K$509)),0)+SUM(L222:N222)","v":0},null,null,0]
[null,null,214,null,"→",null,null,null,"（→）",null,null,null,null,null,{"$f":"IF(D223=\"地上\",K223-MIN(IF(D$10:D$509=\"地上\",K$10:K$509)),0)+SUM(L223:N223)","v":0},null,null,0]
[null,null,215,null,"→",null,null,null,"（→）",null,null,null,null,null,{"$f":"IF(D224=\"地上\",K224-MIN(IF(D$10:D$509=\"地上\",K$10:K$509)),0)+SUM(L224:N224)","v":0},null,null,0]
[null,null,216,null,"→",null,null,null,"（→）",null,null,null,null,null,{"$f":"IF(D225=\"地上\",K225-MIN(IF(D$10:D$509=\"地上\",K$10:K$509)),0)+SUM(L225:N225)","v":0},null,null,0]
[null,null,217,null,"→",null,null,null,"（→）",null,null,null,null,null,{"$f":"IF(D226=\"地上\",K226-MIN(IF(D$10:D$509=\"地上\",K$10:K$509)),0)+SUM(L226:N226)","v":0},null,null,0]
[null,null,218,null,"→",null,null,null,"（→）",null,null,null,null,null,{"$f":"IF(D227=\"地上\",K227-MIN(IF(D$10:D$509=\"地上\",K$10:K$509)),0)+SUM(L227:N227)","v":0},null,null,0]
[null,null,219,null,"→",null,null,null,"（→）",null,null,null,null,null,{"$f":"IF(D228=\"地上\",K228-MIN(IF(D$10:D$509=\"地上\",K$10:K$509)),0)+SUM(L228:N228)","v":0},null,null,0]
[null,null,220,null,"→",null,null,null,"（→）",null,null,null,null,null,{"$f":"IF(D229=\"地上\",K229-MIN(IF(D$10:D$509=\"地上\",K$10:K$509)),0)+SUM(L229:N229)","v":0},null,null,0]
[null,null,221,null,"→",null,null,null,"（→）",null,null,null,null,null,{"$f":"IF(D230=\"地上\",K230-MIN(IF(D$10:D$509=\"地上\",K$10:K$509)),0)+SUM(L230:N230)","v":0},null,null,0]
[null,null,222,null,"→",null,null,null,"（→）",null,null,null,null,null,{"$f":"IF(D231=\"地上\",K231-MIN(IF(D$10:D$509=\"地上\",K$10:K$509)),0)+SUM(L231:N231)","v":0},null,null,0]
[null,null,223,null,"→",null,null,null,"（→）",null,null,null,null,null,{"$f":"IF(D232=\"地上\",K232-MIN(IF(D$10:D$509=\"地上\",K$10:K$509)),0)+SUM(L232:N232)","v":0},null,null,0]
[null,null,224,null,"→",null,null,null,"（→）",null,null,null,null,null,{"$f":"IF(D233=\"地上\",K233-MIN(IF(D$10:D$509=\"地上\",K$10:K$509)),0)+SUM(L233:N233)","v":0},null,null,0]
[null,null,225,null,"→",null,null,null,"（→）",null,null,null,null,null,{"$f":"IF(D234=\"地上\",K234-MIN(IF(D$10:D$509=\"地上\",K$10:K$509)),0)+SUM(L234:N234)","v":0},null,null,0]
[null,null,226,null,"→",null,null,null,"（→）",null,null,null,null,null,{"$f":"IF(D235=\"地上\",K235-MIN(IF(D$10:D$509=\"地上\",K$10:K$509)),0)+SUM(L235:N235)","v":0},null,null,0]
[null,null,227,null,"→",null,null,null,"（→）",null,null,null,null,null,{"$f":"IF(D236=\"地上\",K236-MIN(IF(D$10:D$509=\"地上\",K$10:K$509)),0)+SUM(L236:N236)","v":0},null,null,0]
[null,null,228,null,"→",null,null,null,"（→）",null,null,null,null,null,{"$f":"IF(D237=\"地上\",K237-MIN(IF(D$10:D$509=\"地上\",K$10:K$509)),0)+SUM(L237:N237)","v":0},null,null,0]
[null,null,229,null,"→",null,null,null,"（→）",null,null,null,null,null,{"$f":"IF(D238=\"地上\",K238-MIN(IF(D$10:D$509=\"地上\",K$10:K$509)),0)+SUM(L238:N238)","v":0},null,null,0]
[null,null,230,null,"→",null,null,null,"（→）",null,null,null,null,null,{"$f":"IF(D239=\"地上\",K239-MIN(IF(D$10:D$509=\"地上\",K$10:K$509)),0)+SUM(L239:N239)","v":0},null,null,0]
[null,null,231,null,"→",null,null,null,"（→）",null,null,null,null,null,{"$f":"IF(D240=\"地上\",K240-MIN(IF(D$10:D$509=\"地上\",K$10:K$509)),0)+SUM(L240:N240)","v":0},null,null,0]
[null,null,232,null,"→",null,null,null,"（→）",null,null,null,null,null,{"$f":"IF(D241=\"地上\",K241-MIN(IF(D$10:D$509=\"地上\",K$10:K$509)),0)+SUM(L241:N241)","v":0},null,null,0]
[null,null,233,null,"→",null,null,null,"（→）",null,null,null,null,null,{"$f":"IF(D242=\"地上\",K242-MIN(IF(D$10:D$509=\"地上\",K$10:K$509)),0)+SUM(L242:N242)","v":0},null,null,0]
[null,null,234,null,"→",null,null,null,"（→）",null,null,null,null,null,{"$f":"IF(D243=\"地上\",K243-MIN(IF(D$10:D$509=\"地上\",K$10:K$509)),0)+SUM(L243:N243)","v":0},null,null,0]
[null,null,235,null,"→",null,null,null,"（→）",null,null,null,null,null,{"$f":"IF(D244=\"地上\",K244-MIN(IF(D$10:D$509=\"地上\",K$10:K$509)),0)+SUM(L244:N244)","v":0},null,null,0]
[null,null,236,null,"→",null,null,null,"（→）",null,null,null,null,null,{"$f":"IF(D245=\"地上\",K245-MIN(IF(D$10:D$509=\"地上\",K$10:K$509)),0)+SUM(L245:N245)","v":0},null,null,0]
[null,null,237,null,"→",null,null,null,"（→）",null,null,null,null,null,{"$f":"IF(D246=\"地上\",K246-MIN(IF(D$10:D$509=\"地上\",K$10:K$509)),0)+SUM(L246:N246)","v":0},null,null,0]
[null,null,238,null,"→",null,null,null,"（→）",null,null,null,null,null,{"$f":"IF(D247=\"地上\",K247-MIN(IF(D$10:D$509=\"地上\",K$10:K$509)),0)+SUM(L247:N247)","v":0},null,null,0]
[null,null,239,null,"→",null,null,null,"（→）",null,null,null,null,null,{"$f":"IF(D248=\"地上\",K248-MIN(IF(D$10:D$509=\"地上\",K$10:K$509)),0)+SUM(L248:N248)","v":0},null,null,0]
[null,null,240,null,"→",null,null,null,"（→）",null,null,null,null,null,{"$f":"IF(D249=\"地上\",K249-MIN(IF(D$10:D$509=\"地上\",K$10:K$509)),0)+SUM(L249:N249)","v":0},null,null,0]
[null,null,241,null,"→",null,null,null,"（→）",null,null,null,null,null,{"$f":"IF(D250=\"地上\",K250-MIN(IF(D$10:D$509=\"地上\",K$10:K$509)),0)+SUM(L250:N250)","v":0},null,null,0]
[null,null,242,null,"→",null,null,null,"（→）",null,null,null,null,null,{"$f":"IF(D251=\"地上\",K251-MIN(IF(D$10:D$509=\"地上\",K$10:K$509)),0)+SUM(L251:N251)","v":0},null,null,0]
[null,null,243,null,"→",null,null,null,"（→）",null,null,null,null,null,{"$f":"IF(D252=\"地上\",K252-MIN(IF(D$10:D$509=\"地上\",K$10:K$509)),0)+SUM(L252:N252)","v":0},null,null,0]
[null,null,244,null,"→",null,null,null,"（→）",null,null,null,null,null,{"$f":"IF(D253=\"地上\",K253-MIN(IF(D$10:D$509=\"地上\",K$10:K$509)),0)+SUM(L253:N253)","v":0},null,null,0]
[null,null,245,null,"→",null,null,null,"（→）",null,null,null,null,null,{"$f":"IF(D254=\"地上\",K254-MIN(IF(D$10:D$509=\"地上\",K$10:K$509)),0)+SUM(L254:N254)","v":0},null,null,0]
[null,null,246,null,"→",null,null,null,"（→）",null,null,null,null,null,{"$f":"IF(D255=\"地上\",K255-MIN(IF(D$10:D$509=\"地上\",K$10:K$509)),0)+SUM(L255:N255)","v":0},null,null,0]
[null,null,247,null,"→",null,null,null,"（→）",null,null,null,null,null,{"$f":"IF(D256=\"地上\",K256-MIN(IF(D$10:D$509=\"地上\",K$10:K$509)),0)+SUM(L256:N256)","v":0},null,null,0]
[null,null,248,null,"→",null,null,null,"（→）",null,null,null,null,null,{"$f":"IF(D257=\"地上\",K257-MIN(IF(D$10:D$509=\"地上\",K$10:K$509)),0)+SUM(L257:N257)","v":0},null,null,0]
[null,null,249,null,"→",null,null,null,"（→）",null,null,null,null,null,{"$f":"IF(D258=\"地上\",K258-MIN(IF(D$10:D$509=\"地上\",K$10:K$509)),0)+SUM(L258:N258)","v":0},null,null,0]
[null,null,250,null,"→",null,null,null,"（→）",null,null,null,null,null,{"$f":"IF(D259=\"地上\",K259-MIN(IF(D$10:D$509=\"地上\",K$10:K$509)),0)+SUM(L259:N259)","v":0},null,null,0]
[null,null,251,null,"→",null,null,null,"（→）",null,null,null,null,null,{"$f":"IF(D260=\"地上\",K260-MIN(IF(D$10:D$509=\"地上\",K$10:K$509)),0)+SUM(L260:N260)","v":0},null,null,0]
[null,null,252,null,"→",null,null,null,"（→）",null,null,null,null,null,{"$f":"IF(D261=\"地上\",K261-MIN(IF(D$10:D$509=\"地上\",K$10:K$509)),0)+SUM(L261:N261)","v":0},null,null,0]
[null,null,253,null,"→",null,null,null,"（→）",null,null,null,null,null,{"$f":"IF(D262=\"地上\",K262-MIN(IF(D$10:D$509=\"地上\",K$10:K$509)),0)+SUM(L262:N262)","v":0},null,null,0]
[null,null,254,null,"→",null,null,null,"（→）",null,null,null,null,null,{"$f":"IF(D263=\"地上\",K263-MIN(IF(D$10:D$509=\"地上\",K$10:K$509)),0)+SUM(L263:N263)","v":0},null,null,0]
[null,null,255,null,"→",null,null,null,"（→）",null,null,null,null,null,{"$f":"IF(D264=\"地上\",K264-MIN(IF(D$10:D$509=\"地上\",K$10:K$509)),0)+SUM(L264:N264)","v":0},null,null,0]
[null,null,256,null,"→",null,null,null,"（→）",null,null,null,null,null,{"$f":"IF(D265=\"地上\",K265-MIN(IF(D$10:D$509=\"地上\",K$10:K$509)),0)+SUM(L265:N265)","v":0},null,null,0]
[null,null,257,null,"→",null,null,null,{"$f":"G266&\"（\"&D266&E266&F266&\"）\"","v":"（→）"},null,null,null,null,null,{"$f":"IF(D266=\"地上\",K266-MIN(IF(D$10:D$509=\"地上\",K$10:K$509)),0)+SUM(L266:N266)","v":0},null,null,{"$f":"O266+P266","v":0}]
[null,null,258,null,"→",null,null,null,"（→）",null,null,null,null,null,{"$f":"IF(D267=\"地上\",K267-MIN(IF(D$10:D$509=\"地上\",K$10:K$509)),0)+SUM(L267:N267)","v":0},null,null,0]
[null,null,259,null,"→",null,null,null,"（→）",null,null,null,null,null,{"$f":"IF(D268=\"地上\",K268-MIN(IF(D$10:D$509=\"地上\",K$10:K$509)),0)+SUM(L268:N268)","v":0},null,null,0]
[null,null,260,null,"→",null,null,null,"（→）",null,null,null,null,null,{"$f":"IF(D269=\"地上\",K269-MIN(IF(D$10:D$509=\"地上\",K$10:K$509)),0)+SUM(L269:N269)","v":0},null,null,0]
[null,null,261,null,"→",null,null,null,"（→）",null,null,null,null,null,{"$f":"IF(D270=\"地上\",K270-MIN(IF(D$10:D$509=\"地上\",K$10:K$509)),0)+SUM(L270:N270)","v":0},null,null,0]
[null,null,262,null,"→",null,null,null,"（→）",null,null,null,null,null,{"$f":"IF(D271=\"地上\",K271-MIN(IF(D$10:D$509=\"地上\",K$10:K$509)),0)+SUM(L271:N271)","v":0},null,null,0]
[null,null,263,null,"→",null,null,null,"（→）",null,null,null,null,null,{"$f":"IF(D272=\"地上\",K272-MIN(IF(D$10:D$509=\"地上\",K$10:K$509)),0)+SUM(L272:N272)","v":0},null,null,0]
[null,null,264,null,"→",null,null,null,"（→）",null,null,null,null,null,{"$f":"IF(D273=\"地上\",K273-MIN(IF(D$10:D$509=\"地上\",K$10:K$509)),0)+SUM(L273:N273)","v":0},null,null,0]
[null,null,265,null,"→",null,null,null,"（→）",null,null,null,null,null,{"$f":"IF(D274=\"地上\",K274-MIN(IF(D$10:D$509=\"地上\",K$10:K$509)),0)+SUM(L274:N274)","v":0},null,null,0]
[null,null,266,null,"→",null,null,null,"（→）",null,null,null,null,null,{"$f":"IF(D275=\"地上\",K275-MIN(IF(D$10:D$509=\"地上\",K$10:K$509)),0)+SUM(L275:N275)","v":0},null,null,0]
[null,null,267,null,"→",null,null,null,"（→）",null,null,null,null,null,{"$f":"IF(D276=\"地上\",K276-MIN(IF(D$10:D$509=\"地上\",K$10:K$509)),0)+SUM(L276:N276)","v":0},null,null,0]
[null,null,268,null,"→",null,null,null,"（→）",null,null,null,null,null,{"$f":"IF(D277=\"地上\",K277-MIN(IF(D$10:D$509=\"地上\",K$10:K$509)),0)+SUM(L277:N277)","v":0},null,null,0]
[null,null,269,null,"→",null,null,null,"（→）",null,null,null,null,null,{"$f":"IF(D278=\"地上\",K278-MIN(IF(D$10:D$509=\"地上\",K$10:K$509)),0)+SUM(L278:N278)","v":0},null,null,0]
[null,null,270,null,"→",null,null,null,"（→）",null,null,null,null,null,{"$f":"IF(D279=\"地上\",K279-MIN(IF(D$10:D$509=\"地上\",K$10:K$509)),0)+SUM(L279:N279)","v":0},null,null,0]
[null,null,271,null,"→",null,null,null,"（→）",null,null,null,null,null,{"$f":"IF(D280=\"地上\",K280-MIN(IF(D$10:D$509=\"地上\",K$10:K$509)),0)+SUM(L280:N280)","v":0},null,null,0]
[null,null,272,null,"→",null,null,null,"（→）",null,null,null,null,null,{"$f":"IF(D281=\"地上\",K281-MIN(IF(D$10:D$509=\"地上\",K$10:K$509)),0)+SUM(L281:N281)","v":0},null,null,0]
[null,null,273,null,"→",null,null,null,"（→）",null,null,null,null,null,{"$f":"IF(D282=\"地上\",K282-MIN(IF(D$10:D$509=\"地上\",K$10:K$509)),0)+SUM(L282:N282)","v":0},null,null,0]
[null,null,274,null,"→",null,null,null,"（→）",null,null,null,null,null,{"$f":"IF(D283=\"地上\",K283-MIN(IF(D$10:D$509=\"地上\",K$10:K$509)),0)+SUM(L283:N283)","v":0},null,null,0]
[null,null,275,null,"→",null,null,null,"（→）",null,null,null,null,null,{"$f":"IF(D284=\"地上\",K284-MIN(IF(D$10:D$509=\"地上\",K$10:K$509)),0)+SUM(L284:N284)","v":0},null,null,0]
[null,null,276,null,"→",null,null,null,"（→）",null,null,null,null,null,{"$f":"IF(D285=\"地上\",K285-MIN(IF(D$10:D$509=\"地上\",K$10:K$509)),0)+SUM(L285:N285)","v":0},null,null,0]
[null,null,277,null,"→",null,null,null,"（→）",null,null,null,null,null,{"$f":"IF(D286=\"地上\",K286-MIN(IF(D$10:D$509=\"地上\",K$10:K$509)),0)+SUM(L286:N286)","v":0},null,null,0]
[null,null,278,null,"→",null,null,null,"（→）",null,null,null,null,null,{"$f":"IF(D287=\"地上\",K287-MIN(IF(D$10:D$509=\"地上\",K$10:K$509)),0)+SUM(L287:N287)","v":0},null,null,0]
[null,null,279,null,"→",null,null,null,"（→）",null,null,null,null,null,{"$f":"IF(D288=\"地上\",K288-MIN(IF(D$10:D$509=\"地上\",K$10:K$509)),0)+SUM(L288:N288)","v":0},null,null,0]
[null,null,280,null,"→",null,null,null,"（→）",null,null,null,null,null,{"$f":"IF(D289=\"地上\",K289-MIN(IF(D$10:D$509=\"地上\",K$10:K$509)),0)+SUM(L289:N289)","v":0},null,null,0]
[null,null,281,null,"→",null,null,null,"（→）",null,null,null,null,null,{"$f":"IF(D290=\"地上\",K290-MIN(IF(D$10:D$509=\"地上\",K$10:K$509)),0)+SUM(L290:N290)","v":0},null,null,0]
[null,null,282,null,"→",null,null,null,"（→）",null,null,null,null,null,{"$f":"IF(D291=\"地上\",K291-MIN(IF(D$10:D$509=\"地上\",K$10:K$509)),0)+SUM(L291:N291)","v":0},null,null,0]
[null,null,283,null,"→",null,null,null,"（→）",null,null,null,null,null,{"$f":"IF(D292=\"地上\",K292-MIN(IF(D$10:D$509=\"地上\",K$10:K$509)),0)+SUM(L292:N292)","v":0},null,null,0]
[null,null,284,null,"→",null,null,null,"（→）",null,null,null,null,null,{"$f":"IF(D293=\"地上\",K293-MIN(IF(D$10:D$509=\"地上\",K$10:K$509)),0)+SUM(L293:N293)","v":0},null,null,0]
[null,null,285,null,"→",null,null,null,"（→）",null,null,null,null,null,{"$f":"IF(D294=\"地上\",K294-MIN(IF(D$10:D$509=\"地上\",K$10:K$509)),0)+SUM(L294:N294)","v":0},null,null,0]
[null,null,286,null,"→",null,null,null,"（→）",null,null,null,null,null,{"$f":"IF(D295=\"地上\",K295-MIN(IF(D$10:D$509=\"地上\",K$10:K$509)),0)+SUM(L295:N295)","v":0},null,null,0]
[null,null,287,null,"→",null,null,null,"（→）",null,null,null,null,null,{"$f":"IF(D296=\"地上\",K296-MIN(IF(D$10:D$509=\"地上\",K$10:K$509)),0)+SUM(L296:N296)","v":0},null,null,0]
[null,null,288,null,"→",null,null,null,"（→）",null,null,null,null,null,{"$f":"IF(D297=\"地上\",K297-MIN(IF(D$10:D$509=\"地上\",K$10:K$509)),0)+SUM(L297:N297)","v":0},null,null,0]
[null,null,289,null,"→",null,null,null,"（→）",null,null,null,null,null,{"$f":"IF(D298=\"地上\",K298-MIN(IF(D$10:D$509=\"地上\",K$10:K$509)),0)+SUM(L298:N298)","v":0},null,null,0]
[null,null,290,null,"→",null,null,null,"（→）",null,null,null,null,null,{"$f":"IF(D299=\"地上\",K299-MIN(IF(D$10:D$509=\"地上\",K$10:K$509)),0)+SUM(L299:N299)","v":0},null,null,0]
[null,null,291,null,"→",null,null,null,"（→）",null,null,null,null,null,{"$f":"IF(D300=\"地上\",K300-MIN(IF(D$10:D$509=\"地上\",K$10:K$509)),0)+SUM(L300:N300)","v":0},null,null,0]
[null,null,292,null,"→",null,null,null,"（→）",null,null,null,null,null,{"$f":"IF(D301=\"地上\",K301-MIN(IF(D$10:D$509=\"地上\",K$10:K$509)),0)+SUM(L301:N301)","v":0},null,null,0]
[null,null,293,null,"→",null,null,null,"（→）",null,null,null,null,null,{"$f":"IF(D302=\"地上\",K302-MIN(IF(D$10:D$509=\"地上\",K$10:K$509)),0)+SUM(L302:N302)","v":0},null,null,0]
[null,null,294,null,"→",null,null,null,"（→）",null,null,null,null,null,{"$f":"IF(D303=\"地上\",K303-MIN(IF(D$10:D$509=\"地上\",K$10:K$509)),0)+SUM(L303:N303)","v":0},null,null,0]
[null,null,295,null,"→",null,null,null,"（→）",null,null,null,null,null,{"$f":"IF(D304=\"地上\",K304-MIN(IF(D$10:D$509=\"地上\",K$10:K$509)),0)+SUM(L304:N304)","v":0},null,null,0]
[null,null,296,null,"→",null,null,null,"（→）",null,null,null,null,null,{"$f":"IF(D305=\"地上\",K305-MIN(IF(D$10:D$509=\"地上\",K$10:K$509)),0)+SUM(L305:N305)","v":0},null,null,0]
[null,null,297,null,"→",null,null,null,"（→）",null,null,null,null,null,{"$f":"IF(D306=\"地上\",K306-MIN(IF(D$10:D$509=\"地上\",K$10:K$509)),0)+SUM(L306:N306)","v":0},null,null,0]
[null,null,298,null,"→",null,null,null,"（→）",null,null,null,null,null,{"$f":"IF(D307=\"地上\",K307-MIN(IF(D$10:D$509=\"地上\",K$10:K$509)),0)+SUM(L307:N307)","v":0},null,null,0]
[null,null,299,null,"→",null,null,null,"（→）",null,null,null,null,null,{"$f":"IF(D308=\"地上\",K308-MIN(IF(D$10:D$509=\"地上\",K$10:K$509)),0)+SUM(L308:N308)","v":0},null,null,0]
[null,null,300,null,"→",null,null,null,"（→）",null,null,null,null,null,{"$f":"IF(D309=\"地上\",K309-MIN(IF(D$10:D$509=\"地上\",K$10:K$509)),0)+SUM(L309:N309)","v":0},null,null,0]
[null,null,301,null,"→",null,null,null,"（→）",null,null,null,null,null,{"$f":"IF(D310=\"地上\",K310-MIN(IF(D$10:D$509=\"地上\",K$10:K$509)),0)+SUM(L310:N310)","v":0},null,null,0]
[null,null,302,null,"→",null,null,null,"（→）",null,null,null,null,null,{"$f":"IF(D311=\"地上\",K311-MIN(IF(D$10:D$509=\"地上\",K$10:K$509)),0)+SUM(L311:N311)","v":0},null,null,0]
[null,null,303,null,"→",null,null,null,"（→）",null,null,null,null,null,{"$f":"IF(D312=\"地上\",K312-MIN(IF(D$10:D$509=\"地上\",K$10:K$509)),0)+SUM(L312:N312)","v":0},null,null,0]
[null,null,304,null,"→",null,null,null,"（→）",null,null,null,null,null,{"$f":"IF(D313=\"地上\",K313-MIN(IF(D$10:D$509=\"地上\",K$10:K$509)),0)+SUM(L313:N313)","v":0},null,null,0]
[null,null,305,null,"→",null,null,null,"（→）",null,null,null,null,null,{"$f":"IF(D314=\"地上\",K314-MIN(IF(D$10:D$509=\"地上\",K$10:K$509)),0)+SUM(L314:N314)","v":0},null,null,0]
[null,null,306,null,"→",null,null,null,"（→）",null,null,null,null,null,{"$f":"IF(D315=\"地上\",K315-MIN(IF(D$10:D$509=\"地上\",K$10:K$509)),0)+SUM(L315:N315)","v":0},null,null,0]
[null,null,307,null,"→",null,null,null,"（→）",null,null,null,null,null,{"$f":"IF(D316=\"地上\",K316-MIN(IF(D$10:D$509=\"地上\",K$10:K$509)),0)+SUM(L316:N316)","v":0},null,null,0]
[null,null,308,null,"→",null,null,null,"（→）",null,null,null,null,null,{"$f":"IF(D317=\"地上\",K317-MIN(IF(D$10:D$509=\"地上\",K$10:K$509)),0)+SUM(L317:N317)","v":0},null,null,0]
[null,null,309,null,"→",null,null,null,"（→）",null,null,null,null,null,{"$f":"IF(D318=\"地上\",K318-MIN(IF(D$10:D$509=\"地上\",K$10:K$509)),0)+SUM(L318:N318)","v":0},null,null,0]
[null,null,310,null,"→",null,null,null,"（→）",null,null,null,null,null,{"$f":"IF(D319=\"地上\",K319-MIN(IF(D$10:D$509=\"地上\",K$10:K$509)),0)+SUM(L319:N319)","v":0},null,null,0]
[null,null,311,null,"→",null,null,null,"（→）",null,null,null,null,null,{"$f":"IF(D320=\"地上\",K320-MIN(IF(D$10:D$509=\"地上\",K$10:K$509)),0)+SUM(L320:N320)","v":0},null,null,0]
[null,null,312,null,"→",null,null,null,"（→）",null,null,null,null,null,{"$f":"IF(D321=\"地上\",K321-MIN(IF(D$10:D$509=\"地上\",K$10:K$509)),0)+SUM(L321:N321)","v":0},null,null,0]
[null,null,313,null,"→",null,null,null,"（→）",null,null,null,null,null,{"$f":"IF(D322=\"地上\",K322-MIN(IF(D$10:D$509=\"地上\",K$10:K$509)),0)+SUM(L322:N322)","v":0},null,null,0]
[null,null,314,null,"→",null,null,null,"（→）",null,null,null,null,null,{"$f":"IF(D323=\"地上\",K323-MIN(IF(D$10:D$509=\"地上\",K$10:K$509)),0)+SUM(L323:N323)","v":0},null,null,0]
[null,null,315,null,"→",null,null,null,"（→）",null,null,null,null,null,{"$f":"IF(D324=\"地上\",K324-MIN(IF(D$10:D$509=\"地上\",K$10:K$509)),0)+SUM(L324:N324)","v":0},null,null,0]
[null,null,316,null,"→",null,null,null,"（→）",null,null,null,null,null,{"$f":"IF(D325=\"地上\",K325-MIN(IF(D$10:D$509=\"地上\",K$10:K$509)),0)+SUM(L325:N325)","v":0},null,null,0]
[null,null,317,null,"→",null,null,null,"（→）",null,null,null,null,null,{"$f":"IF(D326=\"地上\",K326-MIN(IF(D$10:D$509=\"地上\",K$10:K$509)),0)+SUM(L326:N326)","v":0},null,null,0]
[null,null,318,null,"→",null,null,null,"（→）",null,null,null,null,null,{"$f":"IF(D327=\"地上\",K327-MIN(IF(D$10:D$509=\"地上\",K$10:K$509)),0)+SUM(L327:N327)","v":0},null,null,0]
[null,null,319,null,"→",null,null,null,"（→）",null,null,null,null,null,{"$f":"IF(D328=\"地上\",K328-MIN(IF(D$10:D$509=\"地上\",K$10:K$509)),0)+SUM(L328:N328)","v":0},null,null,0]
[null,null,320,null,"→",null,null,null,"（→）",null,null,null,null,null,{"$f":"IF(D329=\"地上\",K329-MIN(IF(D$10:D$509=\"地上\",K$10:K$509)),0)+SUM(L329:N329)","v":0},null,null,0]
[null,null,321,null,"→",null,null,null,{"$f":"G330&\"（\"&D330&E330&F330&\"）\"","v":"（→）"},null,null,null,null,null,{"$f":"IF(D330=\"地上\",K330-MIN(IF(D$10:D$509=\"地上\",K$10:K$509)),0)+SUM(L330:N330)","v":0},null,null,{"$f":"O330+P330","v":0}]
[null,null,322,null,"→",null,null,null,"（→）",null,null,null,null,null,{"$f":"IF(D331=\"地上\",K331-MIN(IF(D$10:D$509=\"地上\",K$10:K$509)),0)+SUM(L331:N331)","v":0},null,null,0]
[null,null,323,null,"→",null,null,null,"（→）",null,null,null,null,null,{"$f":"IF(D332=\"地上\",K332-MIN(IF(D$10:D$509=\"地上\",K$10:K$509)),0)+SUM(L332:N332)","v":0},null,null,0]
[null,null,324,null,"→",null,null,null,"（→）",null,null,null,null,null,{"$f":"IF(D333=\"地上\",K333-MIN(IF(D$10:D$509=\"地上\",K$10:K$509)),0)+SUM(L333:N333)","v":0},null,null,0]
[null,null,325,null,"→",null,null,null,"（→）",null,null,null,null,null,{"$f":"IF(D334=\"地上\",K334-MIN(IF(D$10:D$509=\"地上\",K$10:K$509)),0)+SUM(L334:N334)","v":0},null,null,0]
[null,null,326,null,"→",null,null,null,"（→）",null,null,null,null,null,{"$f":"IF(D335=\"地上\",K335-MIN(IF(D$10:D$509=\"地上\",K$10:K$509)),0)+SUM(L335:N335)","v":0},null,null,0]
[null,null,327,null,"→",null,null,null,"（→）",null,null,null,null,null,{"$f":"IF(D336=\"地上\",K336-MIN(IF(D$10:D$509=\"地上\",K$10:K$509)),0)+SUM(L336:N336)","v":0},null,null,0]
[null,null,328,null,"→",null,null,null,"（→）",null,null,null,null,null,{"$f":"IF(D337=\"地上\",K337-MIN(IF(D$10:D$509=\"地上\",K$10:K$509)),0)+SUM(L337:N337)","v":0},null,null,0]
[null,null,329,null,"→",null,null,null,"（→）",null,null,null,null,null,{"$f":"IF(D338=\"地上\",K338-MIN(IF(D$10:D$509=\"地上\",K$10:K$509)),0)+SUM(L338:N338)","v":0},null,null,0]
[null,null,330,null,"→",null,null,null,"（→）",null,null,null,null,null,{"$f":"IF(D339=\"地上\",K339-MIN(IF(D$10:D$509=\"地上\",K$10:K$509)),0)+SUM(L339:N339)","v":0},null,null,0]
[null,null,331,null,"→",null,null,null,"（→）",null,null,null,null,null,{"$f":"IF(D340=\"地上\",K340-MIN(IF(D$10:D$509=\"地上\",K$10:K$509)),0)+SUM(L340:N340)","v":0},null,null,0]
[null,null,332,null,"→",null,null,null,"（→）",null,null,null,null,null,{"$f":"IF(D341=\"地上\",K341-MIN(IF(D$10:D$509=\"地上\",K$10:K$509)),0)+SUM(L341:N341)","v":0},null,null,0]
[null,null,333,null,"→",null,null,null,"（→）",null,null,null,null,null,{"$f":"IF(D342=\"地上\",K342-MIN(IF(D$10:D$509=\"地上\",K$10:K$509)),0)+SUM(L342:N342)","v":0},null,null,0]
[null,null,334,null,"→",null,null,null,"（→）",null,null,null,null,null,{"$f":"IF(D343=\"地上\",K343-MIN(IF(D$10:D$509=\"地上\",K$10:K$509)),0)+SUM(L343:N343)","v":0},null,null,0]
[null,null,335,null,"→",null,null,null,"（→）",null,null,null,null,null,{"$f":"IF(D344=\"地上\",K344-MIN(IF(D$10:D$509=\"地上\",K$10:K$509)),0)+SUM(L344:N344)","v":0},null,null,0]
[null,null,336,null,"→",null,null,null,"（→）",null,null,null,null,null,{"$f":"IF(D345=\"地上\",K345-MIN(IF(D$10:D$509=\"地上\",K$10:K$509)),0)+SUM(L345:N345)","v":0},null,null,0]
[null,null,337,null,"→",null,null,null,"（→）",null,null,null,null,null,{"$f":"IF(D346=\"地上\",K346-MIN(IF(D$10:D$509=\"地上\",K$10:K$509)),0)+SUM(L346:N346)","v":0},null,null,0]
[null,null,338,null,"→",null,null,null,"（→）",null,null,null,null,null,{"$f":"IF(D347=\"地上\",K347-MIN(IF(D$10:D$509=\"地上\",K$10:K$509)),0)+SUM(L347:N347)","v":0},null,null,0]
[null,null,339,null,"→",null,null,null,"（→）",null,null,null,null,null,{"$f":"IF(D348=\"地上\",K348-MIN(IF(D$10:D$509=\"地上\",K$10:K$509)),0)+SUM(L348:N348)","v":0},null,null,0]
[null,null,340,null,"→",null,null,null,"（→）",null,null,null,null,null,{"$f":"IF(D349=\"地上\",K349-MIN(IF(D$10:D$509=\"地上\",K$10:K$509)),0)+SUM(L349:N349)","v":0},null,null,0]
[null,null,341,null,"→",null,null,null,"（→）",null,null,null,null,null,{"$f":"IF(D350=\"地上\",K350-MIN(IF(D$10:D$509=\"地上\",K$10:K$509)),0)+SUM(L350:N350)","v":0},null,null,0]
[null,null,342,null,"→",null,null,null,"（→）",null,null,null,null,null,{"$f":"IF(D351=\"地上\",K351-MIN(IF(D$10:D$509=\"地上\",K$10:K$509)),0)+SUM(L351:N351)","v":0},null,null,0]
[null,null,343,null,"→",null,null,null,"（→）",null,null,null,null,null,{"$f":"IF(D352=\"地上\",K352-MIN(IF(D$10:D$509=\"地上\",K$10:K$509)),0)+SUM(L352:N352)","v":0},null,null,0]
[null,null,344,null,"→",null,null,null,"（→）",null,null,null,null,null,{"$f":"IF(D353=\"地上\",K353-MIN(IF(D$10:D$509=\"地上\",K$10:K$509)),0)+SUM(L353:N353)","v":0},null,null,0]
[null,null,345,null,"→",null,null,null,"（→）",null,null,null,null,null,{"$f":"IF(D354=\"地上\",K354-MIN(IF(D$10:D$509=\"地上\",K$10:K$509)),0)+SUM(L354:N354)","v":0},null,null,0]
[null,null,346,null,"→",null,null,null,"（→）",null,null,null,null,null,{"$f":"IF(D355=\"地上\",K355-MIN(IF(D$10:D$509=\"地上\",K$10:K$509)),0)+SUM(L355:N355)","v":0},null,null,0]
[null,null,347,null,"→",null,null,null,"（→）",null,null,null,null,null,{"$f":"IF(D356=\"地上\",K356-MIN(IF(D$10:D$509=\"地上\",K$10:K$509)),0)+SUM(L356:N356)","v":0},null,null,0]
[null,null,348,null,"→",null,null,null,"（→）",null,null,null,null,null,{"$f":"IF(D357=\"地上\",K357-MIN(IF(D$10:D$509=\"地上\",K$10:K$509)),0)+SUM(L357:N357)","v":0},null,null,0]
[null,null,349,null,"→",null,null,null,"（→）",null,null,null,null,null,{"$f":"IF(D358=\"地上\",K358-MIN(IF(D$10:D$509=\"地上\",K$10:K$509)),0)+SUM(L358:N358)","v":0},null,null,0]
[null,null,350,null,"→",null,null,null,"（→）",null,null,null,null,null,{"$f":"IF(D359=\"地上\",K359-MIN(IF(D$10:D$509=\"地上\",K$10:K$509)),0)+SUM(L359:N359)","v":0},null,null,0]
[null,null,351,null,"→",null,null,null,"（→）",null,null,null,null,null,{"$f":"IF(D360=\"地上\",K360-MIN(IF(D$10:D$509=\"地上\",K$10:K$509)),0)+SUM(L360:N360)","v":0},null,null,0]
[null,null,352,null,"→",null,null,null,"（→）",null,null,null,null,null,{"$f":"IF(D361=\"地上\",K361-MIN(IF(D$10:D$509=\"地上\",K$10:K$509)),0)+SUM(L361:N361)","v":0},null,null,0]
[null,null,353,null,"→",null,null,null,"（→）",null,null,null,null,null,{"$f":"IF(D362=\"地上\",K362-MIN(IF(D$10:D$509=\"地上\",K$10:K$509)),0)+SUM(L362:N362)","v":0},null,null,0]
[null,null,354,null,"→",null,null,null,"（→）",null,null,null,null,null,{"$f":"IF(D363=\"地上\",K363-MIN(IF(D$10:D$509=\"地上\",K$10:K$509)),0)+SUM(L363:N363)","v":0},null,null,0]
[null,null,355,null,"→",null,null,null,"（→）",null,null,null,null,null,{"$f":"IF(D364=\"地上\",K364-MIN(IF(D$10:D$509=\"地上\",K$10:K$509)),0)+SUM(L364:N364)","v":0},null,null,0]
[null,null,356,null,"→",null,null,null,"（→）",null,null,null,null,null,{"$f":"IF(D365=\"地上\",K365-MIN(IF(D$10:D$509=\"地上\",K$10:K$509)),0)+SUM(L365:N365)","v":0},null,null,0]
[null,null,357,null,"→",null,null,null,"（→）",null,null,null,null,null,{"$f":"IF(D366=\"地上\",K366-MIN(IF(D$10:D$509=\"地上\",K$10:K$509)),0)+SUM(L366:N366)","v":0},null,null,0]
[null,null,358,null,"→",null,null,null,"（→）",null,null,null,null,null,{"$f":"IF(D367=\"地上\",K367-MIN(IF(D$10:D$509=\"地上\",K$10:K$509)),0)+SUM(L367:N367)","v":0},null,null,0]
[null,null,359,null,"→",null,null,null,"（→）",null,null,null,null,null,{"$f":"IF(D368=\"地上\",K368-MIN(IF(D$10:D$509=\"地上\",K$10:K$509)),0)+SUM(L368:N368)","v":0},null,null,0]
[null,null,360,null,"→",null,null,null,"（→）",null,null,null,null,null,{"$f":"IF(D369=\"地上\",K369-MIN(IF(D$10:D$509=\"地上\",K$10:K$509)),0)+SUM(L369:N369)","v":0},null,null,0]
[null,null,361,null,"→",null,null,null,"（→）",null,null,null,null,null,{"$f":"IF(D370=\"地上\",K370-MIN(IF(D$10:D$509=\"地上\",K$10:K$509)),0)+SUM(L370:N370)","v":0},null,null,0]
[null,null,362,null,"→",null,null,null,"（→）",null,null,null,null,null,{"$f":"IF(D371=\"地上\",K371-MIN(IF(D$10:D$509=\"地上\",K$10:K$509)),0)+SUM(L371:N371)","v":0},null,null,0]
[null,null,363,null,"→",null,null,null,"（→）",null,null,null,null,null,{"$f":"IF(D372=\"地上\",K372-MIN(IF(D$10:D$509=\"地上\",K$10:K$509)),0)+SUM(L372:N372)","v":0},null,null,0]
[null,null,364,null,"→",null,null,null,"（→）",null,null,null,null,null,{"$f":"IF(D373=\"地上\",K373-MIN(IF(D$10:D$509=\"地上\",K$10:K$509)),0)+SUM(L373:N373)","v":0},null,null,0]
[null,null,365,null,"→",null,null,null,"（→）",null,null,null,null,null,{"$f":"IF(D374=\"地上\",K374-MIN(IF(D$10:D$509=\"地上\",K$10:K$509)),0)+SUM(L374:N374)","v":0},null,null,0]
[null,null,366,null,"→",null,null,null,"（→）",null,null,null,null,null,{"$f":"IF(D375=\"地上\",K375-MIN(IF(D$10:D$509=\"地上\",K$10:K$509)),0)+SUM(L375:N375)","v":0},null,null,0]
[null,null,367,null,"→",null,null,null,"（→）",null,null,null,null,null,{"$f":"IF(D376=\"地上\",K376-MIN(IF(D$10:D$509=\"地上\",K$10:K$509)),0)+SUM(L376:N376)","v":0},null,null,0]
[null,null,368,null,"→",null,null,null,"（→）",null,null,null,null,null,{"$f":"IF(D377=\"地上\",K377-MIN(IF(D$10:D$509=\"地上\",K$10:K$509)),0)+SUM(L377:N377)","v":0},null,null,0]
[null,null,369,null,"→",null,null,null,"（→）",null,null,null,null,null,{"$f":"IF(D378=\"地上\",K378-MIN(IF(D$10:D$509=\"地上\",K$10:K$509)),0)+SUM(L378:N378)","v":0},null,null,0]
[null,null,370,null,"→",null,null,null,"（→）",null,null,null,null,null,{"$f":"IF(D379=\"地上\",K379-MIN(IF(D$10:D$509=\"地上\",K$10:K$509)),0)+SUM(L379:N379)","v":0},null,null,0]
[null,null,371,null,"→",null,null,null,"（→）",null,null,null,null,null,{"$f":"IF(D380=\"地上\",K380-MIN(IF(D$10:D$509=\"地上\",K$10:K$509)),0)+SUM(L380:N380)","v":0},null,null,0]
[null,null,372,null,"→",null,null,null,"（→）",null,null,null,null,null,{"$f":"IF(D381=\"地上\",K381-MIN(IF(D$10:D$509=\"地上\",K$10:K$509)),0)+SUM(L381:N381)","v":0},null,null,0]
[null,null,373,null,"→",null,null,null,"（→）",null,null,null,null,null,{"$f":"IF(D382=\"地上\",K382-MIN(IF(D$10:D$509=\"地上\",K$10:K$509)),0)+SUM(L382:N382)","v":0},null,null,0]
[null,null,374,null,"→",null,null,null,"（→）",null,null,null,null,null,{"$f":"IF(D383=\"地上\",K383-MIN(IF(D$10:D$509=\"地上\",K$10:K$509)),0)+SUM(L383:N383)","v":0},null,null,0]
[null,null,375,null,"→",null,null,null,"（→）",null,null,null,null,null,{"$f":"IF(D384=\"地上\",K384-MIN(IF(D$10:D$509=\"地上\",K$10:K$509)),0)+SUM(L384:N384)","v":0},null,null,0]
[null,null,376,null,"→",null,null,null,"（→）",null,null,null,null,null,{"$f":"IF(D385=\"地上\",K385-MIN(IF(D$10:D$509=\"地上\",K$10:K$509)),0)+SUM(L385:N385)","v":0},null,null,0]
[null,null,377,null,"→",null,null,null,"（→）",null,null,null,null,null,{"$f":"IF(D386=\"地上\",K386-MIN(IF(D$10:D$509=\"地上\",K$10:K$509)),0)+SUM(L386:N386)","v":0},null,null,0]
[null,null,378,null,"→",null,null,null,"（→）",null,null,null,null,null,{"$f":"IF(D387=\"地上\",K387-MIN(IF(D$10:D$509=\"地上\",K$10:K$509)),0)+SUM(L387:N387)","v":0},null,null,0]
[null,null,379,null,"→",null,null,null,"（→）",null,null,null,null,null,{"$f":"IF(D388=\"地上\",K388-MIN(IF(D$10:D$509=\"地上\",K$10:K$509)),0)+SUM(L388:N388)","v":0},null,null,0]
[null,null,380,null,"→",null,null,null,"（→）",null,null,null,null,null,{"$f":"IF(D389=\"地上\",K389-MIN(IF(D$10:D$509=\"地上\",K$10:K$509)),0)+SUM(L389:N389)","v":0},null,null,0]
[null,null,381,null,"→",null,null,null,"（→）",null,null,null,null,null,{"$f":"IF(D390=\"地上\",K390-MIN(IF(D$10:D$509=\"地上\",K$10:K$509)),0)+SUM(L390:N390)","v":0},null,null,0]
[null,null,382,null,"→",null,null,null,"（→）",null,null,null,null,null,{"$f":"IF(D391=\"地上\",K391-MIN(IF(D$10:D$509=\"地上\",K$10:K$509)),0)+SUM(L391:N391)","v":0},null,null,0]
[null,null,383,null,"→",null,null,null,"（→）",null,null,null,null,null,{"$f":"IF(D392=\"地上\",K392-MIN(IF(D$10:D$509=\"地上\",K$10:K$509)),0)+SUM(L392:N392)","v":0},null,null,0]
[null,null,384,null,"→",null,null,null,"（→）",null,null,null,null,null,{"$f":"IF(D393=\"地上\",K393-MIN(IF(D$10:D$509=\"地上\",K$10:K$509)),0)+SUM(L393:N393)","v":0},null,null,0]
[null,null,385,null,"→",null,null,null,{"$f":"G394&\"（\"&D394&E394&F394&\"）\"","v":"（→）"},null,null,null,null,null,{"$f":"IF(D394=\"地上\",K394-MIN(IF(D$10:D$509=\"地上\",K$10:K$509)),0)+SUM(L394:N394)","v":0},null,null,{"$f":"O394+P394","v":0}]
[null,null,386,null,"→",null,null,null,"（→）",null,null,null,null,null,{"$f":"IF(D395=\"地上\",K395-MIN(IF(D$10:D$509=\"地上\",K$10:K$509)),0)+SUM(L395:N395)","v":0},null,null,0]
[null,null,387,null,"→",null,null,null,"（→）",null,null,null,null,null,{"$f":"IF(D396=\"地上\",K396-MIN(IF(D$10:D$509=\"地上\",K$10:K$509)),0)+SUM(L396:N396)","v":0},null,null,0]
[null,null,388,null,"→",null,null,null,"（→）",null,null,null,null,null,{"$f":"IF(D397=\"地上\",K397-MIN(IF(D$10:D$509=\"地上\",K$10:K$509)),0)+SUM(L397:N397)","v":0},null,null,0]
[null,null,389,null,"→",null,null,null,"（→）",null,null,null,null,null,{"$f":"IF(D398=\"地上\",K398-MIN(IF(D$10:D$509=\"地上\",K$10:K$509)),0)+SUM(L398:N398)","v":0},null,null,0]
[null,null,390,null,"→",null,null,null,"（→）",null,null,null,null,null,{"$f":"IF(D399=\"地上\",K399-MIN(IF(D$10:D$509=\"地上\",K$10:K$509)),0)+SUM(L399:N399)","v":0},null,null,0]
[null,null,391,null,"→",null,null,null,"（→）",null,null,null,null,null,{"$f":"IF(D400=\"地上\",K400-MIN(IF(D$10:D$509=\"地上\",K$10:K$509)),0)+SUM(L400:N400)","v":0},null,null,0]
[null,null,392,null,"→",null,null,null,"（→）",null,null,null,null,null,{"$f":"IF(D401=\"地上\",K401-MIN(IF(D$10:D$509=\"地上\",K$10:K$509)),0)+SUM(L401:N401)","v":0},null,null,0]
[null,null,393,null,"→",null,null,null,"（→）",null,null,null,null,null,{"$f":"IF(D402=\"地上\",K402-MIN(IF(D$10:D$509=\"地上\",K$10:K$509)),0)+SUM(L402:N402)","v":0},null,null,0]
[null,null,394,null,"→",null,null,null,"（→）",null,null,null,null,null,{"$f":"IF(D403=\"地上\",K403-MIN(IF(D$10:D$509=\"地上\",K$10:K$509)),0)+SUM(L403:N403)","v":0},null,null,0]
[null,null,395,null,"→",null,null,null,"（→）",null,null,null,null,null,{"$f":"IF(D404=\"地上\",K404-MIN(IF(D$10:D$509=\"地上\",K$10:K$509)),0)+SUM(L404:N404)","v":0},null,null,0]
[null,null,396,null,"→",null,null,null,"（→）",null,null,null,null,null,{"$f":"IF(D405=\"地上\",K405-MIN(IF(D$10:D$509=\"地上\",K$10:K$509)),0)+SUM(L405:N405)","v":0},null,null,0]
[null,null,397,null,"→",null,null,null,"（→）",null,null,null,null,null,{"$f":"IF(D406=\"地上\",K406-MIN(IF(D$10:D$509=\"地上\",K$10:K$509)),0)+SUM(L406:N406)","v":0},null,null,0]
[null,null,398,null,"→",null,null,null,"（→）",null,null,null,null,null,{"$f":"IF(D407=\"地上\",K407-MIN(IF(D$10:D$509=\"地上\",K$10:K$509)),0)+SUM(L407:N407)","v":0},null,null,0]
[null,null,399,null,"→",null,null,null,"（→）",null,null,null,null,null,{"$f":"IF(D408=\"地上\",K408-MIN(IF(D$10:D$509=\"地上\",K$10:K$509)),0)+SUM(L408:N408)","v":0},null,null,0]
[null,null,400,null,"→",null,null,null,"（→）",null,null,null,null,null,{"$f":"IF(D409=\"地上\",K409-MIN(IF(D$10:D$509=\"地上\",K$10:K$509)),0)+SUM(L409:N409)","v":0},null,null,0]
[null,null,401,null,"→",null,null,null,"（→）",null,null,null,null,null,{"$f":"IF(D410=\"地上\",K410-MIN(IF(D$10:D$509=\"地上\",K$10:K$509)),0)+SUM(L410:N410)","v":0},null,null,0]
[null,null,402,null,"→",null,null,null,"（→）",null,null,null,null,null,{"$f":"IF(D411=\"地上\",K411-MIN(IF(D$10:D$509=\"地上\",K$10:K$509)),0)+SUM(L411:N411)","v":0},null,null,0]
[null,null,403,null,"→",null,null,null,"（→）",null,null,null,null,null,{"$f":"IF(D412=\"地上\",K412-MIN(IF(D$10:D$509=\"地上\",K$10:K$509)),0)+SUM(L412:N412)","v":0},null,null,0]
[null,null,404,null,"→",null,null,null,"（→）",null,null,null,null,null,{"$f":"IF(D413=\"地上\",K413-MIN(IF(D$10:D$509=\"地上\",K$10:K$509)),0)+SUM(L413:N413)","v":0},null,null,0]
[null,null,405,null,"→",null,null,null,"（→）",null,null,null,null,null,{"$f":"IF(D414=\"地上\",K414-MIN(IF(D$10:D$509=\"地上\",K$10:K$509)),0)+SUM(L414:N414)","v":0},null,null,0]
[null,null,406,null,"→",null,null,null,"（→）",null,null,null,null,null,{"$f":"IF(D415=\"地上\",K415-MIN(IF(D$10:D$509=\"地上\",K$10:K$509)),0)+SUM(L415:N415)","v":0},null,null,0]
[null,null,407,null,"→",null,null,null,"（→）",null,null,null,null,null,{"$f":"IF(D416=\"地上\",K416-MIN(IF(D$10:D$509=\"地上\",K$10:K$509)),0)+SUM(L416:N416)","v":0},null,null,0]
[null,null,408,null,"→",null,null,null,"（→）",null,null,null,null,null,{"$f":"IF(D417=\"地上\",K417-MIN(IF(D$10:D$509=\"地上\",K$10:K$509)),0)+SUM(L417:N417)","v":0},null,null,0]
[null,null,409,null,"→",null,null,null,"（→）",null,null,null,null,null,{"$f":"IF(D418=\"地上\",K418-MIN(IF(D$10:D$509=\"地上\",K$10:K$509)),0)+SUM(L418:N418)","v":0},null,null,0]
[null,null,410,null,"→",null,null,null,"（→）",null,null,null,null,null,{"$f":"IF(D419=\"地上\",K419-MIN(IF(D$10:D$509=\"地上\",K$10:K$509)),0)+SUM(L419:N419)","v":0},null,null,0]
[null,null,411,null,"→",null,null,null,"（→）",null,null,null,null,null,{"$f":"IF(D420=\"地上\",K420-MIN(IF(D$10:D$509=\"地上\",K$10:K$509)),0)+SUM(L420:N420)","v":0},null,null,0]
[null,null,412,null,"→",null,null,null,"（→）",null,null,null,null,null,{"$f":"IF(D421=\"地上\",K421-MIN(IF(D$10:D$509=\"地上\",K$10:K$509)),0)+SUM(L421:N421)","v":0},null,null,0]
[null,null,413,null,"→",null,null,null,"（→）",null,null,null,null,null,{"$f":"IF(D422=\"地上\",K422-MIN(IF(D$10:D$509=\"地上\",K$10:K$509)),0)+SUM(L422:N422)","v":0},null,null,0]
[null,null,414,null,"→",null,null,null,"（→）",null,null,null,null,null,{"$f":"IF(D423=\"地上\",K423-MIN(IF(D$10:D$509=\"地上\",K$10:K$509)),0)+SUM(L423:N423)","v":0},null,null,0]
[null,null,415,null,"→",null,null,null,"（→）",null,null,null,null,null,{"$f":"IF(D424=\"地上\",K424-MIN(IF(D$10:D$509=\"地上\",K$10:K$509)),0)+SUM(L424:N424)","v":0},null,null,0]
[null,null,416,null,"→",null,null,null,"（→）",null,null,null,null,null,{"$f":"IF(D425=\"地上\",K425-MIN(IF(D$10:D$509=\"地上\",K$10:K$509)),0)+SUM(L425:N425)","v":0},null,null,0]
[null,null,417,null,"→",null,null,null,"（→）",null,null,null,null,null,{"$f":"IF(D426=\"地上\",K426-MIN(IF(D$10:D$509=\"地上\",K$10:K$509)),0)+SUM(L426:N426)","v":0},null,null,0]
[null,null,418,null,"→",null,null,null,"（→）",null,null,null,null,null,{"$f":"IF(D427=\"地上\",K427-MIN(IF(D$10:D$509=\"地上\",K$10:K$509)),0)+SUM(L427:N427)","v":0},null,null,0]
[null,null,419,null,"→",null,null,null,"（→）",null,null,null,null,null,{"$f":"IF(D428=\"地上\",K428-MIN(IF(D$10:D$509=\"地上\",K$10:K$509)),0)+SUM(L428:N428)","v":0},null,null,0]
[null,null,420,null,"→",null,null,null,"（→）",null,null,null,null,null,{"$f":"IF(D429=\"地上\",K429-MIN(IF(D$10:D$509=\"地上\",K$10:K$509)),0)+SUM(L429:N429)","v":0},null,null,0]
[null,null,421,null,"→",null,null,null,"（→）",null,null,null,null,null,{"$f":"IF(D430=\"地上\",K430-MIN(IF(D$10:D$509=\"地上\",K$10:K$509)),0)+SUM(L430:N430)","v":0},null,null,0]
[null,null,422,null,"→",null,null,null,"（→）",null,null,null,null,null,{"$f":"IF(D431=\"地上\",K431-MIN(IF(D$10:D$509=\"地上\",K$10:K$509)),0)+SUM(L431:N431)","v":0},null,null,0]
[null,null,423,null,"→",null,null,null,"（→）",null,null,null,null,null,{"$f":"IF(D432=\"地上\",K432-MIN(IF(D$10:D$509=\"地上\",K$10:K$509)),0)+SUM(L432:N432)","v":0},null,null,0]
[null,null,424,null,"→",null,null,null,"（→）",null,null,null,null,null,{"$f":"IF(D433=\"地上\",K433-MIN(IF(D$10:D$509=\"地上\",K$10:K$509)),0)+SUM(L433:N433)","v":0},null,null,0]
[null,null,425,null,"→",null,null,null,"（→）",null,null,null,null,null,{"$f":"IF(D434=\"地上\",K434-MIN(IF(D$10:D$509=\"地上\",K$10:K$509)),0)+SUM(L434:N434)","v":0},null,null,0]
[null,null,426,null,"→",null,null,null,"（→）",null,null,null,null,null,{"$f":"IF(D435=\"地上\",K435-MIN(IF(D$10:D$509=\"地上\",K$10:K$509)),0)+SUM(L435:N435)","v":0},null,null,0]
[null,null,427,null,"→",null,null,null,"（→）",null,null,null,null,null,{"$f":"IF(D436=\"地上\",K436-MIN(IF(D$10:D$509=\"地上\",K$10:K$509)),0)+SUM(L436:N436)","v":0},null,null,0]
[null,null,428,null,"→",null,null,null,"（→）",null,null,null,null,null,{"$f":"IF(D437=\"地上\",K437-MIN(IF(D$10:D$509=\"地上\",K$10:K$509)),0)+SUM(L437:N437)","v":0},null,null,0]
[null,null,429,null,"→",null,null,null,"（→）",null,null,null,null,null,{"$f":"IF(D438=\"地上\",K438-MIN(IF(D$10:D$509=\"地上\",K$10:K$509)),0)+SUM(L438:N438)","v":0},null,null,0]
[null,null,430,null,"→",null,null,null,"（→）",null,null,null,null,null,{"$f":"IF(D439=\"地上\",K439-MIN(IF(D$10:D$509=\"地上\",K$10:K$509)),0)+SUM(L439:N439)","v":0},null,null,0]
[null,null,431,null,"→",null,null,null,"（→）",null,null,null,null,null,{"$f":"IF(D440=\"地上\",K440-MIN(IF(D$10:D$509=\"地上\",K$10:K$509)),0)+SUM(L440:N440)","v":0},null,null,0]
[null,null,432,null,"→",null,null,null,"（→）",null,null,null,null,null,{"$f":"IF(D441=\"地上\",K441-MIN(IF(D$10:D$509=\"地上\",K$10:K$509)),0)+SUM(L441:N441)","v":0},null,null,0]
[null,null,433,null,"→",null,null,null,"（→）",null,null,null,null,null,{"$f":"IF(D442=\"地上\",K442-MIN(IF(D$10:D$509=\"地上\",K$10:K$509)),0)+SUM(L442:N442)","v":0},null,null,0]
[null,null,434,null,"→",null,null,null,"（→）",null,null,null,null,null,{"$f":"IF(D443=\"地上\",K443-MIN(IF(D$10:D$509=\"地上\",K$10:K$509)),0)+SUM(L443:N443)","v":0},null,null,0]
[null,null,435,null,"→",null,null,null,"（→）",null,null,null,null,null,{"$f":"IF(D444=\"地上\",K444-MIN(IF(D$10:D$509=\"地上\",K$10:K$509)),0)+SUM(L444:N444)","v":0},null,null,0]
[null,null,436,null,"→",null,null,null,"（→）",null,null,null,null,null,{"$f":"IF(D445=\"地上\",K445-MIN(IF(D$10:D$509=\"地上\",K$10:K$509)),0)+SUM(L445:N445)","v":0},null,null,0]
[null,null,437,null,"→",null,null,null,"（→）",null,null,null,null,null,{"$f":"IF(D446=\"地上\",K446-MIN(IF(D$10:D$509=\"地上\",K$10:K$509)),0)+SUM(L446:N446)","v":0},null,null,0]
[null,null,438,null,"→",null,null,null,"（→）",null,null,null,null,null,{"$f":"IF(D447=\"地上\",K447-MIN(IF(D$10:D$509=\"地上\",K$10:K$509)),0)+SUM(L447:N447)","v":0},null,null,0]
[null,null,439,null,"→",null,null,null,"（→）",null,null,null,null,null,{"$f":"IF(D448=\"地上\",K448-MIN(IF(D$10:D$509=\"地上\",K$10:K$509)),0)+SUM(L448:N448)","v":0},null,null,0]
[null,null,440,null,"→",null,null,null,"（→）",null,null,null,null,null,{"$f":"IF(D449=\"地上\",K449-MIN(IF(D$10:D$509=\"地上\",K$10:K$509)),0)+SUM(L449:N449)","v":0},null,null,0]
[null,null,441,null,"→",null,null,null,"（→）",null,null,null,null,null,{"$f":"IF(D450=\"地上\",K450-MIN(IF(D$10:D$509=\"地上\",K$10:K$509)),0)+SUM(L450:N450)","v":0},null,null,0]
[null,null,442,null,"→",null,null,null,"（→）",null,null,null,null,null,{"$f":"IF(D451=\"地上\",K451-MIN(IF(D$10:D$509=\"地上\",K$10:K$509)),0)+SUM(L451:N451)","v":0},null,null,0]
[null,null,443,null,"→",null,null,null,"（→）",null,null,null,null,null,{"$f":"IF(D452=\"地上\",K452-MIN(IF(D$10:D$509=\"地上\",K$10:K$509)),0)+SUM(L452:N452)","v":0},null,null,0]
[null,null,444,null,"→",null,null,null,"（→）",null,null,null,null,null,{"$f":"IF(D453=\"地上\",K453-MIN(IF(D$10:D$509=\"地上\",K$10:K$509)),0)+SUM(L453:N453)","v":0},null,null,0]
[null,null,445,null,"→",null,null,null,"（→）",null,null,null,null,null,{"$f":"IF(D454=\"地上\",K454-MIN(IF(D$10:D$509=\"地上\",K$10:K$509)),0)+SUM(L454:N454)","v":0},null,null,0]
[null,null,446,null,"→",null,null,null,"（→）",null,null,null,null,null,{"$f":"IF(D455=\"地上\",K455-MIN(IF(D$10:D$509=\"地上\",K$10:K$509)),0)+SUM(L455:N455)","v":0},null,null,0]
[null,null,447,null,"→",null,null,null,"（→）",null,null,null,null,null,{"$f":"IF(D456=\"地上\",K456-MIN(IF(D$10:D$509=\"地上\",K$10:K$509)),0)+SUM(L456:N456)","v":0},null,null,0]
[null,null,448,null,"→",null,null,null,"（→）",null,null,null,null,null,{"$f":"IF(D457=\"地上\",K457-MIN(IF(D$10:D$509=\"地上\",K$10:K$509)),0)+SUM(L457:N457)","v":0},null,null,0]
[null,null,449,null,"→",null,null,null,{"$f":"G458&\"（\"&D458&E458&F458&\"）\"","v":"（→）"},null,null,null,null,null,{"$f":"IF(D458=\"地上\",K458-MIN(IF(D$10:D$509=\"地上\",K$10:K$509)),0)+SUM(L458:N458)","v":0},null,null,{"$f":"O458+P458","v":0}]
[null,null,450,null,"→",null,null,null,"（→）",null,null,null,null,null,{"$f":"IF(D459=\"地上\",K459-MIN(IF(D$10:D$509=\"地上\",K$10:K$509)),0)+SUM(L459:N459)","v":0},null,null,0]
[null,null,451,null,"→",null,null,null,"（→）",null,null,null,null,null,{"$f":"IF(D460=\"地上\",K460-MIN(IF(D$10:D$509=\"地上\",K$10:K$509)),0)+SUM(L460:N460)","v":0},null,null,0]
[null,null,452,null,"→",null,null,null,"（→）",null,null,null,null,null,{"$f":"IF(D461=\"地上\",K461-MIN(IF(D$10:D$509=\"地上\",K$10:K$509)),0)+SUM(L461:N461)","v":0},null,null,0]
[null,null,453,null,"→",null,null,null,"（→）",null,null,null,null,null,{"$f":"IF(D462=\"地上\",K462-MIN(IF(D$10:D$509=\"地上\",K$10:K$509)),0)+SUM(L462:N462)","v":0},null,null,0]
[null,null,454,null,"→",null,null,null,"（→）",null,null,null,null,null,{"$f":"IF(D463=\"地上\",K463-MIN(IF(D$10:D$509=\"地上\",K$10:K$509)),0)+SUM(L463:N463)","v":0},null,null,0]
[null,null,455,null,"→",null,null,null,"（→）",null,null,null,null,null,{"$f":"IF(D464=\"地上\",K464-MIN(IF(D$10:D$509=\"地上\",K$10:K$509)),0)+SUM(L464:N464)","v":0},null,null,0]
[null,null,456,null,"→",null,null,null,"（→）",null,null,null,null,null,{"$f":"IF(D465=\"地上\",K465-MIN(IF(D$10:D$509=\"地上\",K$10:K$509)),0)+SUM(L465:N465)","v":0},null,null,0]
[null,null,457,null,"→",null,null,null,"（→）",null,null,null,null,null,{"$f":"IF(D466=\"地上\",K466-MIN(IF(D$10:D$509=\"地上\",K$10:K$509)),0)+SUM(L466:N466)","v":0},null,null,0]
[null,null,458,null,"→",null,null,null,"（→）",null,null,null,null,null,{"$f":"IF(D467=\"地上\",K467-MIN(IF(D$10:D$509=\"地上\",K$10:K$509)),0)+SUM(L467:N467)","v":0},null,null,0]
[null,null,459,null,"→",null,null,null,"（→）",null,null,null,null,null,{"$f":"IF(D468=\"地上\",K468-MIN(IF(D$10:D$509=\"地上\",K$10:K$509)),0)+SUM(L468:N468)","v":0},null,null,0]
[null,null,460,null,"→",null,null,null,"（→）",null,null,null,null,null,{"$f":"IF(D469=\"地上\",K469-MIN(IF(D$10:D$509=\"地上\",K$10:K$509)),0)+SUM(L469:N469)","v":0},null,null,0]
[null,null,461,null,"→",null,null,null,"（→）",null,null,null,null,null,{"$f":"IF(D470=\"地上\",K470-MIN(IF(D$10:D$509=\"地上\",K$10:K$509)),0)+SUM(L470:N470)","v":0},null,null,0]
[null,null,462,null,"→",null,null,null,"（→）",null,null,null,null,null,{"$f":"IF(D471=\"地上\",K471-MIN(IF(D$10:D$509=\"地上\",K$10:K$509)),0)+SUM(L471:N471)","v":0},null,null,0]
[null,null,463,null,"→",null,null,null,"（→）",null,null,null,null,null,{"$f":"IF(D472=\"地上\",K472-MIN(IF(D$10:D$509=\"地上\",K$10:K$509)),0)+SUM(L472:N472)","v":0},null,null,0]
[null,null,464,null,"→",null,null,null,"（→）",null,null,null,null,null,{"$f":"IF(D473=\"地上\",K473-MIN(IF(D$10:D$509=\"地上\",K$10:K$509)),0)+SUM(L473:N473)","v":0},null,null,0]
[null,null,465,null,"→",null,null,null,"（→）",null,null,null,null,null,{"$f":"IF(D474=\"地上\",K474-MIN(IF(D$10:D$509=\"地上\",K$10:K$509)),0)+SUM(L474:N474)","v":0},null,null,0]
[null,null,466,null,"→",null,null,null,"（→）",null,null,null,null,null,{"$f":"IF(D475=\"地上\",K475-MIN(IF(D$10:D$509=\"地上\",K$10:K$509)),0)+SUM(L475:N475)","v":0},null,null,0]
[null,null,467,null,"→",null,null,null,"（→）",null,null,null,null,null,{"$f":"IF(D476=\"地上\",K476-MIN(IF(D$10:D$509=\"地上\",K$10:K$509)),0)+SUM(L476:N476)","v":0},null,null,0]
[null,null,468,null,"→",null,null,null,"（→）",null,null,null,null,null,{"$f":"IF(D477=\"地上\",K477-MIN(IF(D$10:D$509=\"地上\",K$10:K$509)),0)+SUM(L477:N477)","v":0},null,null,0]
[null,null,469,null,"→",null,null,null,"（→）",null,null,null,null,null,{"$f":"IF(D478=\"地上\",K478-MIN(IF(D$10:D$509=\"地上\",K$10:K$509)),0)+SUM(L478:N478)","v":0},null,null,0]
[null,null,470,null,"→",null,null,null,"（→）",null,null,null,null,null,{"$f":"IF(D479=\"地上\",K479-MIN(IF(D$10:D$509=\"地上\",K$10:K$509)),0)+SUM(L479:N479)","v":0},null,null,0]
[null,null,471,null,"→",null,null,null,"（→）",null,null,null,null,null,{"$f":"IF(D480=\"地上\",K480-MIN(IF(D$10:D$509=\"地上\",K$10:K$509)),0)+SUM(L480:N480)","v":0},null,null,0]
[null,null,472,null,"→",null,null,null,"（→）",null,null,null,null,null,{"$f":"IF(D481=\"地上\",K481-MIN(IF(D$10:D$509=\"地上\",K$10:K$509)),0)+SUM(L481:N481)","v":0},null,null,0]
[null,null,473,null,"→",null,null,null,"（→）",null,null,null,null,null,{"$f":"IF(D482=\"地上\",K482-MIN(IF(D$10:D$509=\"地上\",K$10:K$509)),0)+SUM(L482:N482)","v":0},null,null,0]
[null,null,474,null,"→",null,null,null,"（→）",null,null,null,null,null,{"$f":"IF(D483=\"地上\",K483-MIN(IF(D$10:D$509=\"地上\",K$10:K$509)),0)+SUM(L483:N483)","v":0},null,null,0]
[null,null,475,null,"→",null,null,null,"（→）",null,null,null,null,null,{"$f":"IF(D484=\"地上\",K484-MIN(IF(D$10:D$509=\"地上\",K$10:K$509)),0)+SUM(L484:N484)","v":0},null,null,0]
[null,null,476,null,"→",null,null,null,"（→）",null,null,null,null,null,{"$f":"IF(D485=\"地上\",K485-MIN(IF(D$10:D$509=\"地上\",K$10:K$509)),0)+SUM(L485:N485)","v":0},null,null,0]
[null,null,477,null,"→",null,null,null,"（→）",null,null,null,null,null,{"$f":"IF(D486=\"地上\",K486-MIN(IF(D$10:D$509=\"地上\",K$10:K$509)),0)+SUM(L486:N486)","v":0},null,null,0]
[null,null,478,null,"→",null,null,null,"（→）",null,null,null,null,null,{"$f":"IF(D487=\"地上\",K487-MIN(IF(D$10:D$509=\"地上\",K$10:K$509)),0)+SUM(L487:N487)","v":0},null,null,0]
[null,null,479,null,"→",null,null,null,"（→）",null,null,null,null,null,{"$f":"IF(D488=\"地上\",K488-MIN(IF(D$10:D$509=\"地上\",K$10:K$509)),0)+SUM(L488:N488)","v":0},null,null,0]
[null,null,480,null,"→",null,null,null,"（→）",null,null,null,null,null,{"$f":"IF(D489=\"地上\",K489-MIN(IF(D$10:D$509=\"地上\",K$10:K$509)),0)+SUM(L489:N489)","v":0},null,null,0]
[null,null,481,null,"→",null,null,null,"（→）",null,null,null,null,null,{"$f":"IF(D490=\"地上\",K490-MIN(IF(D$10:D$509=\"地上\",K$10:K$509)),0)+SUM(L490:N490)","v":0},null,null,0]
[null,null,482,null,"→",null,null,null,"（→）",null,null,null,null,null,{"$f":"IF(D491=\"地上\",K491-MIN(IF(D$10:D$509=\"地上\",K$10:K$509)),0)+SUM(L491:N491)","v":0},null,null,0]
[null,null,483,null,"→",null,null,null,"（→）",null,null,null,null,null,{"$f":"IF(D492=\"地上\",K492-MIN(IF(D$10:D$509=\"地上\",K$10:K$509)),0)+SUM(L492:N492)","v":0},null,null,0]
[null,null,484,null,"→",null,null,null,"（→）",null,null,null,null,null,{"$f":"IF(D493=\"地上\",K493-MIN(IF(D$10:D$509=\"地上\",K$10:K$509)),0)+SUM(L493:N493)","v":0},null,null,0]
[null,null,485,null,"→",null,null,null,"（→）",null,null,null,null,null,{"$f":"IF(D494=\"地上\",K494-MIN(IF(D$10:D$509=\"地上\",K$10:K$509)),0)+SUM(L494:N494)","v":0},null,null,0]
[null,null,486,null,"→",null,null,null,"（→）",null,null,null,null,null,{"$f":"IF(D495=\"地上\",K495-MIN(IF(D$10:D$509=\"地上\",K$10:K$509)),0)+SUM(L495:N495)","v":0},null,null,0]
[null,null,487,null,"→",null,null,null,"（→）",null,null,null,null,null,{"$f":"IF(D496=\"地上\",K496-MIN(IF(D$10:D$509=\"地上\",K$10:K$509)),0)+SUM(L496:N496)","v":0},null,null,0]
[null,null,488,null,"→",null,null,null,"（→）",null,null,null,null,null,{"$f":"IF(D497=\"地上\",K497-MIN(IF(D$10:D$509=\"地上\",K$10:K$509)),0)+SUM(L497:N497)","v":0},null,null,0]
[null,null,489,null,"→",null,null,null,"（→）",null,null,null,null,null,{"$f":"IF(D498=\"地上\",K498-MIN(IF(D$10:D$509=\"地上\",K$10:K$509)),0)+SUM(L498:N498)","v":0},null,null,0]
[null,null,490,null,"→",null,null,null,"（→）",null,null,null,null,null,{"$f":"IF(D499=\"地上\",K499-MIN(IF(D$10:D$509=\"地上\",K$10:K$509)),0)+SUM(L499:N499)","v":0},null,null,0]
[null,null,491,null,"→",null,null,null,"（→）",null,null,null,null,null,{"$f":"IF(D500=\"地上\",K500-MIN(IF(D$10:D$509=\"地上\",K$10:K$509)),0)+SUM(L500:N500)","v":0},null,null,0]
[null,null,492,null,"→",null,null,null,"（→）",null,null,null,null,null,{"$f":"IF(D501=\"地上\",K501-MIN(IF(D$10:D$509=\"地上\",K$10:K$509)),0)+SUM(L501:N501)","v":0},null,null,0]
[null,null,493,null,"→",null,null,null,"（→）",null,null,null,null,null,{"$f":"IF(D502=\"地上\",K502-MIN(IF(D$10:D$509=\"地上\",K$10:K$509)),0)+SUM(L502:N502)","v":0},null,null,0]
[null,null,494,null,"→",null,null,null,"（→）",null,null,null,null,null,{"$f":"IF(D503=\"地上\",K503-MIN(IF(D$10:D$509=\"地上\",K$10:K$509)),0)+SUM(L503:N503)","v":0},null,null,0]
[null,null,495,null,"→",null,null,null,"（→）",null,null,null,null,null,{"$f":"IF(D504=\"地上\",K504-MIN(IF(D$10:D$509=\"地上\",K$10:K$509)),0)+SUM(L504:N504)","v":0},null,null,0]
[null,null,496,null,"→",null,null,null,"（→）",null,null,null,null,null,{"$f":"IF(D505=\"地上\",K505-MIN(IF(D$10:D$509=\"地上\",K$10:K$509)),0)+SUM(L505:N505)","v":0},null,null,0]
[null,null,497,null,"→",null,null,null,"（→）",null,null,null,null,null,{"$f":"IF(D506=\"地上\",K506-MIN(IF(D$10:D$509=\"地上\",K$10:K$509)),0)+SUM(L506:N506)","v":0},null,null,0]
[null,null,498,null,"→",null,null,null,"（→）",null,null,null,null,null,{"$f":"IF(D507=\"地上\",K507-MIN(IF(D$10:D$509=\"地上\",K$10:K$509)),0)+SUM(L507:N507)","v":0},null,null,0]
[null,null,499,null,"→",null,null,null,"（→）",null,null,null,null,null,{"$f":"IF(D508=\"地上\",K508-MIN(IF(D$10:D$509=\"地上\",K$10:K$509)),0)+SUM(L508:N508)","v":0},null,null,0]
[null,null,500,null,"→",null,null,null,"（→）",null,null,null,null,null,{"$f":"IF(D509=\"地上\",K509-MIN(IF(D$10:D$509=\"地上\",K$10:K$509)),0)+SUM(L509:N509)","v":0},null,null,0]

{"sheet":"ステップ4（グルーピング）","index":4,"n_rows":29,"n_cols":16,"rows_kept":29,"cut":false,"hidden":false,"merged":[[19,0,26,0],[8,0,14,0],[15,0,18,0],[5,15,7,15],[4,10,4,12],[10,15,11,15],[4,0,5,0],[4,13,5,13],[6,13,7,13],[4,9,5,9],[4,4,6,6],[4,2,7,2],[4,3,7,3],[4,8,7,8],[4,7,7,7],[6,0,7,0]]}
[null,"↑の","　　をクリックで左の説明を閉じる"]
[null,"↑の","　　をクリックで左の説明を開く"]
["◆ここでやること",null,"■ステップ４：流入口グルーピング結果（計算入力データ）",null,null,null,null,null,null,null,null,null,"※データを確認したらクリックします→",null,null,"◆解説"]
[null,null,null,null,"↓ソートレベル1",null,null,null,null,null,null,null,"↓ソートレベル2"]
["■ステップ４：流入口グルーピング結果の確認（計算入力データ）",null,"グループ\n番号","グルーピング数","流入経路",null,null,"流入口種別\n","流入口の名称\n\n（流入口種別＆流入経路）","流入幅\n合　計","流入高",null,null,"流入口番号",null,"◆グルーピングについて"]
[null,null,null,null,null,null,null,null,null,null,"流入高1\n小計","流入高2\n対策高","合　計",null,null,"氾濫水の流入量は流入口１つ１つ計算を行わないとならないため、数が多いと複雑になります。このため、流入経路、流入口種別、流入高、対策高が同じものをグルーピングして、流入幅を合計して１つの流入口としてまとめて計算をするようにします。"]
["①グルーピングの結果を確認します。",null,null,null,null,null,null,null,null,"B","HS","HT","H","（グルーピング前の流入口リスト番号）"]
[null,null,null,null,"流入口","→","流入先",null,null,"(m)","(m)","(m)","(m)"]
["　※ステップ３の流入口リストからグル―ピングを\n　　行った結果です。\n\n　※この内容が、地下への流入量を計算する\n　　入力データとなります。\n\n　※流入口（地上→下階）と流入高（昇順）で\n　　ソートしています。",null,null,null,null,null,null,null,null,{"$f":"SUM(J10:J200)","v":0}]
[null,null,null,null,null,null,null,null,null,null,null,null,null,null,null,"◆グルーピングと地下空間の湛水深の算定手順について"]
[null,null,null,null,null,null,null,null,null,null,null,null,null,null,null,"地階が複数階（多層）となる場合の、流入口グルーピングから地下空間の湛水深の算定手順は以下のようになります。"]
[]
[]
[]
[]
["②「計算用シート作成」ボタンをクリックして、地下空間の区画・部屋ごとの計算用シートを作成します。"]
[]
[]
[]
["　※作成したシートは、「ステップ５：地下空間の浸水\n　　状況の想定」で使用します。\n\n　※区画・部屋番号がシート名になります。\n\n　※流入高変更後等で再計算を行う場合は、再度シート\n　　を作成しなくても既存のシートが使えます。"]
[]
[]
[]
[]
[]
[]
[]
[]
["③「ステップ５」へ進みます。"]

{"sheet":"ステップ5（地下浸水状況）","index":5,"n_rows":31,"n_cols":10,"rows_kept":31,"cut":false,"hidden":false,"merged":[[20,0,22,0],[4,0,5,0],[6,0,7,0],[12,9,13,9],[8,2,9,2],[8,3,9,3],[8,4,9,4],[8,5,8,7],[12,0,17,0]]}
[null,"↑の","　　をクリックで左の説明を閉じる"]
[null,"↑の","　　をクリックで左の説明を開く"]
["◆ここでやること",null,"■ステップ５：地下空間の浸水状況の想定（計算実行）",null,null,null,null,null,null,"◆解説"]
[]
["■ステップ５：地下空間の浸水状況の想定\n（計算実行）",null,null,null,null,{"$f":"MIN(H12:H31)","v":0},null,null,null,"◆避難困難水深になる時間（Ts）の考え方"]
[]
["①「地下空間浸水状況の想定」ボタンをクリックすると、以下の(a)、(b)の処理を行います。",null,"　◆避難困難水深になる時間（Ts）の算定結果"]
[null,null,null,null,null,null,null,"※「999」は、浸水しない、もしくは『歩行』困難となる水深に到達しないことを表します。"]
["(a) 地下空間の浸水状況の想定",null,"フロア","区画・部屋\n番号","区画・部屋\n名称","避難困難水深になる時間(Ts)（分）"]
["　ステップ４で作成した区画・部屋ごとの計算用シートを用いて、地上の浸水し始めから時系列で地下空間への流入量と地下空間の湛水深を算定します。",null,null,null,null,"Ⅰ．階段が『歩行』困難となる越流水深\nｈ＝0.2m\nとなる時間\n","Ⅱ．地下空間が『歩行』困難となる及び水圧でドアが開かなくなる水深\nｈ＝0.3m\nとなる時間","避難困難水深になる時間\n（ⅠとⅡの最小値）"]
[null,null,"自動入力","自動入力","自動入力","算定結果","算定結果","算定結果"]
["(b) 避難困難水深になる時間（Ts）の算定",1,{"$f":"IF('ステップ2（地下フロア構造）'!$D$20<>\"\",'ステップ2（地下フロア構造）'!$C$20,\"\")","v":""},{"$f":"IF('ステップ2（地下フロア構造）'!$D$20<>\"\",'ステップ2（地下フロア構造）'!$D$20,\"\")","v":""},{"$f":"IF('ステップ2（地下フロア構造）'!$F$20<>\"\",'ステップ2（地下フロア構造）'!$F$20,\"\")","v":""}]
["　(a)の結果から、避難路となる階段の越流水深が0.2mになるまでの時間と、地下空間の湛水深が0.3mになるまでの時間を抽出し、到達時間が早い方をその区画・部屋の避難困難水深になる時間(Ts)とします。\n　結果は右の表に一覧で出力されます。",2,{"$f":"IF('ステップ2（地下フロア構造）'!$D$21<>\"\",'ステップ2（地下フロア構造）'!$C$21,\"\")","v":""},{"$f":"IF('ステップ2（地下フロア構造）'!$D$21<>\"\",'ステップ2（地下フロア構造）'!$D$21,\"\")","v":""},{"$f":"IF('ステップ2（地下フロア構造）'!$F$21<>\"\",'ステップ2（地下フロア構造）'!$F$21,\"\")","v":""},null,null,null,null,"水深の設定値等の詳細は、「地下街等浸水時避難計画策定の手引き（案）」　例編 P.133　「【 参考Ⅰ-1 】避難行動における限界条件の設定」を参照してください。"]
[null,3,{"$f":"IF('ステップ2（地下フロア構造）'!$D$22<>\"\",'ステップ2（地下フロア構造）'!$C$22,\"\")","v":""},{"$f":"IF('ステップ2（地下フロア構造）'!$D$22<>\"\",'ステップ2（地下フロア構造）'!$D$22,\"\")","v":""},{"$f":"IF('ステップ2（地下フロア構造）'!$F$22<>\"\",'ステップ2（地下フロア構造）'!$F$22,\"\")","v":""}]
[null,4,{"$f":"IF('ステップ2（地下フロア構造）'!$D$23<>\"\",'ステップ2（地下フロア構造）'!$C$23,\"\")","v":""},{"$f":"IF('ステップ2（地下フロア構造）'!$D$23<>\"\",'ステップ2（地下フロア構造）'!$D$23,\"\")","v":""},{"$f":"IF('ステップ2（地下フロア構造）'!$F$23<>\"\",'ステップ2（地下フロア構造）'!$F$23,\"\")","v":""},null,null,null,null,"◆「地下街等浸水時避難計画策定の手引き（案）」はこちら"]
[null,5,{"$f":"IF('ステップ2（地下フロア構造）'!$D$24<>\"\",'ステップ2（地下フロア構造）'!$C$24,\"\")","v":""},{"$f":"IF('ステップ2（地下フロア構造）'!$D$24<>\"\",'ステップ2（地下フロア構造）'!$D$24,\"\")","v":""},{"$f":"IF('ステップ2（地下フロア構造）'!$F$24<>\"\",'ステップ2（地下フロア構造）'!$F$24,\"\")","v":""}]
[null,6,{"$f":"IF('ステップ2（地下フロア構造）'!$D$25<>\"\",'ステップ2（地下フロア構造）'!$C$25,\"\")","v":""},{"$f":"IF('ステップ2（地下フロア構造）'!$D$25<>\"\",'ステップ2（地下フロア構造）'!$D$25,\"\")","v":""},{"$f":"IF('ステップ2（地下フロア構造）'!$F$25<>\"\",'ステップ2（地下フロア構造）'!$F$25,\"\")","v":""}]
[null,7,{"$f":"IF('ステップ2（地下フロア構造）'!$D$26<>\"\",'ステップ2（地下フロア構造）'!$C$26,\"\")","v":""},{"$f":"IF('ステップ2（地下フロア構造）'!$D$26<>\"\",'ステップ2（地下フロア構造）'!$D$26,\"\")","v":""},{"$f":"IF('ステップ2（地下フロア構造）'!$F$26<>\"\",'ステップ2（地下フロア構造）'!$F$26,\"\")","v":""}]
["　※避難は階段からのみ行うこととします。",8,{"$f":"IF('ステップ2（地下フロア構造）'!$D$27<>\"\",'ステップ2（地下フロア構造）'!$C$27,\"\")","v":""},{"$f":"IF('ステップ2（地下フロア構造）'!$D$27<>\"\",'ステップ2（地下フロア構造）'!$D$27,\"\")","v":""},{"$f":"IF('ステップ2（地下フロア構造）'!$F$27<>\"\",'ステップ2（地下フロア構造）'!$F$27,\"\")","v":""}]
[null,9,{"$f":"IF('ステップ2（地下フロア構造）'!$D$28<>\"\",'ステップ2（地下フロア構造）'!$C$28,\"\")","v":""},{"$f":"IF('ステップ2（地下フロア構造）'!$D$28<>\"\",'ステップ2（地下フロア構造）'!$D$28,\"\")","v":""},{"$f":"IF('ステップ2（地下フロア構造）'!$F$28<>\"\",'ステップ2（地下フロア構造）'!$F$28,\"\")","v":""}]
["②各区画・部屋番号の算定結果詳細については、このシートの右にある、「B1a」等の各区画・部屋番号のシートを参照してください。",10,{"$f":"IF('ステップ2（地下フロア構造）'!$D$29<>\"\",'ステップ2（地下フロア構造）'!$C$29,\"\")","v":""},{"$f":"IF('ステップ2（地下フロア構造）'!$D$29<>\"\",'ステップ2（地下フロア構造）'!$D$29,\"\")","v":""},{"$f":"IF('ステップ2（地下フロア構造）'!$F$29<>\"\",'ステップ2（地下フロア構造）'!$F$29,\"\")","v":""}]
[null,11,{"$f":"IF('ステップ2（地下フロア構造）'!$D$30<>\"\",'ステップ2（地下フロア構造）'!$C$30,\"\")","v":""},{"$f":"IF('ステップ2（地下フロア構造）'!$D$30<>\"\",'ステップ2（地下フロア構造）'!$D$30,\"\")","v":""},{"$f":"IF('ステップ2（地下フロア構造）'!$F$30<>\"\",'ステップ2（地下フロア構造）'!$F$30,\"\")","v":""}]
[null,12,{"$f":"IF('ステップ2（地下フロア構造）'!$D$31<>\"\",'ステップ2（地下フロア構造）'!$C$31,\"\")","v":""},{"$f":"IF('ステップ2（地下フロア構造）'!$D$31<>\"\",'ステップ2（地下フロア構造）'!$D$31,\"\")","v":""},{"$f":"IF('ステップ2（地下フロア構造）'!$F$31<>\"\",'ステップ2（地下フロア構造）'!$F$31,\"\")","v":""}]
[null,13,{"$f":"IF('ステップ2（地下フロア構造）'!$D$32<>\"\",'ステップ2（地下フロア構造）'!$C$32,\"\")","v":""},{"$f":"IF('ステップ2（地下フロア構造）'!$D$32<>\"\",'ステップ2（地下フロア構造）'!$D$32,\"\")","v":""},{"$f":"IF('ステップ2（地下フロア構造）'!$F$32<>\"\",'ステップ2（地下フロア構造）'!$F$32,\"\")","v":""}]
["③「ステップ６」へ進みます。",14,{"$f":"IF('ステップ2（地下フロア構造）'!$D$33<>\"\",'ステップ2（地下フロア構造）'!$C$33,\"\")","v":""},{"$f":"IF('ステップ2（地下フロア構造）'!$D$33<>\"\",'ステップ2（地下フロア構造）'!$D$33,\"\")","v":""},{"$f":"IF('ステップ2（地下フロア構造）'!$F$33<>\"\",'ステップ2（地下フロア構造）'!$F$33,\"\")","v":""}]
[null,15,{"$f":"IF('ステップ2（地下フロア構造）'!$D$34<>\"\",'ステップ2（地下フロア構造）'!$C$34,\"\")","v":""},{"$f":"IF('ステップ2（地下フロア構造）'!$D$34<>\"\",'ステップ2（地下フロア構造）'!$D$34,\"\")","v":""},{"$f":"IF('ステップ2（地下フロア構造）'!$F$34<>\"\",'ステップ2（地下フロア構造）'!$F$34,\"\")","v":""}]
[null,16,{"$f":"IF('ステップ2（地下フロア構造）'!$D$35<>\"\",'ステップ2（地下フロア構造）'!$C$35,\"\")","v":""},{"$f":"IF('ステップ2（地下フロア構造）'!$D$35<>\"\",'ステップ2（地下フロア構造）'!$D$35,\"\")","v":""},{"$f":"IF('ステップ2（地下フロア構造）'!$F$35<>\"\",'ステップ2（地下フロア構造）'!$F$35,\"\")","v":""}]
[null,17,{"$f":"IF('ステップ2（地下フロア構造）'!$D$36<>\"\",'ステップ2（地下フロア構造）'!$C$36,\"\")","v":""},{"$f":"IF('ステップ2（地下フロア構造）'!$D$36<>\"\",'ステップ2（地下フロア構造）'!$D$36,\"\")","v":""},{"$f":"IF('ステップ2（地下フロア構造）'!$F$36<>\"\",'ステップ2（地下フロア構造）'!$F$36,\"\")","v":""}]
[null,18,{"$f":"IF('ステップ2（地下フロア構造）'!$D$37<>\"\",'ステップ2（地下フロア構造）'!$C$37,\"\")","v":""},{"$f":"IF('ステップ2（地下フロア構造）'!$D$37<>\"\",'ステップ2（地下フロア構造）'!$D$37,\"\")","v":""},{"$f":"IF('ステップ2（地下フロア構造）'!$F$37<>\"\",'ステップ2（地下フロア構造）'!$F$37,\"\")","v":""}]
[null,19,{"$f":"IF('ステップ2（地下フロア構造）'!$D$38<>\"\",'ステップ2（地下フロア構造）'!$C$38,\"\")","v":""},{"$f":"IF('ステップ2（地下フロア構造）'!$D$38<>\"\",'ステップ2（地下フロア構造）'!$D$38,\"\")","v":""},{"$f":"IF('ステップ2（地下フロア構造）'!$F$38<>\"\",'ステップ2（地下フロア構造）'!$F$38,\"\")","v":""}]
[null,20,{"$f":"IF('ステップ2（地下フロア構造）'!$D$39<>\"\",'ステップ2（地下フロア構造）'!$C$39,\"\")","v":""},{"$f":"IF('ステップ2（地下フロア構造）'!$D$39<>\"\",'ステップ2（地下フロア構造）'!$D$39,\"\")","v":""},{"$f":"IF('ステップ2（地下フロア構造）'!$F$39<>\"\",'ステップ2（地下フロア構造）'!$F$39,\"\")","v":""}]

{"sheet":"元シート","index":6,"n_rows":433,"n_cols":50,"rows_kept":433,"cut":false,"hidden":true,"merged":[[27,12,27,13],[28,12,28,13],[20,12,20,13],[16,2,19,2],[16,3,19,3],[16,4,19,4],[16,5,19,5],[20,10,20,11],[29,10,29,11],[29,12,29,13],[21,10,21,11],[21,12,21,13],[22,10,22,11],[22,12,22,13],[23,10,23,11],[23,12,23,13],[24,10,24,11],[25,10,25,11],[26,10,26,11],[27,10,27,11],[28,10,28,11],[24,12,24,13],[25,12,25,13],[26,12,26,13]]}
[]
[]
[null,null,{"$f":"\"■ステップ５（\" & $E$12 & \"）\" & \"：地下空間の浸水状況の想定（計算用シート）\"","v":"■ステップ５（）：地下空間の浸水状況の想定（計算用シート）"},null,null,null,null,null,null,null,null,null,null,null,null,null,null,0,0.3,"地下空間"]
[null,null,null,null,null,null,null,null,null,null,null,null,null,null,null,null,null,600,0.3,"歩行困難"]
[null,null,"◆地上の情報（ステップ１より）",null,null,null,null,null,null,null,null,null,null,null,null,null,null,600,0,"水深"]
[null,null,"地上の最大浸水深",null,{"$f":"'ステップ1（地上の状況）'!G6","v":0},"(m)"]
[null,null,"地上の水位上昇速度",null,{"$f":"'ステップ1（地上の状況）'!G8","v":0},"(cm/分)",null,null,null,null,null,null,null,null,null,null,null,0,0.2,"流入口"]
[null,null,"地上の最大浸水深到達時間",null,{"$f":"E6/(E7/100)","v":{"$error":"#DIV/0!"}},"(分)",null,null,null,null,null,null,null,null,null,null,null,600,0.2,"歩行困難"]
[null,null,null,null,null,null,null,null,null,null,null,null,null,null,null,null,null,600,0,"越流水深"]
[null,null,"◆地下空間の情報（ステップ２より）"]
[null,null,"フロア",null,null,null,null,null,null,null,null,null,null,null,null,null,null,0,0.3,"流入口"]
[null,null,"区画・部屋名称",null,null,null,null,null,null,null,null,null,null,null,null,null,null,600,0.3,"歩行限界"]
[null,null,"地下空間浸水床面積",null,null,"(m2)",null,null,null,null,null,null,null,null,null,null,null,600,0,"越流水深"]
[null,null,"地下空間高さ",null,null,"(m)"]
[]
[null,null,{"$f":"\"◆流入口の情報（ステップ４でグルーピングした内、「\" &  $E$12 & \"」に流入してくるもの）\"","v":"◆流入口の情報（ステップ４でグルーピングした内、「」に流入してくるもの）"}]
[null,null,"グループ番号","流入口の名称","種別","流入口","流入幅","流入高",null,null,"階段歩行『困難』時間",null,"階段歩行『限界』時間"]
[null,null,null,null,null,null,"合　計","小計","対策高","合　計","越流水深が","h=0.2m","越流水深が","h=0.3m"]
[null,null,null,null,null,null,"B","HS","HT","H","になる時間",null,"になる時間＜参考＞"]
[null,null,null,null,null,null,"(m)","(m)","(m)","(m)","(分)",null,"(分)"]
[null,null,null,null,null,null,null,null,null,{"$f":"IF(D21=\"\",99,SUM(H21+I21))","v":99}]
[null,null,null,null,null,null,null,null,null,99]
[null,null,null,null,null,null,null,null,null,99]
[null,null,null,null,null,null,null,null,null,{"$f":"IF(D24=\"\",99,SUM(H24+I24))","v":99}]
[null,null,null,null,null,null,null,null,null,{"$f":"IF(D25=\"\",99,SUM(H25+I25))","v":99}]
[null,null,null,null,null,null,null,null,null,99]
[null,null,null,null,null,null,null,null,null,99]
[null,null,null,null,null,null,null,null,null,99]
[null,null,null,null,null,null,null,null,null,99]
[null,null,null,null,null,null,null,null,null,99]
[null,null,null,null,null,null,null,null,null,null,null,null,null,"※階段以外からは避難しないと想定"]
[null,null,null,null,null,null,null,null,null,null,"Ⅰ．階段が『歩行』困難となる越流水深となる時間：","算定結果"]
[null,null,null,null,null,null,null,null,null,null,"→越流水深ｈ＝0.2mになる時間：",{"$f":"IF(ISERROR(SMALL(K21:K30,COUNTIF(K21:K30,0)+1)),\"\",SMALL(K21:K30,COUNTIF(K21:K30,0)+1))","v":""},null,"(分)"]
[]
[null,null,null,null,null,null,null,null,null,null,"Ⅱ．地下空間が『歩行』困難となる及び水圧でドアが開かなくなる水深になる時間：","算定結果"]
[null,null,null,null,null,null,null,null,null,null,"→区画・部屋の浸水深ｈ＝0.3mになる時間：",null,null,"(分)"]
[]
[null,null,null,null,null,null,null,null,null,null,"◆地下空間からの避難が困難となる時間：","算定結果"]
[null,null,null,null,null,null,null,null,null,null,"ⅠとⅡ の最小値：",{"$f":"IF(ISERROR(IF(L36=0,L33,MIN(L33,L36))),\"\",IF(L36=0,L33,MIN(L33,L36)))","v":""},null,"(分)"]
[]
[]
[]
[]
[]
[]
[]
[]
[]
[]
[]
[]
[]
[]
[]
[]
[]
[]
[]
[]
[null,null,"計算時間ピッチ",null,0.25,"(分)"]
[null,null,null,null,null,null,null,"グループ番号",{"$f":"IF($C$21=\"\",\"－\",$C$21)","v":"－"},null,"グループ番号",{"$f":"IF($C$22=\"\",\"－\",$C$22)","v":"－"},null,"グループ番号",{"$f":"IF($C$23=\"\",\"－\",$C$23)","v":"－"},null,"グループ番号",{"$f":"IF($C$24=\"\",\"－\",$C$24)","v":"－"},null,"グループ番号",{"$f":"IF($C$25=\"\",\"－\",$C$25)","v":"－"},null,"グループ番号",{"$f":"IF($C$26=\"\",\"－\",$C$26)","v":"－"},null,"グループ番号",{"$f":"IF($C$27=\"\",\"－\",$C$27)","v":"－"},null,"グループ番号",{"$f":"IF($C$28=\"\",\"－\",$C$28)","v":"－"},null,"グループ番号",{"$f":"IF($C$29=\"\",\"－\",$C$29)","v":"－"},null,"グループ番号",{"$f":"IF($C$30=\"\",\"－\",$C$30)","v":"－"}]
[null,null,null,null,null,null,null,{"$f":"IF($D$21=\"\",\"－\",$D$21)","v":"－"},null,null,{"$f":"IF($D$22=\"\",\"－\",$D$22)","v":"－"},null,null,{"$f":"IF($D$23=\"\",\"－\",$D$23)","v":"－"},null,null,{"$f":"IF($D$24=\"\",\"－\",$D$24)","v":"－"},null,null,{"$f":"IF($D$25=\"\",\"－\",$D$25)","v":"－"},null,null,{"$f":"IF($D$26=\"\",\"－\",$D$26)","v":"－"},null,null,{"$f":"IF($D$27=\"\",\"－\",$D$27)","v":"－"},null,null,{"$f":"IF($D$28=\"\",\"－\",$D$28)","v":"－"},null,null,{"$f":"IF($D$29=\"\",\"－\",$D$29)","v":"－"},null,null,{"$f":"IF($D$30=\"\",\"－\",$D$30)","v":"－"}]
[null,null,null,null,null,null,null,{"$f":"IF($E$21=\"\",\"－\",$E$21)","v":"－"},null,null,{"$f":"IF($E$22=\"\",\"－\",$E$22)","v":"－"},null,null,{"$f":"IF($E$23=\"\",\"－\",$E$23)","v":"－"},null,null,{"$f":"IF($E$24=\"\",\"－\",$E$24)","v":"－"},null,null,{"$f":"IF($E$25=\"\",\"－\",$E$25)","v":"－"},null,null,{"$f":"IF($E$26=\"\",\"－\",$E$26)","v":"－"},null,null,{"$f":"IF($E$27=\"\",\"－\",$E$27)","v":"－"},null,null,{"$f":"IF($E$28=\"\",\"－\",$E$28)","v":"－"},null,null,{"$f":"IF($E$29=\"\",\"－\",$E$29)","v":"－"},null,null,{"$f":"IF($E$30=\"\",\"－\",$E$30)","v":"－"}]
[null,null,null,null,null,null,null,"流入口",{"$f":"IF($F$21=\"\",\"－\",$F$21)","v":"－"},null,"流入口",{"$f":"IF($F$22=\"\",\"－\",$F$22)","v":"－"},null,"流入口",{"$f":"IF($F$23=\"\",\"－\",$F$23)","v":"－"},null,"流入口",{"$f":"IF($F$24=\"\",\"－\",$F$24)","v":"－"},null,"流入口",{"$f":"IF($F$25=\"\",\"－\",$F$25)","v":"－"},null,"流入口",{"$f":"IF($F$26=\"\",\"－\",$F$26)","v":"－"},null,"流入口",{"$f":"IF($F$27=\"\",\"－\",$F$27)","v":"－"},null,"流入口",{"$f":"IF($F$28=\"\",\"－\",$F$28)","v":"－"},null,"流入口",{"$f":"IF($F$29=\"\",\"－\",$F$29)","v":"－"},null,"流入口",{"$f":"IF($F$30=\"\",\"－\",$F$30)","v":"－"}]
[null,null,"流入幅合計",null,null,null,"B",{"$f":"$G$21","v":0},"(m)","B",{"$f":"$G$22","v":0},"(m)","B",{"$f":"$G$23","v":0},"(m)","B",{"$f":"$G$24","v":0},"(m)","B",{"$f":"$G$25","v":0},"(m)","B",{"$f":"$G$26","v":0},"(m)","B",{"$f":"$G$27","v":0},"(m)","B",{"$f":"$G$28","v":0},"(m)","B",{"$f":"$G$29","v":0},"(m)","B",{"$f":"$G$30","v":0},"(m)"]
[null,null,"流入高１（小計）",null,null,null,"HS",{"$f":"$H$21","v":0},"(m)","HS",{"$f":"$H$22","v":0},"(m)","H1,H2,HS",{"$f":"$H$23","v":0},"(m)","HS",{"$f":"$H$24","v":0},"(m)","HS",{"$f":"$H$25","v":0},"(m)","HS",{"$f":"$H$26","v":0},"(m)","HS",{"$f":"$H$27","v":0},"(m)","HS",{"$f":"$H$28","v":0},"(m)","HS",{"$f":"$H$29","v":0},"(m)","HS",{"$f":"$H$30","v":0},"(m)"]
[null,null,"流入高２（対策高）",null,null,null,"HT",{"$f":"$I$21","v":0},"(m)","HT",{"$f":"$I$22","v":0},"(m)","HT",{"$f":"$I$23","v":0},"(m)","HT",{"$f":"$I$24","v":0},"(m)","HT",{"$f":"$I$25","v":0},"(m)","HT",{"$f":"$I$26","v":0},"(m)","HT",{"$f":"$I$27","v":0},"(m)","HT",{"$f":"$I$28","v":0},"(m)","HT",{"$f":"$I$29","v":0},"(m)","HT",{"$f":"$I$30","v":0},"(m)"]
[null,null,"流入高合計",null,null,null,"H",{"$f":"$J$21","v":99},"(m)","H",{"$f":"$J$22","v":99},"(m)","H",{"$f":"$J$23","v":99},"(m)","H",{"$f":"$J$24","v":99},"(m)","H",{"$f":"$J$25","v":99},"(m)","H",{"$f":"$J$26","v":99},"(m)","H",{"$f":"$J$27","v":99},"(m)","H",{"$f":"$J$28","v":99},"(m)","H",{"$f":"$J$29","v":99},"(m)","H",{"$f":"$J$30","v":99},"(m)"]
[null,null,null,null,{"$f":"COUNTA(E73:E1023)","v":361},null,null,null,null,null,null,null,null,null,null,null,null,null,null,null,null,null,null,null,null,null,null,null,null,null,null,null,null,null,null,null,null,"下階へ","下階へ","下階へ","下階へ","下階へ","下階へ","下階へ","下階へ","下階へ","下階へ","流下量除く",{"$f":"$E$13*$E$14","v":0},{"$f":"MAX(AX73:AX1000)","v":{"$error":"#DIV/0!"}}]
[null,null,null,null,null,"地上",{"$f":"I64","v":"－"},"流入口1",null,{"$f":"L64","v":"－"},"流入口2",null,{"$f":"O64","v":"－"},"流入口3",null,{"$f":"R64","v":"－"},"流入口4",null,{"$f":"U64","v":"－"},"流入口5",null,{"$f":"X64","v":"－"},"流入口6",null,{"$f":"AA64","v":"－"},"流入口7",null,{"$f":"AD64","v":"－"},"流入口8",null,{"$f":"AG64","v":"－"},"流入口9",null,{"$f":"AJ64","v":"－"},"流入口9",null,"合計","流下量","流下量","流下量","流下量","流下量","流下量","流下量","流下量","流下量","流下量","合計","区画・部屋"]
[null,null,null,null,"時間t","水深","水深","越流水深","流入量","水深","越流水深","流入量","水深","越流水深","流入量","水深","越流水深","流入量","水深","越流水深","流入量","水深","越流水深","流入量","水深","越流水深","流入量","水深","越流水深","流入量","水深","越流水深","流入量","水深","越流水深","流入量","流入量",null,null,null,null,null,null,null,null,null,null,"流入量","流入容量","B1a浸水深"]
[null,null,null,null,"(分)","(m)","(m)","(m)","(m3/s)","(m)","(m)","(m3/s)","(m)","(m)","(m3/s)","(m)","(m)","(m3/s)","(m)","(m)","(m3/s)","(m)","(m)","(m3/s)","(m)","(m)","(m3/s)","(m)","(m)","(m3/s)","(m)","(m)","(m3/s)","(m)","(m)","(m3/s)","(m3/s)",null,null,null,null,null,null,null,null,null,null,"(m3/s)","(m3)","(m)"]
[null,null,null,null,0,{"$f":"IF($E73<$E$8,$E73*$E$7/100,$E$6)","v":{"$error":"#DIV/0!"}},null,{"$f":"G73-H$68","v":-99},0,null,{"$f":"J73-K$68","v":-99},0,null,{"$f":"M73-N$68","v":-99},0,null,{"$f":"P73-Q$68","v":-99},0,null,{"$f":"S73-T$68","v":-99},0,null,{"$f":"V73-W$68","v":-99},0,null,{"$f":"Y73-Z$68","v":-99},0,null,{"$f":"AB73-AC$68","v":-99},0,null,{"$f":"AE73-AF$68","v":-99},0,null,{"$f":"AH73-AI$68","v":-99},0,{"$f":"I73+L73+O73+R73+U73","v":0},null,null,null,null,null,null,null,null,null,null,{"$f":"AK73-SUM(AL73:AU73)","v":0},0,{"$f":"AW73/E$13","v":{"$error":"#DIV/0!"}}]
[null,null,null,null,{"$f":"E73+E$60","v":0.25},{"$f":"IF($E74<$E$8,$E74*$E$7/100,$E$6)","v":{"$error":"#DIV/0!"}},null,{"$f":"G74-H$68","v":-99},{"$f":"IF(AND(H74>0,$AX73<$E$14),1.59*H$65*H74^1.65,0)","v":{"$error":"#DIV/0!"}},null,{"$f":"J74-K$68","v":-99},{"$f":"IF(AND(K74>0,$AX73<$E$14),1.59*K$65*K74^1.65,0)","v":{"$error":"#DIV/0!"}},null,{"$f":"M74-N$68","v":-99},{"$f":"IF(AND(N74>0,$AX73<$E$14),1.59*N$65*N74^1.65,0)","v":{"$error":"#DIV/0!"}},null,{"$f":"P74-Q$68","v":-99},{"$f":"IF(AND(Q74>0,$AX73<$E$14),1.59*Q$65*Q74^1.65,0)","v":{"$error":"#DIV/0!"}},null,{"$f":"S74-T$68","v":-99},{"$f":"IF(AND(T74>0,$AX73<$E$14),1.59*T$65*T74^1.65,0)","v":{"$error":"#DIV/0!"}},null,{"$f":"V74-W$68","v":-99},{"$f":"IF(AND(W74>0,$AX73<$E$14),1.59*W$65*W74^1.65,0)","v":{"$error":"#DIV/0!"}},null,{"$f":"Y74-Z$68","v":-99},{"$f":"IF(AND(Z74>0,$AX73<$E$14),1.59*Z$65*Z74^1.65,0)","v":{"$error":"#DIV/0!"}},null,{"$f":"AB74-AC$68","v":-99},{"$f":"IF(AND(AC74>0,$AX73<$E$14),1.59*AC$65*AC74^1.65,0)","v":{"$error":"#DIV/0!"}},null,{"$f":"AE74-AF$68","v":-99},{"$f":"IF(AND(AF74>0,$AX73<$E$14),1.59*AF$65*AF74^1.65,0)","v":{"$error":"#DIV/0!"}},null,{"$f":"AH74-AI$68","v":-99},{"$f":"IF(AND(AI74>0,$AX73<$E$14),1.59*AI$65*AI74^1.65,0)","v":{"$error":"#DIV/0!"}},{"$f":"I74+L74+O74+R74+U74+X74+AA74+AD74+AG74+AJ74","v":{"$error":"#DIV/0!"}},null,null,null,null,null,null,null,null,null,null,{"$f":"AK74-SUM(AL74:AU74)","v":{"$error":"#DIV/0!"}},{"$f":"MIN(AW$69,(AV73+AV74)*E$60*60*0.5+AW73)","v":{"$error":"#DIV/0!"}},{"$f":"AW74/E$13","v":{"$error":"#DIV/0!"}}]
[null,null,null,null,0.5,{"$error":"#DIV/0!"},null,-99,{"$error":"#DIV/0!"},null,-99,{"$error":"#DIV/0!"},null,-99,{"$error":"#DIV/0!"},null,-99,{"$error":"#DIV/0!"},null,-99,{"$error":"#DIV/0!"},null,-99,{"$error":"#DIV/0!"},null,-99,{"$error":"#DIV/0!"},null,-99,{"$error":"#DIV/0!"},null,-99,{"$error":"#DIV/0!"},null,-99,{"$error":"#DIV/0!"},{"$f":"I75+L75+O75+R75+U75+X75+AA75+AD75+AG75+AJ75","v":{"$error":"#DIV/0!"}},null,null,null,null,null,null,null,null,null,null,{"$error":"#DIV/0!"},{"$f":"MIN(AW$69,(AV74+AV75)*E$60*60*0.5+AW74)","v":{"$error":"#DIV/0!"}},{"$error":"#DIV/0!"}]
[null,null,null,null,0.75,{"$error":"#DIV/0!"},null,-99,{"$error":"#DIV/0!"},null,-99,{"$error":"#DIV/0!"},null,-99,{"$error":"#DIV/0!"},null,-99,{"$error":"#DIV/0!"},null,-99,{"$error":"#DIV/0!"},null,-99,{"$error":"#DIV/0!"},null,-99,{"$error":"#DIV/0!"},null,-99,{"$error":"#DIV/0!"},null,-99,{"$error":"#DIV/0!"},null,-99,{"$error":"#DIV/0!"},{"$error":"#DIV/0!"},null,null,null,null,null,null,null,null,null,null,{"$error":"#DIV/0!"},{"$error":"#DIV/0!"},{"$error":"#DIV/0!"}]
[null,null,null,null,1,{"$error":"#DIV/0!"},null,-99,{"$error":"#DIV/0!"},null,-99,{"$error":"#DIV/0!"},null,-99,{"$error":"#DIV/0!"},null,-99,{"$error":"#DIV/0!"},null,-99,{"$error":"#DIV/0!"},null,-99,{"$error":"#DIV/0!"},null,-99,{"$error":"#DIV/0!"},null,-99,{"$error":"#DIV/0!"},null,-99,{"$error":"#DIV/0!"},null,-99,{"$error":"#DIV/0!"},{"$error":"#DIV/0!"},null,null,null,null,null,null,null,null,null,null,{"$error":"#DIV/0!"},{"$error":"#DIV/0!"},{"$error":"#DIV/0!"}]
[null,null,null,null,1.25,{"$error":"#DIV/0!"},null,-99,{"$error":"#DIV/0!"},null,-99,{"$error":"#DIV/0!"},null,-99,{"$error":"#DIV/0!"},null,-99,{"$error":"#DIV/0!"},null,-99,{"$error":"#DIV/0!"},null,-99,{"$error":"#DIV/0!"},null,-99,{"$error":"#DIV/0!"},null,-99,{"$error":"#DIV/0!"},null,-99,{"$error":"#DIV/0!"},null,-99,{"$error":"#DIV/0!"},{"$error":"#DIV/0!"},null,null,null,null,null,null,null,null,null,null,{"$error":"#DIV/0!"},{"$error":"#DIV/0!"},{"$error":"#DIV/0!"}]
[null,null,null,null,1.5,{"$error":"#DIV/0!"},null,-99,{"$error":"#DIV/0!"},null,-99,{"$error":"#DIV/0!"},null,-99,{"$error":"#DIV/0!"},null,-99,{"$error":"#DIV/0!"},null,-99,{"$error":"#DIV/0!"},null,-99,{"$error":"#DIV/0!"},null,-99,{"$error":"#DIV/0!"},null,-99,{"$error":"#DIV/0!"},null,-99,{"$error":"#DIV/0!"},null,-99,{"$error":"#DIV/0!"},{"$error":"#DIV/0!"},null,null,null,null,null,null,null,null,null,null,{"$error":"#DIV/0!"},{"$error":"#DIV/0!"},{"$f":"AW79/E$13","v":{"$error":"#DIV/0!"}}]
[null,null,null,null,1.75,{"$error":"#DIV/0!"},null,-99,{"$error":"#DIV/0!"},null,-99,{"$error":"#DIV/0!"},null,-99,{"$error":"#DIV/0!"},null,-99,{"$error":"#DIV/0!"},null,-99,{"$error":"#DIV/0!"},null,-99,{"$error":"#DIV/0!"},null,-99,{"$error":"#DIV/0!"},null,-99,{"$error":"#DIV/0!"},null,-99,{"$error":"#DIV/0!"},null,-99,{"$error":"#DIV/0!"},{"$error":"#DIV/0!"},null,null,null,null,null,null,null,null,null,null,{"$error":"#DIV/0!"},{"$error":"#DIV/0!"},{"$error":"#DIV/0!"}]
[null,null,null,null,2,{"$error":"#DIV/0!"},null,-99,{"$error":"#DIV/0!"},null,-99,{"$error":"#DIV/0!"},null,-99,{"$error":"#DIV/0!"},null,-99,{"$error":"#DIV/0!"},null,-99,{"$error":"#DIV/0!"},null,-99,{"$error":"#DIV/0!"},null,-99,{"$error":"#DIV/0!"},null,-99,{"$error":"#DIV/0!"},null,-99,{"$error":"#DIV/0!"},null,-99,{"$error":"#DIV/0!"},{"$error":"#DIV/0!"},null,null,null,null,null,null,null,null,null,null,{"$error":"#DIV/0!"},{"$error":"#DIV/0!"},{"$error":"#DIV/0!"}]
[null,null,null,null,2.25,{"$error":"#DIV/0!"},null,-99,{"$error":"#DIV/0!"},null,-99,{"$error":"#DIV/0!"},null,-99,{"$error":"#DIV/0!"},null,-99,{"$error":"#DIV/0!"},null,-99,{"$error":"#DIV/0!"},null,-99,{"$error":"#DIV/0!"},null,-99,{"$error":"#DIV/0!"},null,-99,{"$error":"#DIV/0!"},null,-99,{"$error":"#DIV/0!"},null,-99,{"$error":"#DIV/0!"},{"$error":"#DIV/0!"},null,null,null,null,null,null,null,null,null,null,{"$error":"#DIV/0!"},{"$error":"#DIV/0!"},{"$error":"#DIV/0!"}]
[null,null,null,null,2.5,{"$error":"#DIV/0!"},null,-99,{"$error":"#DIV/0!"},null,-99,{"$error":"#DIV/0!"},null,-99,{"$error":"#DIV/0!"},null,-99,{"$error":"#DIV/0!"},null,-99,{"$error":"#DIV/0!"},null,-99,{"$error":"#DIV/0!"},null,-99,{"$error":"#DIV/0!"},null,-99,{"$error":"#DIV/0!"},null,-99,{"$error":"#DIV/0!"},null,-99,{"$error":"#DIV/0!"},{"$error":"#DIV/0!"},null,null,null,null,null,null,null,null,null,null,{"$error":"#DIV/0!"},{"$error":"#DIV/0!"},{"$error":"#DIV/0!"}]
[null,null,null,null,2.75,{"$error":"#DIV/0!"},null,-99,{"$error":"#DIV/0!"},null,-99,{"$error":"#DIV/0!"},null,-99,{"$error":"#DIV/0!"},null,-99,{"$error":"#DIV/0!"},null,-99,{"$error":"#DIV/0!"},null,-99,{"$error":"#DIV/0!"},null,-99,{"$error":"#DIV/0!"},null,-99,{"$error":"#DIV/0!"},null,-99,{"$error":"#DIV/0!"},null,-99,{"$error":"#DIV/0!"},{"$error":"#DIV/0!"},null,null,null,null,null,null,null,null,null,null,{"$error":"#DIV/0!"},{"$error":"#DIV/0!"},{"$error":"#DIV/0!"}]
[null,null,null,null,3,{"$error":"#DIV/0!"},null,-99,{"$error":"#DIV/0!"},null,-99,{"$error":"#DIV/0!"},null,-99,{"$error":"#DIV/0!"},null,-99,{"$error":"#DIV/0!"},null,-99,{"$error":"#DIV/0!"},null,-99,{"$error":"#DIV/0!"},null,-99,{"$error":"#DIV/0!"},null,-99,{"$error":"#DIV/0!"},null,-99,{"$error":"#DIV/0!"},null,-99,{"$error":"#DIV/0!"},{"$error":"#DIV/0!"},null,null,null,null,null,null,null,null,null,null,{"$error":"#DIV/0!"},{"$error":"#DIV/0!"},{"$error":"#DIV/0!"}]
[null,null,null,null,3.25,{"$error":"#DIV/0!"},null,-99,{"$error":"#DIV/0!"},null,-99,{"$error":"#DIV/0!"},null,-99,{"$error":"#DIV/0!"},null,-99,{"$error":"#DIV/0!"},null,-99,{"$error":"#DIV/0!"},null,-99,{"$error":"#DIV/0!"},null,-99,{"$error":"#DIV/0!"},null,-99,{"$error":"#DIV/0!"},null,-99,{"$error":"#DIV/0!"},null,-99,{"$error":"#DIV/0!"},{"$error":"#DIV/0!"},null,null,null,null,null,null,null,null,null,null,{"$error":"#DIV/0!"},{"$error":"#DIV/0!"},{"$error":"#DIV/0!"}]
[null,null,null,null,3.5,{"$error":"#DIV/0!"},null,-99,{"$error":"#DIV/0!"},null,-99,{"$error":"#DIV/0!"},null,-99,{"$error":"#DIV/0!"},null,-99,{"$error":"#DIV/0!"},null,-99,{"$error":"#DIV/0!"},null,-99,{"$error":"#DIV/0!"},null,-99,{"$error":"#DIV/0!"},null,-99,{"$error":"#DIV/0!"},null,-99,{"$error":"#DIV/0!"},null,-99,{"$error":"#DIV/0!"},{"$error":"#DIV/0!"},null,null,null,null,null,null,null,null,null,null,{"$error":"#DIV/0!"},{"$error":"#DIV/0!"},{"$error":"#DIV/0!"}]
[null,null,null,null,3.75,{"$error":"#DIV/0!"},null,-99,{"$error":"#DIV/0!"},null,-99,{"$error":"#DIV/0!"},null,-99,{"$error":"#DIV/0!"},null,-99,{"$error":"#DIV/0!"},null,-99,{"$error":"#DIV/0!"},null,-99,{"$error":"#DIV/0!"},null,-99,{"$error":"#DIV/0!"},null,-99,{"$error":"#DIV/0!"},null,-99,{"$error":"#DIV/0!"},null,-99,{"$error":"#DIV/0!"},{"$error":"#DIV/0!"},null,null,null,null,null,null,null,null,null,null,{"$error":"#DIV/0!"},{"$error":"#DIV/0!"},{"$error":"#DIV/0!"}]
[null,null,null,null,4,{"$error":"#DIV/0!"},null,-99,{"$error":"#DIV/0!"},null,-99,{"$error":"#DIV/0!"},null,-99,{"$error":"#DIV/0!"},null,-99,{"$error":"#DIV/0!"},null,-99,{"$error":"#DIV/0!"},null,-99,{"$error":"#DIV/0!"},null,-99,{"$error":"#DIV/0!"},null,-99,{"$error":"#DIV/0!"},null,-99,{"$error":"#DIV/0!"},null,-99,{"$error":"#DIV/0!"},{"$error":"#DIV/0!"},null,null,null,null,null,null,null,null,null,null,{"$error":"#DIV/0!"},{"$error":"#DIV/0!"},{"$error":"#DIV/0!"}]
[null,null,null,null,4.25,{"$error":"#DIV/0!"},null,-99,{"$error":"#DIV/0!"},null,-99,{"$error":"#DIV/0!"},null,-99,{"$error":"#DIV/0!"},null,-99,{"$error":"#DIV/0!"},null,-99,{"$error":"#DIV/0!"},null,-99,{"$error":"#DIV/0!"},null,-99,{"$error":"#DIV/0!"},null,-99,{"$error":"#DIV/0!"},null,-99,{"$error":"#DIV/0!"},null,-99,{"$error":"#DIV/0!"},{"$error":"#DIV/0!"},null,null,null,null,null,null,null,null,null,null,{"$error":"#DIV/0!"},{"$error":"#DIV/0!"},{"$error":"#DIV/0!"}]
[null,null,null,null,4.5,{"$error":"#DIV/0!"},null,-99,{"$error":"#DIV/0!"},null,-99,{"$error":"#DIV/0!"},null,-99,{"$error":"#DIV/0!"},null,-99,{"$error":"#DIV/0!"},null,-99,{"$error":"#DIV/0!"},null,-99,{"$error":"#DIV/0!"},null,-99,{"$error":"#DIV/0!"},null,-99,{"$error":"#DIV/0!"},null,-99,{"$error":"#DIV/0!"},null,-99,{"$error":"#DIV/0!"},{"$error":"#DIV/0!"},null,null,null,null,null,null,null,null,null,null,{"$error":"#DIV/0!"},{"$error":"#DIV/0!"},{"$error":"#DIV/0!"}]
[null,null,null,null,4.75,{"$error":"#DIV/0!"},null,-99,{"$error":"#DIV/0!"},null,-99,{"$error":"#DIV/0!"},null,-99,{"$error":"#DIV/0!"},null,-99,{"$error":"#DIV/0!"},null,-99,{"$error":"#DIV/0!"},null,-99,{"$error":"#DIV/0!"},null,-99,{"$error":"#DIV/0!"},null,-99,{"$error":"#DIV/0!"},null,-99,{"$error":"#DIV/0!"},null,-99,{"$error":"#DIV/0!"},{"$error":"#DIV/0!"},null,null,null,null,null,null,null,null,null,null,{"$error":"#DIV/0!"},{"$error":"#DIV/0!"},{"$error":"#DIV/0!"}]
[null,null,null,null,5,{"$error":"#DIV/0!"},null,-99,{"$error":"#DIV/0!"},null,-99,{"$error":"#DIV/0!"},null,-99,{"$error":"#DIV/0!"},null,-99,{"$error":"#DIV/0!"},null,-99,{"$error":"#DIV/0!"},null,-99,{"$error":"#DIV/0!"},null,-99,{"$error":"#DIV/0!"},null,-99,{"$error":"#DIV/0!"},null,-99,{"$error":"#DIV/0!"},null,-99,{"$error":"#DIV/0!"},{"$error":"#DIV/0!"},null,null,null,null,null,null,null,null,null,null,{"$error":"#DIV/0!"},{"$error":"#DIV/0!"},{"$error":"#DIV/0!"}]
[null,null,null,null,5.25,{"$error":"#DIV/0!"},null,-99,{"$error":"#DIV/0!"},null,-99,{"$error":"#DIV/0!"},null,-99,{"$error":"#DIV/0!"},null,-99,{"$error":"#DIV/0!"},null,-99,{"$error":"#DIV/0!"},null,-99,{"$error":"#DIV/0!"},null,-99,{"$error":"#DIV/0!"},null,-99,{"$error":"#DIV/0!"},null,-99,{"$error":"#DIV/0!"},null,-99,{"$error":"#DIV/0!"},{"$error":"#DIV/0!"},null,null,null,null,null,null,null,null,null,null,{"$error":"#DIV/0!"},{"$error":"#DIV/0!"},{"$error":"#DIV/0!"}]
[null,null,null,null,5.5,{"$error":"#DIV/0!"},null,-99,{"$error":"#DIV/0!"},null,-99,{"$error":"#DIV/0!"},null,-99,{"$error":"#DIV/0!"},null,-99,{"$error":"#DIV/0!"},null,-99,{"$error":"#DIV/0!"},null,-99,{"$error":"#DIV/0!"},null,-99,{"$error":"#DIV/0!"},null,-99,{"$error":"#DIV/0!"},null,-99,{"$error":"#DIV/0!"},null,-99,{"$error":"#DIV/0!"},{"$error":"#DIV/0!"},null,null,null,null,null,null,null,null,null,null,{"$error":"#DIV/0!"},{"$error":"#DIV/0!"},{"$error":"#DIV/0!"}]
[null,null,null,null,5.75,{"$error":"#DIV/0!"},null,-99,{"$error":"#DIV/0!"},null,-99,{"$error":"#DIV/0!"},null,-99,{"$error":"#DIV/0!"},null,-99,{"$error":"#DIV/0!"},null,-99,{"$error":"#DIV/0!"},null,-99,{"$error":"#DIV/0!"},null,-99,{"$error":"#DIV/0!"},null,-99,{"$error":"#DIV/0!"},null,-99,{"$error":"#DIV/0!"},null,-99,{"$error":"#DIV/0!"},{"$error":"#DIV/0!"},null,null,null,null,null,null,null,null,null,null,{"$error":"#DIV/0!"},{"$error":"#DIV/0!"},{"$error":"#DIV/0!"}]
[null,null,null,null,6,{"$error":"#DIV/0!"},null,-99,{"$error":"#DIV/0!"},null,-99,{"$error":"#DIV/0!"},null,-99,{"$error":"#DIV/0!"},null,-99,{"$error":"#DIV/0!"},null,-99,{"$error":"#DIV/0!"},null,-99,{"$error":"#DIV/0!"},null,-99,{"$error":"#DIV/0!"},null,-99,{"$error":"#DIV/0!"},null,-99,{"$error":"#DIV/0!"},null,-99,{"$error":"#DIV/0!"},{"$error":"#DIV/0!"},null,null,null,null,null,null,null,null,null,null,{"$error":"#DIV/0!"},{"$error":"#DIV/0!"},{"$error":"#DIV/0!"}]
[null,null,null,null,6.25,{"$error":"#DIV/0!"},null,-99,{"$error":"#DIV/0!"},null,-99,{"$error":"#DIV/0!"},null,-99,{"$error":"#DIV/0!"},null,-99,{"$error":"#DIV/0!"},null,-99,{"$error":"#DIV/0!"},null,-99,{"$error":"#DIV/0!"},null,-99,{"$error":"#DIV/0!"},null,-99,{"$error":"#DIV/0!"},null,-99,{"$error":"#DIV/0!"},null,-99,{"$error":"#DIV/0!"},{"$error":"#DIV/0!"},null,null,null,null,null,null,null,null,null,null,{"$error":"#DIV/0!"},{"$error":"#DIV/0!"},{"$error":"#DIV/0!"}]
[null,null,null,null,6.5,{"$error":"#DIV/0!"},null,-99,{"$error":"#DIV/0!"},null,-99,{"$error":"#DIV/0!"},null,-99,{"$error":"#DIV/0!"},null,-99,{"$error":"#DIV/0!"},null,-99,{"$error":"#DIV/0!"},null,-99,{"$error":"#DIV/0!"},null,-99,{"$error":"#DIV/0!"},null,-99,{"$error":"#DIV/0!"},null,-99,{"$error":"#DIV/0!"},null,-99,{"$error":"#DIV/0!"},{"$error":"#DIV/0!"},null,null,null,null,null,null,null,null,null,null,{"$error":"#DIV/0!"},{"$error":"#DIV/0!"},{"$error":"#DIV/0!"}]
[null,null,null,null,6.75,{"$error":"#DIV/0!"},null,-99,{"$error":"#DIV/0!"},null,-99,{"$error":"#DIV/0!"},null,-99,{"$error":"#DIV/0!"},null,-99,{"$error":"#DIV/0!"},null,-99,{"$error":"#DIV/0!"},null,-99,{"$error":"#DIV/0!"},null,-99,{"$error":"#DIV/0!"},null,-99,{"$error":"#DIV/0!"},null,-99,{"$error":"#DIV/0!"},null,-99,{"$error":"#DIV/0!"},{"$error":"#DIV/0!"},null,null,null,null,null,null,null,null,null,null,{"$error":"#DIV/0!"},{"$error":"#DIV/0!"},{"$error":"#DIV/0!"}]
[null,null,null,null,7,{"$error":"#DIV/0!"},null,-99,{"$error":"#DIV/0!"},null,-99,{"$error":"#DIV/0!"},null,-99,{"$error":"#DIV/0!"},null,-99,{"$error":"#DIV/0!"},null,-99,{"$error":"#DIV/0!"},null,-99,{"$error":"#DIV/0!"},null,-99,{"$error":"#DIV/0!"},null,-99,{"$error":"#DIV/0!"},null,-99,{"$error":"#DIV/0!"},null,-99,{"$error":"#DIV/0!"},{"$error":"#DIV/0!"},null,null,null,null,null,null,null,null,null,null,{"$error":"#DIV/0!"},{"$error":"#DIV/0!"},{"$error":"#DIV/0!"}]
[null,null,null,null,7.25,{"$error":"#DIV/0!"},null,-99,{"$error":"#DIV/0!"},null,-99,{"$error":"#DIV/0!"},null,-99,{"$error":"#DIV/0!"},null,-99,{"$error":"#DIV/0!"},null,-99,{"$error":"#DIV/0!"},null,-99,{"$error":"#DIV/0!"},null,-99,{"$error":"#DIV/0!"},null,-99,{"$error":"#DIV/0!"},null,-99,{"$error":"#DIV/0!"},null,-99,{"$error":"#DIV/0!"},{"$error":"#DIV/0!"},null,null,null,null,null,null,null,null,null,null,{"$error":"#DIV/0!"},{"$error":"#DIV/0!"},{"$error":"#DIV/0!"}]
[null,null,null,null,7.5,{"$error":"#DIV/0!"},null,-99,{"$error":"#DIV/0!"},null,-99,{"$error":"#DIV/0!"},null,-99,{"$error":"#DIV/0!"},null,-99,{"$error":"#DIV/0!"},null,-99,{"$error":"#DIV/0!"},null,-99,{"$error":"#DIV/0!"},null,-99,{"$error":"#DIV/0!"},null,-99,{"$error":"#DIV/0!"},null,-99,{"$error":"#DIV/0!"},null,-99,{"$error":"#DIV/0!"},{"$error":"#DIV/0!"},null,null,null,null,null,null,null,null,null,null,{"$error":"#DIV/0!"},{"$error":"#DIV/0!"},{"$error":"#DIV/0!"}]
[null,null,null,null,7.75,{"$error":"#DIV/0!"},null,-99,{"$error":"#DIV/0!"},null,-99,{"$error":"#DIV/0!"},null,-99,{"$error":"#DIV/0!"},null,-99,{"$error":"#DIV/0!"},null,-99,{"$error":"#DIV/0!"},null,-99,{"$error":"#DIV/0!"},null,-99,{"$error":"#DIV/0!"},null,-99,{"$error":"#DIV/0!"},null,-99,{"$error":"#DIV/0!"},null,-99,{"$error":"#DIV/0!"},{"$error":"#DIV/0!"},null,null,null,null,null,null,null,null,null,null,{"$error":"#DIV/0!"},{"$error":"#DIV/0!"},{"$error":"#DIV/0!"}]
[null,null,null,null,8,{"$error":"#DIV/0!"},null,-99,{"$error":"#DIV/0!"},null,-99,{"$error":"#DIV/0!"},null,-99,{"$error":"#DIV/0!"},null,-99,{"$error":"#DIV/0!"},null,-99,{"$error":"#DIV/0!"},null,-99,{"$error":"#DIV/0!"},null,-99,{"$error":"#DIV/0!"},null,-99,{"$error":"#DIV/0!"},null,-99,{"$error":"#DIV/0!"},null,-99,{"$error":"#DIV/0!"},{"$error":"#DIV/0!"},null,null,null,null,null,null,null,null,null,null,{"$error":"#DIV/0!"},{"$error":"#DIV/0!"},{"$error":"#DIV/0!"}]
[null,null,null,null,8.25,{"$error":"#DIV/0!"},null,-99,{"$error":"#DIV/0!"},null,-99,{"$error":"#DIV/0!"},null,-99,{"$error":"#DIV/0!"},null,-99,{"$error":"#DIV/0!"},null,-99,{"$error":"#DIV/0!"},null,-99,{"$error":"#DIV/0!"},null,-99,{"$error":"#DIV/0!"},null,-99,{"$error":"#DIV/0!"},null,-99,{"$error":"#DIV/0!"},null,-99,{"$error":"#DIV/0!"},{"$error":"#DIV/0!"},null,null,null,null,null,null,null,null,null,null,{"$error":"#DIV/0!"},{"$error":"#DIV/0!"},{"$error":"#DIV/0!"}]
[null,null,null,null,8.5,{"$error":"#DIV/0!"},null,-99,{"$error":"#DIV/0!"},null,-99,{"$error":"#DIV/0!"},null,-99,{"$error":"#DIV/0!"},null,-99,{"$error":"#DIV/0!"},null,-99,{"$error":"#DIV/0!"},null,-99,{"$error":"#DIV/0!"},null,-99,{"$error":"#DIV/0!"},null,-99,{"$error":"#DIV/0!"},null,-99,{"$error":"#DIV/0!"},null,-99,{"$error":"#DIV/0!"},{"$error":"#DIV/0!"},null,null,null,null,null,null,null,null,null,null,{"$error":"#DIV/0!"},{"$error":"#DIV/0!"},{"$error":"#DIV/0!"}]
[null,null,null,null,8.75,{"$error":"#DIV/0!"},null,-99,{"$error":"#DIV/0!"},null,-99,{"$error":"#DIV/0!"},null,-99,{"$error":"#DIV/0!"},null,-99,{"$error":"#DIV/0!"},null,-99,{"$error":"#DIV/0!"},null,-99,{"$error":"#DIV/0!"},null,-99,{"$error":"#DIV/0!"},null,-99,{"$error":"#DIV/0!"},null,-99,{"$error":"#DIV/0!"},null,-99,{"$error":"#DIV/0!"},{"$error":"#DIV/0!"},null,null,null,null,null,null,null,null,null,null,{"$error":"#DIV/0!"},{"$error":"#DIV/0!"},{"$error":"#DIV/0!"}]
[null,null,null,null,9,{"$error":"#DIV/0!"},null,-99,{"$error":"#DIV/0!"},null,-99,{"$error":"#DIV/0!"},null,-99,{"$error":"#DIV/0!"},null,-99,{"$error":"#DIV/0!"},null,-99,{"$error":"#DIV/0!"},null,-99,{"$error":"#DIV/0!"},null,-99,{"$error":"#DIV/0!"},null,-99,{"$error":"#DIV/0!"},null,-99,{"$error":"#DIV/0!"},null,-99,{"$error":"#DIV/0!"},{"$error":"#DIV/0!"},null,null,null,null,null,null,null,null,null,null,{"$error":"#DIV/0!"},{"$error":"#DIV/0!"},{"$error":"#DIV/0!"}]
[null,null,null,null,9.25,{"$error":"#DIV/0!"},null,-99,{"$error":"#DIV/0!"},null,-99,{"$error":"#DIV/0!"},null,-99,{"$error":"#DIV/0!"},null,-99,{"$error":"#DIV/0!"},null,-99,{"$error":"#DIV/0!"},null,-99,{"$error":"#DIV/0!"},null,-99,{"$error":"#DIV/0!"},null,-99,{"$error":"#DIV/0!"},null,-99,{"$error":"#DIV/0!"},null,-99,{"$error":"#DIV/0!"},{"$error":"#DIV/0!"},null,null,null,null,null,null,null,null,null,null,{"$error":"#DIV/0!"},{"$error":"#DIV/0!"},{"$error":"#DIV/0!"}]
[null,null,null,null,9.5,{"$error":"#DIV/0!"},null,-99,{"$error":"#DIV/0!"},null,-99,{"$error":"#DIV/0!"},null,-99,{"$error":"#DIV/0!"},null,-99,{"$error":"#DIV/0!"},null,-99,{"$error":"#DIV/0!"},null,-99,{"$error":"#DIV/0!"},null,-99,{"$error":"#DIV/0!"},null,-99,{"$error":"#DIV/0!"},null,-99,{"$error":"#DIV/0!"},null,-99,{"$error":"#DIV/0!"},{"$error":"#DIV/0!"},null,null,null,null,null,null,null,null,null,null,{"$error":"#DIV/0!"},{"$error":"#DIV/0!"},{"$error":"#DIV/0!"}]
[null,null,null,null,9.75,{"$error":"#DIV/0!"},null,-99,{"$error":"#DIV/0!"},null,-99,{"$error":"#DIV/0!"},null,-99,{"$error":"#DIV/0!"},null,-99,{"$error":"#DIV/0!"},null,-99,{"$error":"#DIV/0!"},null,-99,{"$error":"#DIV/0!"},null,-99,{"$error":"#DIV/0!"},null,-99,{"$error":"#DIV/0!"},null,-99,{"$error":"#DIV/0!"},null,-99,{"$error":"#DIV/0!"},{"$error":"#DIV/0!"},null,null,null,null,null,null,null,null,null,null,{"$error":"#DIV/0!"},{"$error":"#DIV/0!"},{"$error":"#DIV/0!"}]
[null,null,null,null,10,{"$error":"#DIV/0!"},null,-99,{"$error":"#DIV/0!"},null,-99,{"$error":"#DIV/0!"},null,-99,{"$error":"#DIV/0!"},null,-99,{"$error":"#DIV/0!"},null,-99,{"$error":"#DIV/0!"},null,-99,{"$error":"#DIV/0!"},null,-99,{"$error":"#DIV/0!"},null,-99,{"$error":"#DIV/0!"},null,-99,{"$error":"#DIV/0!"},null,-99,{"$error":"#DIV/0!"},{"$error":"#DIV/0!"},null,null,null,null,null,null,null,null,null,null,{"$error":"#DIV/0!"},{"$error":"#DIV/0!"},{"$error":"#DIV/0!"}]
[null,null,null,null,10.25,{"$error":"#DIV/0!"},null,-99,{"$error":"#DIV/0!"},null,-99,{"$error":"#DIV/0!"},null,-99,{"$error":"#DIV/0!"},null,-99,{"$error":"#DIV/0!"},null,-99,{"$error":"#DIV/0!"},null,-99,{"$error":"#DIV/0!"},null,-99,{"$error":"#DIV/0!"},null,-99,{"$error":"#DIV/0!"},null,-99,{"$error":"#DIV/0!"},null,-99,{"$error":"#DIV/0!"},{"$error":"#DIV/0!"},null,null,null,null,null,null,null,null,null,null,{"$error":"#DIV/0!"},{"$error":"#DIV/0!"},{"$error":"#DIV/0!"}]
[null,null,null,null,10.5,{"$error":"#DIV/0!"},null,-99,{"$error":"#DIV/0!"},null,-99,{"$error":"#DIV/0!"},null,-99,{"$error":"#DIV/0!"},null,-99,{"$error":"#DIV/0!"},null,-99,{"$error":"#DIV/0!"},null,-99,{"$error":"#DIV/0!"},null,-99,{"$error":"#DIV/0!"},null,-99,{"$error":"#DIV/0!"},null,-99,{"$error":"#DIV/0!"},null,-99,{"$error":"#DIV/0!"},{"$error":"#DIV/0!"},null,null,null,null,null,null,null,null,null,null,{"$error":"#DIV/0!"},{"$error":"#DIV/0!"},{"$error":"#DIV/0!"}]
[null,null,null,null,10.75,{"$error":"#DIV/0!"},null,-99,{"$error":"#DIV/0!"},null,-99,{"$error":"#DIV/0!"},null,-99,{"$error":"#DIV/0!"},null,-99,{"$error":"#DIV/0!"},null,-99,{"$error":"#DIV/0!"},null,-99,{"$error":"#DIV/0!"},null,-99,{"$error":"#DIV/0!"},null,-99,{"$error":"#DIV/0!"},null,-99,{"$error":"#DIV/0!"},null,-99,{"$error":"#DIV/0!"},{"$error":"#DIV/0!"},null,null,null,null,null,null,null,null,null,null,{"$error":"#DIV/0!"},{"$error":"#DIV/0!"},{"$error":"#DIV/0!"}]
[null,null,null,null,11,{"$error":"#DIV/0!"},null,-99,{"$error":"#DIV/0!"},null,-99,{"$error":"#DIV/0!"},null,-99,{"$error":"#DIV/0!"},null,-99,{"$error":"#DIV/0!"},null,-99,{"$error":"#DIV/0!"},null,-99,{"$error":"#DIV/0!"},null,-99,{"$error":"#DIV/0!"},null,-99,{"$error":"#DIV/0!"},null,-99,{"$error":"#DIV/0!"},null,-99,{"$error":"#DIV/0!"},{"$error":"#DIV/0!"},null,null,null,null,null,null,null,null,null,null,{"$error":"#DIV/0!"},{"$error":"#DIV/0!"},{"$error":"#DIV/0!"}]
[null,null,null,null,11.25,{"$error":"#DIV/0!"},null,-99,{"$error":"#DIV/0!"},null,-99,{"$error":"#DIV/0!"},null,-99,{"$error":"#DIV/0!"},null,-99,{"$error":"#DIV/0!"},null,-99,{"$error":"#DIV/0!"},null,-99,{"$error":"#DIV/0!"},null,-99,{"$error":"#DIV/0!"},null,-99,{"$error":"#DIV/0!"},null,-99,{"$error":"#DIV/0!"},null,-99,{"$error":"#DIV/0!"},{"$error":"#DIV/0!"},null,null,null,null,null,null,null,null,null,null,{"$error":"#DIV/0!"},{"$error":"#DIV/0!"},{"$error":"#DIV/0!"}]
[null,null,null,null,11.5,{"$error":"#DIV/0!"},null,-99,{"$error":"#DIV/0!"},null,-99,{"$error":"#DIV/0!"},null,-99,{"$error":"#DIV/0!"},null,-99,{"$error":"#DIV/0!"},null,-99,{"$error":"#DIV/0!"},null,-99,{"$error":"#DIV/0!"},null,-99,{"$error":"#DIV/0!"},null,-99,{"$error":"#DIV/0!"},null,-99,{"$error":"#DIV/0!"},null,-99,{"$error":"#DIV/0!"},{"$error":"#DIV/0!"},null,null,null,null,null,null,null,null,null,null,{"$error":"#DIV/0!"},{"$error":"#DIV/0!"},{"$error":"#DIV/0!"}]
[null,null,null,null,11.75,{"$error":"#DIV/0!"},null,-99,{"$error":"#DIV/0!"},null,-99,{"$error":"#DIV/0!"},null,-99,{"$error":"#DIV/0!"},null,-99,{"$error":"#DIV/0!"},null,-99,{"$error":"#DIV/0!"},null,-99,{"$error":"#DIV/0!"},null,-99,{"$error":"#DIV/0!"},null,-99,{"$error":"#DIV/0!"},null,-99,{"$error":"#DIV/0!"},null,-99,{"$error":"#DIV/0!"},{"$error":"#DIV/0!"},null,null,null,null,null,null,null,null,null,null,{"$error":"#DIV/0!"},{"$error":"#DIV/0!"},{"$error":"#DIV/0!"}]
[null,null,null,null,12,{"$error":"#DIV/0!"},null,-99,{"$error":"#DIV/0!"},null,-99,{"$error":"#DIV/0!"},null,-99,{"$error":"#DIV/0!"},null,-99,{"$error":"#DIV/0!"},null,-99,{"$error":"#DIV/0!"},null,-99,{"$error":"#DIV/0!"},null,-99,{"$error":"#DIV/0!"},null,-99,{"$error":"#DIV/0!"},null,-99,{"$error":"#DIV/0!"},null,-99,{"$error":"#DIV/0!"},{"$error":"#DIV/0!"},null,null,null,null,null,null,null,null,null,null,{"$error":"#DIV/0!"},{"$error":"#DIV/0!"},{"$error":"#DIV/0!"}]
[null,null,null,null,12.25,{"$error":"#DIV/0!"},null,-99,{"$error":"#DIV/0!"},null,-99,{"$error":"#DIV/0!"},null,-99,{"$error":"#DIV/0!"},null,-99,{"$error":"#DIV/0!"},null,-99,{"$error":"#DIV/0!"},null,-99,{"$error":"#DIV/0!"},null,-99,{"$error":"#DIV/0!"},null,-99,{"$error":"#DIV/0!"},null,-99,{"$error":"#DIV/0!"},null,-99,{"$error":"#DIV/0!"},{"$error":"#DIV/0!"},null,null,null,null,null,null,null,null,null,null,{"$error":"#DIV/0!"},{"$error":"#DIV/0!"},{"$error":"#DIV/0!"}]
[null,null,null,null,12.5,{"$error":"#DIV/0!"},null,-99,{"$error":"#DIV/0!"},null,-99,{"$error":"#DIV/0!"},null,-99,{"$error":"#DIV/0!"},null,-99,{"$error":"#DIV/0!"},null,-99,{"$error":"#DIV/0!"},null,-99,{"$error":"#DIV/0!"},null,-99,{"$error":"#DIV/0!"},null,-99,{"$error":"#DIV/0!"},null,-99,{"$error":"#DIV/0!"},null,-99,{"$error":"#DIV/0!"},{"$error":"#DIV/0!"},null,null,null,null,null,null,null,null,null,null,{"$error":"#DIV/0!"},{"$error":"#DIV/0!"},{"$error":"#DIV/0!"}]
[null,null,null,null,12.75,{"$error":"#DIV/0!"},null,-99,{"$error":"#DIV/0!"},null,-99,{"$error":"#DIV/0!"},null,-99,{"$error":"#DIV/0!"},null,-99,{"$error":"#DIV/0!"},null,-99,{"$error":"#DIV/0!"},null,-99,{"$error":"#DIV/0!"},null,-99,{"$error":"#DIV/0!"},null,-99,{"$error":"#DIV/0!"},null,-99,{"$error":"#DIV/0!"},null,-99,{"$error":"#DIV/0!"},{"$error":"#DIV/0!"},null,null,null,null,null,null,null,null,null,null,{"$error":"#DIV/0!"},{"$error":"#DIV/0!"},{"$error":"#DIV/0!"}]
[null,null,null,null,13,{"$error":"#DIV/0!"},null,-99,{"$error":"#DIV/0!"},null,-99,{"$error":"#DIV/0!"},null,-99,{"$error":"#DIV/0!"},null,-99,{"$error":"#DIV/0!"},null,-99,{"$error":"#DIV/0!"},null,-99,{"$error":"#DIV/0!"},null,-99,{"$error":"#DIV/0!"},null,-99,{"$error":"#DIV/0!"},null,-99,{"$error":"#DIV/0!"},null,-99,{"$error":"#DIV/0!"},{"$error":"#DIV/0!"},null,null,null,null,null,null,null,null,null,null,{"$error":"#DIV/0!"},{"$error":"#DIV/0!"},{"$error":"#DIV/0!"}]
[null,null,null,null,13.25,{"$error":"#DIV/0!"},null,-99,{"$error":"#DIV/0!"},null,-99,{"$error":"#DIV/0!"},null,-99,{"$error":"#DIV/0!"},null,-99,{"$error":"#DIV/0!"},null,-99,{"$error":"#DIV/0!"},null,-99,{"$error":"#DIV/0!"},null,-99,{"$error":"#DIV/0!"},null,-99,{"$error":"#DIV/0!"},null,-99,{"$error":"#DIV/0!"},null,-99,{"$error":"#DIV/0!"},{"$error":"#DIV/0!"},null,null,null,null,null,null,null,null,null,null,{"$error":"#DIV/0!"},{"$error":"#DIV/0!"},{"$error":"#DIV/0!"}]
[null,null,null,null,13.5,{"$error":"#DIV/0!"},null,-99,{"$error":"#DIV/0!"},null,-99,{"$error":"#DIV/0!"},null,-99,{"$error":"#DIV/0!"},null,-99,{"$error":"#DIV/0!"},null,-99,{"$error":"#DIV/0!"},null,-99,{"$error":"#DIV/0!"},null,-99,{"$error":"#DIV/0!"},null,-99,{"$error":"#DIV/0!"},null,-99,{"$error":"#DIV/0!"},null,-99,{"$error":"#DIV/0!"},{"$error":"#DIV/0!"},null,null,null,null,null,null,null,null,null,null,{"$error":"#DIV/0!"},{"$error":"#DIV/0!"},{"$error":"#DIV/0!"}]
[null,null,null,null,13.75,{"$error":"#DIV/0!"},null,-99,{"$error":"#DIV/0!"},null,-99,{"$error":"#DIV/0!"},null,-99,{"$error":"#DIV/0!"},null,-99,{"$error":"#DIV/0!"},null,-99,{"$error":"#DIV/0!"},null,-99,{"$error":"#DIV/0!"},null,-99,{"$error":"#DIV/0!"},null,-99,{"$error":"#DIV/0!"},null,-99,{"$error":"#DIV/0!"},null,-99,{"$error":"#DIV/0!"},{"$error":"#DIV/0!"},null,null,null,null,null,null,null,null,null,null,{"$error":"#DIV/0!"},{"$error":"#DIV/0!"},{"$error":"#DIV/0!"}]
[null,null,null,null,14,{"$error":"#DIV/0!"},null,-99,{"$error":"#DIV/0!"},null,-99,{"$error":"#DIV/0!"},null,-99,{"$error":"#DIV/0!"},null,-99,{"$error":"#DIV/0!"},null,-99,{"$error":"#DIV/0!"},null,-99,{"$error":"#DIV/0!"},null,-99,{"$error":"#DIV/0!"},null,-99,{"$error":"#DIV/0!"},null,-99,{"$error":"#DIV/0!"},null,-99,{"$error":"#DIV/0!"},{"$error":"#DIV/0!"},null,null,null,null,null,null,null,null,null,null,{"$error":"#DIV/0!"},{"$error":"#DIV/0!"},{"$error":"#DIV/0!"}]
[null,null,null,null,14.25,{"$error":"#DIV/0!"},null,-99,{"$error":"#DIV/0!"},null,-99,{"$error":"#DIV/0!"},null,-99,{"$error":"#DIV/0!"},null,-99,{"$error":"#DIV/0!"},null,-99,{"$error":"#DIV/0!"},null,-99,{"$error":"#DIV/0!"},null,-99,{"$error":"#DIV/0!"},null,-99,{"$error":"#DIV/0!"},null,-99,{"$error":"#DIV/0!"},null,-99,{"$error":"#DIV/0!"},{"$error":"#DIV/0!"},null,null,null,null,null,null,null,null,null,null,{"$error":"#DIV/0!"},{"$error":"#DIV/0!"},{"$error":"#DIV/0!"}]
[null,null,null,null,14.5,{"$error":"#DIV/0!"},null,-99,{"$error":"#DIV/0!"},null,-99,{"$error":"#DIV/0!"},null,-99,{"$error":"#DIV/0!"},null,-99,{"$error":"#DIV/0!"},null,-99,{"$error":"#DIV/0!"},null,-99,{"$error":"#DIV/0!"},null,-99,{"$error":"#DIV/0!"},null,-99,{"$error":"#DIV/0!"},null,-99,{"$error":"#DIV/0!"},null,-99,{"$error":"#DIV/0!"},{"$error":"#DIV/0!"},null,null,null,null,null,null,null,null,null,null,{"$error":"#DIV/0!"},{"$error":"#DIV/0!"},{"$error":"#DIV/0!"}]
[null,null,null,null,14.75,{"$error":"#DIV/0!"},null,-99,{"$error":"#DIV/0!"},null,-99,{"$error":"#DIV/0!"},null,-99,{"$error":"#DIV/0!"},null,-99,{"$error":"#DIV/0!"},null,-99,{"$error":"#DIV/0!"},null,-99,{"$error":"#DIV/0!"},null,-99,{"$error":"#DIV/0!"},null,-99,{"$error":"#DIV/0!"},null,-99,{"$error":"#DIV/0!"},null,-99,{"$error":"#DIV/0!"},{"$error":"#DIV/0!"},null,null,null,null,null,null,null,null,null,null,{"$error":"#DIV/0!"},{"$error":"#DIV/0!"},{"$error":"#DIV/0!"}]
[null,null,null,null,15,{"$error":"#DIV/0!"},null,-99,{"$error":"#DIV/0!"},null,-99,{"$error":"#DIV/0!"},null,-99,{"$error":"#DIV/0!"},null,-99,{"$error":"#DIV/0!"},null,-99,{"$error":"#DIV/0!"},null,-99,{"$error":"#DIV/0!"},null,-99,{"$error":"#DIV/0!"},null,-99,{"$error":"#DIV/0!"},null,-99,{"$error":"#DIV/0!"},null,-99,{"$error":"#DIV/0!"},{"$error":"#DIV/0!"},null,null,null,null,null,null,null,null,null,null,{"$error":"#DIV/0!"},{"$error":"#DIV/0!"},{"$error":"#DIV/0!"}]
[null,null,null,null,15.25,{"$error":"#DIV/0!"},null,-99,{"$error":"#DIV/0!"},null,-99,{"$error":"#DIV/0!"},null,-99,{"$error":"#DIV/0!"},null,-99,{"$error":"#DIV/0!"},null,-99,{"$error":"#DIV/0!"},null,-99,{"$error":"#DIV/0!"},null,-99,{"$error":"#DIV/0!"},null,-99,{"$error":"#DIV/0!"},null,-99,{"$error":"#DIV/0!"},null,-99,{"$error":"#DIV/0!"},{"$error":"#DIV/0!"},null,null,null,null,null,null,null,null,null,null,{"$error":"#DIV/0!"},{"$error":"#DIV/0!"},{"$error":"#DIV/0!"}]
[null,null,null,null,15.5,{"$error":"#DIV/0!"},null,-99,{"$error":"#DIV/0!"},null,-99,{"$error":"#DIV/0!"},null,-99,{"$error":"#DIV/0!"},null,-99,{"$error":"#DIV/0!"},null,-99,{"$error":"#DIV/0!"},null,-99,{"$error":"#DIV/0!"},null,-99,{"$error":"#DIV/0!"},null,-99,{"$error":"#DIV/0!"},null,-99,{"$error":"#DIV/0!"},null,-99,{"$error":"#DIV/0!"},{"$error":"#DIV/0!"},null,null,null,null,null,null,null,null,null,null,{"$error":"#DIV/0!"},{"$error":"#DIV/0!"},{"$error":"#DIV/0!"}]
[null,null,null,null,15.75,{"$error":"#DIV/0!"},null,-99,{"$error":"#DIV/0!"},null,-99,{"$error":"#DIV/0!"},null,-99,{"$error":"#DIV/0!"},null,-99,{"$error":"#DIV/0!"},null,-99,{"$error":"#DIV/0!"},null,-99,{"$error":"#DIV/0!"},null,-99,{"$error":"#DIV/0!"},null,-99,{"$error":"#DIV/0!"},null,-99,{"$error":"#DIV/0!"},null,-99,{"$error":"#DIV/0!"},{"$error":"#DIV/0!"},null,null,null,null,null,null,null,null,null,null,{"$error":"#DIV/0!"},{"$error":"#DIV/0!"},{"$error":"#DIV/0!"}]
[null,null,null,null,16,{"$error":"#DIV/0!"},null,-99,{"$error":"#DIV/0!"},null,-99,{"$error":"#DIV/0!"},null,-99,{"$error":"#DIV/0!"},null,-99,{"$error":"#DIV/0!"},null,-99,{"$error":"#DIV/0!"},null,-99,{"$error":"#DIV/0!"},null,-99,{"$error":"#DIV/0!"},null,-99,{"$error":"#DIV/0!"},null,-99,{"$error":"#DIV/0!"},null,-99,{"$error":"#DIV/0!"},{"$error":"#DIV/0!"},null,null,null,null,null,null,null,null,null,null,{"$error":"#DIV/0!"},{"$error":"#DIV/0!"},{"$error":"#DIV/0!"}]
[null,null,null,null,{"$f":"E137+E$60","v":16.25},{"$f":"IF($E138<$E$8,$E138*$E$7/100,$E$6)","v":{"$error":"#DIV/0!"}},null,{"$f":"G138-H$68","v":-99},{"$f":"IF(AND(H138>0,$AX137<$E$14),1.59*H$65*H138^1.65,0)","v":{"$error":"#DIV/0!"}},null,{"$f":"J138-K$68","v":-99},{"$f":"IF(AND(K138>0,$AX137<$E$14),1.59*K$65*K138^1.65,0)","v":{"$error":"#DIV/0!"}},null,{"$f":"M138-N$68","v":-99},{"$f":"IF(AND(N138>0,$AX137<$E$14),1.59*N$65*N138^1.65,0)","v":{"$error":"#DIV/0!"}},null,{"$f":"P138-Q$68","v":-99},{"$f":"IF(AND(Q138>0,$AX137<$E$14),1.59*Q$65*Q138^1.65,0)","v":{"$error":"#DIV/0!"}},null,{"$f":"S138-T$68","v":-99},{"$f":"IF(AND(T138>0,$AX137<$E$14),1.59*T$65*T138^1.65,0)","v":{"$error":"#DIV/0!"}},null,{"$f":"V138-W$68","v":-99},{"$f":"IF(AND(W138>0,$AX137<$E$14),1.59*W$65*W138^1.65,0)","v":{"$error":"#DIV/0!"}},null,{"$f":"Y138-Z$68","v":-99},{"$f":"IF(AND(Z138>0,$AX137<$E$14),1.59*Z$65*Z138^1.65,0)","v":{"$error":"#DIV/0!"}},null,{"$f":"AB138-AC$68","v":-99},{"$f":"IF(AND(AC138>0,$AX137<$E$14),1.59*AC$65*AC138^1.65,0)","v":{"$error":"#DIV/0!"}},null,{"$f":"AE138-AF$68","v":-99},{"$f":"IF(AND(AF138>0,$AX137<$E$14),1.59*AF$65*AF138^1.65,0)","v":{"$error":"#DIV/0!"}},null,{"$f":"AH138-AI$68","v":-99},{"$f":"IF(AND(AI138>0,$AX137<$E$14),1.59*AI$65*AI138^1.65,0)","v":{"$error":"#DIV/0!"}},{"$error":"#DIV/0!"},null,null,null,null,null,null,null,null,null,null,{"$f":"AK138-SUM(AL138:AU138)","v":{"$error":"#DIV/0!"}},{"$error":"#DIV/0!"},{"$error":"#DIV/0!"}]
[null,null,null,null,16.5,{"$error":"#DIV/0!"},null,-99,{"$error":"#DIV/0!"},null,-99,{"$error":"#DIV/0!"},null,-99,{"$error":"#DIV/0!"},null,-99,{"$error":"#DIV/0!"},null,-99,{"$error":"#DIV/0!"},null,-99,{"$error":"#DIV/0!"},null,-99,{"$error":"#DIV/0!"},null,-99,{"$error":"#DIV/0!"},null,-99,{"$error":"#DIV/0!"},null,-99,{"$error":"#DIV/0!"},{"$f":"I139+L139+O139+R139+U139+X139+AA139+AD139+AG139+AJ139","v":{"$error":"#DIV/0!"}},null,null,null,null,null,null,null,null,null,null,{"$error":"#DIV/0!"},{"$f":"MIN(AW$69,(AV138+AV139)*E$60*60*0.5+AW138)","v":{"$error":"#DIV/0!"}},{"$error":"#DIV/0!"}]
[null,null,null,null,16.75,{"$error":"#DIV/0!"},null,-99,{"$error":"#DIV/0!"},null,-99,{"$error":"#DIV/0!"},null,-99,{"$error":"#DIV/0!"},null,-99,{"$error":"#DIV/0!"},null,-99,{"$error":"#DIV/0!"},null,-99,{"$error":"#DIV/0!"},null,-99,{"$error":"#DIV/0!"},null,-99,{"$error":"#DIV/0!"},null,-99,{"$error":"#DIV/0!"},null,-99,{"$error":"#DIV/0!"},{"$error":"#DIV/0!"},null,null,null,null,null,null,null,null,null,null,{"$error":"#DIV/0!"},{"$error":"#DIV/0!"},{"$error":"#DIV/0!"}]
[null,null,null,null,17,{"$error":"#DIV/0!"},null,-99,{"$error":"#DIV/0!"},null,-99,{"$error":"#DIV/0!"},null,-99,{"$error":"#DIV/0!"},null,-99,{"$error":"#DIV/0!"},null,-99,{"$error":"#DIV/0!"},null,-99,{"$error":"#DIV/0!"},null,-99,{"$error":"#DIV/0!"},null,-99,{"$error":"#DIV/0!"},null,-99,{"$error":"#DIV/0!"},null,-99,{"$error":"#DIV/0!"},{"$error":"#DIV/0!"},null,null,null,null,null,null,null,null,null,null,{"$error":"#DIV/0!"},{"$error":"#DIV/0!"},{"$error":"#DIV/0!"}]
[null,null,null,null,17.25,{"$error":"#DIV/0!"},null,-99,{"$error":"#DIV/0!"},null,-99,{"$error":"#DIV/0!"},null,-99,{"$error":"#DIV/0!"},null,-99,{"$error":"#DIV/0!"},null,-99,{"$error":"#DIV/0!"},null,-99,{"$error":"#DIV/0!"},null,-99,{"$error":"#DIV/0!"},null,-99,{"$error":"#DIV/0!"},null,-99,{"$error":"#DIV/0!"},null,-99,{"$error":"#DIV/0!"},{"$error":"#DIV/0!"},null,null,null,null,null,null,null,null,null,null,{"$error":"#DIV/0!"},{"$error":"#DIV/0!"},{"$error":"#DIV/0!"}]
[null,null,null,null,17.5,{"$error":"#DIV/0!"},null,-99,{"$error":"#DIV/0!"},null,-99,{"$error":"#DIV/0!"},null,-99,{"$error":"#DIV/0!"},null,-99,{"$error":"#DIV/0!"},null,-99,{"$error":"#DIV/0!"},null,-99,{"$error":"#DIV/0!"},null,-99,{"$error":"#DIV/0!"},null,-99,{"$error":"#DIV/0!"},null,-99,{"$error":"#DIV/0!"},null,-99,{"$error":"#DIV/0!"},{"$error":"#DIV/0!"},null,null,null,null,null,null,null,null,null,null,{"$error":"#DIV/0!"},{"$error":"#DIV/0!"},{"$f":"AW143/E$13","v":{"$error":"#DIV/0!"}}]
[null,null,null,null,17.75,{"$error":"#DIV/0!"},null,-99,{"$error":"#DIV/0!"},null,-99,{"$error":"#DIV/0!"},null,-99,{"$error":"#DIV/0!"},null,-99,{"$error":"#DIV/0!"},null,-99,{"$error":"#DIV/0!"},null,-99,{"$error":"#DIV/0!"},null,-99,{"$error":"#DIV/0!"},null,-99,{"$error":"#DIV/0!"},null,-99,{"$error":"#DIV/0!"},null,-99,{"$error":"#DIV/0!"},{"$error":"#DIV/0!"},null,null,null,null,null,null,null,null,null,null,{"$error":"#DIV/0!"},{"$error":"#DIV/0!"},{"$error":"#DIV/0!"}]
[null,null,null,null,18,{"$error":"#DIV/0!"},null,-99,{"$error":"#DIV/0!"},null,-99,{"$error":"#DIV/0!"},null,-99,{"$error":"#DIV/0!"},null,-99,{"$error":"#DIV/0!"},null,-99,{"$error":"#DIV/0!"},null,-99,{"$error":"#DIV/0!"},null,-99,{"$error":"#DIV/0!"},null,-99,{"$error":"#DIV/0!"},null,-99,{"$error":"#DIV/0!"},null,-99,{"$error":"#DIV/0!"},{"$error":"#DIV/0!"},null,null,null,null,null,null,null,null,null,null,{"$error":"#DIV/0!"},{"$error":"#DIV/0!"},{"$error":"#DIV/0!"}]
[null,null,null,null,18.25,{"$error":"#DIV/0!"},null,-99,{"$error":"#DIV/0!"},null,-99,{"$error":"#DIV/0!"},null,-99,{"$error":"#DIV/0!"},null,-99,{"$error":"#DIV/0!"},null,-99,{"$error":"#DIV/0!"},null,-99,{"$error":"#DIV/0!"},null,-99,{"$error":"#DIV/0!"},null,-99,{"$error":"#DIV/0!"},null,-99,{"$error":"#DIV/0!"},null,-99,{"$error":"#DIV/0!"},{"$error":"#DIV/0!"},null,null,null,null,null,null,null,null,null,null,{"$error":"#DIV/0!"},{"$error":"#DIV/0!"},{"$error":"#DIV/0!"}]
[null,null,null,null,18.5,{"$error":"#DIV/0!"},null,-99,{"$error":"#DIV/0!"},null,-99,{"$error":"#DIV/0!"},null,-99,{"$error":"#DIV/0!"},null,-99,{"$error":"#DIV/0!"},null,-99,{"$error":"#DIV/0!"},null,-99,{"$error":"#DIV/0!"},null,-99,{"$error":"#DIV/0!"},null,-99,{"$error":"#DIV/0!"},null,-99,{"$error":"#DIV/0!"},null,-99,{"$error":"#DIV/0!"},{"$error":"#DIV/0!"},null,null,null,null,null,null,null,null,null,null,{"$error":"#DIV/0!"},{"$error":"#DIV/0!"},{"$error":"#DIV/0!"}]
[null,null,null,null,18.75,{"$error":"#DIV/0!"},null,-99,{"$error":"#DIV/0!"},null,-99,{"$error":"#DIV/0!"},null,-99,{"$error":"#DIV/0!"},null,-99,{"$error":"#DIV/0!"},null,-99,{"$error":"#DIV/0!"},null,-99,{"$error":"#DIV/0!"},null,-99,{"$error":"#DIV/0!"},null,-99,{"$error":"#DIV/0!"},null,-99,{"$error":"#DIV/0!"},null,-99,{"$error":"#DIV/0!"},{"$error":"#DIV/0!"},null,null,null,null,null,null,null,null,null,null,{"$error":"#DIV/0!"},{"$error":"#DIV/0!"},{"$error":"#DIV/0!"}]
[null,null,null,null,19,{"$error":"#DIV/0!"},null,-99,{"$error":"#DIV/0!"},null,-99,{"$error":"#DIV/0!"},null,-99,{"$error":"#DIV/0!"},null,-99,{"$error":"#DIV/0!"},null,-99,{"$error":"#DIV/0!"},null,-99,{"$error":"#DIV/0!"},null,-99,{"$error":"#DIV/0!"},null,-99,{"$error":"#DIV/0!"},null,-99,{"$error":"#DIV/0!"},null,-99,{"$error":"#DIV/0!"},{"$error":"#DIV/0!"},null,null,null,null,null,null,null,null,null,null,{"$error":"#DIV/0!"},{"$error":"#DIV/0!"},{"$error":"#DIV/0!"}]
[null,null,null,null,19.25,{"$error":"#DIV/0!"},null,-99,{"$error":"#DIV/0!"},null,-99,{"$error":"#DIV/0!"},null,-99,{"$error":"#DIV/0!"},null,-99,{"$error":"#DIV/0!"},null,-99,{"$error":"#DIV/0!"},null,-99,{"$error":"#DIV/0!"},null,-99,{"$error":"#DIV/0!"},null,-99,{"$error":"#DIV/0!"},null,-99,{"$error":"#DIV/0!"},null,-99,{"$error":"#DIV/0!"},{"$error":"#DIV/0!"},null,null,null,null,null,null,null,null,null,null,{"$error":"#DIV/0!"},{"$error":"#DIV/0!"},{"$error":"#DIV/0!"}]
[null,null,null,null,19.5,{"$error":"#DIV/0!"},null,-99,{"$error":"#DIV/0!"},null,-99,{"$error":"#DIV/0!"},null,-99,{"$error":"#DIV/0!"},null,-99,{"$error":"#DIV/0!"},null,-99,{"$error":"#DIV/0!"},null,-99,{"$error":"#DIV/0!"},null,-99,{"$error":"#DIV/0!"},null,-99,{"$error":"#DIV/0!"},null,-99,{"$error":"#DIV/0!"},null,-99,{"$error":"#DIV/0!"},{"$error":"#DIV/0!"},null,null,null,null,null,null,null,null,null,null,{"$error":"#DIV/0!"},{"$error":"#DIV/0!"},{"$error":"#DIV/0!"}]
[null,null,null,null,19.75,{"$error":"#DIV/0!"},null,-99,{"$error":"#DIV/0!"},null,-99,{"$error":"#DIV/0!"},null,-99,{"$error":"#DIV/0!"},null,-99,{"$error":"#DIV/0!"},null,-99,{"$error":"#DIV/0!"},null,-99,{"$error":"#DIV/0!"},null,-99,{"$error":"#DIV/0!"},null,-99,{"$error":"#DIV/0!"},null,-99,{"$error":"#DIV/0!"},null,-99,{"$error":"#DIV/0!"},{"$error":"#DIV/0!"},null,null,null,null,null,null,null,null,null,null,{"$error":"#DIV/0!"},{"$error":"#DIV/0!"},{"$error":"#DIV/0!"}]
[null,null,null,null,20,{"$error":"#DIV/0!"},null,-99,{"$error":"#DIV/0!"},null,-99,{"$error":"#DIV/0!"},null,-99,{"$error":"#DIV/0!"},null,-99,{"$error":"#DIV/0!"},null,-99,{"$error":"#DIV/0!"},null,-99,{"$error":"#DIV/0!"},null,-99,{"$error":"#DIV/0!"},null,-99,{"$error":"#DIV/0!"},null,-99,{"$error":"#DIV/0!"},null,-99,{"$error":"#DIV/0!"},{"$error":"#DIV/0!"},null,null,null,null,null,null,null,null,null,null,{"$error":"#DIV/0!"},{"$error":"#DIV/0!"},{"$error":"#DIV/0!"}]
[null,null,null,null,20.25,{"$error":"#DIV/0!"},null,-99,{"$error":"#DIV/0!"},null,-99,{"$error":"#DIV/0!"},null,-99,{"$error":"#DIV/0!"},null,-99,{"$error":"#DIV/0!"},null,-99,{"$error":"#DIV/0!"},null,-99,{"$error":"#DIV/0!"},null,-99,{"$error":"#DIV/0!"},null,-99,{"$error":"#DIV/0!"},null,-99,{"$error":"#DIV/0!"},null,-99,{"$error":"#DIV/0!"},{"$error":"#DIV/0!"},null,null,null,null,null,null,null,null,null,null,{"$error":"#DIV/0!"},{"$error":"#DIV/0!"},{"$error":"#DIV/0!"}]
[null,null,null,null,20.5,{"$error":"#DIV/0!"},null,-99,{"$error":"#DIV/0!"},null,-99,{"$error":"#DIV/0!"},null,-99,{"$error":"#DIV/0!"},null,-99,{"$error":"#DIV/0!"},null,-99,{"$error":"#DIV/0!"},null,-99,{"$error":"#DIV/0!"},null,-99,{"$error":"#DIV/0!"},null,-99,{"$error":"#DIV/0!"},null,-99,{"$error":"#DIV/0!"},null,-99,{"$error":"#DIV/0!"},{"$error":"#DIV/0!"},null,null,null,null,null,null,null,null,null,null,{"$error":"#DIV/0!"},{"$error":"#DIV/0!"},{"$error":"#DIV/0!"}]
[null,null,null,null,20.75,{"$error":"#DIV/0!"},null,-99,{"$error":"#DIV/0!"},null,-99,{"$error":"#DIV/0!"},null,-99,{"$error":"#DIV/0!"},null,-99,{"$error":"#DIV/0!"},null,-99,{"$error":"#DIV/0!"},null,-99,{"$error":"#DIV/0!"},null,-99,{"$error":"#DIV/0!"},null,-99,{"$error":"#DIV/0!"},null,-99,{"$error":"#DIV/0!"},null,-99,{"$error":"#DIV/0!"},{"$error":"#DIV/0!"},null,null,null,null,null,null,null,null,null,null,{"$error":"#DIV/0!"},{"$error":"#DIV/0!"},{"$error":"#DIV/0!"}]
[null,null,null,null,21,{"$error":"#DIV/0!"},null,-99,{"$error":"#DIV/0!"},null,-99,{"$error":"#DIV/0!"},null,-99,{"$error":"#DIV/0!"},null,-99,{"$error":"#DIV/0!"},null,-99,{"$error":"#DIV/0!"},null,-99,{"$error":"#DIV/0!"},null,-99,{"$error":"#DIV/0!"},null,-99,{"$error":"#DIV/0!"},null,-99,{"$error":"#DIV/0!"},null,-99,{"$error":"#DIV/0!"},{"$error":"#DIV/0!"},null,null,null,null,null,null,null,null,null,null,{"$error":"#DIV/0!"},{"$error":"#DIV/0!"},{"$error":"#DIV/0!"}]
[null,null,null,null,21.25,{"$error":"#DIV/0!"},null,-99,{"$error":"#DIV/0!"},null,-99,{"$error":"#DIV/0!"},null,-99,{"$error":"#DIV/0!"},null,-99,{"$error":"#DIV/0!"},null,-99,{"$error":"#DIV/0!"},null,-99,{"$error":"#DIV/0!"},null,-99,{"$error":"#DIV/0!"},null,-99,{"$error":"#DIV/0!"},null,-99,{"$error":"#DIV/0!"},null,-99,{"$error":"#DIV/0!"},{"$error":"#DIV/0!"},null,null,null,null,null,null,null,null,null,null,{"$error":"#DIV/0!"},{"$error":"#DIV/0!"},{"$error":"#DIV/0!"}]
[null,null,null,null,21.5,{"$error":"#DIV/0!"},null,-99,{"$error":"#DIV/0!"},null,-99,{"$error":"#DIV/0!"},null,-99,{"$error":"#DIV/0!"},null,-99,{"$error":"#DIV/0!"},null,-99,{"$error":"#DIV/0!"},null,-99,{"$error":"#DIV/0!"},null,-99,{"$error":"#DIV/0!"},null,-99,{"$error":"#DIV/0!"},null,-99,{"$error":"#DIV/0!"},null,-99,{"$error":"#DIV/0!"},{"$error":"#DIV/0!"},null,null,null,null,null,null,null,null,null,null,{"$error":"#DIV/0!"},{"$error":"#DIV/0!"},{"$error":"#DIV/0!"}]
[null,null,null,null,21.75,{"$error":"#DIV/0!"},null,-99,{"$error":"#DIV/0!"},null,-99,{"$error":"#DIV/0!"},null,-99,{"$error":"#DIV/0!"},null,-99,{"$error":"#DIV/0!"},null,-99,{"$error":"#DIV/0!"},null,-99,{"$error":"#DIV/0!"},null,-99,{"$error":"#DIV/0!"},null,-99,{"$error":"#DIV/0!"},null,-99,{"$error":"#DIV/0!"},null,-99,{"$error":"#DIV/0!"},{"$error":"#DIV/0!"},null,null,null,null,null,null,null,null,null,null,{"$error":"#DIV/0!"},{"$error":"#DIV/0!"},{"$error":"#DIV/0!"}]
[null,null,null,null,22,{"$error":"#DIV/0!"},null,-99,{"$error":"#DIV/0!"},null,-99,{"$error":"#DIV/0!"},null,-99,{"$error":"#DIV/0!"},null,-99,{"$error":"#DIV/0!"},null,-99,{"$error":"#DIV/0!"},null,-99,{"$error":"#DIV/0!"},null,-99,{"$error":"#DIV/0!"},null,-99,{"$error":"#DIV/0!"},null,-99,{"$error":"#DIV/0!"},null,-99,{"$error":"#DIV/0!"},{"$error":"#DIV/0!"},null,null,null,null,null,null,null,null,null,null,{"$error":"#DIV/0!"},{"$error":"#DIV/0!"},{"$error":"#DIV/0!"}]
[null,null,null,null,22.25,{"$error":"#DIV/0!"},null,-99,{"$error":"#DIV/0!"},null,-99,{"$error":"#DIV/0!"},null,-99,{"$error":"#DIV/0!"},null,-99,{"$error":"#DIV/0!"},null,-99,{"$error":"#DIV/0!"},null,-99,{"$error":"#DIV/0!"},null,-99,{"$error":"#DIV/0!"},null,-99,{"$error":"#DIV/0!"},null,-99,{"$error":"#DIV/0!"},null,-99,{"$error":"#DIV/0!"},{"$error":"#DIV/0!"},null,null,null,null,null,null,null,null,null,null,{"$error":"#DIV/0!"},{"$error":"#DIV/0!"},{"$error":"#DIV/0!"}]
[null,null,null,null,22.5,{"$error":"#DIV/0!"},null,-99,{"$error":"#DIV/0!"},null,-99,{"$error":"#DIV/0!"},null,-99,{"$error":"#DIV/0!"},null,-99,{"$error":"#DIV/0!"},null,-99,{"$error":"#DIV/0!"},null,-99,{"$error":"#DIV/0!"},null,-99,{"$error":"#DIV/0!"},null,-99,{"$error":"#DIV/0!"},null,-99,{"$error":"#DIV/0!"},null,-99,{"$error":"#DIV/0!"},{"$error":"#DIV/0!"},null,null,null,null,null,null,null,null,null,null,{"$error":"#DIV/0!"},{"$error":"#DIV/0!"},{"$error":"#DIV/0!"}]
[null,null,null,null,22.75,{"$error":"#DIV/0!"},null,-99,{"$error":"#DIV/0!"},null,-99,{"$error":"#DIV/0!"},null,-99,{"$error":"#DIV/0!"},null,-99,{"$error":"#DIV/0!"},null,-99,{"$error":"#DIV/0!"},null,-99,{"$error":"#DIV/0!"},null,-99,{"$error":"#DIV/0!"},null,-99,{"$error":"#DIV/0!"},null,-99,{"$error":"#DIV/0!"},null,-99,{"$error":"#DIV/0!"},{"$error":"#DIV/0!"},null,null,null,null,null,null,null,null,null,null,{"$error":"#DIV/0!"},{"$error":"#DIV/0!"},{"$error":"#DIV/0!"}]
[null,null,null,null,23,{"$error":"#DIV/0!"},null,-99,{"$error":"#DIV/0!"},null,-99,{"$error":"#DIV/0!"},null,-99,{"$error":"#DIV/0!"},null,-99,{"$error":"#DIV/0!"},null,-99,{"$error":"#DIV/0!"},null,-99,{"$error":"#DIV/0!"},null,-99,{"$error":"#DIV/0!"},null,-99,{"$error":"#DIV/0!"},null,-99,{"$error":"#DIV/0!"},null,-99,{"$error":"#DIV/0!"},{"$error":"#DIV/0!"},null,null,null,null,null,null,null,null,null,null,{"$error":"#DIV/0!"},{"$error":"#DIV/0!"},{"$error":"#DIV/0!"}]
[null,null,null,null,23.25,{"$error":"#DIV/0!"},null,-99,{"$error":"#DIV/0!"},null,-99,{"$error":"#DIV/0!"},null,-99,{"$error":"#DIV/0!"},null,-99,{"$error":"#DIV/0!"},null,-99,{"$error":"#DIV/0!"},null,-99,{"$error":"#DIV/0!"},null,-99,{"$error":"#DIV/0!"},null,-99,{"$error":"#DIV/0!"},null,-99,{"$error":"#DIV/0!"},null,-99,{"$error":"#DIV/0!"},{"$error":"#DIV/0!"},null,null,null,null,null,null,null,null,null,null,{"$error":"#DIV/0!"},{"$error":"#DIV/0!"},{"$error":"#DIV/0!"}]
[null,null,null,null,23.5,{"$error":"#DIV/0!"},null,-99,{"$error":"#DIV/0!"},null,-99,{"$error":"#DIV/0!"},null,-99,{"$error":"#DIV/0!"},null,-99,{"$error":"#DIV/0!"},null,-99,{"$error":"#DIV/0!"},null,-99,{"$error":"#DIV/0!"},null,-99,{"$error":"#DIV/0!"},null,-99,{"$error":"#DIV/0!"},null,-99,{"$error":"#DIV/0!"},null,-99,{"$error":"#DIV/0!"},{"$error":"#DIV/0!"},null,null,null,null,null,null,null,null,null,null,{"$error":"#DIV/0!"},{"$error":"#DIV/0!"},{"$error":"#DIV/0!"}]
[null,null,null,null,23.75,{"$error":"#DIV/0!"},null,-99,{"$error":"#DIV/0!"},null,-99,{"$error":"#DIV/0!"},null,-99,{"$error":"#DIV/0!"},null,-99,{"$error":"#DIV/0!"},null,-99,{"$error":"#DIV/0!"},null,-99,{"$error":"#DIV/0!"},null,-99,{"$error":"#DIV/0!"},null,-99,{"$error":"#DIV/0!"},null,-99,{"$error":"#DIV/0!"},null,-99,{"$error":"#DIV/0!"},{"$error":"#DIV/0!"},null,null,null,null,null,null,null,null,null,null,{"$error":"#DIV/0!"},{"$error":"#DIV/0!"},{"$error":"#DIV/0!"}]
[null,null,null,null,24,{"$error":"#DIV/0!"},null,-99,{"$error":"#DIV/0!"},null,-99,{"$error":"#DIV/0!"},null,-99,{"$error":"#DIV/0!"},null,-99,{"$error":"#DIV/0!"},null,-99,{"$error":"#DIV/0!"},null,-99,{"$error":"#DIV/0!"},null,-99,{"$error":"#DIV/0!"},null,-99,{"$error":"#DIV/0!"},null,-99,{"$error":"#DIV/0!"},null,-99,{"$error":"#DIV/0!"},{"$error":"#DIV/0!"},null,null,null,null,null,null,null,null,null,null,{"$error":"#DIV/0!"},{"$error":"#DIV/0!"},{"$error":"#DIV/0!"}]
[null,null,null,null,24.25,{"$error":"#DIV/0!"},null,-99,{"$error":"#DIV/0!"},null,-99,{"$error":"#DIV/0!"},null,-99,{"$error":"#DIV/0!"},null,-99,{"$error":"#DIV/0!"},null,-99,{"$error":"#DIV/0!"},null,-99,{"$error":"#DIV/0!"},null,-99,{"$error":"#DIV/0!"},null,-99,{"$error":"#DIV/0!"},null,-99,{"$error":"#DIV/0!"},null,-99,{"$error":"#DIV/0!"},{"$error":"#DIV/0!"},null,null,null,null,null,null,null,null,null,null,{"$error":"#DIV/0!"},{"$error":"#DIV/0!"},{"$error":"#DIV/0!"}]
[null,null,null,null,24.5,{"$error":"#DIV/0!"},null,-99,{"$error":"#DIV/0!"},null,-99,{"$error":"#DIV/0!"},null,-99,{"$error":"#DIV/0!"},null,-99,{"$error":"#DIV/0!"},null,-99,{"$error":"#DIV/0!"},null,-99,{"$error":"#DIV/0!"},null,-99,{"$error":"#DIV/0!"},null,-99,{"$error":"#DIV/0!"},null,-99,{"$error":"#DIV/0!"},null,-99,{"$error":"#DIV/0!"},{"$error":"#DIV/0!"},null,null,null,null,null,null,null,null,null,null,{"$error":"#DIV/0!"},{"$error":"#DIV/0!"},{"$error":"#DIV/0!"}]
[null,null,null,null,24.75,{"$error":"#DIV/0!"},null,-99,{"$error":"#DIV/0!"},null,-99,{"$error":"#DIV/0!"},null,-99,{"$error":"#DIV/0!"},null,-99,{"$error":"#DIV/0!"},null,-99,{"$error":"#DIV/0!"},null,-99,{"$error":"#DIV/0!"},null,-99,{"$error":"#DIV/0!"},null,-99,{"$error":"#DIV/0!"},null,-99,{"$error":"#DIV/0!"},null,-99,{"$error":"#DIV/0!"},{"$error":"#DIV/0!"},null,null,null,null,null,null,null,null,null,null,{"$error":"#DIV/0!"},{"$error":"#DIV/0!"},{"$error":"#DIV/0!"}]
[null,null,null,null,25,{"$error":"#DIV/0!"},null,-99,{"$error":"#DIV/0!"},null,-99,{"$error":"#DIV/0!"},null,-99,{"$error":"#DIV/0!"},null,-99,{"$error":"#DIV/0!"},null,-99,{"$error":"#DIV/0!"},null,-99,{"$error":"#DIV/0!"},null,-99,{"$error":"#DIV/0!"},null,-99,{"$error":"#DIV/0!"},null,-99,{"$error":"#DIV/0!"},null,-99,{"$error":"#DIV/0!"},{"$error":"#DIV/0!"},null,null,null,null,null,null,null,null,null,null,{"$error":"#DIV/0!"},{"$error":"#DIV/0!"},{"$error":"#DIV/0!"}]
[null,null,null,null,25.25,{"$error":"#DIV/0!"},null,-99,{"$error":"#DIV/0!"},null,-99,{"$error":"#DIV/0!"},null,-99,{"$error":"#DIV/0!"},null,-99,{"$error":"#DIV/0!"},null,-99,{"$error":"#DIV/0!"},null,-99,{"$error":"#DIV/0!"},null,-99,{"$error":"#DIV/0!"},null,-99,{"$error":"#DIV/0!"},null,-99,{"$error":"#DIV/0!"},null,-99,{"$error":"#DIV/0!"},{"$error":"#DIV/0!"},null,null,null,null,null,null,null,null,null,null,{"$error":"#DIV/0!"},{"$error":"#DIV/0!"},{"$error":"#DIV/0!"}]
[null,null,null,null,25.5,{"$error":"#DIV/0!"},null,-99,{"$error":"#DIV/0!"},null,-99,{"$error":"#DIV/0!"},null,-99,{"$error":"#DIV/0!"},null,-99,{"$error":"#DIV/0!"},null,-99,{"$error":"#DIV/0!"},null,-99,{"$error":"#DIV/0!"},null,-99,{"$error":"#DIV/0!"},null,-99,{"$error":"#DIV/0!"},null,-99,{"$error":"#DIV/0!"},null,-99,{"$error":"#DIV/0!"},{"$error":"#DIV/0!"},null,null,null,null,null,null,null,null,null,null,{"$error":"#DIV/0!"},{"$error":"#DIV/0!"},{"$error":"#DIV/0!"}]
[null,null,null,null,25.75,{"$error":"#DIV/0!"},null,-99,{"$error":"#DIV/0!"},null,-99,{"$error":"#DIV/0!"},null,-99,{"$error":"#DIV/0!"},null,-99,{"$error":"#DIV/0!"},null,-99,{"$error":"#DIV/0!"},null,-99,{"$error":"#DIV/0!"},null,-99,{"$error":"#DIV/0!"},null,-99,{"$error":"#DIV/0!"},null,-99,{"$error":"#DIV/0!"},null,-99,{"$error":"#DIV/0!"},{"$error":"#DIV/0!"},null,null,null,null,null,null,null,null,null,null,{"$error":"#DIV/0!"},{"$error":"#DIV/0!"},{"$error":"#DIV/0!"}]
[null,null,null,null,26,{"$error":"#DIV/0!"},null,-99,{"$error":"#DIV/0!"},null,-99,{"$error":"#DIV/0!"},null,-99,{"$error":"#DIV/0!"},null,-99,{"$error":"#DIV/0!"},null,-99,{"$error":"#DIV/0!"},null,-99,{"$error":"#DIV/0!"},null,-99,{"$error":"#DIV/0!"},null,-99,{"$error":"#DIV/0!"},null,-99,{"$error":"#DIV/0!"},null,-99,{"$error":"#DIV/0!"},{"$error":"#DIV/0!"},null,null,null,null,null,null,null,null,null,null,{"$error":"#DIV/0!"},{"$error":"#DIV/0!"},{"$error":"#DIV/0!"}]
[null,null,null,null,26.25,{"$error":"#DIV/0!"},null,-99,{"$error":"#DIV/0!"},null,-99,{"$error":"#DIV/0!"},null,-99,{"$error":"#DIV/0!"},null,-99,{"$error":"#DIV/0!"},null,-99,{"$error":"#DIV/0!"},null,-99,{"$error":"#DIV/0!"},null,-99,{"$error":"#DIV/0!"},null,-99,{"$error":"#DIV/0!"},null,-99,{"$error":"#DIV/0!"},null,-99,{"$error":"#DIV/0!"},{"$error":"#DIV/0!"},null,null,null,null,null,null,null,null,null,null,{"$error":"#DIV/0!"},{"$error":"#DIV/0!"},{"$error":"#DIV/0!"}]
[null,null,null,null,26.5,{"$error":"#DIV/0!"},null,-99,{"$error":"#DIV/0!"},null,-99,{"$error":"#DIV/0!"},null,-99,{"$error":"#DIV/0!"},null,-99,{"$error":"#DIV/0!"},null,-99,{"$error":"#DIV/0!"},null,-99,{"$error":"#DIV/0!"},null,-99,{"$error":"#DIV/0!"},null,-99,{"$error":"#DIV/0!"},null,-99,{"$error":"#DIV/0!"},null,-99,{"$error":"#DIV/0!"},{"$error":"#DIV/0!"},null,null,null,null,null,null,null,null,null,null,{"$error":"#DIV/0!"},{"$error":"#DIV/0!"},{"$error":"#DIV/0!"}]
[null,null,null,null,26.75,{"$error":"#DIV/0!"},null,-99,{"$error":"#DIV/0!"},null,-99,{"$error":"#DIV/0!"},null,-99,{"$error":"#DIV/0!"},null,-99,{"$error":"#DIV/0!"},null,-99,{"$error":"#DIV/0!"},null,-99,{"$error":"#DIV/0!"},null,-99,{"$error":"#DIV/0!"},null,-99,{"$error":"#DIV/0!"},null,-99,{"$error":"#DIV/0!"},null,-99,{"$error":"#DIV/0!"},{"$error":"#DIV/0!"},null,null,null,null,null,null,null,null,null,null,{"$error":"#DIV/0!"},{"$error":"#DIV/0!"},{"$error":"#DIV/0!"}]
[null,null,null,null,27,{"$error":"#DIV/0!"},null,-99,{"$error":"#DIV/0!"},null,-99,{"$error":"#DIV/0!"},null,-99,{"$error":"#DIV/0!"},null,-99,{"$error":"#DIV/0!"},null,-99,{"$error":"#DIV/0!"},null,-99,{"$error":"#DIV/0!"},null,-99,{"$error":"#DIV/0!"},null,-99,{"$error":"#DIV/0!"},null,-99,{"$error":"#DIV/0!"},null,-99,{"$error":"#DIV/0!"},{"$error":"#DIV/0!"},null,null,null,null,null,null,null,null,null,null,{"$error":"#DIV/0!"},{"$error":"#DIV/0!"},{"$error":"#DIV/0!"}]
[null,null,null,null,27.25,{"$error":"#DIV/0!"},null,-99,{"$error":"#DIV/0!"},null,-99,{"$error":"#DIV/0!"},null,-99,{"$error":"#DIV/0!"},null,-99,{"$error":"#DIV/0!"},null,-99,{"$error":"#DIV/0!"},null,-99,{"$error":"#DIV/0!"},null,-99,{"$error":"#DIV/0!"},null,-99,{"$error":"#DIV/0!"},null,-99,{"$error":"#DIV/0!"},null,-99,{"$error":"#DIV/0!"},{"$error":"#DIV/0!"},null,null,null,null,null,null,null,null,null,null,{"$error":"#DIV/0!"},{"$error":"#DIV/0!"},{"$error":"#DIV/0!"}]
[null,null,null,null,27.5,{"$error":"#DIV/0!"},null,-99,{"$error":"#DIV/0!"},null,-99,{"$error":"#DIV/0!"},null,-99,{"$error":"#DIV/0!"},null,-99,{"$error":"#DIV/0!"},null,-99,{"$error":"#DIV/0!"},null,-99,{"$error":"#DIV/0!"},null,-99,{"$error":"#DIV/0!"},null,-99,{"$error":"#DIV/0!"},null,-99,{"$error":"#DIV/0!"},null,-99,{"$error":"#DIV/0!"},{"$error":"#DIV/0!"},null,null,null,null,null,null,null,null,null,null,{"$error":"#DIV/0!"},{"$error":"#DIV/0!"},{"$error":"#DIV/0!"}]
[null,null,null,null,27.75,{"$error":"#DIV/0!"},null,-99,{"$error":"#DIV/0!"},null,-99,{"$error":"#DIV/0!"},null,-99,{"$error":"#DIV/0!"},null,-99,{"$error":"#DIV/0!"},null,-99,{"$error":"#DIV/0!"},null,-99,{"$error":"#DIV/0!"},null,-99,{"$error":"#DIV/0!"},null,-99,{"$error":"#DIV/0!"},null,-99,{"$error":"#DIV/0!"},null,-99,{"$error":"#DIV/0!"},{"$error":"#DIV/0!"},null,null,null,null,null,null,null,null,null,null,{"$error":"#DIV/0!"},{"$error":"#DIV/0!"},{"$error":"#DIV/0!"}]
[null,null,null,null,28,{"$error":"#DIV/0!"},null,-99,{"$error":"#DIV/0!"},null,-99,{"$error":"#DIV/0!"},null,-99,{"$error":"#DIV/0!"},null,-99,{"$error":"#DIV/0!"},null,-99,{"$error":"#DIV/0!"},null,-99,{"$error":"#DIV/0!"},null,-99,{"$error":"#DIV/0!"},null,-99,{"$error":"#DIV/0!"},null,-99,{"$error":"#DIV/0!"},null,-99,{"$error":"#DIV/0!"},{"$error":"#DIV/0!"},null,null,null,null,null,null,null,null,null,null,{"$error":"#DIV/0!"},{"$error":"#DIV/0!"},{"$error":"#DIV/0!"}]
[null,null,null,null,28.25,{"$error":"#DIV/0!"},null,-99,{"$error":"#DIV/0!"},null,-99,{"$error":"#DIV/0!"},null,-99,{"$error":"#DIV/0!"},null,-99,{"$error":"#DIV/0!"},null,-99,{"$error":"#DIV/0!"},null,-99,{"$error":"#DIV/0!"},null,-99,{"$error":"#DIV/0!"},null,-99,{"$error":"#DIV/0!"},null,-99,{"$error":"#DIV/0!"},null,-99,{"$error":"#DIV/0!"},{"$error":"#DIV/0!"},null,null,null,null,null,null,null,null,null,null,{"$error":"#DIV/0!"},{"$error":"#DIV/0!"},{"$error":"#DIV/0!"}]
[null,null,null,null,28.5,{"$error":"#DIV/0!"},null,-99,{"$error":"#DIV/0!"},null,-99,{"$error":"#DIV/0!"},null,-99,{"$error":"#DIV/0!"},null,-99,{"$error":"#DIV/0!"},null,-99,{"$error":"#DIV/0!"},null,-99,{"$error":"#DIV/0!"},null,-99,{"$error":"#DIV/0!"},null,-99,{"$error":"#DIV/0!"},null,-99,{"$error":"#DIV/0!"},null,-99,{"$error":"#DIV/0!"},{"$error":"#DIV/0!"},null,null,null,null,null,null,null,null,null,null,{"$error":"#DIV/0!"},{"$error":"#DIV/0!"},{"$error":"#DIV/0!"}]
[null,null,null,null,28.75,{"$error":"#DIV/0!"},null,-99,{"$error":"#DIV/0!"},null,-99,{"$error":"#DIV/0!"},null,-99,{"$error":"#DIV/0!"},null,-99,{"$error":"#DIV/0!"},null,-99,{"$error":"#DIV/0!"},null,-99,{"$error":"#DIV/0!"},null,-99,{"$error":"#DIV/0!"},null,-99,{"$error":"#DIV/0!"},null,-99,{"$error":"#DIV/0!"},null,-99,{"$error":"#DIV/0!"},{"$error":"#DIV/0!"},null,null,null,null,null,null,null,null,null,null,{"$error":"#DIV/0!"},{"$error":"#DIV/0!"},{"$error":"#DIV/0!"}]
[null,null,null,null,29,{"$error":"#DIV/0!"},null,-99,{"$error":"#DIV/0!"},null,-99,{"$error":"#DIV/0!"},null,-99,{"$error":"#DIV/0!"},null,-99,{"$error":"#DIV/0!"},null,-99,{"$error":"#DIV/0!"},null,-99,{"$error":"#DIV/0!"},null,-99,{"$error":"#DIV/0!"},null,-99,{"$error":"#DIV/0!"},null,-99,{"$error":"#DIV/0!"},null,-99,{"$error":"#DIV/0!"},{"$error":"#DIV/0!"},null,null,null,null,null,null,null,null,null,null,{"$error":"#DIV/0!"},{"$error":"#DIV/0!"},{"$error":"#DIV/0!"}]
[null,null,null,null,29.25,{"$error":"#DIV/0!"},null,-99,{"$error":"#DIV/0!"},null,-99,{"$error":"#DIV/0!"},null,-99,{"$error":"#DIV/0!"},null,-99,{"$error":"#DIV/0!"},null,-99,{"$error":"#DIV/0!"},null,-99,{"$error":"#DIV/0!"},null,-99,{"$error":"#DIV/0!"},null,-99,{"$error":"#DIV/0!"},null,-99,{"$error":"#DIV/0!"},null,-99,{"$error":"#DIV/0!"},{"$error":"#DIV/0!"},null,null,null,null,null,null,null,null,null,null,{"$error":"#DIV/0!"},{"$error":"#DIV/0!"},{"$error":"#DIV/0!"}]
[null,null,null,null,29.5,{"$error":"#DIV/0!"},null,-99,{"$error":"#DIV/0!"},null,-99,{"$error":"#DIV/0!"},null,-99,{"$error":"#DIV/0!"},null,-99,{"$error":"#DIV/0!"},null,-99,{"$error":"#DIV/0!"},null,-99,{"$error":"#DIV/0!"},null,-99,{"$error":"#DIV/0!"},null,-99,{"$error":"#DIV/0!"},null,-99,{"$error":"#DIV/0!"},null,-99,{"$error":"#DIV/0!"},{"$error":"#DIV/0!"},null,null,null,null,null,null,null,null,null,null,{"$error":"#DIV/0!"},{"$error":"#DIV/0!"},{"$error":"#DIV/0!"}]
[null,null,null,null,29.75,{"$error":"#DIV/0!"},null,-99,{"$error":"#DIV/0!"},null,-99,{"$error":"#DIV/0!"},null,-99,{"$error":"#DIV/0!"},null,-99,{"$error":"#DIV/0!"},null,-99,{"$error":"#DIV/0!"},null,-99,{"$error":"#DIV/0!"},null,-99,{"$error":"#DIV/0!"},null,-99,{"$error":"#DIV/0!"},null,-99,{"$error":"#DIV/0!"},null,-99,{"$error":"#DIV/0!"},{"$error":"#DIV/0!"},null,null,null,null,null,null,null,null,null,null,{"$error":"#DIV/0!"},{"$error":"#DIV/0!"},{"$error":"#DIV/0!"}]
[null,null,null,null,30,{"$error":"#DIV/0!"},null,-99,{"$error":"#DIV/0!"},null,-99,{"$error":"#DIV/0!"},null,-99,{"$error":"#DIV/0!"},null,-99,{"$error":"#DIV/0!"},null,-99,{"$error":"#DIV/0!"},null,-99,{"$error":"#DIV/0!"},null,-99,{"$error":"#DIV/0!"},null,-99,{"$error":"#DIV/0!"},null,-99,{"$error":"#DIV/0!"},null,-99,{"$error":"#DIV/0!"},{"$error":"#DIV/0!"},null,null,null,null,null,null,null,null,null,null,{"$error":"#DIV/0!"},{"$error":"#DIV/0!"},{"$error":"#DIV/0!"}]
[null,null,null,null,30.25,{"$error":"#DIV/0!"},null,-99,{"$error":"#DIV/0!"},null,-99,{"$error":"#DIV/0!"},null,-99,{"$error":"#DIV/0!"},null,-99,{"$error":"#DIV/0!"},null,-99,{"$error":"#DIV/0!"},null,-99,{"$error":"#DIV/0!"},null,-99,{"$error":"#DIV/0!"},null,-99,{"$error":"#DIV/0!"},null,-99,{"$error":"#DIV/0!"},null,-99,{"$error":"#DIV/0!"},{"$error":"#DIV/0!"},null,null,null,null,null,null,null,null,null,null,{"$error":"#DIV/0!"},{"$error":"#DIV/0!"},{"$error":"#DIV/0!"}]
[null,null,null,null,30.5,{"$error":"#DIV/0!"},null,-99,{"$error":"#DIV/0!"},null,-99,{"$error":"#DIV/0!"},null,-99,{"$error":"#DIV/0!"},null,-99,{"$error":"#DIV/0!"},null,-99,{"$error":"#DIV/0!"},null,-99,{"$error":"#DIV/0!"},null,-99,{"$error":"#DIV/0!"},null,-99,{"$error":"#DIV/0!"},null,-99,{"$error":"#DIV/0!"},null,-99,{"$error":"#DIV/0!"},{"$error":"#DIV/0!"},null,null,null,null,null,null,null,null,null,null,{"$error":"#DIV/0!"},{"$error":"#DIV/0!"},{"$error":"#DIV/0!"}]
[null,null,null,null,30.75,{"$error":"#DIV/0!"},null,-99,{"$error":"#DIV/0!"},null,-99,{"$error":"#DIV/0!"},null,-99,{"$error":"#DIV/0!"},null,-99,{"$error":"#DIV/0!"},null,-99,{"$error":"#DIV/0!"},null,-99,{"$error":"#DIV/0!"},null,-99,{"$error":"#DIV/0!"},null,-99,{"$error":"#DIV/0!"},null,-99,{"$error":"#DIV/0!"},null,-99,{"$error":"#DIV/0!"},{"$error":"#DIV/0!"},null,null,null,null,null,null,null,null,null,null,{"$error":"#DIV/0!"},{"$error":"#DIV/0!"},{"$error":"#DIV/0!"}]
[null,null,null,null,31,{"$error":"#DIV/0!"},null,-99,{"$error":"#DIV/0!"},null,-99,{"$error":"#DIV/0!"},null,-99,{"$error":"#DIV/0!"},null,-99,{"$error":"#DIV/0!"},null,-99,{"$error":"#DIV/0!"},null,-99,{"$error":"#DIV/0!"},null,-99,{"$error":"#DIV/0!"},null,-99,{"$error":"#DIV/0!"},null,-99,{"$error":"#DIV/0!"},null,-99,{"$error":"#DIV/0!"},{"$error":"#DIV/0!"},null,null,null,null,null,null,null,null,null,null,{"$error":"#DIV/0!"},{"$error":"#DIV/0!"},{"$error":"#DIV/0!"}]
[null,null,null,null,31.25,{"$error":"#DIV/0!"},null,-99,{"$error":"#DIV/0!"},null,-99,{"$error":"#DIV/0!"},null,-99,{"$error":"#DIV/0!"},null,-99,{"$error":"#DIV/0!"},null,-99,{"$error":"#DIV/0!"},null,-99,{"$error":"#DIV/0!"},null,-99,{"$error":"#DIV/0!"},null,-99,{"$error":"#DIV/0!"},null,-99,{"$error":"#DIV/0!"},null,-99,{"$error":"#DIV/0!"},{"$error":"#DIV/0!"},null,null,null,null,null,null,null,null,null,null,{"$error":"#DIV/0!"},{"$error":"#DIV/0!"},{"$error":"#DIV/0!"}]
[null,null,null,null,31.5,{"$error":"#DIV/0!"},null,-99,{"$error":"#DIV/0!"},null,-99,{"$error":"#DIV/0!"},null,-99,{"$error":"#DIV/0!"},null,-99,{"$error":"#DIV/0!"},null,-99,{"$error":"#DIV/0!"},null,-99,{"$error":"#DIV/0!"},null,-99,{"$error":"#DIV/0!"},null,-99,{"$error":"#DIV/0!"},null,-99,{"$error":"#DIV/0!"},null,-99,{"$error":"#DIV/0!"},{"$error":"#DIV/0!"},null,null,null,null,null,null,null,null,null,null,{"$error":"#DIV/0!"},{"$error":"#DIV/0!"},{"$error":"#DIV/0!"}]
[null,null,null,null,31.75,{"$error":"#DIV/0!"},null,-99,{"$error":"#DIV/0!"},null,-99,{"$error":"#DIV/0!"},null,-99,{"$error":"#DIV/0!"},null,-99,{"$error":"#DIV/0!"},null,-99,{"$error":"#DIV/0!"},null,-99,{"$error":"#DIV/0!"},null,-99,{"$error":"#DIV/0!"},null,-99,{"$error":"#DIV/0!"},null,-99,{"$error":"#DIV/0!"},null,-99,{"$error":"#DIV/0!"},{"$error":"#DIV/0!"},null,null,null,null,null,null,null,null,null,null,{"$error":"#DIV/0!"},{"$error":"#DIV/0!"},{"$error":"#DIV/0!"}]
[null,null,null,null,32,{"$error":"#DIV/0!"},null,-99,{"$error":"#DIV/0!"},null,-99,{"$error":"#DIV/0!"},null,-99,{"$error":"#DIV/0!"},null,-99,{"$error":"#DIV/0!"},null,-99,{"$error":"#DIV/0!"},null,-99,{"$error":"#DIV/0!"},null,-99,{"$error":"#DIV/0!"},null,-99,{"$error":"#DIV/0!"},null,-99,{"$error":"#DIV/0!"},null,-99,{"$error":"#DIV/0!"},{"$error":"#DIV/0!"},null,null,null,null,null,null,null,null,null,null,{"$error":"#DIV/0!"},{"$error":"#DIV/0!"},{"$error":"#DIV/0!"}]
[null,null,null,null,{"$f":"E201+E$60","v":32.25},{"$f":"IF($E202<$E$8,$E202*$E$7/100,$E$6)","v":{"$error":"#DIV/0!"}},null,{"$f":"G202-H$68","v":-99},{"$f":"IF(AND(H202>0,$AX201<$E$14),1.59*H$65*H202^1.65,0)","v":{"$error":"#DIV/0!"}},null,{"$f":"J202-K$68","v":-99},{"$f":"IF(AND(K202>0,$AX201<$E$14),1.59*K$65*K202^1.65,0)","v":{"$error":"#DIV/0!"}},null,{"$f":"M202-N$68","v":-99},{"$f":"IF(AND(N202>0,$AX201<$E$14),1.59*N$65*N202^1.65,0)","v":{"$error":"#DIV/0!"}},null,{"$f":"P202-Q$68","v":-99},{"$f":"IF(AND(Q202>0,$AX201<$E$14),1.59*Q$65*Q202^1.65,0)","v":{"$error":"#DIV/0!"}},null,{"$f":"S202-T$68","v":-99},{"$f":"IF(AND(T202>0,$AX201<$E$14),1.59*T$65*T202^1.65,0)","v":{"$error":"#DIV/0!"}},null,{"$f":"V202-W$68","v":-99},{"$f":"IF(AND(W202>0,$AX201<$E$14),1.59*W$65*W202^1.65,0)","v":{"$error":"#DIV/0!"}},null,{"$f":"Y202-Z$68","v":-99},{"$f":"IF(AND(Z202>0,$AX201<$E$14),1.59*Z$65*Z202^1.65,0)","v":{"$error":"#DIV/0!"}},null,{"$f":"AB202-AC$68","v":-99},{"$f":"IF(AND(AC202>0,$AX201<$E$14),1.59*AC$65*AC202^1.65,0)","v":{"$error":"#DIV/0!"}},null,{"$f":"AE202-AF$68","v":-99},{"$f":"IF(AND(AF202>0,$AX201<$E$14),1.59*AF$65*AF202^1.65,0)","v":{"$error":"#DIV/0!"}},null,{"$f":"AH202-AI$68","v":-99},{"$f":"IF(AND(AI202>0,$AX201<$E$14),1.59*AI$65*AI202^1.65,0)","v":{"$error":"#DIV/0!"}},{"$error":"#DIV/0!"},null,null,null,null,null,null,null,null,null,null,{"$f":"AK202-SUM(AL202:AU202)","v":{"$error":"#DIV/0!"}},{"$error":"#DIV/0!"},{"$error":"#DIV/0!"}]
[null,null,null,null,32.5,{"$error":"#DIV/0!"},null,-99,{"$error":"#DIV/0!"},null,-99,{"$error":"#DIV/0!"},null,-99,{"$error":"#DIV/0!"},null,-99,{"$error":"#DIV/0!"},null,-99,{"$error":"#DIV/0!"},null,-99,{"$error":"#DIV/0!"},null,-99,{"$error":"#DIV/0!"},null,-99,{"$error":"#DIV/0!"},null,-99,{"$error":"#DIV/0!"},null,-99,{"$error":"#DIV/0!"},{"$f":"I203+L203+O203+R203+U203+X203+AA203+AD203+AG203+AJ203","v":{"$error":"#DIV/0!"}},null,null,null,null,null,null,null,null,null,null,{"$error":"#DIV/0!"},{"$f":"MIN(AW$69,(AV202+AV203)*E$60*60*0.5+AW202)","v":{"$error":"#DIV/0!"}},{"$error":"#DIV/0!"}]
[null,null,null,null,32.75,{"$error":"#DIV/0!"},null,-99,{"$error":"#DIV/0!"},null,-99,{"$error":"#DIV/0!"},null,-99,{"$error":"#DIV/0!"},null,-99,{"$error":"#DIV/0!"},null,-99,{"$error":"#DIV/0!"},null,-99,{"$error":"#DIV/0!"},null,-99,{"$error":"#DIV/0!"},null,-99,{"$error":"#DIV/0!"},null,-99,{"$error":"#DIV/0!"},null,-99,{"$error":"#DIV/0!"},{"$error":"#DIV/0!"},null,null,null,null,null,null,null,null,null,null,{"$error":"#DIV/0!"},{"$error":"#DIV/0!"},{"$error":"#DIV/0!"}]
[null,null,null,null,33,{"$error":"#DIV/0!"},null,-99,{"$error":"#DIV/0!"},null,-99,{"$error":"#DIV/0!"},null,-99,{"$error":"#DIV/0!"},null,-99,{"$error":"#DIV/0!"},null,-99,{"$error":"#DIV/0!"},null,-99,{"$error":"#DIV/0!"},null,-99,{"$error":"#DIV/0!"},null,-99,{"$error":"#DIV/0!"},null,-99,{"$error":"#DIV/0!"},null,-99,{"$error":"#DIV/0!"},{"$error":"#DIV/0!"},null,null,null,null,null,null,null,null,null,null,{"$error":"#DIV/0!"},{"$error":"#DIV/0!"},{"$error":"#DIV/0!"}]
[null,null,null,null,33.25,{"$error":"#DIV/0!"},null,-99,{"$error":"#DIV/0!"},null,-99,{"$error":"#DIV/0!"},null,-99,{"$error":"#DIV/0!"},null,-99,{"$error":"#DIV/0!"},null,-99,{"$error":"#DIV/0!"},null,-99,{"$error":"#DIV/0!"},null,-99,{"$error":"#DIV/0!"},null,-99,{"$error":"#DIV/0!"},null,-99,{"$error":"#DIV/0!"},null,-99,{"$error":"#DIV/0!"},{"$error":"#DIV/0!"},null,null,null,null,null,null,null,null,null,null,{"$error":"#DIV/0!"},{"$error":"#DIV/0!"},{"$error":"#DIV/0!"}]
[null,null,null,null,33.5,{"$error":"#DIV/0!"},null,-99,{"$error":"#DIV/0!"},null,-99,{"$error":"#DIV/0!"},null,-99,{"$error":"#DIV/0!"},null,-99,{"$error":"#DIV/0!"},null,-99,{"$error":"#DIV/0!"},null,-99,{"$error":"#DIV/0!"},null,-99,{"$error":"#DIV/0!"},null,-99,{"$error":"#DIV/0!"},null,-99,{"$error":"#DIV/0!"},null,-99,{"$error":"#DIV/0!"},{"$error":"#DIV/0!"},null,null,null,null,null,null,null,null,null,null,{"$error":"#DIV/0!"},{"$error":"#DIV/0!"},{"$f":"AW207/E$13","v":{"$error":"#DIV/0!"}}]
[null,null,null,null,33.75,{"$error":"#DIV/0!"},null,-99,{"$error":"#DIV/0!"},null,-99,{"$error":"#DIV/0!"},null,-99,{"$error":"#DIV/0!"},null,-99,{"$error":"#DIV/0!"},null,-99,{"$error":"#DIV/0!"},null,-99,{"$error":"#DIV/0!"},null,-99,{"$error":"#DIV/0!"},null,-99,{"$error":"#DIV/0!"},null,-99,{"$error":"#DIV/0!"},null,-99,{"$error":"#DIV/0!"},{"$error":"#DIV/0!"},null,null,null,null,null,null,null,null,null,null,{"$error":"#DIV/0!"},{"$error":"#DIV/0!"},{"$error":"#DIV/0!"}]
[null,null,null,null,34,{"$error":"#DIV/0!"},null,-99,{"$error":"#DIV/0!"},null,-99,{"$error":"#DIV/0!"},null,-99,{"$error":"#DIV/0!"},null,-99,{"$error":"#DIV/0!"},null,-99,{"$error":"#DIV/0!"},null,-99,{"$error":"#DIV/0!"},null,-99,{"$error":"#DIV/0!"},null,-99,{"$error":"#DIV/0!"},null,-99,{"$error":"#DIV/0!"},null,-99,{"$error":"#DIV/0!"},{"$error":"#DIV/0!"},null,null,null,null,null,null,null,null,null,null,{"$error":"#DIV/0!"},{"$error":"#DIV/0!"},{"$error":"#DIV/0!"}]
[null,null,null,null,34.25,{"$error":"#DIV/0!"},null,-99,{"$error":"#DIV/0!"},null,-99,{"$error":"#DIV/0!"},null,-99,{"$error":"#DIV/0!"},null,-99,{"$error":"#DIV/0!"},null,-99,{"$error":"#DIV/0!"},null,-99,{"$error":"#DIV/0!"},null,-99,{"$error":"#DIV/0!"},null,-99,{"$error":"#DIV/0!"},null,-99,{"$error":"#DIV/0!"},null,-99,{"$error":"#DIV/0!"},{"$error":"#DIV/0!"},null,null,null,null,null,null,null,null,null,null,{"$error":"#DIV/0!"},{"$error":"#DIV/0!"},{"$error":"#DIV/0!"}]
[null,null,null,null,34.5,{"$error":"#DIV/0!"},null,-99,{"$error":"#DIV/0!"},null,-99,{"$error":"#DIV/0!"},null,-99,{"$error":"#DIV/0!"},null,-99,{"$error":"#DIV/0!"},null,-99,{"$error":"#DIV/0!"},null,-99,{"$error":"#DIV/0!"},null,-99,{"$error":"#DIV/0!"},null,-99,{"$error":"#DIV/0!"},null,-99,{"$error":"#DIV/0!"},null,-99,{"$error":"#DIV/0!"},{"$error":"#DIV/0!"},null,null,null,null,null,null,null,null,null,null,{"$error":"#DIV/0!"},{"$error":"#DIV/0!"},{"$error":"#DIV/0!"}]
[null,null,null,null,34.75,{"$error":"#DIV/0!"},null,-99,{"$error":"#DIV/0!"},null,-99,{"$error":"#DIV/0!"},null,-99,{"$error":"#DIV/0!"},null,-99,{"$error":"#DIV/0!"},null,-99,{"$error":"#DIV/0!"},null,-99,{"$error":"#DIV/0!"},null,-99,{"$error":"#DIV/0!"},null,-99,{"$error":"#DIV/0!"},null,-99,{"$error":"#DIV/0!"},null,-99,{"$error":"#DIV/0!"},{"$error":"#DIV/0!"},null,null,null,null,null,null,null,null,null,null,{"$error":"#DIV/0!"},{"$error":"#DIV/0!"},{"$error":"#DIV/0!"}]
[null,null,null,null,35,{"$error":"#DIV/0!"},null,-99,{"$error":"#DIV/0!"},null,-99,{"$error":"#DIV/0!"},null,-99,{"$error":"#DIV/0!"},null,-99,{"$error":"#DIV/0!"},null,-99,{"$error":"#DIV/0!"},null,-99,{"$error":"#DIV/0!"},null,-99,{"$error":"#DIV/0!"},null,-99,{"$error":"#DIV/0!"},null,-99,{"$error":"#DIV/0!"},null,-99,{"$error":"#DIV/0!"},{"$error":"#DIV/0!"},null,null,null,null,null,null,null,null,null,null,{"$error":"#DIV/0!"},{"$error":"#DIV/0!"},{"$error":"#DIV/0!"}]
[null,null,null,null,35.25,{"$error":"#DIV/0!"},null,-99,{"$error":"#DIV/0!"},null,-99,{"$error":"#DIV/0!"},null,-99,{"$error":"#DIV/0!"},null,-99,{"$error":"#DIV/0!"},null,-99,{"$error":"#DIV/0!"},null,-99,{"$error":"#DIV/0!"},null,-99,{"$error":"#DIV/0!"},null,-99,{"$error":"#DIV/0!"},null,-99,{"$error":"#DIV/0!"},null,-99,{"$error":"#DIV/0!"},{"$error":"#DIV/0!"},null,null,null,null,null,null,null,null,null,null,{"$error":"#DIV/0!"},{"$error":"#DIV/0!"},{"$error":"#DIV/0!"}]
[null,null,null,null,35.5,{"$error":"#DIV/0!"},null,-99,{"$error":"#DIV/0!"},null,-99,{"$error":"#DIV/0!"},null,-99,{"$error":"#DIV/0!"},null,-99,{"$error":"#DIV/0!"},null,-99,{"$error":"#DIV/0!"},null,-99,{"$error":"#DIV/0!"},null,-99,{"$error":"#DIV/0!"},null,-99,{"$error":"#DIV/0!"},null,-99,{"$error":"#DIV/0!"},null,-99,{"$error":"#DIV/0!"},{"$error":"#DIV/0!"},null,null,null,null,null,null,null,null,null,null,{"$error":"#DIV/0!"},{"$error":"#DIV/0!"},{"$error":"#DIV/0!"}]
[null,null,null,null,35.75,{"$error":"#DIV/0!"},null,-99,{"$error":"#DIV/0!"},null,-99,{"$error":"#DIV/0!"},null,-99,{"$error":"#DIV/0!"},null,-99,{"$error":"#DIV/0!"},null,-99,{"$error":"#DIV/0!"},null,-99,{"$error":"#DIV/0!"},null,-99,{"$error":"#DIV/0!"},null,-99,{"$error":"#DIV/0!"},null,-99,{"$error":"#DIV/0!"},null,-99,{"$error":"#DIV/0!"},{"$error":"#DIV/0!"},null,null,null,null,null,null,null,null,null,null,{"$error":"#DIV/0!"},{"$error":"#DIV/0!"},{"$error":"#DIV/0!"}]
[null,null,null,null,36,{"$error":"#DIV/0!"},null,-99,{"$error":"#DIV/0!"},null,-99,{"$error":"#DIV/0!"},null,-99,{"$error":"#DIV/0!"},null,-99,{"$error":"#DIV/0!"},null,-99,{"$error":"#DIV/0!"},null,-99,{"$error":"#DIV/0!"},null,-99,{"$error":"#DIV/0!"},null,-99,{"$error":"#DIV/0!"},null,-99,{"$error":"#DIV/0!"},null,-99,{"$error":"#DIV/0!"},{"$error":"#DIV/0!"},null,null,null,null,null,null,null,null,null,null,{"$error":"#DIV/0!"},{"$error":"#DIV/0!"},{"$error":"#DIV/0!"}]
[null,null,null,null,36.25,{"$error":"#DIV/0!"},null,-99,{"$error":"#DIV/0!"},null,-99,{"$error":"#DIV/0!"},null,-99,{"$error":"#DIV/0!"},null,-99,{"$error":"#DIV/0!"},null,-99,{"$error":"#DIV/0!"},null,-99,{"$error":"#DIV/0!"},null,-99,{"$error":"#DIV/0!"},null,-99,{"$error":"#DIV/0!"},null,-99,{"$error":"#DIV/0!"},null,-99,{"$error":"#DIV/0!"},{"$error":"#DIV/0!"},null,null,null,null,null,null,null,null,null,null,{"$error":"#DIV/0!"},{"$error":"#DIV/0!"},{"$error":"#DIV/0!"}]
[null,null,null,null,36.5,{"$error":"#DIV/0!"},null,-99,{"$error":"#DIV/0!"},null,-99,{"$error":"#DIV/0!"},null,-99,{"$error":"#DIV/0!"},null,-99,{"$error":"#DIV/0!"},null,-99,{"$error":"#DIV/0!"},null,-99,{"$error":"#DIV/0!"},null,-99,{"$error":"#DIV/0!"},null,-99,{"$error":"#DIV/0!"},null,-99,{"$error":"#DIV/0!"},null,-99,{"$error":"#DIV/0!"},{"$error":"#DIV/0!"},null,null,null,null,null,null,null,null,null,null,{"$error":"#DIV/0!"},{"$error":"#DIV/0!"},{"$error":"#DIV/0!"}]
[null,null,null,null,36.75,{"$error":"#DIV/0!"},null,-99,{"$error":"#DIV/0!"},null,-99,{"$error":"#DIV/0!"},null,-99,{"$error":"#DIV/0!"},null,-99,{"$error":"#DIV/0!"},null,-99,{"$error":"#DIV/0!"},null,-99,{"$error":"#DIV/0!"},null,-99,{"$error":"#DIV/0!"},null,-99,{"$error":"#DIV/0!"},null,-99,{"$error":"#DIV/0!"},null,-99,{"$error":"#DIV/0!"},{"$error":"#DIV/0!"},null,null,null,null,null,null,null,null,null,null,{"$error":"#DIV/0!"},{"$error":"#DIV/0!"},{"$error":"#DIV/0!"}]
[null,null,null,null,37,{"$error":"#DIV/0!"},null,-99,{"$error":"#DIV/0!"},null,-99,{"$error":"#DIV/0!"},null,-99,{"$error":"#DIV/0!"},null,-99,{"$error":"#DIV/0!"},null,-99,{"$error":"#DIV/0!"},null,-99,{"$error":"#DIV/0!"},null,-99,{"$error":"#DIV/0!"},null,-99,{"$error":"#DIV/0!"},null,-99,{"$error":"#DIV/0!"},null,-99,{"$error":"#DIV/0!"},{"$error":"#DIV/0!"},null,null,null,null,null,null,null,null,null,null,{"$error":"#DIV/0!"},{"$error":"#DIV/0!"},{"$error":"#DIV/0!"}]
[null,null,null,null,37.25,{"$error":"#DIV/0!"},null,-99,{"$error":"#DIV/0!"},null,-99,{"$error":"#DIV/0!"},null,-99,{"$error":"#DIV/0!"},null,-99,{"$error":"#DIV/0!"},null,-99,{"$error":"#DIV/0!"},null,-99,{"$error":"#DIV/0!"},null,-99,{"$error":"#DIV/0!"},null,-99,{"$error":"#DIV/0!"},null,-99,{"$error":"#DIV/0!"},null,-99,{"$error":"#DIV/0!"},{"$error":"#DIV/0!"},null,null,null,null,null,null,null,null,null,null,{"$error":"#DIV/0!"},{"$error":"#DIV/0!"},{"$error":"#DIV/0!"}]
[null,null,null,null,37.5,{"$error":"#DIV/0!"},null,-99,{"$error":"#DIV/0!"},null,-99,{"$error":"#DIV/0!"},null,-99,{"$error":"#DIV/0!"},null,-99,{"$error":"#DIV/0!"},null,-99,{"$error":"#DIV/0!"},null,-99,{"$error":"#DIV/0!"},null,-99,{"$error":"#DIV/0!"},null,-99,{"$error":"#DIV/0!"},null,-99,{"$error":"#DIV/0!"},null,-99,{"$error":"#DIV/0!"},{"$error":"#DIV/0!"},null,null,null,null,null,null,null,null,null,null,{"$error":"#DIV/0!"},{"$error":"#DIV/0!"},{"$error":"#DIV/0!"}]
[null,null,null,null,37.75,{"$error":"#DIV/0!"},null,-99,{"$error":"#DIV/0!"},null,-99,{"$error":"#DIV/0!"},null,-99,{"$error":"#DIV/0!"},null,-99,{"$error":"#DIV/0!"},null,-99,{"$error":"#DIV/0!"},null,-99,{"$error":"#DIV/0!"},null,-99,{"$error":"#DIV/0!"},null,-99,{"$error":"#DIV/0!"},null,-99,{"$error":"#DIV/0!"},null,-99,{"$error":"#DIV/0!"},{"$error":"#DIV/0!"},null,null,null,null,null,null,null,null,null,null,{"$error":"#DIV/0!"},{"$error":"#DIV/0!"},{"$error":"#DIV/0!"}]
[null,null,null,null,38,{"$error":"#DIV/0!"},null,-99,{"$error":"#DIV/0!"},null,-99,{"$error":"#DIV/0!"},null,-99,{"$error":"#DIV/0!"},null,-99,{"$error":"#DIV/0!"},null,-99,{"$error":"#DIV/0!"},null,-99,{"$error":"#DIV/0!"},null,-99,{"$error":"#DIV/0!"},null,-99,{"$error":"#DIV/0!"},null,-99,{"$error":"#DIV/0!"},null,-99,{"$error":"#DIV/0!"},{"$error":"#DIV/0!"},null,null,null,null,null,null,null,null,null,null,{"$error":"#DIV/0!"},{"$error":"#DIV/0!"},{"$error":"#DIV/0!"}]
[null,null,null,null,38.25,{"$error":"#DIV/0!"},null,-99,{"$error":"#DIV/0!"},null,-99,{"$error":"#DIV/0!"},null,-99,{"$error":"#DIV/0!"},null,-99,{"$error":"#DIV/0!"},null,-99,{"$error":"#DIV/0!"},null,-99,{"$error":"#DIV/0!"},null,-99,{"$error":"#DIV/0!"},null,-99,{"$error":"#DIV/0!"},null,-99,{"$error":"#DIV/0!"},null,-99,{"$error":"#DIV/0!"},{"$error":"#DIV/0!"},null,null,null,null,null,null,null,null,null,null,{"$error":"#DIV/0!"},{"$error":"#DIV/0!"},{"$error":"#DIV/0!"}]
[null,null,null,null,38.5,{"$error":"#DIV/0!"},null,-99,{"$error":"#DIV/0!"},null,-99,{"$error":"#DIV/0!"},null,-99,{"$error":"#DIV/0!"},null,-99,{"$error":"#DIV/0!"},null,-99,{"$error":"#DIV/0!"},null,-99,{"$error":"#DIV/0!"},null,-99,{"$error":"#DIV/0!"},null,-99,{"$error":"#DIV/0!"},null,-99,{"$error":"#DIV/0!"},null,-99,{"$error":"#DIV/0!"},{"$error":"#DIV/0!"},null,null,null,null,null,null,null,null,null,null,{"$error":"#DIV/0!"},{"$error":"#DIV/0!"},{"$error":"#DIV/0!"}]
[null,null,null,null,38.75,{"$error":"#DIV/0!"},null,-99,{"$error":"#DIV/0!"},null,-99,{"$error":"#DIV/0!"},null,-99,{"$error":"#DIV/0!"},null,-99,{"$error":"#DIV/0!"},null,-99,{"$error":"#DIV/0!"},null,-99,{"$error":"#DIV/0!"},null,-99,{"$error":"#DIV/0!"},null,-99,{"$error":"#DIV/0!"},null,-99,{"$error":"#DIV/0!"},null,-99,{"$error":"#DIV/0!"},{"$error":"#DIV/0!"},null,null,null,null,null,null,null,null,null,null,{"$error":"#DIV/0!"},{"$error":"#DIV/0!"},{"$error":"#DIV/0!"}]
[null,null,null,null,39,{"$error":"#DIV/0!"},null,-99,{"$error":"#DIV/0!"},null,-99,{"$error":"#DIV/0!"},null,-99,{"$error":"#DIV/0!"},null,-99,{"$error":"#DIV/0!"},null,-99,{"$error":"#DIV/0!"},null,-99,{"$error":"#DIV/0!"},null,-99,{"$error":"#DIV/0!"},null,-99,{"$error":"#DIV/0!"},null,-99,{"$error":"#DIV/0!"},null,-99,{"$error":"#DIV/0!"},{"$error":"#DIV/0!"},null,null,null,null,null,null,null,null,null,null,{"$error":"#DIV/0!"},{"$error":"#DIV/0!"},{"$error":"#DIV/0!"}]
[null,null,null,null,39.25,{"$error":"#DIV/0!"},null,-99,{"$error":"#DIV/0!"},null,-99,{"$error":"#DIV/0!"},null,-99,{"$error":"#DIV/0!"},null,-99,{"$error":"#DIV/0!"},null,-99,{"$error":"#DIV/0!"},null,-99,{"$error":"#DIV/0!"},null,-99,{"$error":"#DIV/0!"},null,-99,{"$error":"#DIV/0!"},null,-99,{"$error":"#DIV/0!"},null,-99,{"$error":"#DIV/0!"},{"$error":"#DIV/0!"},null,null,null,null,null,null,null,null,null,null,{"$error":"#DIV/0!"},{"$error":"#DIV/0!"},{"$error":"#DIV/0!"}]
[null,null,null,null,39.5,{"$error":"#DIV/0!"},null,-99,{"$error":"#DIV/0!"},null,-99,{"$error":"#DIV/0!"},null,-99,{"$error":"#DIV/0!"},null,-99,{"$error":"#DIV/0!"},null,-99,{"$error":"#DIV/0!"},null,-99,{"$error":"#DIV/0!"},null,-99,{"$error":"#DIV/0!"},null,-99,{"$error":"#DIV/0!"},null,-99,{"$error":"#DIV/0!"},null,-99,{"$error":"#DIV/0!"},{"$error":"#DIV/0!"},null,null,null,null,null,null,null,null,null,null,{"$error":"#DIV/0!"},{"$error":"#DIV/0!"},{"$error":"#DIV/0!"}]
[null,null,null,null,39.75,{"$error":"#DIV/0!"},null,-99,{"$error":"#DIV/0!"},null,-99,{"$error":"#DIV/0!"},null,-99,{"$error":"#DIV/0!"},null,-99,{"$error":"#DIV/0!"},null,-99,{"$error":"#DIV/0!"},null,-99,{"$error":"#DIV/0!"},null,-99,{"$error":"#DIV/0!"},null,-99,{"$error":"#DIV/0!"},null,-99,{"$error":"#DIV/0!"},null,-99,{"$error":"#DIV/0!"},{"$error":"#DIV/0!"},null,null,null,null,null,null,null,null,null,null,{"$error":"#DIV/0!"},{"$error":"#DIV/0!"},{"$error":"#DIV/0!"}]
[null,null,null,null,40,{"$error":"#DIV/0!"},null,-99,{"$error":"#DIV/0!"},null,-99,{"$error":"#DIV/0!"},null,-99,{"$error":"#DIV/0!"},null,-99,{"$error":"#DIV/0!"},null,-99,{"$error":"#DIV/0!"},null,-99,{"$error":"#DIV/0!"},null,-99,{"$error":"#DIV/0!"},null,-99,{"$error":"#DIV/0!"},null,-99,{"$error":"#DIV/0!"},null,-99,{"$error":"#DIV/0!"},{"$error":"#DIV/0!"},null,null,null,null,null,null,null,null,null,null,{"$error":"#DIV/0!"},{"$error":"#DIV/0!"},{"$error":"#DIV/0!"}]
[null,null,null,null,40.25,{"$error":"#DIV/0!"},null,-99,{"$error":"#DIV/0!"},null,-99,{"$error":"#DIV/0!"},null,-99,{"$error":"#DIV/0!"},null,-99,{"$error":"#DIV/0!"},null,-99,{"$error":"#DIV/0!"},null,-99,{"$error":"#DIV/0!"},null,-99,{"$error":"#DIV/0!"},null,-99,{"$error":"#DIV/0!"},null,-99,{"$error":"#DIV/0!"},null,-99,{"$error":"#DIV/0!"},{"$error":"#DIV/0!"},null,null,null,null,null,null,null,null,null,null,{"$error":"#DIV/0!"},{"$error":"#DIV/0!"},{"$error":"#DIV/0!"}]
[null,null,null,null,40.5,{"$error":"#DIV/0!"},null,-99,{"$error":"#DIV/0!"},null,-99,{"$error":"#DIV/0!"},null,-99,{"$error":"#DIV/0!"},null,-99,{"$error":"#DIV/0!"},null,-99,{"$error":"#DIV/0!"},null,-99,{"$error":"#DIV/0!"},null,-99,{"$error":"#DIV/0!"},null,-99,{"$error":"#DIV/0!"},null,-99,{"$error":"#DIV/0!"},null,-99,{"$error":"#DIV/0!"},{"$error":"#DIV/0!"},null,null,null,null,null,null,null,null,null,null,{"$error":"#DIV/0!"},{"$error":"#DIV/0!"},{"$error":"#DIV/0!"}]
[null,null,null,null,40.75,{"$error":"#DIV/0!"},null,-99,{"$error":"#DIV/0!"},null,-99,{"$error":"#DIV/0!"},null,-99,{"$error":"#DIV/0!"},null,-99,{"$error":"#DIV/0!"},null,-99,{"$error":"#DIV/0!"},null,-99,{"$error":"#DIV/0!"},null,-99,{"$error":"#DIV/0!"},null,-99,{"$error":"#DIV/0!"},null,-99,{"$error":"#DIV/0!"},null,-99,{"$error":"#DIV/0!"},{"$error":"#DIV/0!"},null,null,null,null,null,null,null,null,null,null,{"$error":"#DIV/0!"},{"$error":"#DIV/0!"},{"$error":"#DIV/0!"}]
[null,null,null,null,41,{"$error":"#DIV/0!"},null,-99,{"$error":"#DIV/0!"},null,-99,{"$error":"#DIV/0!"},null,-99,{"$error":"#DIV/0!"},null,-99,{"$error":"#DIV/0!"},null,-99,{"$error":"#DIV/0!"},null,-99,{"$error":"#DIV/0!"},null,-99,{"$error":"#DIV/0!"},null,-99,{"$error":"#DIV/0!"},null,-99,{"$error":"#DIV/0!"},null,-99,{"$error":"#DIV/0!"},{"$error":"#DIV/0!"},null,null,null,null,null,null,null,null,null,null,{"$error":"#DIV/0!"},{"$error":"#DIV/0!"},{"$error":"#DIV/0!"}]
[null,null,null,null,41.25,{"$error":"#DIV/0!"},null,-99,{"$error":"#DIV/0!"},null,-99,{"$error":"#DIV/0!"},null,-99,{"$error":"#DIV/0!"},null,-99,{"$error":"#DIV/0!"},null,-99,{"$error":"#DIV/0!"},null,-99,{"$error":"#DIV/0!"},null,-99,{"$error":"#DIV/0!"},null,-99,{"$error":"#DIV/0!"},null,-99,{"$error":"#DIV/0!"},null,-99,{"$error":"#DIV/0!"},{"$error":"#DIV/0!"},null,null,null,null,null,null,null,null,null,null,{"$error":"#DIV/0!"},{"$error":"#DIV/0!"},{"$error":"#DIV/0!"}]
[null,null,null,null,41.5,{"$error":"#DIV/0!"},null,-99,{"$error":"#DIV/0!"},null,-99,{"$error":"#DIV/0!"},null,-99,{"$error":"#DIV/0!"},null,-99,{"$error":"#DIV/0!"},null,-99,{"$error":"#DIV/0!"},null,-99,{"$error":"#DIV/0!"},null,-99,{"$error":"#DIV/0!"},null,-99,{"$error":"#DIV/0!"},null,-99,{"$error":"#DIV/0!"},null,-99,{"$error":"#DIV/0!"},{"$error":"#DIV/0!"},null,null,null,null,null,null,null,null,null,null,{"$error":"#DIV/0!"},{"$error":"#DIV/0!"},{"$error":"#DIV/0!"}]
[null,null,null,null,41.75,{"$error":"#DIV/0!"},null,-99,{"$error":"#DIV/0!"},null,-99,{"$error":"#DIV/0!"},null,-99,{"$error":"#DIV/0!"},null,-99,{"$error":"#DIV/0!"},null,-99,{"$error":"#DIV/0!"},null,-99,{"$error":"#DIV/0!"},null,-99,{"$error":"#DIV/0!"},null,-99,{"$error":"#DIV/0!"},null,-99,{"$error":"#DIV/0!"},null,-99,{"$error":"#DIV/0!"},{"$error":"#DIV/0!"},null,null,null,null,null,null,null,null,null,null,{"$error":"#DIV/0!"},{"$error":"#DIV/0!"},{"$error":"#DIV/0!"}]
[null,null,null,null,42,{"$error":"#DIV/0!"},null,-99,{"$error":"#DIV/0!"},null,-99,{"$error":"#DIV/0!"},null,-99,{"$error":"#DIV/0!"},null,-99,{"$error":"#DIV/0!"},null,-99,{"$error":"#DIV/0!"},null,-99,{"$error":"#DIV/0!"},null,-99,{"$error":"#DIV/0!"},null,-99,{"$error":"#DIV/0!"},null,-99,{"$error":"#DIV/0!"},null,-99,{"$error":"#DIV/0!"},{"$error":"#DIV/0!"},null,null,null,null,null,null,null,null,null,null,{"$error":"#DIV/0!"},{"$error":"#DIV/0!"},{"$error":"#DIV/0!"}]
[null,null,null,null,42.25,{"$error":"#DIV/0!"},null,-99,{"$error":"#DIV/0!"},null,-99,{"$error":"#DIV/0!"},null,-99,{"$error":"#DIV/0!"},null,-99,{"$error":"#DIV/0!"},null,-99,{"$error":"#DIV/0!"},null,-99,{"$error":"#DIV/0!"},null,-99,{"$error":"#DIV/0!"},null,-99,{"$error":"#DIV/0!"},null,-99,{"$error":"#DIV/0!"},null,-99,{"$error":"#DIV/0!"},{"$error":"#DIV/0!"},null,null,null,null,null,null,null,null,null,null,{"$error":"#DIV/0!"},{"$error":"#DIV/0!"},{"$error":"#DIV/0!"}]
[null,null,null,null,42.5,{"$error":"#DIV/0!"},null,-99,{"$error":"#DIV/0!"},null,-99,{"$error":"#DIV/0!"},null,-99,{"$error":"#DIV/0!"},null,-99,{"$error":"#DIV/0!"},null,-99,{"$error":"#DIV/0!"},null,-99,{"$error":"#DIV/0!"},null,-99,{"$error":"#DIV/0!"},null,-99,{"$error":"#DIV/0!"},null,-99,{"$error":"#DIV/0!"},null,-99,{"$error":"#DIV/0!"},{"$error":"#DIV/0!"},null,null,null,null,null,null,null,null,null,null,{"$error":"#DIV/0!"},{"$error":"#DIV/0!"},{"$error":"#DIV/0!"}]
[null,null,null,null,42.75,{"$error":"#DIV/0!"},null,-99,{"$error":"#DIV/0!"},null,-99,{"$error":"#DIV/0!"},null,-99,{"$error":"#DIV/0!"},null,-99,{"$error":"#DIV/0!"},null,-99,{"$error":"#DIV/0!"},null,-99,{"$error":"#DIV/0!"},null,-99,{"$error":"#DIV/0!"},null,-99,{"$error":"#DIV/0!"},null,-99,{"$error":"#DIV/0!"},null,-99,{"$error":"#DIV/0!"},{"$error":"#DIV/0!"},null,null,null,null,null,null,null,null,null,null,{"$error":"#DIV/0!"},{"$error":"#DIV/0!"},{"$error":"#DIV/0!"}]
[null,null,null,null,43,{"$error":"#DIV/0!"},null,-99,{"$error":"#DIV/0!"},null,-99,{"$error":"#DIV/0!"},null,-99,{"$error":"#DIV/0!"},null,-99,{"$error":"#DIV/0!"},null,-99,{"$error":"#DIV/0!"},null,-99,{"$error":"#DIV/0!"},null,-99,{"$error":"#DIV/0!"},null,-99,{"$error":"#DIV/0!"},null,-99,{"$error":"#DIV/0!"},null,-99,{"$error":"#DIV/0!"},{"$error":"#DIV/0!"},null,null,null,null,null,null,null,null,null,null,{"$error":"#DIV/0!"},{"$error":"#DIV/0!"},{"$error":"#DIV/0!"}]
[null,null,null,null,43.25,{"$error":"#DIV/0!"},null,-99,{"$error":"#DIV/0!"},null,-99,{"$error":"#DIV/0!"},null,-99,{"$error":"#DIV/0!"},null,-99,{"$error":"#DIV/0!"},null,-99,{"$error":"#DIV/0!"},null,-99,{"$error":"#DIV/0!"},null,-99,{"$error":"#DIV/0!"},null,-99,{"$error":"#DIV/0!"},null,-99,{"$error":"#DIV/0!"},null,-99,{"$error":"#DIV/0!"},{"$error":"#DIV/0!"},null,null,null,null,null,null,null,null,null,null,{"$error":"#DIV/0!"},{"$error":"#DIV/0!"},{"$error":"#DIV/0!"}]
[null,null,null,null,43.5,{"$error":"#DIV/0!"},null,-99,{"$error":"#DIV/0!"},null,-99,{"$error":"#DIV/0!"},null,-99,{"$error":"#DIV/0!"},null,-99,{"$error":"#DIV/0!"},null,-99,{"$error":"#DIV/0!"},null,-99,{"$error":"#DIV/0!"},null,-99,{"$error":"#DIV/0!"},null,-99,{"$error":"#DIV/0!"},null,-99,{"$error":"#DIV/0!"},null,-99,{"$error":"#DIV/0!"},{"$error":"#DIV/0!"},null,null,null,null,null,null,null,null,null,null,{"$error":"#DIV/0!"},{"$error":"#DIV/0!"},{"$error":"#DIV/0!"}]
[null,null,null,null,43.75,{"$error":"#DIV/0!"},null,-99,{"$error":"#DIV/0!"},null,-99,{"$error":"#DIV/0!"},null,-99,{"$error":"#DIV/0!"},null,-99,{"$error":"#DIV/0!"},null,-99,{"$error":"#DIV/0!"},null,-99,{"$error":"#DIV/0!"},null,-99,{"$error":"#DIV/0!"},null,-99,{"$error":"#DIV/0!"},null,-99,{"$error":"#DIV/0!"},null,-99,{"$error":"#DIV/0!"},{"$error":"#DIV/0!"},null,null,null,null,null,null,null,null,null,null,{"$error":"#DIV/0!"},{"$error":"#DIV/0!"},{"$error":"#DIV/0!"}]
[null,null,null,null,44,{"$error":"#DIV/0!"},null,-99,{"$error":"#DIV/0!"},null,-99,{"$error":"#DIV/0!"},null,-99,{"$error":"#DIV/0!"},null,-99,{"$error":"#DIV/0!"},null,-99,{"$error":"#DIV/0!"},null,-99,{"$error":"#DIV/0!"},null,-99,{"$error":"#DIV/0!"},null,-99,{"$error":"#DIV/0!"},null,-99,{"$error":"#DIV/0!"},null,-99,{"$error":"#DIV/0!"},{"$error":"#DIV/0!"},null,null,null,null,null,null,null,null,null,null,{"$error":"#DIV/0!"},{"$error":"#DIV/0!"},{"$error":"#DIV/0!"}]
[null,null,null,null,44.25,{"$error":"#DIV/0!"},null,-99,{"$error":"#DIV/0!"},null,-99,{"$error":"#DIV/0!"},null,-99,{"$error":"#DIV/0!"},null,-99,{"$error":"#DIV/0!"},null,-99,{"$error":"#DIV/0!"},null,-99,{"$error":"#DIV/0!"},null,-99,{"$error":"#DIV/0!"},null,-99,{"$error":"#DIV/0!"},null,-99,{"$error":"#DIV/0!"},null,-99,{"$error":"#DIV/0!"},{"$error":"#DIV/0!"},null,null,null,null,null,null,null,null,null,null,{"$error":"#DIV/0!"},{"$error":"#DIV/0!"},{"$error":"#DIV/0!"}]
[null,null,null,null,44.5,{"$error":"#DIV/0!"},null,-99,{"$error":"#DIV/0!"},null,-99,{"$error":"#DIV/0!"},null,-99,{"$error":"#DIV/0!"},null,-99,{"$error":"#DIV/0!"},null,-99,{"$error":"#DIV/0!"},null,-99,{"$error":"#DIV/0!"},null,-99,{"$error":"#DIV/0!"},null,-99,{"$error":"#DIV/0!"},null,-99,{"$error":"#DIV/0!"},null,-99,{"$error":"#DIV/0!"},{"$error":"#DIV/0!"},null,null,null,null,null,null,null,null,null,null,{"$error":"#DIV/0!"},{"$error":"#DIV/0!"},{"$error":"#DIV/0!"}]
[null,null,null,null,44.75,{"$error":"#DIV/0!"},null,-99,{"$error":"#DIV/0!"},null,-99,{"$error":"#DIV/0!"},null,-99,{"$error":"#DIV/0!"},null,-99,{"$error":"#DIV/0!"},null,-99,{"$error":"#DIV/0!"},null,-99,{"$error":"#DIV/0!"},null,-99,{"$error":"#DIV/0!"},null,-99,{"$error":"#DIV/0!"},null,-99,{"$error":"#DIV/0!"},null,-99,{"$error":"#DIV/0!"},{"$error":"#DIV/0!"},null,null,null,null,null,null,null,null,null,null,{"$error":"#DIV/0!"},{"$error":"#DIV/0!"},{"$error":"#DIV/0!"}]
[null,null,null,null,45,{"$error":"#DIV/0!"},null,-99,{"$error":"#DIV/0!"},null,-99,{"$error":"#DIV/0!"},null,-99,{"$error":"#DIV/0!"},null,-99,{"$error":"#DIV/0!"},null,-99,{"$error":"#DIV/0!"},null,-99,{"$error":"#DIV/0!"},null,-99,{"$error":"#DIV/0!"},null,-99,{"$error":"#DIV/0!"},null,-99,{"$error":"#DIV/0!"},null,-99,{"$error":"#DIV/0!"},{"$error":"#DIV/0!"},null,null,null,null,null,null,null,null,null,null,{"$error":"#DIV/0!"},{"$error":"#DIV/0!"},{"$error":"#DIV/0!"}]
[null,null,null,null,45.25,{"$error":"#DIV/0!"},null,-99,{"$error":"#DIV/0!"},null,-99,{"$error":"#DIV/0!"},null,-99,{"$error":"#DIV/0!"},null,-99,{"$error":"#DIV/0!"},null,-99,{"$error":"#DIV/0!"},null,-99,{"$error":"#DIV/0!"},null,-99,{"$error":"#DIV/0!"},null,-99,{"$error":"#DIV/0!"},null,-99,{"$error":"#DIV/0!"},null,-99,{"$error":"#DIV/0!"},{"$error":"#DIV/0!"},null,null,null,null,null,null,null,null,null,null,{"$error":"#DIV/0!"},{"$error":"#DIV/0!"},{"$error":"#DIV/0!"}]
[null,null,null,null,45.5,{"$error":"#DIV/0!"},null,-99,{"$error":"#DIV/0!"},null,-99,{"$error":"#DIV/0!"},null,-99,{"$error":"#DIV/0!"},null,-99,{"$error":"#DIV/0!"},null,-99,{"$error":"#DIV/0!"},null,-99,{"$error":"#DIV/0!"},null,-99,{"$error":"#DIV/0!"},null,-99,{"$error":"#DIV/0!"},null,-99,{"$error":"#DIV/0!"},null,-99,{"$error":"#DIV/0!"},{"$error":"#DIV/0!"},null,null,null,null,null,null,null,null,null,null,{"$error":"#DIV/0!"},{"$error":"#DIV/0!"},{"$error":"#DIV/0!"}]
[null,null,null,null,45.75,{"$error":"#DIV/0!"},null,-99,{"$error":"#DIV/0!"},null,-99,{"$error":"#DIV/0!"},null,-99,{"$error":"#DIV/0!"},null,-99,{"$error":"#DIV/0!"},null,-99,{"$error":"#DIV/0!"},null,-99,{"$error":"#DIV/0!"},null,-99,{"$error":"#DIV/0!"},null,-99,{"$error":"#DIV/0!"},null,-99,{"$error":"#DIV/0!"},null,-99,{"$error":"#DIV/0!"},{"$error":"#DIV/0!"},null,null,null,null,null,null,null,null,null,null,{"$error":"#DIV/0!"},{"$error":"#DIV/0!"},{"$error":"#DIV/0!"}]
[null,null,null,null,46,{"$error":"#DIV/0!"},null,-99,{"$error":"#DIV/0!"},null,-99,{"$error":"#DIV/0!"},null,-99,{"$error":"#DIV/0!"},null,-99,{"$error":"#DIV/0!"},null,-99,{"$error":"#DIV/0!"},null,-99,{"$error":"#DIV/0!"},null,-99,{"$error":"#DIV/0!"},null,-99,{"$error":"#DIV/0!"},null,-99,{"$error":"#DIV/0!"},null,-99,{"$error":"#DIV/0!"},{"$error":"#DIV/0!"},null,null,null,null,null,null,null,null,null,null,{"$error":"#DIV/0!"},{"$error":"#DIV/0!"},{"$error":"#DIV/0!"}]
[null,null,null,null,46.25,{"$error":"#DIV/0!"},null,-99,{"$error":"#DIV/0!"},null,-99,{"$error":"#DIV/0!"},null,-99,{"$error":"#DIV/0!"},null,-99,{"$error":"#DIV/0!"},null,-99,{"$error":"#DIV/0!"},null,-99,{"$error":"#DIV/0!"},null,-99,{"$error":"#DIV/0!"},null,-99,{"$error":"#DIV/0!"},null,-99,{"$error":"#DIV/0!"},null,-99,{"$error":"#DIV/0!"},{"$error":"#DIV/0!"},null,null,null,null,null,null,null,null,null,null,{"$error":"#DIV/0!"},{"$error":"#DIV/0!"},{"$error":"#DIV/0!"}]
[null,null,null,null,46.5,{"$error":"#DIV/0!"},null,-99,{"$error":"#DIV/0!"},null,-99,{"$error":"#DIV/0!"},null,-99,{"$error":"#DIV/0!"},null,-99,{"$error":"#DIV/0!"},null,-99,{"$error":"#DIV/0!"},null,-99,{"$error":"#DIV/0!"},null,-99,{"$error":"#DIV/0!"},null,-99,{"$error":"#DIV/0!"},null,-99,{"$error":"#DIV/0!"},null,-99,{"$error":"#DIV/0!"},{"$error":"#DIV/0!"},null,null,null,null,null,null,null,null,null,null,{"$error":"#DIV/0!"},{"$error":"#DIV/0!"},{"$error":"#DIV/0!"}]
[null,null,null,null,46.75,{"$error":"#DIV/0!"},null,-99,{"$error":"#DIV/0!"},null,-99,{"$error":"#DIV/0!"},null,-99,{"$error":"#DIV/0!"},null,-99,{"$error":"#DIV/0!"},null,-99,{"$error":"#DIV/0!"},null,-99,{"$error":"#DIV/0!"},null,-99,{"$error":"#DIV/0!"},null,-99,{"$error":"#DIV/0!"},null,-99,{"$error":"#DIV/0!"},null,-99,{"$error":"#DIV/0!"},{"$error":"#DIV/0!"},null,null,null,null,null,null,null,null,null,null,{"$error":"#DIV/0!"},{"$error":"#DIV/0!"},{"$error":"#DIV/0!"}]
[null,null,null,null,47,{"$error":"#DIV/0!"},null,-99,{"$error":"#DIV/0!"},null,-99,{"$error":"#DIV/0!"},null,-99,{"$error":"#DIV/0!"},null,-99,{"$error":"#DIV/0!"},null,-99,{"$error":"#DIV/0!"},null,-99,{"$error":"#DIV/0!"},null,-99,{"$error":"#DIV/0!"},null,-99,{"$error":"#DIV/0!"},null,-99,{"$error":"#DIV/0!"},null,-99,{"$error":"#DIV/0!"},{"$error":"#DIV/0!"},null,null,null,null,null,null,null,null,null,null,{"$error":"#DIV/0!"},{"$error":"#DIV/0!"},{"$error":"#DIV/0!"}]
[null,null,null,null,47.25,{"$error":"#DIV/0!"},null,-99,{"$error":"#DIV/0!"},null,-99,{"$error":"#DIV/0!"},null,-99,{"$error":"#DIV/0!"},null,-99,{"$error":"#DIV/0!"},null,-99,{"$error":"#DIV/0!"},null,-99,{"$error":"#DIV/0!"},null,-99,{"$error":"#DIV/0!"},null,-99,{"$error":"#DIV/0!"},null,-99,{"$error":"#DIV/0!"},null,-99,{"$error":"#DIV/0!"},{"$error":"#DIV/0!"},null,null,null,null,null,null,null,null,null,null,{"$error":"#DIV/0!"},{"$error":"#DIV/0!"},{"$error":"#DIV/0!"}]
[null,null,null,null,47.5,{"$error":"#DIV/0!"},null,-99,{"$error":"#DIV/0!"},null,-99,{"$error":"#DIV/0!"},null,-99,{"$error":"#DIV/0!"},null,-99,{"$error":"#DIV/0!"},null,-99,{"$error":"#DIV/0!"},null,-99,{"$error":"#DIV/0!"},null,-99,{"$error":"#DIV/0!"},null,-99,{"$error":"#DIV/0!"},null,-99,{"$error":"#DIV/0!"},null,-99,{"$error":"#DIV/0!"},{"$error":"#DIV/0!"},null,null,null,null,null,null,null,null,null,null,{"$error":"#DIV/0!"},{"$error":"#DIV/0!"},{"$error":"#DIV/0!"}]
[null,null,null,null,47.75,{"$error":"#DIV/0!"},null,-99,{"$error":"#DIV/0!"},null,-99,{"$error":"#DIV/0!"},null,-99,{"$error":"#DIV/0!"},null,-99,{"$error":"#DIV/0!"},null,-99,{"$error":"#DIV/0!"},null,-99,{"$error":"#DIV/0!"},null,-99,{"$error":"#DIV/0!"},null,-99,{"$error":"#DIV/0!"},null,-99,{"$error":"#DIV/0!"},null,-99,{"$error":"#DIV/0!"},{"$error":"#DIV/0!"},null,null,null,null,null,null,null,null,null,null,{"$error":"#DIV/0!"},{"$error":"#DIV/0!"},{"$error":"#DIV/0!"}]
[null,null,null,null,48,{"$error":"#DIV/0!"},null,-99,{"$error":"#DIV/0!"},null,-99,{"$error":"#DIV/0!"},null,-99,{"$error":"#DIV/0!"},null,-99,{"$error":"#DIV/0!"},null,-99,{"$error":"#DIV/0!"},null,-99,{"$error":"#DIV/0!"},null,-99,{"$error":"#DIV/0!"},null,-99,{"$error":"#DIV/0!"},null,-99,{"$error":"#DIV/0!"},null,-99,{"$error":"#DIV/0!"},{"$error":"#DIV/0!"},null,null,null,null,null,null,null,null,null,null,{"$error":"#DIV/0!"},{"$error":"#DIV/0!"},{"$error":"#DIV/0!"}]
[null,null,null,null,{"$f":"E265+E$60","v":48.25},{"$f":"IF($E266<$E$8,$E266*$E$7/100,$E$6)","v":{"$error":"#DIV/0!"}},null,{"$f":"G266-H$68","v":-99},{"$f":"IF(AND(H266>0,$AX265<$E$14),1.59*H$65*H266^1.65,0)","v":{"$error":"#DIV/0!"}},null,{"$f":"J266-K$68","v":-99},{"$f":"IF(AND(K266>0,$AX265<$E$14),1.59*K$65*K266^1.65,0)","v":{"$error":"#DIV/0!"}},null,{"$f":"M266-N$68","v":-99},{"$f":"IF(AND(N266>0,$AX265<$E$14),1.59*N$65*N266^1.65,0)","v":{"$error":"#DIV/0!"}},null,{"$f":"P266-Q$68","v":-99},{"$f":"IF(AND(Q266>0,$AX265<$E$14),1.59*Q$65*Q266^1.65,0)","v":{"$error":"#DIV/0!"}},null,{"$f":"S266-T$68","v":-99},{"$f":"IF(AND(T266>0,$AX265<$E$14),1.59*T$65*T266^1.65,0)","v":{"$error":"#DIV/0!"}},null,{"$f":"V266-W$68","v":-99},{"$f":"IF(AND(W266>0,$AX265<$E$14),1.59*W$65*W266^1.65,0)","v":{"$error":"#DIV/0!"}},null,{"$f":"Y266-Z$68","v":-99},{"$f":"IF(AND(Z266>0,$AX265<$E$14),1.59*Z$65*Z266^1.65,0)","v":{"$error":"#DIV/0!"}},null,{"$f":"AB266-AC$68","v":-99},{"$f":"IF(AND(AC266>0,$AX265<$E$14),1.59*AC$65*AC266^1.65,0)","v":{"$error":"#DIV/0!"}},null,{"$f":"AE266-AF$68","v":-99},{"$f":"IF(AND(AF266>0,$AX265<$E$14),1.59*AF$65*AF266^1.65,0)","v":{"$error":"#DIV/0!"}},null,{"$f":"AH266-AI$68","v":-99},{"$f":"IF(AND(AI266>0,$AX265<$E$14),1.59*AI$65*AI266^1.65,0)","v":{"$error":"#DIV/0!"}},{"$error":"#DIV/0!"},null,null,null,null,null,null,null,null,null,null,{"$f":"AK266-SUM(AL266:AU266)","v":{"$error":"#DIV/0!"}},{"$error":"#DIV/0!"},{"$error":"#DIV/0!"}]
[null,null,null,null,48.5,{"$error":"#DIV/0!"},null,-99,{"$error":"#DIV/0!"},null,-99,{"$error":"#DIV/0!"},null,-99,{"$error":"#DIV/0!"},null,-99,{"$error":"#DIV/0!"},null,-99,{"$error":"#DIV/0!"},null,-99,{"$error":"#DIV/0!"},null,-99,{"$error":"#DIV/0!"},null,-99,{"$error":"#DIV/0!"},null,-99,{"$error":"#DIV/0!"},null,-99,{"$error":"#DIV/0!"},{"$f":"I267+L267+O267+R267+U267+X267+AA267+AD267+AG267+AJ267","v":{"$error":"#DIV/0!"}},null,null,null,null,null,null,null,null,null,null,{"$error":"#DIV/0!"},{"$f":"MIN(AW$69,(AV266+AV267)*E$60*60*0.5+AW266)","v":{"$error":"#DIV/0!"}},{"$error":"#DIV/0!"}]
[null,null,null,null,48.75,{"$error":"#DIV/0!"},null,-99,{"$error":"#DIV/0!"},null,-99,{"$error":"#DIV/0!"},null,-99,{"$error":"#DIV/0!"},null,-99,{"$error":"#DIV/0!"},null,-99,{"$error":"#DIV/0!"},null,-99,{"$error":"#DIV/0!"},null,-99,{"$error":"#DIV/0!"},null,-99,{"$error":"#DIV/0!"},null,-99,{"$error":"#DIV/0!"},null,-99,{"$error":"#DIV/0!"},{"$error":"#DIV/0!"},null,null,null,null,null,null,null,null,null,null,{"$error":"#DIV/0!"},{"$error":"#DIV/0!"},{"$error":"#DIV/0!"}]
[null,null,null,null,49,{"$error":"#DIV/0!"},null,-99,{"$error":"#DIV/0!"},null,-99,{"$error":"#DIV/0!"},null,-99,{"$error":"#DIV/0!"},null,-99,{"$error":"#DIV/0!"},null,-99,{"$error":"#DIV/0!"},null,-99,{"$error":"#DIV/0!"},null,-99,{"$error":"#DIV/0!"},null,-99,{"$error":"#DIV/0!"},null,-99,{"$error":"#DIV/0!"},null,-99,{"$error":"#DIV/0!"},{"$error":"#DIV/0!"},null,null,null,null,null,null,null,null,null,null,{"$error":"#DIV/0!"},{"$error":"#DIV/0!"},{"$error":"#DIV/0!"}]
[null,null,null,null,49.25,{"$error":"#DIV/0!"},null,-99,{"$error":"#DIV/0!"},null,-99,{"$error":"#DIV/0!"},null,-99,{"$error":"#DIV/0!"},null,-99,{"$error":"#DIV/0!"},null,-99,{"$error":"#DIV/0!"},null,-99,{"$error":"#DIV/0!"},null,-99,{"$error":"#DIV/0!"},null,-99,{"$error":"#DIV/0!"},null,-99,{"$error":"#DIV/0!"},null,-99,{"$error":"#DIV/0!"},{"$error":"#DIV/0!"},null,null,null,null,null,null,null,null,null,null,{"$error":"#DIV/0!"},{"$error":"#DIV/0!"},{"$error":"#DIV/0!"}]
[null,null,null,null,49.5,{"$error":"#DIV/0!"},null,-99,{"$error":"#DIV/0!"},null,-99,{"$error":"#DIV/0!"},null,-99,{"$error":"#DIV/0!"},null,-99,{"$error":"#DIV/0!"},null,-99,{"$error":"#DIV/0!"},null,-99,{"$error":"#DIV/0!"},null,-99,{"$error":"#DIV/0!"},null,-99,{"$error":"#DIV/0!"},null,-99,{"$error":"#DIV/0!"},null,-99,{"$error":"#DIV/0!"},{"$error":"#DIV/0!"},null,null,null,null,null,null,null,null,null,null,{"$error":"#DIV/0!"},{"$error":"#DIV/0!"},{"$f":"AW271/E$13","v":{"$error":"#DIV/0!"}}]
[null,null,null,null,49.75,{"$error":"#DIV/0!"},null,-99,{"$error":"#DIV/0!"},null,-99,{"$error":"#DIV/0!"},null,-99,{"$error":"#DIV/0!"},null,-99,{"$error":"#DIV/0!"},null,-99,{"$error":"#DIV/0!"},null,-99,{"$error":"#DIV/0!"},null,-99,{"$error":"#DIV/0!"},null,-99,{"$error":"#DIV/0!"},null,-99,{"$error":"#DIV/0!"},null,-99,{"$error":"#DIV/0!"},{"$error":"#DIV/0!"},null,null,null,null,null,null,null,null,null,null,{"$error":"#DIV/0!"},{"$error":"#DIV/0!"},{"$error":"#DIV/0!"}]
[null,null,null,null,50,{"$error":"#DIV/0!"},null,-99,{"$error":"#DIV/0!"},null,-99,{"$error":"#DIV/0!"},null,-99,{"$error":"#DIV/0!"},null,-99,{"$error":"#DIV/0!"},null,-99,{"$error":"#DIV/0!"},null,-99,{"$error":"#DIV/0!"},null,-99,{"$error":"#DIV/0!"},null,-99,{"$error":"#DIV/0!"},null,-99,{"$error":"#DIV/0!"},null,-99,{"$error":"#DIV/0!"},{"$error":"#DIV/0!"},null,null,null,null,null,null,null,null,null,null,{"$error":"#DIV/0!"},{"$error":"#DIV/0!"},{"$error":"#DIV/0!"}]
[null,null,null,null,50.25,{"$error":"#DIV/0!"},null,-99,{"$error":"#DIV/0!"},null,-99,{"$error":"#DIV/0!"},null,-99,{"$error":"#DIV/0!"},null,-99,{"$error":"#DIV/0!"},null,-99,{"$error":"#DIV/0!"},null,-99,{"$error":"#DIV/0!"},null,-99,{"$error":"#DIV/0!"},null,-99,{"$error":"#DIV/0!"},null,-99,{"$error":"#DIV/0!"},null,-99,{"$error":"#DIV/0!"},{"$error":"#DIV/0!"},null,null,null,null,null,null,null,null,null,null,{"$error":"#DIV/0!"},{"$error":"#DIV/0!"},{"$error":"#DIV/0!"}]
[null,null,null,null,50.5,{"$error":"#DIV/0!"},null,-99,{"$error":"#DIV/0!"},null,-99,{"$error":"#DIV/0!"},null,-99,{"$error":"#DIV/0!"},null,-99,{"$error":"#DIV/0!"},null,-99,{"$error":"#DIV/0!"},null,-99,{"$error":"#DIV/0!"},null,-99,{"$error":"#DIV/0!"},null,-99,{"$error":"#DIV/0!"},null,-99,{"$error":"#DIV/0!"},null,-99,{"$error":"#DIV/0!"},{"$error":"#DIV/0!"},null,null,null,null,null,null,null,null,null,null,{"$error":"#DIV/0!"},{"$error":"#DIV/0!"},{"$error":"#DIV/0!"}]
[null,null,null,null,50.75,{"$error":"#DIV/0!"},null,-99,{"$error":"#DIV/0!"},null,-99,{"$error":"#DIV/0!"},null,-99,{"$error":"#DIV/0!"},null,-99,{"$error":"#DIV/0!"},null,-99,{"$error":"#DIV/0!"},null,-99,{"$error":"#DIV/0!"},null,-99,{"$error":"#DIV/0!"},null,-99,{"$error":"#DIV/0!"},null,-99,{"$error":"#DIV/0!"},null,-99,{"$error":"#DIV/0!"},{"$error":"#DIV/0!"},null,null,null,null,null,null,null,null,null,null,{"$error":"#DIV/0!"},{"$error":"#DIV/0!"},{"$error":"#DIV/0!"}]
[null,null,null,null,51,{"$error":"#DIV/0!"},null,-99,{"$error":"#DIV/0!"},null,-99,{"$error":"#DIV/0!"},null,-99,{"$error":"#DIV/0!"},null,-99,{"$error":"#DIV/0!"},null,-99,{"$error":"#DIV/0!"},null,-99,{"$error":"#DIV/0!"},null,-99,{"$error":"#DIV/0!"},null,-99,{"$error":"#DIV/0!"},null,-99,{"$error":"#DIV/0!"},null,-99,{"$error":"#DIV/0!"},{"$error":"#DIV/0!"},null,null,null,null,null,null,null,null,null,null,{"$error":"#DIV/0!"},{"$error":"#DIV/0!"},{"$error":"#DIV/0!"}]
[null,null,null,null,51.25,{"$error":"#DIV/0!"},null,-99,{"$error":"#DIV/0!"},null,-99,{"$error":"#DIV/0!"},null,-99,{"$error":"#DIV/0!"},null,-99,{"$error":"#DIV/0!"},null,-99,{"$error":"#DIV/0!"},null,-99,{"$error":"#DIV/0!"},null,-99,{"$error":"#DIV/0!"},null,-99,{"$error":"#DIV/0!"},null,-99,{"$error":"#DIV/0!"},null,-99,{"$error":"#DIV/0!"},{"$error":"#DIV/0!"},null,null,null,null,null,null,null,null,null,null,{"$error":"#DIV/0!"},{"$error":"#DIV/0!"},{"$error":"#DIV/0!"}]
[null,null,null,null,51.5,{"$error":"#DIV/0!"},null,-99,{"$error":"#DIV/0!"},null,-99,{"$error":"#DIV/0!"},null,-99,{"$error":"#DIV/0!"},null,-99,{"$error":"#DIV/0!"},null,-99,{"$error":"#DIV/0!"},null,-99,{"$error":"#DIV/0!"},null,-99,{"$error":"#DIV/0!"},null,-99,{"$error":"#DIV/0!"},null,-99,{"$error":"#DIV/0!"},null,-99,{"$error":"#DIV/0!"},{"$error":"#DIV/0!"},null,null,null,null,null,null,null,null,null,null,{"$error":"#DIV/0!"},{"$error":"#DIV/0!"},{"$error":"#DIV/0!"}]
[null,null,null,null,51.75,{"$error":"#DIV/0!"},null,-99,{"$error":"#DIV/0!"},null,-99,{"$error":"#DIV/0!"},null,-99,{"$error":"#DIV/0!"},null,-99,{"$error":"#DIV/0!"},null,-99,{"$error":"#DIV/0!"},null,-99,{"$error":"#DIV/0!"},null,-99,{"$error":"#DIV/0!"},null,-99,{"$error":"#DIV/0!"},null,-99,{"$error":"#DIV/0!"},null,-99,{"$error":"#DIV/0!"},{"$error":"#DIV/0!"},null,null,null,null,null,null,null,null,null,null,{"$error":"#DIV/0!"},{"$error":"#DIV/0!"},{"$error":"#DIV/0!"}]
[null,null,null,null,52,{"$error":"#DIV/0!"},null,-99,{"$error":"#DIV/0!"},null,-99,{"$error":"#DIV/0!"},null,-99,{"$error":"#DIV/0!"},null,-99,{"$error":"#DIV/0!"},null,-99,{"$error":"#DIV/0!"},null,-99,{"$error":"#DIV/0!"},null,-99,{"$error":"#DIV/0!"},null,-99,{"$error":"#DIV/0!"},null,-99,{"$error":"#DIV/0!"},null,-99,{"$error":"#DIV/0!"},{"$error":"#DIV/0!"},null,null,null,null,null,null,null,null,null,null,{"$error":"#DIV/0!"},{"$error":"#DIV/0!"},{"$error":"#DIV/0!"}]
[null,null,null,null,52.25,{"$error":"#DIV/0!"},null,-99,{"$error":"#DIV/0!"},null,-99,{"$error":"#DIV/0!"},null,-99,{"$error":"#DIV/0!"},null,-99,{"$error":"#DIV/0!"},null,-99,{"$error":"#DIV/0!"},null,-99,{"$error":"#DIV/0!"},null,-99,{"$error":"#DIV/0!"},null,-99,{"$error":"#DIV/0!"},null,-99,{"$error":"#DIV/0!"},null,-99,{"$error":"#DIV/0!"},{"$error":"#DIV/0!"},null,null,null,null,null,null,null,null,null,null,{"$error":"#DIV/0!"},{"$error":"#DIV/0!"},{"$error":"#DIV/0!"}]
[null,null,null,null,52.5,{"$error":"#DIV/0!"},null,-99,{"$error":"#DIV/0!"},null,-99,{"$error":"#DIV/0!"},null,-99,{"$error":"#DIV/0!"},null,-99,{"$error":"#DIV/0!"},null,-99,{"$error":"#DIV/0!"},null,-99,{"$error":"#DIV/0!"},null,-99,{"$error":"#DIV/0!"},null,-99,{"$error":"#DIV/0!"},null,-99,{"$error":"#DIV/0!"},null,-99,{"$error":"#DIV/0!"},{"$error":"#DIV/0!"},null,null,null,null,null,null,null,null,null,null,{"$error":"#DIV/0!"},{"$error":"#DIV/0!"},{"$error":"#DIV/0!"}]
[null,null,null,null,52.75,{"$error":"#DIV/0!"},null,-99,{"$error":"#DIV/0!"},null,-99,{"$error":"#DIV/0!"},null,-99,{"$error":"#DIV/0!"},null,-99,{"$error":"#DIV/0!"},null,-99,{"$error":"#DIV/0!"},null,-99,{"$error":"#DIV/0!"},null,-99,{"$error":"#DIV/0!"},null,-99,{"$error":"#DIV/0!"},null,-99,{"$error":"#DIV/0!"},null,-99,{"$error":"#DIV/0!"},{"$error":"#DIV/0!"},null,null,null,null,null,null,null,null,null,null,{"$error":"#DIV/0!"},{"$error":"#DIV/0!"},{"$error":"#DIV/0!"}]
[null,null,null,null,53,{"$error":"#DIV/0!"},null,-99,{"$error":"#DIV/0!"},null,-99,{"$error":"#DIV/0!"},null,-99,{"$error":"#DIV/0!"},null,-99,{"$error":"#DIV/0!"},null,-99,{"$error":"#DIV/0!"},null,-99,{"$error":"#DIV/0!"},null,-99,{"$error":"#DIV/0!"},null,-99,{"$error":"#DIV/0!"},null,-99,{"$error":"#DIV/0!"},null,-99,{"$error":"#DIV/0!"},{"$error":"#DIV/0!"},null,null,null,null,null,null,null,null,null,null,{"$error":"#DIV/0!"},{"$error":"#DIV/0!"},{"$error":"#DIV/0!"}]
[null,null,null,null,53.25,{"$error":"#DIV/0!"},null,-99,{"$error":"#DIV/0!"},null,-99,{"$error":"#DIV/0!"},null,-99,{"$error":"#DIV/0!"},null,-99,{"$error":"#DIV/0!"},null,-99,{"$error":"#DIV/0!"},null,-99,{"$error":"#DIV/0!"},null,-99,{"$error":"#DIV/0!"},null,-99,{"$error":"#DIV/0!"},null,-99,{"$error":"#DIV/0!"},null,-99,{"$error":"#DIV/0!"},{"$error":"#DIV/0!"},null,null,null,null,null,null,null,null,null,null,{"$error":"#DIV/0!"},{"$error":"#DIV/0!"},{"$error":"#DIV/0!"}]
[null,null,null,null,53.5,{"$error":"#DIV/0!"},null,-99,{"$error":"#DIV/0!"},null,-99,{"$error":"#DIV/0!"},null,-99,{"$error":"#DIV/0!"},null,-99,{"$error":"#DIV/0!"},null,-99,{"$error":"#DIV/0!"},null,-99,{"$error":"#DIV/0!"},null,-99,{"$error":"#DIV/0!"},null,-99,{"$error":"#DIV/0!"},null,-99,{"$error":"#DIV/0!"},null,-99,{"$error":"#DIV/0!"},{"$error":"#DIV/0!"},null,null,null,null,null,null,null,null,null,null,{"$error":"#DIV/0!"},{"$error":"#DIV/0!"},{"$error":"#DIV/0!"}]
[null,null,null,null,53.75,{"$error":"#DIV/0!"},null,-99,{"$error":"#DIV/0!"},null,-99,{"$error":"#DIV/0!"},null,-99,{"$error":"#DIV/0!"},null,-99,{"$error":"#DIV/0!"},null,-99,{"$error":"#DIV/0!"},null,-99,{"$error":"#DIV/0!"},null,-99,{"$error":"#DIV/0!"},null,-99,{"$error":"#DIV/0!"},null,-99,{"$error":"#DIV/0!"},null,-99,{"$error":"#DIV/0!"},{"$error":"#DIV/0!"},null,null,null,null,null,null,null,null,null,null,{"$error":"#DIV/0!"},{"$error":"#DIV/0!"},{"$error":"#DIV/0!"}]
[null,null,null,null,54,{"$error":"#DIV/0!"},null,-99,{"$error":"#DIV/0!"},null,-99,{"$error":"#DIV/0!"},null,-99,{"$error":"#DIV/0!"},null,-99,{"$error":"#DIV/0!"},null,-99,{"$error":"#DIV/0!"},null,-99,{"$error":"#DIV/0!"},null,-99,{"$error":"#DIV/0!"},null,-99,{"$error":"#DIV/0!"},null,-99,{"$error":"#DIV/0!"},null,-99,{"$error":"#DIV/0!"},{"$error":"#DIV/0!"},null,null,null,null,null,null,null,null,null,null,{"$error":"#DIV/0!"},{"$error":"#DIV/0!"},{"$error":"#DIV/0!"}]
[null,null,null,null,54.25,{"$error":"#DIV/0!"},null,-99,{"$error":"#DIV/0!"},null,-99,{"$error":"#DIV/0!"},null,-99,{"$error":"#DIV/0!"},null,-99,{"$error":"#DIV/0!"},null,-99,{"$error":"#DIV/0!"},null,-99,{"$error":"#DIV/0!"},null,-99,{"$error":"#DIV/0!"},null,-99,{"$error":"#DIV/0!"},null,-99,{"$error":"#DIV/0!"},null,-99,{"$error":"#DIV/0!"},{"$error":"#DIV/0!"},null,null,null,null,null,null,null,null,null,null,{"$error":"#DIV/0!"},{"$error":"#DIV/0!"},{"$error":"#DIV/0!"}]
[null,null,null,null,54.5,{"$error":"#DIV/0!"},null,-99,{"$error":"#DIV/0!"},null,-99,{"$error":"#DIV/0!"},null,-99,{"$error":"#DIV/0!"},null,-99,{"$error":"#DIV/0!"},null,-99,{"$error":"#DIV/0!"},null,-99,{"$error":"#DIV/0!"},null,-99,{"$error":"#DIV/0!"},null,-99,{"$error":"#DIV/0!"},null,-99,{"$error":"#DIV/0!"},null,-99,{"$error":"#DIV/0!"},{"$error":"#DIV/0!"},null,null,null,null,null,null,null,null,null,null,{"$error":"#DIV/0!"},{"$error":"#DIV/0!"},{"$error":"#DIV/0!"}]
[null,null,null,null,54.75,{"$error":"#DIV/0!"},null,-99,{"$error":"#DIV/0!"},null,-99,{"$error":"#DIV/0!"},null,-99,{"$error":"#DIV/0!"},null,-99,{"$error":"#DIV/0!"},null,-99,{"$error":"#DIV/0!"},null,-99,{"$error":"#DIV/0!"},null,-99,{"$error":"#DIV/0!"},null,-99,{"$error":"#DIV/0!"},null,-99,{"$error":"#DIV/0!"},null,-99,{"$error":"#DIV/0!"},{"$error":"#DIV/0!"},null,null,null,null,null,null,null,null,null,null,{"$error":"#DIV/0!"},{"$error":"#DIV/0!"},{"$error":"#DIV/0!"}]
[null,null,null,null,55,{"$error":"#DIV/0!"},null,-99,{"$error":"#DIV/0!"},null,-99,{"$error":"#DIV/0!"},null,-99,{"$error":"#DIV/0!"},null,-99,{"$error":"#DIV/0!"},null,-99,{"$error":"#DIV/0!"},null,-99,{"$error":"#DIV/0!"},null,-99,{"$error":"#DIV/0!"},null,-99,{"$error":"#DIV/0!"},null,-99,{"$error":"#DIV/0!"},null,-99,{"$error":"#DIV/0!"},{"$error":"#DIV/0!"},null,null,null,null,null,null,null,null,null,null,{"$error":"#DIV/0!"},{"$error":"#DIV/0!"},{"$error":"#DIV/0!"}]
[null,null,null,null,55.25,{"$error":"#DIV/0!"},null,-99,{"$error":"#DIV/0!"},null,-99,{"$error":"#DIV/0!"},null,-99,{"$error":"#DIV/0!"},null,-99,{"$error":"#DIV/0!"},null,-99,{"$error":"#DIV/0!"},null,-99,{"$error":"#DIV/0!"},null,-99,{"$error":"#DIV/0!"},null,-99,{"$error":"#DIV/0!"},null,-99,{"$error":"#DIV/0!"},null,-99,{"$error":"#DIV/0!"},{"$error":"#DIV/0!"},null,null,null,null,null,null,null,null,null,null,{"$error":"#DIV/0!"},{"$error":"#DIV/0!"},{"$error":"#DIV/0!"}]
[null,null,null,null,55.5,{"$error":"#DIV/0!"},null,-99,{"$error":"#DIV/0!"},null,-99,{"$error":"#DIV/0!"},null,-99,{"$error":"#DIV/0!"},null,-99,{"$error":"#DIV/0!"},null,-99,{"$error":"#DIV/0!"},null,-99,{"$error":"#DIV/0!"},null,-99,{"$error":"#DIV/0!"},null,-99,{"$error":"#DIV/0!"},null,-99,{"$error":"#DIV/0!"},null,-99,{"$error":"#DIV/0!"},{"$error":"#DIV/0!"},null,null,null,null,null,null,null,null,null,null,{"$error":"#DIV/0!"},{"$error":"#DIV/0!"},{"$error":"#DIV/0!"}]
[null,null,null,null,55.75,{"$error":"#DIV/0!"},null,-99,{"$error":"#DIV/0!"},null,-99,{"$error":"#DIV/0!"},null,-99,{"$error":"#DIV/0!"},null,-99,{"$error":"#DIV/0!"},null,-99,{"$error":"#DIV/0!"},null,-99,{"$error":"#DIV/0!"},null,-99,{"$error":"#DIV/0!"},null,-99,{"$error":"#DIV/0!"},null,-99,{"$error":"#DIV/0!"},null,-99,{"$error":"#DIV/0!"},{"$error":"#DIV/0!"},null,null,null,null,null,null,null,null,null,null,{"$error":"#DIV/0!"},{"$error":"#DIV/0!"},{"$error":"#DIV/0!"}]
[null,null,null,null,56,{"$error":"#DIV/0!"},null,-99,{"$error":"#DIV/0!"},null,-99,{"$error":"#DIV/0!"},null,-99,{"$error":"#DIV/0!"},null,-99,{"$error":"#DIV/0!"},null,-99,{"$error":"#DIV/0!"},null,-99,{"$error":"#DIV/0!"},null,-99,{"$error":"#DIV/0!"},null,-99,{"$error":"#DIV/0!"},null,-99,{"$error":"#DIV/0!"},null,-99,{"$error":"#DIV/0!"},{"$error":"#DIV/0!"},null,null,null,null,null,null,null,null,null,null,{"$error":"#DIV/0!"},{"$error":"#DIV/0!"},{"$error":"#DIV/0!"}]
[null,null,null,null,56.25,{"$error":"#DIV/0!"},null,-99,{"$error":"#DIV/0!"},null,-99,{"$error":"#DIV/0!"},null,-99,{"$error":"#DIV/0!"},null,-99,{"$error":"#DIV/0!"},null,-99,{"$error":"#DIV/0!"},null,-99,{"$error":"#DIV/0!"},null,-99,{"$error":"#DIV/0!"},null,-99,{"$error":"#DIV/0!"},null,-99,{"$error":"#DIV/0!"},null,-99,{"$error":"#DIV/0!"},{"$error":"#DIV/0!"},null,null,null,null,null,null,null,null,null,null,{"$error":"#DIV/0!"},{"$error":"#DIV/0!"},{"$error":"#DIV/0!"}]
[null,null,null,null,56.5,{"$error":"#DIV/0!"},null,-99,{"$error":"#DIV/0!"},null,-99,{"$error":"#DIV/0!"},null,-99,{"$error":"#DIV/0!"},null,-99,{"$error":"#DIV/0!"},null,-99,{"$error":"#DIV/0!"},null,-99,{"$error":"#DIV/0!"},null,-99,{"$error":"#DIV/0!"},null,-99,{"$error":"#DIV/0!"},null,-99,{"$error":"#DIV/0!"},null,-99,{"$error":"#DIV/0!"},{"$error":"#DIV/0!"},null,null,null,null,null,null,null,null,null,null,{"$error":"#DIV/0!"},{"$error":"#DIV/0!"},{"$error":"#DIV/0!"}]
[null,null,null,null,56.75,{"$error":"#DIV/0!"},null,-99,{"$error":"#DIV/0!"},null,-99,{"$error":"#DIV/0!"},null,-99,{"$error":"#DIV/0!"},null,-99,{"$error":"#DIV/0!"},null,-99,{"$error":"#DIV/0!"},null,-99,{"$error":"#DIV/0!"},null,-99,{"$error":"#DIV/0!"},null,-99,{"$error":"#DIV/0!"},null,-99,{"$error":"#DIV/0!"},null,-99,{"$error":"#DIV/0!"},{"$error":"#DIV/0!"},null,null,null,null,null,null,null,null,null,null,{"$error":"#DIV/0!"},{"$error":"#DIV/0!"},{"$error":"#DIV/0!"}]
[null,null,null,null,57,{"$error":"#DIV/0!"},null,-99,{"$error":"#DIV/0!"},null,-99,{"$error":"#DIV/0!"},null,-99,{"$error":"#DIV/0!"},null,-99,{"$error":"#DIV/0!"},null,-99,{"$error":"#DIV/0!"},null,-99,{"$error":"#DIV/0!"},null,-99,{"$error":"#DIV/0!"},null,-99,{"$error":"#DIV/0!"},null,-99,{"$error":"#DIV/0!"},null,-99,{"$error":"#DIV/0!"},{"$error":"#DIV/0!"},null,null,null,null,null,null,null,null,null,null,{"$error":"#DIV/0!"},{"$error":"#DIV/0!"},{"$error":"#DIV/0!"}]
[null,null,null,null,57.25,{"$error":"#DIV/0!"},null,-99,{"$error":"#DIV/0!"},null,-99,{"$error":"#DIV/0!"},null,-99,{"$error":"#DIV/0!"},null,-99,{"$error":"#DIV/0!"},null,-99,{"$error":"#DIV/0!"},null,-99,{"$error":"#DIV/0!"},null,-99,{"$error":"#DIV/0!"},null,-99,{"$error":"#DIV/0!"},null,-99,{"$error":"#DIV/0!"},null,-99,{"$error":"#DIV/0!"},{"$error":"#DIV/0!"},null,null,null,null,null,null,null,null,null,null,{"$error":"#DIV/0!"},{"$error":"#DIV/0!"},{"$error":"#DIV/0!"}]
[null,null,null,null,57.5,{"$error":"#DIV/0!"},null,-99,{"$error":"#DIV/0!"},null,-99,{"$error":"#DIV/0!"},null,-99,{"$error":"#DIV/0!"},null,-99,{"$error":"#DIV/0!"},null,-99,{"$error":"#DIV/0!"},null,-99,{"$error":"#DIV/0!"},null,-99,{"$error":"#DIV/0!"},null,-99,{"$error":"#DIV/0!"},null,-99,{"$error":"#DIV/0!"},null,-99,{"$error":"#DIV/0!"},{"$error":"#DIV/0!"},null,null,null,null,null,null,null,null,null,null,{"$error":"#DIV/0!"},{"$error":"#DIV/0!"},{"$error":"#DIV/0!"}]
[null,null,null,null,57.75,{"$error":"#DIV/0!"},null,-99,{"$error":"#DIV/0!"},null,-99,{"$error":"#DIV/0!"},null,-99,{"$error":"#DIV/0!"},null,-99,{"$error":"#DIV/0!"},null,-99,{"$error":"#DIV/0!"},null,-99,{"$error":"#DIV/0!"},null,-99,{"$error":"#DIV/0!"},null,-99,{"$error":"#DIV/0!"},null,-99,{"$error":"#DIV/0!"},null,-99,{"$error":"#DIV/0!"},{"$error":"#DIV/0!"},null,null,null,null,null,null,null,null,null,null,{"$error":"#DIV/0!"},{"$error":"#DIV/0!"},{"$error":"#DIV/0!"}]
[null,null,null,null,58,{"$error":"#DIV/0!"},null,-99,{"$error":"#DIV/0!"},null,-99,{"$error":"#DIV/0!"},null,-99,{"$error":"#DIV/0!"},null,-99,{"$error":"#DIV/0!"},null,-99,{"$error":"#DIV/0!"},null,-99,{"$error":"#DIV/0!"},null,-99,{"$error":"#DIV/0!"},null,-99,{"$error":"#DIV/0!"},null,-99,{"$error":"#DIV/0!"},null,-99,{"$error":"#DIV/0!"},{"$error":"#DIV/0!"},null,null,null,null,null,null,null,null,null,null,{"$error":"#DIV/0!"},{"$error":"#DIV/0!"},{"$error":"#DIV/0!"}]
[null,null,null,null,58.25,{"$error":"#DIV/0!"},null,-99,{"$error":"#DIV/0!"},null,-99,{"$error":"#DIV/0!"},null,-99,{"$error":"#DIV/0!"},null,-99,{"$error":"#DIV/0!"},null,-99,{"$error":"#DIV/0!"},null,-99,{"$error":"#DIV/0!"},null,-99,{"$error":"#DIV/0!"},null,-99,{"$error":"#DIV/0!"},null,-99,{"$error":"#DIV/0!"},null,-99,{"$error":"#DIV/0!"},{"$error":"#DIV/0!"},null,null,null,null,null,null,null,null,null,null,{"$error":"#DIV/0!"},{"$error":"#DIV/0!"},{"$error":"#DIV/0!"}]
[null,null,null,null,58.5,{"$error":"#DIV/0!"},null,-99,{"$error":"#DIV/0!"},null,-99,{"$error":"#DIV/0!"},null,-99,{"$error":"#DIV/0!"},null,-99,{"$error":"#DIV/0!"},null,-99,{"$error":"#DIV/0!"},null,-99,{"$error":"#DIV/0!"},null,-99,{"$error":"#DIV/0!"},null,-99,{"$error":"#DIV/0!"},null,-99,{"$error":"#DIV/0!"},null,-99,{"$error":"#DIV/0!"},{"$error":"#DIV/0!"},null,null,null,null,null,null,null,null,null,null,{"$error":"#DIV/0!"},{"$error":"#DIV/0!"},{"$error":"#DIV/0!"}]
[null,null,null,null,58.75,{"$error":"#DIV/0!"},null,-99,{"$error":"#DIV/0!"},null,-99,{"$error":"#DIV/0!"},null,-99,{"$error":"#DIV/0!"},null,-99,{"$error":"#DIV/0!"},null,-99,{"$error":"#DIV/0!"},null,-99,{"$error":"#DIV/0!"},null,-99,{"$error":"#DIV/0!"},null,-99,{"$error":"#DIV/0!"},null,-99,{"$error":"#DIV/0!"},null,-99,{"$error":"#DIV/0!"},{"$error":"#DIV/0!"},null,null,null,null,null,null,null,null,null,null,{"$error":"#DIV/0!"},{"$error":"#DIV/0!"},{"$error":"#DIV/0!"}]
[null,null,null,null,59,{"$error":"#DIV/0!"},null,-99,{"$error":"#DIV/0!"},null,-99,{"$error":"#DIV/0!"},null,-99,{"$error":"#DIV/0!"},null,-99,{"$error":"#DIV/0!"},null,-99,{"$error":"#DIV/0!"},null,-99,{"$error":"#DIV/0!"},null,-99,{"$error":"#DIV/0!"},null,-99,{"$error":"#DIV/0!"},null,-99,{"$error":"#DIV/0!"},null,-99,{"$error":"#DIV/0!"},{"$error":"#DIV/0!"},null,null,null,null,null,null,null,null,null,null,{"$error":"#DIV/0!"},{"$error":"#DIV/0!"},{"$error":"#DIV/0!"}]
[null,null,null,null,59.25,{"$error":"#DIV/0!"},null,-99,{"$error":"#DIV/0!"},null,-99,{"$error":"#DIV/0!"},null,-99,{"$error":"#DIV/0!"},null,-99,{"$error":"#DIV/0!"},null,-99,{"$error":"#DIV/0!"},null,-99,{"$error":"#DIV/0!"},null,-99,{"$error":"#DIV/0!"},null,-99,{"$error":"#DIV/0!"},null,-99,{"$error":"#DIV/0!"},null,-99,{"$error":"#DIV/0!"},{"$error":"#DIV/0!"},null,null,null,null,null,null,null,null,null,null,{"$error":"#DIV/0!"},{"$error":"#DIV/0!"},{"$error":"#DIV/0!"}]
[null,null,null,null,59.5,{"$error":"#DIV/0!"},null,-99,{"$error":"#DIV/0!"},null,-99,{"$error":"#DIV/0!"},null,-99,{"$error":"#DIV/0!"},null,-99,{"$error":"#DIV/0!"},null,-99,{"$error":"#DIV/0!"},null,-99,{"$error":"#DIV/0!"},null,-99,{"$error":"#DIV/0!"},null,-99,{"$error":"#DIV/0!"},null,-99,{"$error":"#DIV/0!"},null,-99,{"$error":"#DIV/0!"},{"$error":"#DIV/0!"},null,null,null,null,null,null,null,null,null,null,{"$error":"#DIV/0!"},{"$error":"#DIV/0!"},{"$error":"#DIV/0!"}]
[null,null,null,null,59.75,{"$error":"#DIV/0!"},null,-99,{"$error":"#DIV/0!"},null,-99,{"$error":"#DIV/0!"},null,-99,{"$error":"#DIV/0!"},null,-99,{"$error":"#DIV/0!"},null,-99,{"$error":"#DIV/0!"},null,-99,{"$error":"#DIV/0!"},null,-99,{"$error":"#DIV/0!"},null,-99,{"$error":"#DIV/0!"},null,-99,{"$error":"#DIV/0!"},null,-99,{"$error":"#DIV/0!"},{"$error":"#DIV/0!"},null,null,null,null,null,null,null,null,null,null,{"$error":"#DIV/0!"},{"$error":"#DIV/0!"},{"$error":"#DIV/0!"}]
[null,null,null,null,60,{"$error":"#DIV/0!"},null,-99,{"$error":"#DIV/0!"},null,-99,{"$error":"#DIV/0!"},null,-99,{"$error":"#DIV/0!"},null,-99,{"$error":"#DIV/0!"},null,-99,{"$error":"#DIV/0!"},null,-99,{"$error":"#DIV/0!"},null,-99,{"$error":"#DIV/0!"},null,-99,{"$error":"#DIV/0!"},null,-99,{"$error":"#DIV/0!"},null,-99,{"$error":"#DIV/0!"},{"$error":"#DIV/0!"},null,null,null,null,null,null,null,null,null,null,{"$error":"#DIV/0!"},{"$error":"#DIV/0!"},{"$error":"#DIV/0!"}]
[null,null,null,null,60.25,{"$error":"#DIV/0!"},null,-99,{"$error":"#DIV/0!"},null,-99,{"$error":"#DIV/0!"},null,-99,{"$error":"#DIV/0!"},null,-99,{"$error":"#DIV/0!"},null,-99,{"$error":"#DIV/0!"},null,-99,{"$error":"#DIV/0!"},null,-99,{"$error":"#DIV/0!"},null,-99,{"$error":"#DIV/0!"},null,-99,{"$error":"#DIV/0!"},null,-99,{"$error":"#DIV/0!"},{"$error":"#DIV/0!"},null,null,null,null,null,null,null,null,null,null,{"$error":"#DIV/0!"},{"$error":"#DIV/0!"},{"$error":"#DIV/0!"}]
[null,null,null,null,60.5,{"$error":"#DIV/0!"},null,-99,{"$error":"#DIV/0!"},null,-99,{"$error":"#DIV/0!"},null,-99,{"$error":"#DIV/0!"},null,-99,{"$error":"#DIV/0!"},null,-99,{"$error":"#DIV/0!"},null,-99,{"$error":"#DIV/0!"},null,-99,{"$error":"#DIV/0!"},null,-99,{"$error":"#DIV/0!"},null,-99,{"$error":"#DIV/0!"},null,-99,{"$error":"#DIV/0!"},{"$error":"#DIV/0!"},null,null,null,null,null,null,null,null,null,null,{"$error":"#DIV/0!"},{"$error":"#DIV/0!"},{"$error":"#DIV/0!"}]
[null,null,null,null,60.75,{"$error":"#DIV/0!"},null,-99,{"$error":"#DIV/0!"},null,-99,{"$error":"#DIV/0!"},null,-99,{"$error":"#DIV/0!"},null,-99,{"$error":"#DIV/0!"},null,-99,{"$error":"#DIV/0!"},null,-99,{"$error":"#DIV/0!"},null,-99,{"$error":"#DIV/0!"},null,-99,{"$error":"#DIV/0!"},null,-99,{"$error":"#DIV/0!"},null,-99,{"$error":"#DIV/0!"},{"$error":"#DIV/0!"},null,null,null,null,null,null,null,null,null,null,{"$error":"#DIV/0!"},{"$error":"#DIV/0!"},{"$error":"#DIV/0!"}]
[null,null,null,null,61,{"$error":"#DIV/0!"},null,-99,{"$error":"#DIV/0!"},null,-99,{"$error":"#DIV/0!"},null,-99,{"$error":"#DIV/0!"},null,-99,{"$error":"#DIV/0!"},null,-99,{"$error":"#DIV/0!"},null,-99,{"$error":"#DIV/0!"},null,-99,{"$error":"#DIV/0!"},null,-99,{"$error":"#DIV/0!"},null,-99,{"$error":"#DIV/0!"},null,-99,{"$error":"#DIV/0!"},{"$error":"#DIV/0!"},null,null,null,null,null,null,null,null,null,null,{"$error":"#DIV/0!"},{"$error":"#DIV/0!"},{"$error":"#DIV/0!"}]
[null,null,null,null,61.25,{"$error":"#DIV/0!"},null,-99,{"$error":"#DIV/0!"},null,-99,{"$error":"#DIV/0!"},null,-99,{"$error":"#DIV/0!"},null,-99,{"$error":"#DIV/0!"},null,-99,{"$error":"#DIV/0!"},null,-99,{"$error":"#DIV/0!"},null,-99,{"$error":"#DIV/0!"},null,-99,{"$error":"#DIV/0!"},null,-99,{"$error":"#DIV/0!"},null,-99,{"$error":"#DIV/0!"},{"$error":"#DIV/0!"},null,null,null,null,null,null,null,null,null,null,{"$error":"#DIV/0!"},{"$error":"#DIV/0!"},{"$error":"#DIV/0!"}]
[null,null,null,null,61.5,{"$error":"#DIV/0!"},null,-99,{"$error":"#DIV/0!"},null,-99,{"$error":"#DIV/0!"},null,-99,{"$error":"#DIV/0!"},null,-99,{"$error":"#DIV/0!"},null,-99,{"$error":"#DIV/0!"},null,-99,{"$error":"#DIV/0!"},null,-99,{"$error":"#DIV/0!"},null,-99,{"$error":"#DIV/0!"},null,-99,{"$error":"#DIV/0!"},null,-99,{"$error":"#DIV/0!"},{"$error":"#DIV/0!"},null,null,null,null,null,null,null,null,null,null,{"$error":"#DIV/0!"},{"$error":"#DIV/0!"},{"$error":"#DIV/0!"}]
[null,null,null,null,61.75,{"$error":"#DIV/0!"},null,-99,{"$error":"#DIV/0!"},null,-99,{"$error":"#DIV/0!"},null,-99,{"$error":"#DIV/0!"},null,-99,{"$error":"#DIV/0!"},null,-99,{"$error":"#DIV/0!"},null,-99,{"$error":"#DIV/0!"},null,-99,{"$error":"#DIV/0!"},null,-99,{"$error":"#DIV/0!"},null,-99,{"$error":"#DIV/0!"},null,-99,{"$error":"#DIV/0!"},{"$error":"#DIV/0!"},null,null,null,null,null,null,null,null,null,null,{"$error":"#DIV/0!"},{"$error":"#DIV/0!"},{"$error":"#DIV/0!"}]
[null,null,null,null,62,{"$error":"#DIV/0!"},null,-99,{"$error":"#DIV/0!"},null,-99,{"$error":"#DIV/0!"},null,-99,{"$error":"#DIV/0!"},null,-99,{"$error":"#DIV/0!"},null,-99,{"$error":"#DIV/0!"},null,-99,{"$error":"#DIV/0!"},null,-99,{"$error":"#DIV/0!"},null,-99,{"$error":"#DIV/0!"},null,-99,{"$error":"#DIV/0!"},null,-99,{"$error":"#DIV/0!"},{"$error":"#DIV/0!"},null,null,null,null,null,null,null,null,null,null,{"$error":"#DIV/0!"},{"$error":"#DIV/0!"},{"$error":"#DIV/0!"}]
[null,null,null,null,62.25,{"$error":"#DIV/0!"},null,-99,{"$error":"#DIV/0!"},null,-99,{"$error":"#DIV/0!"},null,-99,{"$error":"#DIV/0!"},null,-99,{"$error":"#DIV/0!"},null,-99,{"$error":"#DIV/0!"},null,-99,{"$error":"#DIV/0!"},null,-99,{"$error":"#DIV/0!"},null,-99,{"$error":"#DIV/0!"},null,-99,{"$error":"#DIV/0!"},null,-99,{"$error":"#DIV/0!"},{"$error":"#DIV/0!"},null,null,null,null,null,null,null,null,null,null,{"$error":"#DIV/0!"},{"$error":"#DIV/0!"},{"$error":"#DIV/0!"}]
[null,null,null,null,62.5,{"$error":"#DIV/0!"},null,-99,{"$error":"#DIV/0!"},null,-99,{"$error":"#DIV/0!"},null,-99,{"$error":"#DIV/0!"},null,-99,{"$error":"#DIV/0!"},null,-99,{"$error":"#DIV/0!"},null,-99,{"$error":"#DIV/0!"},null,-99,{"$error":"#DIV/0!"},null,-99,{"$error":"#DIV/0!"},null,-99,{"$error":"#DIV/0!"},null,-99,{"$error":"#DIV/0!"},{"$error":"#DIV/0!"},null,null,null,null,null,null,null,null,null,null,{"$error":"#DIV/0!"},{"$error":"#DIV/0!"},{"$error":"#DIV/0!"}]
[null,null,null,null,62.75,{"$error":"#DIV/0!"},null,-99,{"$error":"#DIV/0!"},null,-99,{"$error":"#DIV/0!"},null,-99,{"$error":"#DIV/0!"},null,-99,{"$error":"#DIV/0!"},null,-99,{"$error":"#DIV/0!"},null,-99,{"$error":"#DIV/0!"},null,-99,{"$error":"#DIV/0!"},null,-99,{"$error":"#DIV/0!"},null,-99,{"$error":"#DIV/0!"},null,-99,{"$error":"#DIV/0!"},{"$error":"#DIV/0!"},null,null,null,null,null,null,null,null,null,null,{"$error":"#DIV/0!"},{"$error":"#DIV/0!"},{"$error":"#DIV/0!"}]
[null,null,null,null,63,{"$error":"#DIV/0!"},null,-99,{"$error":"#DIV/0!"},null,-99,{"$error":"#DIV/0!"},null,-99,{"$error":"#DIV/0!"},null,-99,{"$error":"#DIV/0!"},null,-99,{"$error":"#DIV/0!"},null,-99,{"$error":"#DIV/0!"},null,-99,{"$error":"#DIV/0!"},null,-99,{"$error":"#DIV/0!"},null,-99,{"$error":"#DIV/0!"},null,-99,{"$error":"#DIV/0!"},{"$error":"#DIV/0!"},null,null,null,null,null,null,null,null,null,null,{"$error":"#DIV/0!"},{"$error":"#DIV/0!"},{"$error":"#DIV/0!"}]
[null,null,null,null,63.25,{"$error":"#DIV/0!"},null,-99,{"$error":"#DIV/0!"},null,-99,{"$error":"#DIV/0!"},null,-99,{"$error":"#DIV/0!"},null,-99,{"$error":"#DIV/0!"},null,-99,{"$error":"#DIV/0!"},null,-99,{"$error":"#DIV/0!"},null,-99,{"$error":"#DIV/0!"},null,-99,{"$error":"#DIV/0!"},null,-99,{"$error":"#DIV/0!"},null,-99,{"$error":"#DIV/0!"},{"$error":"#DIV/0!"},null,null,null,null,null,null,null,null,null,null,{"$error":"#DIV/0!"},{"$error":"#DIV/0!"},{"$error":"#DIV/0!"}]
[null,null,null,null,63.5,{"$error":"#DIV/0!"},null,-99,{"$error":"#DIV/0!"},null,-99,{"$error":"#DIV/0!"},null,-99,{"$error":"#DIV/0!"},null,-99,{"$error":"#DIV/0!"},null,-99,{"$error":"#DIV/0!"},null,-99,{"$error":"#DIV/0!"},null,-99,{"$error":"#DIV/0!"},null,-99,{"$error":"#DIV/0!"},null,-99,{"$error":"#DIV/0!"},null,-99,{"$error":"#DIV/0!"},{"$error":"#DIV/0!"},null,null,null,null,null,null,null,null,null,null,{"$error":"#DIV/0!"},{"$error":"#DIV/0!"},{"$error":"#DIV/0!"}]
[null,null,null,null,63.75,{"$error":"#DIV/0!"},null,-99,{"$error":"#DIV/0!"},null,-99,{"$error":"#DIV/0!"},null,-99,{"$error":"#DIV/0!"},null,-99,{"$error":"#DIV/0!"},null,-99,{"$error":"#DIV/0!"},null,-99,{"$error":"#DIV/0!"},null,-99,{"$error":"#DIV/0!"},null,-99,{"$error":"#DIV/0!"},null,-99,{"$error":"#DIV/0!"},null,-99,{"$error":"#DIV/0!"},{"$error":"#DIV/0!"},null,null,null,null,null,null,null,null,null,null,{"$error":"#DIV/0!"},{"$error":"#DIV/0!"},{"$error":"#DIV/0!"}]
[null,null,null,null,64,{"$error":"#DIV/0!"},null,-99,{"$error":"#DIV/0!"},null,-99,{"$error":"#DIV/0!"},null,-99,{"$error":"#DIV/0!"},null,-99,{"$error":"#DIV/0!"},null,-99,{"$error":"#DIV/0!"},null,-99,{"$error":"#DIV/0!"},null,-99,{"$error":"#DIV/0!"},null,-99,{"$error":"#DIV/0!"},null,-99,{"$error":"#DIV/0!"},null,-99,{"$error":"#DIV/0!"},{"$error":"#DIV/0!"},null,null,null,null,null,null,null,null,null,null,{"$error":"#DIV/0!"},{"$error":"#DIV/0!"},{"$error":"#DIV/0!"}]
[null,null,null,null,{"$f":"E329+E$60","v":64.25},{"$f":"IF($E330<$E$8,$E330*$E$7/100,$E$6)","v":{"$error":"#DIV/0!"}},null,{"$f":"G330-H$68","v":-99},{"$f":"IF(AND(H330>0,$AX329<$E$14),1.59*H$65*H330^1.65,0)","v":{"$error":"#DIV/0!"}},null,{"$f":"J330-K$68","v":-99},{"$f":"IF(AND(K330>0,$AX329<$E$14),1.59*K$65*K330^1.65,0)","v":{"$error":"#DIV/0!"}},null,{"$f":"M330-N$68","v":-99},{"$f":"IF(AND(N330>0,$AX329<$E$14),1.59*N$65*N330^1.65,0)","v":{"$error":"#DIV/0!"}},null,{"$f":"P330-Q$68","v":-99},{"$f":"IF(AND(Q330>0,$AX329<$E$14),1.59*Q$65*Q330^1.65,0)","v":{"$error":"#DIV/0!"}},null,{"$f":"S330-T$68","v":-99},{"$f":"IF(AND(T330>0,$AX329<$E$14),1.59*T$65*T330^1.65,0)","v":{"$error":"#DIV/0!"}},null,{"$f":"V330-W$68","v":-99},{"$f":"IF(AND(W330>0,$AX329<$E$14),1.59*W$65*W330^1.65,0)","v":{"$error":"#DIV/0!"}},null,{"$f":"Y330-Z$68","v":-99},{"$f":"IF(AND(Z330>0,$AX329<$E$14),1.59*Z$65*Z330^1.65,0)","v":{"$error":"#DIV/0!"}},null,{"$f":"AB330-AC$68","v":-99},{"$f":"IF(AND(AC330>0,$AX329<$E$14),1.59*AC$65*AC330^1.65,0)","v":{"$error":"#DIV/0!"}},null,{"$f":"AE330-AF$68","v":-99},{"$f":"IF(AND(AF330>0,$AX329<$E$14),1.59*AF$65*AF330^1.65,0)","v":{"$error":"#DIV/0!"}},null,{"$f":"AH330-AI$68","v":-99},{"$f":"IF(AND(AI330>0,$AX329<$E$14),1.59*AI$65*AI330^1.65,0)","v":{"$error":"#DIV/0!"}},{"$error":"#DIV/0!"},null,null,null,null,null,null,null,null,null,null,{"$f":"AK330-SUM(AL330:AU330)","v":{"$error":"#DIV/0!"}},{"$error":"#DIV/0!"},{"$error":"#DIV/0!"}]
[null,null,null,null,64.5,{"$error":"#DIV/0!"},null,-99,{"$error":"#DIV/0!"},null,-99,{"$error":"#DIV/0!"},null,-99,{"$error":"#DIV/0!"},null,-99,{"$error":"#DIV/0!"},null,-99,{"$error":"#DIV/0!"},null,-99,{"$error":"#DIV/0!"},null,-99,{"$error":"#DIV/0!"},null,-99,{"$error":"#DIV/0!"},null,-99,{"$error":"#DIV/0!"},null,-99,{"$error":"#DIV/0!"},{"$f":"I331+L331+O331+R331+U331+X331+AA331+AD331+AG331+AJ331","v":{"$error":"#DIV/0!"}},null,null,null,null,null,null,null,null,null,null,{"$error":"#DIV/0!"},{"$f":"MIN(AW$69,(AV330+AV331)*E$60*60*0.5+AW330)","v":{"$error":"#DIV/0!"}},{"$error":"#DIV/0!"}]
[null,null,null,null,64.75,{"$error":"#DIV/0!"},null,-99,{"$error":"#DIV/0!"},null,-99,{"$error":"#DIV/0!"},null,-99,{"$error":"#DIV/0!"},null,-99,{"$error":"#DIV/0!"},null,-99,{"$error":"#DIV/0!"},null,-99,{"$error":"#DIV/0!"},null,-99,{"$error":"#DIV/0!"},null,-99,{"$error":"#DIV/0!"},null,-99,{"$error":"#DIV/0!"},null,-99,{"$error":"#DIV/0!"},{"$error":"#DIV/0!"},null,null,null,null,null,null,null,null,null,null,{"$error":"#DIV/0!"},{"$error":"#DIV/0!"},{"$error":"#DIV/0!"}]
[null,null,null,null,65,{"$error":"#DIV/0!"},null,-99,{"$error":"#DIV/0!"},null,-99,{"$error":"#DIV/0!"},null,-99,{"$error":"#DIV/0!"},null,-99,{"$error":"#DIV/0!"},null,-99,{"$error":"#DIV/0!"},null,-99,{"$error":"#DIV/0!"},null,-99,{"$error":"#DIV/0!"},null,-99,{"$error":"#DIV/0!"},null,-99,{"$error":"#DIV/0!"},null,-99,{"$error":"#DIV/0!"},{"$error":"#DIV/0!"},null,null,null,null,null,null,null,null,null,null,{"$error":"#DIV/0!"},{"$error":"#DIV/0!"},{"$error":"#DIV/0!"}]
[null,null,null,null,65.25,{"$error":"#DIV/0!"},null,-99,{"$error":"#DIV/0!"},null,-99,{"$error":"#DIV/0!"},null,-99,{"$error":"#DIV/0!"},null,-99,{"$error":"#DIV/0!"},null,-99,{"$error":"#DIV/0!"},null,-99,{"$error":"#DIV/0!"},null,-99,{"$error":"#DIV/0!"},null,-99,{"$error":"#DIV/0!"},null,-99,{"$error":"#DIV/0!"},null,-99,{"$error":"#DIV/0!"},{"$error":"#DIV/0!"},null,null,null,null,null,null,null,null,null,null,{"$error":"#DIV/0!"},{"$error":"#DIV/0!"},{"$error":"#DIV/0!"}]
[null,null,null,null,65.5,{"$error":"#DIV/0!"},null,-99,{"$error":"#DIV/0!"},null,-99,{"$error":"#DIV/0!"},null,-99,{"$error":"#DIV/0!"},null,-99,{"$error":"#DIV/0!"},null,-99,{"$error":"#DIV/0!"},null,-99,{"$error":"#DIV/0!"},null,-99,{"$error":"#DIV/0!"},null,-99,{"$error":"#DIV/0!"},null,-99,{"$error":"#DIV/0!"},null,-99,{"$error":"#DIV/0!"},{"$error":"#DIV/0!"},null,null,null,null,null,null,null,null,null,null,{"$error":"#DIV/0!"},{"$error":"#DIV/0!"},{"$f":"AW335/E$13","v":{"$error":"#DIV/0!"}}]
[null,null,null,null,65.75,{"$error":"#DIV/0!"},null,-99,{"$error":"#DIV/0!"},null,-99,{"$error":"#DIV/0!"},null,-99,{"$error":"#DIV/0!"},null,-99,{"$error":"#DIV/0!"},null,-99,{"$error":"#DIV/0!"},null,-99,{"$error":"#DIV/0!"},null,-99,{"$error":"#DIV/0!"},null,-99,{"$error":"#DIV/0!"},null,-99,{"$error":"#DIV/0!"},null,-99,{"$error":"#DIV/0!"},{"$error":"#DIV/0!"},null,null,null,null,null,null,null,null,null,null,{"$error":"#DIV/0!"},{"$error":"#DIV/0!"},{"$error":"#DIV/0!"}]
[null,null,null,null,66,{"$error":"#DIV/0!"},null,-99,{"$error":"#DIV/0!"},null,-99,{"$error":"#DIV/0!"},null,-99,{"$error":"#DIV/0!"},null,-99,{"$error":"#DIV/0!"},null,-99,{"$error":"#DIV/0!"},null,-99,{"$error":"#DIV/0!"},null,-99,{"$error":"#DIV/0!"},null,-99,{"$error":"#DIV/0!"},null,-99,{"$error":"#DIV/0!"},null,-99,{"$error":"#DIV/0!"},{"$error":"#DIV/0!"},null,null,null,null,null,null,null,null,null,null,{"$error":"#DIV/0!"},{"$error":"#DIV/0!"},{"$error":"#DIV/0!"}]
[null,null,null,null,66.25,{"$error":"#DIV/0!"},null,-99,{"$error":"#DIV/0!"},null,-99,{"$error":"#DIV/0!"},null,-99,{"$error":"#DIV/0!"},null,-99,{"$error":"#DIV/0!"},null,-99,{"$error":"#DIV/0!"},null,-99,{"$error":"#DIV/0!"},null,-99,{"$error":"#DIV/0!"},null,-99,{"$error":"#DIV/0!"},null,-99,{"$error":"#DIV/0!"},null,-99,{"$error":"#DIV/0!"},{"$error":"#DIV/0!"},null,null,null,null,null,null,null,null,null,null,{"$error":"#DIV/0!"},{"$error":"#DIV/0!"},{"$error":"#DIV/0!"}]
[null,null,null,null,66.5,{"$error":"#DIV/0!"},null,-99,{"$error":"#DIV/0!"},null,-99,{"$error":"#DIV/0!"},null,-99,{"$error":"#DIV/0!"},null,-99,{"$error":"#DIV/0!"},null,-99,{"$error":"#DIV/0!"},null,-99,{"$error":"#DIV/0!"},null,-99,{"$error":"#DIV/0!"},null,-99,{"$error":"#DIV/0!"},null,-99,{"$error":"#DIV/0!"},null,-99,{"$error":"#DIV/0!"},{"$error":"#DIV/0!"},null,null,null,null,null,null,null,null,null,null,{"$error":"#DIV/0!"},{"$error":"#DIV/0!"},{"$error":"#DIV/0!"}]
[null,null,null,null,66.75,{"$error":"#DIV/0!"},null,-99,{"$error":"#DIV/0!"},null,-99,{"$error":"#DIV/0!"},null,-99,{"$error":"#DIV/0!"},null,-99,{"$error":"#DIV/0!"},null,-99,{"$error":"#DIV/0!"},null,-99,{"$error":"#DIV/0!"},null,-99,{"$error":"#DIV/0!"},null,-99,{"$error":"#DIV/0!"},null,-99,{"$error":"#DIV/0!"},null,-99,{"$error":"#DIV/0!"},{"$error":"#DIV/0!"},null,null,null,null,null,null,null,null,null,null,{"$error":"#DIV/0!"},{"$error":"#DIV/0!"},{"$error":"#DIV/0!"}]
[null,null,null,null,67,{"$error":"#DIV/0!"},null,-99,{"$error":"#DIV/0!"},null,-99,{"$error":"#DIV/0!"},null,-99,{"$error":"#DIV/0!"},null,-99,{"$error":"#DIV/0!"},null,-99,{"$error":"#DIV/0!"},null,-99,{"$error":"#DIV/0!"},null,-99,{"$error":"#DIV/0!"},null,-99,{"$error":"#DIV/0!"},null,-99,{"$error":"#DIV/0!"},null,-99,{"$error":"#DIV/0!"},{"$error":"#DIV/0!"},null,null,null,null,null,null,null,null,null,null,{"$error":"#DIV/0!"},{"$error":"#DIV/0!"},{"$error":"#DIV/0!"}]
[null,null,null,null,67.25,{"$error":"#DIV/0!"},null,-99,{"$error":"#DIV/0!"},null,-99,{"$error":"#DIV/0!"},null,-99,{"$error":"#DIV/0!"},null,-99,{"$error":"#DIV/0!"},null,-99,{"$error":"#DIV/0!"},null,-99,{"$error":"#DIV/0!"},null,-99,{"$error":"#DIV/0!"},null,-99,{"$error":"#DIV/0!"},null,-99,{"$error":"#DIV/0!"},null,-99,{"$error":"#DIV/0!"},{"$error":"#DIV/0!"},null,null,null,null,null,null,null,null,null,null,{"$error":"#DIV/0!"},{"$error":"#DIV/0!"},{"$error":"#DIV/0!"}]
[null,null,null,null,67.5,{"$error":"#DIV/0!"},null,-99,{"$error":"#DIV/0!"},null,-99,{"$error":"#DIV/0!"},null,-99,{"$error":"#DIV/0!"},null,-99,{"$error":"#DIV/0!"},null,-99,{"$error":"#DIV/0!"},null,-99,{"$error":"#DIV/0!"},null,-99,{"$error":"#DIV/0!"},null,-99,{"$error":"#DIV/0!"},null,-99,{"$error":"#DIV/0!"},null,-99,{"$error":"#DIV/0!"},{"$error":"#DIV/0!"},null,null,null,null,null,null,null,null,null,null,{"$error":"#DIV/0!"},{"$error":"#DIV/0!"},{"$error":"#DIV/0!"}]
[null,null,null,null,67.75,{"$error":"#DIV/0!"},null,-99,{"$error":"#DIV/0!"},null,-99,{"$error":"#DIV/0!"},null,-99,{"$error":"#DIV/0!"},null,-99,{"$error":"#DIV/0!"},null,-99,{"$error":"#DIV/0!"},null,-99,{"$error":"#DIV/0!"},null,-99,{"$error":"#DIV/0!"},null,-99,{"$error":"#DIV/0!"},null,-99,{"$error":"#DIV/0!"},null,-99,{"$error":"#DIV/0!"},{"$error":"#DIV/0!"},null,null,null,null,null,null,null,null,null,null,{"$error":"#DIV/0!"},{"$error":"#DIV/0!"},{"$error":"#DIV/0!"}]
[null,null,null,null,68,{"$error":"#DIV/0!"},null,-99,{"$error":"#DIV/0!"},null,-99,{"$error":"#DIV/0!"},null,-99,{"$error":"#DIV/0!"},null,-99,{"$error":"#DIV/0!"},null,-99,{"$error":"#DIV/0!"},null,-99,{"$error":"#DIV/0!"},null,-99,{"$error":"#DIV/0!"},null,-99,{"$error":"#DIV/0!"},null,-99,{"$error":"#DIV/0!"},null,-99,{"$error":"#DIV/0!"},{"$error":"#DIV/0!"},null,null,null,null,null,null,null,null,null,null,{"$error":"#DIV/0!"},{"$error":"#DIV/0!"},{"$error":"#DIV/0!"}]
[null,null,null,null,68.25,{"$error":"#DIV/0!"},null,-99,{"$error":"#DIV/0!"},null,-99,{"$error":"#DIV/0!"},null,-99,{"$error":"#DIV/0!"},null,-99,{"$error":"#DIV/0!"},null,-99,{"$error":"#DIV/0!"},null,-99,{"$error":"#DIV/0!"},null,-99,{"$error":"#DIV/0!"},null,-99,{"$error":"#DIV/0!"},null,-99,{"$error":"#DIV/0!"},null,-99,{"$error":"#DIV/0!"},{"$error":"#DIV/0!"},null,null,null,null,null,null,null,null,null,null,{"$error":"#DIV/0!"},{"$error":"#DIV/0!"},{"$error":"#DIV/0!"}]
[null,null,null,null,68.5,{"$error":"#DIV/0!"},null,-99,{"$error":"#DIV/0!"},null,-99,{"$error":"#DIV/0!"},null,-99,{"$error":"#DIV/0!"},null,-99,{"$error":"#DIV/0!"},null,-99,{"$error":"#DIV/0!"},null,-99,{"$error":"#DIV/0!"},null,-99,{"$error":"#DIV/0!"},null,-99,{"$error":"#DIV/0!"},null,-99,{"$error":"#DIV/0!"},null,-99,{"$error":"#DIV/0!"},{"$error":"#DIV/0!"},null,null,null,null,null,null,null,null,null,null,{"$error":"#DIV/0!"},{"$error":"#DIV/0!"},{"$error":"#DIV/0!"}]
[null,null,null,null,68.75,{"$error":"#DIV/0!"},null,-99,{"$error":"#DIV/0!"},null,-99,{"$error":"#DIV/0!"},null,-99,{"$error":"#DIV/0!"},null,-99,{"$error":"#DIV/0!"},null,-99,{"$error":"#DIV/0!"},null,-99,{"$error":"#DIV/0!"},null,-99,{"$error":"#DIV/0!"},null,-99,{"$error":"#DIV/0!"},null,-99,{"$error":"#DIV/0!"},null,-99,{"$error":"#DIV/0!"},{"$error":"#DIV/0!"},null,null,null,null,null,null,null,null,null,null,{"$error":"#DIV/0!"},{"$error":"#DIV/0!"},{"$error":"#DIV/0!"}]
[null,null,null,null,69,{"$error":"#DIV/0!"},null,-99,{"$error":"#DIV/0!"},null,-99,{"$error":"#DIV/0!"},null,-99,{"$error":"#DIV/0!"},null,-99,{"$error":"#DIV/0!"},null,-99,{"$error":"#DIV/0!"},null,-99,{"$error":"#DIV/0!"},null,-99,{"$error":"#DIV/0!"},null,-99,{"$error":"#DIV/0!"},null,-99,{"$error":"#DIV/0!"},null,-99,{"$error":"#DIV/0!"},{"$error":"#DIV/0!"},null,null,null,null,null,null,null,null,null,null,{"$error":"#DIV/0!"},{"$error":"#DIV/0!"},{"$error":"#DIV/0!"}]
[null,null,null,null,69.25,{"$error":"#DIV/0!"},null,-99,{"$error":"#DIV/0!"},null,-99,{"$error":"#DIV/0!"},null,-99,{"$error":"#DIV/0!"},null,-99,{"$error":"#DIV/0!"},null,-99,{"$error":"#DIV/0!"},null,-99,{"$error":"#DIV/0!"},null,-99,{"$error":"#DIV/0!"},null,-99,{"$error":"#DIV/0!"},null,-99,{"$error":"#DIV/0!"},null,-99,{"$error":"#DIV/0!"},{"$error":"#DIV/0!"},null,null,null,null,null,null,null,null,null,null,{"$error":"#DIV/0!"},{"$error":"#DIV/0!"},{"$error":"#DIV/0!"}]
[null,null,null,null,69.5,{"$error":"#DIV/0!"},null,-99,{"$error":"#DIV/0!"},null,-99,{"$error":"#DIV/0!"},null,-99,{"$error":"#DIV/0!"},null,-99,{"$error":"#DIV/0!"},null,-99,{"$error":"#DIV/0!"},null,-99,{"$error":"#DIV/0!"},null,-99,{"$error":"#DIV/0!"},null,-99,{"$error":"#DIV/0!"},null,-99,{"$error":"#DIV/0!"},null,-99,{"$error":"#DIV/0!"},{"$error":"#DIV/0!"},null,null,null,null,null,null,null,null,null,null,{"$error":"#DIV/0!"},{"$error":"#DIV/0!"},{"$error":"#DIV/0!"}]
[null,null,null,null,69.75,{"$error":"#DIV/0!"},null,-99,{"$error":"#DIV/0!"},null,-99,{"$error":"#DIV/0!"},null,-99,{"$error":"#DIV/0!"},null,-99,{"$error":"#DIV/0!"},null,-99,{"$error":"#DIV/0!"},null,-99,{"$error":"#DIV/0!"},null,-99,{"$error":"#DIV/0!"},null,-99,{"$error":"#DIV/0!"},null,-99,{"$error":"#DIV/0!"},null,-99,{"$error":"#DIV/0!"},{"$error":"#DIV/0!"},null,null,null,null,null,null,null,null,null,null,{"$error":"#DIV/0!"},{"$error":"#DIV/0!"},{"$error":"#DIV/0!"}]
[null,null,null,null,70,{"$error":"#DIV/0!"},null,-99,{"$error":"#DIV/0!"},null,-99,{"$error":"#DIV/0!"},null,-99,{"$error":"#DIV/0!"},null,-99,{"$error":"#DIV/0!"},null,-99,{"$error":"#DIV/0!"},null,-99,{"$error":"#DIV/0!"},null,-99,{"$error":"#DIV/0!"},null,-99,{"$error":"#DIV/0!"},null,-99,{"$error":"#DIV/0!"},null,-99,{"$error":"#DIV/0!"},{"$error":"#DIV/0!"},null,null,null,null,null,null,null,null,null,null,{"$error":"#DIV/0!"},{"$error":"#DIV/0!"},{"$error":"#DIV/0!"}]
[null,null,null,null,70.25,{"$error":"#DIV/0!"},null,-99,{"$error":"#DIV/0!"},null,-99,{"$error":"#DIV/0!"},null,-99,{"$error":"#DIV/0!"},null,-99,{"$error":"#DIV/0!"},null,-99,{"$error":"#DIV/0!"},null,-99,{"$error":"#DIV/0!"},null,-99,{"$error":"#DIV/0!"},null,-99,{"$error":"#DIV/0!"},null,-99,{"$error":"#DIV/0!"},null,-99,{"$error":"#DIV/0!"},{"$error":"#DIV/0!"},null,null,null,null,null,null,null,null,null,null,{"$error":"#DIV/0!"},{"$error":"#DIV/0!"},{"$error":"#DIV/0!"}]
[null,null,null,null,70.5,{"$error":"#DIV/0!"},null,-99,{"$error":"#DIV/0!"},null,-99,{"$error":"#DIV/0!"},null,-99,{"$error":"#DIV/0!"},null,-99,{"$error":"#DIV/0!"},null,-99,{"$error":"#DIV/0!"},null,-99,{"$error":"#DIV/0!"},null,-99,{"$error":"#DIV/0!"},null,-99,{"$error":"#DIV/0!"},null,-99,{"$error":"#DIV/0!"},null,-99,{"$error":"#DIV/0!"},{"$error":"#DIV/0!"},null,null,null,null,null,null,null,null,null,null,{"$error":"#DIV/0!"},{"$error":"#DIV/0!"},{"$error":"#DIV/0!"}]
[null,null,null,null,70.75,{"$error":"#DIV/0!"},null,-99,{"$error":"#DIV/0!"},null,-99,{"$error":"#DIV/0!"},null,-99,{"$error":"#DIV/0!"},null,-99,{"$error":"#DIV/0!"},null,-99,{"$error":"#DIV/0!"},null,-99,{"$error":"#DIV/0!"},null,-99,{"$error":"#DIV/0!"},null,-99,{"$error":"#DIV/0!"},null,-99,{"$error":"#DIV/0!"},null,-99,{"$error":"#DIV/0!"},{"$error":"#DIV/0!"},null,null,null,null,null,null,null,null,null,null,{"$error":"#DIV/0!"},{"$error":"#DIV/0!"},{"$error":"#DIV/0!"}]
[null,null,null,null,71,{"$error":"#DIV/0!"},null,-99,{"$error":"#DIV/0!"},null,-99,{"$error":"#DIV/0!"},null,-99,{"$error":"#DIV/0!"},null,-99,{"$error":"#DIV/0!"},null,-99,{"$error":"#DIV/0!"},null,-99,{"$error":"#DIV/0!"},null,-99,{"$error":"#DIV/0!"},null,-99,{"$error":"#DIV/0!"},null,-99,{"$error":"#DIV/0!"},null,-99,{"$error":"#DIV/0!"},{"$error":"#DIV/0!"},null,null,null,null,null,null,null,null,null,null,{"$error":"#DIV/0!"},{"$error":"#DIV/0!"},{"$error":"#DIV/0!"}]
[null,null,null,null,71.25,{"$error":"#DIV/0!"},null,-99,{"$error":"#DIV/0!"},null,-99,{"$error":"#DIV/0!"},null,-99,{"$error":"#DIV/0!"},null,-99,{"$error":"#DIV/0!"},null,-99,{"$error":"#DIV/0!"},null,-99,{"$error":"#DIV/0!"},null,-99,{"$error":"#DIV/0!"},null,-99,{"$error":"#DIV/0!"},null,-99,{"$error":"#DIV/0!"},null,-99,{"$error":"#DIV/0!"},{"$error":"#DIV/0!"},null,null,null,null,null,null,null,null,null,null,{"$error":"#DIV/0!"},{"$error":"#DIV/0!"},{"$error":"#DIV/0!"}]
[null,null,null,null,71.5,{"$error":"#DIV/0!"},null,-99,{"$error":"#DIV/0!"},null,-99,{"$error":"#DIV/0!"},null,-99,{"$error":"#DIV/0!"},null,-99,{"$error":"#DIV/0!"},null,-99,{"$error":"#DIV/0!"},null,-99,{"$error":"#DIV/0!"},null,-99,{"$error":"#DIV/0!"},null,-99,{"$error":"#DIV/0!"},null,-99,{"$error":"#DIV/0!"},null,-99,{"$error":"#DIV/0!"},{"$error":"#DIV/0!"},null,null,null,null,null,null,null,null,null,null,{"$error":"#DIV/0!"},{"$error":"#DIV/0!"},{"$error":"#DIV/0!"}]
[null,null,null,null,71.75,{"$error":"#DIV/0!"},null,-99,{"$error":"#DIV/0!"},null,-99,{"$error":"#DIV/0!"},null,-99,{"$error":"#DIV/0!"},null,-99,{"$error":"#DIV/0!"},null,-99,{"$error":"#DIV/0!"},null,-99,{"$error":"#DIV/0!"},null,-99,{"$error":"#DIV/0!"},null,-99,{"$error":"#DIV/0!"},null,-99,{"$error":"#DIV/0!"},null,-99,{"$error":"#DIV/0!"},{"$error":"#DIV/0!"},null,null,null,null,null,null,null,null,null,null,{"$error":"#DIV/0!"},{"$error":"#DIV/0!"},{"$error":"#DIV/0!"}]
[null,null,null,null,72,{"$error":"#DIV/0!"},null,-99,{"$error":"#DIV/0!"},null,-99,{"$error":"#DIV/0!"},null,-99,{"$error":"#DIV/0!"},null,-99,{"$error":"#DIV/0!"},null,-99,{"$error":"#DIV/0!"},null,-99,{"$error":"#DIV/0!"},null,-99,{"$error":"#DIV/0!"},null,-99,{"$error":"#DIV/0!"},null,-99,{"$error":"#DIV/0!"},null,-99,{"$error":"#DIV/0!"},{"$error":"#DIV/0!"},null,null,null,null,null,null,null,null,null,null,{"$error":"#DIV/0!"},{"$error":"#DIV/0!"},{"$error":"#DIV/0!"}]
[null,null,null,null,72.25,{"$error":"#DIV/0!"},null,-99,{"$error":"#DIV/0!"},null,-99,{"$error":"#DIV/0!"},null,-99,{"$error":"#DIV/0!"},null,-99,{"$error":"#DIV/0!"},null,-99,{"$error":"#DIV/0!"},null,-99,{"$error":"#DIV/0!"},null,-99,{"$error":"#DIV/0!"},null,-99,{"$error":"#DIV/0!"},null,-99,{"$error":"#DIV/0!"},null,-99,{"$error":"#DIV/0!"},{"$error":"#DIV/0!"},null,null,null,null,null,null,null,null,null,null,{"$error":"#DIV/0!"},{"$error":"#DIV/0!"},{"$error":"#DIV/0!"}]
[null,null,null,null,72.5,{"$error":"#DIV/0!"},null,-99,{"$error":"#DIV/0!"},null,-99,{"$error":"#DIV/0!"},null,-99,{"$error":"#DIV/0!"},null,-99,{"$error":"#DIV/0!"},null,-99,{"$error":"#DIV/0!"},null,-99,{"$error":"#DIV/0!"},null,-99,{"$error":"#DIV/0!"},null,-99,{"$error":"#DIV/0!"},null,-99,{"$error":"#DIV/0!"},null,-99,{"$error":"#DIV/0!"},{"$error":"#DIV/0!"},null,null,null,null,null,null,null,null,null,null,{"$error":"#DIV/0!"},{"$error":"#DIV/0!"},{"$error":"#DIV/0!"}]
[null,null,null,null,72.75,{"$error":"#DIV/0!"},null,-99,{"$error":"#DIV/0!"},null,-99,{"$error":"#DIV/0!"},null,-99,{"$error":"#DIV/0!"},null,-99,{"$error":"#DIV/0!"},null,-99,{"$error":"#DIV/0!"},null,-99,{"$error":"#DIV/0!"},null,-99,{"$error":"#DIV/0!"},null,-99,{"$error":"#DIV/0!"},null,-99,{"$error":"#DIV/0!"},null,-99,{"$error":"#DIV/0!"},{"$error":"#DIV/0!"},null,null,null,null,null,null,null,null,null,null,{"$error":"#DIV/0!"},{"$error":"#DIV/0!"},{"$error":"#DIV/0!"}]
[null,null,null,null,73,{"$error":"#DIV/0!"},null,-99,{"$error":"#DIV/0!"},null,-99,{"$error":"#DIV/0!"},null,-99,{"$error":"#DIV/0!"},null,-99,{"$error":"#DIV/0!"},null,-99,{"$error":"#DIV/0!"},null,-99,{"$error":"#DIV/0!"},null,-99,{"$error":"#DIV/0!"},null,-99,{"$error":"#DIV/0!"},null,-99,{"$error":"#DIV/0!"},null,-99,{"$error":"#DIV/0!"},{"$error":"#DIV/0!"},null,null,null,null,null,null,null,null,null,null,{"$error":"#DIV/0!"},{"$error":"#DIV/0!"},{"$error":"#DIV/0!"}]
[null,null,null,null,73.25,{"$error":"#DIV/0!"},null,-99,{"$error":"#DIV/0!"},null,-99,{"$error":"#DIV/0!"},null,-99,{"$error":"#DIV/0!"},null,-99,{"$error":"#DIV/0!"},null,-99,{"$error":"#DIV/0!"},null,-99,{"$error":"#DIV/0!"},null,-99,{"$error":"#DIV/0!"},null,-99,{"$error":"#DIV/0!"},null,-99,{"$error":"#DIV/0!"},null,-99,{"$error":"#DIV/0!"},{"$error":"#DIV/0!"},null,null,null,null,null,null,null,null,null,null,{"$error":"#DIV/0!"},{"$error":"#DIV/0!"},{"$error":"#DIV/0!"}]
[null,null,null,null,73.5,{"$error":"#DIV/0!"},null,-99,{"$error":"#DIV/0!"},null,-99,{"$error":"#DIV/0!"},null,-99,{"$error":"#DIV/0!"},null,-99,{"$error":"#DIV/0!"},null,-99,{"$error":"#DIV/0!"},null,-99,{"$error":"#DIV/0!"},null,-99,{"$error":"#DIV/0!"},null,-99,{"$error":"#DIV/0!"},null,-99,{"$error":"#DIV/0!"},null,-99,{"$error":"#DIV/0!"},{"$error":"#DIV/0!"},null,null,null,null,null,null,null,null,null,null,{"$error":"#DIV/0!"},{"$error":"#DIV/0!"},{"$error":"#DIV/0!"}]
[null,null,null,null,73.75,{"$error":"#DIV/0!"},null,-99,{"$error":"#DIV/0!"},null,-99,{"$error":"#DIV/0!"},null,-99,{"$error":"#DIV/0!"},null,-99,{"$error":"#DIV/0!"},null,-99,{"$error":"#DIV/0!"},null,-99,{"$error":"#DIV/0!"},null,-99,{"$error":"#DIV/0!"},null,-99,{"$error":"#DIV/0!"},null,-99,{"$error":"#DIV/0!"},null,-99,{"$error":"#DIV/0!"},{"$error":"#DIV/0!"},null,null,null,null,null,null,null,null,null,null,{"$error":"#DIV/0!"},{"$error":"#DIV/0!"},{"$error":"#DIV/0!"}]
[null,null,null,null,74,{"$error":"#DIV/0!"},null,-99,{"$error":"#DIV/0!"},null,-99,{"$error":"#DIV/0!"},null,-99,{"$error":"#DIV/0!"},null,-99,{"$error":"#DIV/0!"},null,-99,{"$error":"#DIV/0!"},null,-99,{"$error":"#DIV/0!"},null,-99,{"$error":"#DIV/0!"},null,-99,{"$error":"#DIV/0!"},null,-99,{"$error":"#DIV/0!"},null,-99,{"$error":"#DIV/0!"},{"$error":"#DIV/0!"},null,null,null,null,null,null,null,null,null,null,{"$error":"#DIV/0!"},{"$error":"#DIV/0!"},{"$error":"#DIV/0!"}]
[null,null,null,null,74.25,{"$error":"#DIV/0!"},null,-99,{"$error":"#DIV/0!"},null,-99,{"$error":"#DIV/0!"},null,-99,{"$error":"#DIV/0!"},null,-99,{"$error":"#DIV/0!"},null,-99,{"$error":"#DIV/0!"},null,-99,{"$error":"#DIV/0!"},null,-99,{"$error":"#DIV/0!"},null,-99,{"$error":"#DIV/0!"},null,-99,{"$error":"#DIV/0!"},null,-99,{"$error":"#DIV/0!"},{"$error":"#DIV/0!"},null,null,null,null,null,null,null,null,null,null,{"$error":"#DIV/0!"},{"$error":"#DIV/0!"},{"$error":"#DIV/0!"}]
[null,null,null,null,74.5,{"$error":"#DIV/0!"},null,-99,{"$error":"#DIV/0!"},null,-99,{"$error":"#DIV/0!"},null,-99,{"$error":"#DIV/0!"},null,-99,{"$error":"#DIV/0!"},null,-99,{"$error":"#DIV/0!"},null,-99,{"$error":"#DIV/0!"},null,-99,{"$error":"#DIV/0!"},null,-99,{"$error":"#DIV/0!"},null,-99,{"$error":"#DIV/0!"},null,-99,{"$error":"#DIV/0!"},{"$error":"#DIV/0!"},null,null,null,null,null,null,null,null,null,null,{"$error":"#DIV/0!"},{"$error":"#DIV/0!"},{"$error":"#DIV/0!"}]
[null,null,null,null,74.75,{"$error":"#DIV/0!"},null,-99,{"$error":"#DIV/0!"},null,-99,{"$error":"#DIV/0!"},null,-99,{"$error":"#DIV/0!"},null,-99,{"$error":"#DIV/0!"},null,-99,{"$error":"#DIV/0!"},null,-99,{"$error":"#DIV/0!"},null,-99,{"$error":"#DIV/0!"},null,-99,{"$error":"#DIV/0!"},null,-99,{"$error":"#DIV/0!"},null,-99,{"$error":"#DIV/0!"},{"$error":"#DIV/0!"},null,null,null,null,null,null,null,null,null,null,{"$error":"#DIV/0!"},{"$error":"#DIV/0!"},{"$error":"#DIV/0!"}]
[null,null,null,null,75,{"$error":"#DIV/0!"},null,-99,{"$error":"#DIV/0!"},null,-99,{"$error":"#DIV/0!"},null,-99,{"$error":"#DIV/0!"},null,-99,{"$error":"#DIV/0!"},null,-99,{"$error":"#DIV/0!"},null,-99,{"$error":"#DIV/0!"},null,-99,{"$error":"#DIV/0!"},null,-99,{"$error":"#DIV/0!"},null,-99,{"$error":"#DIV/0!"},null,-99,{"$error":"#DIV/0!"},{"$error":"#DIV/0!"},null,null,null,null,null,null,null,null,null,null,{"$error":"#DIV/0!"},{"$error":"#DIV/0!"},{"$error":"#DIV/0!"}]
[null,null,null,null,75.25,{"$error":"#DIV/0!"},null,-99,{"$error":"#DIV/0!"},null,-99,{"$error":"#DIV/0!"},null,-99,{"$error":"#DIV/0!"},null,-99,{"$error":"#DIV/0!"},null,-99,{"$error":"#DIV/0!"},null,-99,{"$error":"#DIV/0!"},null,-99,{"$error":"#DIV/0!"},null,-99,{"$error":"#DIV/0!"},null,-99,{"$error":"#DIV/0!"},null,-99,{"$error":"#DIV/0!"},{"$error":"#DIV/0!"},null,null,null,null,null,null,null,null,null,null,{"$error":"#DIV/0!"},{"$error":"#DIV/0!"},{"$error":"#DIV/0!"}]
[null,null,null,null,75.5,{"$error":"#DIV/0!"},null,-99,{"$error":"#DIV/0!"},null,-99,{"$error":"#DIV/0!"},null,-99,{"$error":"#DIV/0!"},null,-99,{"$error":"#DIV/0!"},null,-99,{"$error":"#DIV/0!"},null,-99,{"$error":"#DIV/0!"},null,-99,{"$error":"#DIV/0!"},null,-99,{"$error":"#DIV/0!"},null,-99,{"$error":"#DIV/0!"},null,-99,{"$error":"#DIV/0!"},{"$error":"#DIV/0!"},null,null,null,null,null,null,null,null,null,null,{"$error":"#DIV/0!"},{"$error":"#DIV/0!"},{"$error":"#DIV/0!"}]
[null,null,null,null,75.75,{"$error":"#DIV/0!"},null,-99,{"$error":"#DIV/0!"},null,-99,{"$error":"#DIV/0!"},null,-99,{"$error":"#DIV/0!"},null,-99,{"$error":"#DIV/0!"},null,-99,{"$error":"#DIV/0!"},null,-99,{"$error":"#DIV/0!"},null,-99,{"$error":"#DIV/0!"},null,-99,{"$error":"#DIV/0!"},null,-99,{"$error":"#DIV/0!"},null,-99,{"$error":"#DIV/0!"},{"$error":"#DIV/0!"},null,null,null,null,null,null,null,null,null,null,{"$error":"#DIV/0!"},{"$error":"#DIV/0!"},{"$error":"#DIV/0!"}]
[null,null,null,null,76,{"$error":"#DIV/0!"},null,-99,{"$error":"#DIV/0!"},null,-99,{"$error":"#DIV/0!"},null,-99,{"$error":"#DIV/0!"},null,-99,{"$error":"#DIV/0!"},null,-99,{"$error":"#DIV/0!"},null,-99,{"$error":"#DIV/0!"},null,-99,{"$error":"#DIV/0!"},null,-99,{"$error":"#DIV/0!"},null,-99,{"$error":"#DIV/0!"},null,-99,{"$error":"#DIV/0!"},{"$error":"#DIV/0!"},null,null,null,null,null,null,null,null,null,null,{"$error":"#DIV/0!"},{"$error":"#DIV/0!"},{"$error":"#DIV/0!"}]
[null,null,null,null,76.25,{"$error":"#DIV/0!"},null,-99,{"$error":"#DIV/0!"},null,-99,{"$error":"#DIV/0!"},null,-99,{"$error":"#DIV/0!"},null,-99,{"$error":"#DIV/0!"},null,-99,{"$error":"#DIV/0!"},null,-99,{"$error":"#DIV/0!"},null,-99,{"$error":"#DIV/0!"},null,-99,{"$error":"#DIV/0!"},null,-99,{"$error":"#DIV/0!"},null,-99,{"$error":"#DIV/0!"},{"$error":"#DIV/0!"},null,null,null,null,null,null,null,null,null,null,{"$error":"#DIV/0!"},{"$error":"#DIV/0!"},{"$error":"#DIV/0!"}]
[null,null,null,null,76.5,{"$error":"#DIV/0!"},null,-99,{"$error":"#DIV/0!"},null,-99,{"$error":"#DIV/0!"},null,-99,{"$error":"#DIV/0!"},null,-99,{"$error":"#DIV/0!"},null,-99,{"$error":"#DIV/0!"},null,-99,{"$error":"#DIV/0!"},null,-99,{"$error":"#DIV/0!"},null,-99,{"$error":"#DIV/0!"},null,-99,{"$error":"#DIV/0!"},null,-99,{"$error":"#DIV/0!"},{"$error":"#DIV/0!"},null,null,null,null,null,null,null,null,null,null,{"$error":"#DIV/0!"},{"$error":"#DIV/0!"},{"$error":"#DIV/0!"}]
[null,null,null,null,76.75,{"$error":"#DIV/0!"},null,-99,{"$error":"#DIV/0!"},null,-99,{"$error":"#DIV/0!"},null,-99,{"$error":"#DIV/0!"},null,-99,{"$error":"#DIV/0!"},null,-99,{"$error":"#DIV/0!"},null,-99,{"$error":"#DIV/0!"},null,-99,{"$error":"#DIV/0!"},null,-99,{"$error":"#DIV/0!"},null,-99,{"$error":"#DIV/0!"},null,-99,{"$error":"#DIV/0!"},{"$error":"#DIV/0!"},null,null,null,null,null,null,null,null,null,null,{"$error":"#DIV/0!"},{"$error":"#DIV/0!"},{"$error":"#DIV/0!"}]
[null,null,null,null,77,{"$error":"#DIV/0!"},null,-99,{"$error":"#DIV/0!"},null,-99,{"$error":"#DIV/0!"},null,-99,{"$error":"#DIV/0!"},null,-99,{"$error":"#DIV/0!"},null,-99,{"$error":"#DIV/0!"},null,-99,{"$error":"#DIV/0!"},null,-99,{"$error":"#DIV/0!"},null,-99,{"$error":"#DIV/0!"},null,-99,{"$error":"#DIV/0!"},null,-99,{"$error":"#DIV/0!"},{"$error":"#DIV/0!"},null,null,null,null,null,null,null,null,null,null,{"$error":"#DIV/0!"},{"$error":"#DIV/0!"},{"$error":"#DIV/0!"}]
[null,null,null,null,77.25,{"$error":"#DIV/0!"},null,-99,{"$error":"#DIV/0!"},null,-99,{"$error":"#DIV/0!"},null,-99,{"$error":"#DIV/0!"},null,-99,{"$error":"#DIV/0!"},null,-99,{"$error":"#DIV/0!"},null,-99,{"$error":"#DIV/0!"},null,-99,{"$error":"#DIV/0!"},null,-99,{"$error":"#DIV/0!"},null,-99,{"$error":"#DIV/0!"},null,-99,{"$error":"#DIV/0!"},{"$error":"#DIV/0!"},null,null,null,null,null,null,null,null,null,null,{"$error":"#DIV/0!"},{"$error":"#DIV/0!"},{"$error":"#DIV/0!"}]
[null,null,null,null,77.5,{"$error":"#DIV/0!"},null,-99,{"$error":"#DIV/0!"},null,-99,{"$error":"#DIV/0!"},null,-99,{"$error":"#DIV/0!"},null,-99,{"$error":"#DIV/0!"},null,-99,{"$error":"#DIV/0!"},null,-99,{"$error":"#DIV/0!"},null,-99,{"$error":"#DIV/0!"},null,-99,{"$error":"#DIV/0!"},null,-99,{"$error":"#DIV/0!"},null,-99,{"$error":"#DIV/0!"},{"$error":"#DIV/0!"},null,null,null,null,null,null,null,null,null,null,{"$error":"#DIV/0!"},{"$error":"#DIV/0!"},{"$error":"#DIV/0!"}]
[null,null,null,null,77.75,{"$error":"#DIV/0!"},null,-99,{"$error":"#DIV/0!"},null,-99,{"$error":"#DIV/0!"},null,-99,{"$error":"#DIV/0!"},null,-99,{"$error":"#DIV/0!"},null,-99,{"$error":"#DIV/0!"},null,-99,{"$error":"#DIV/0!"},null,-99,{"$error":"#DIV/0!"},null,-99,{"$error":"#DIV/0!"},null,-99,{"$error":"#DIV/0!"},null,-99,{"$error":"#DIV/0!"},{"$error":"#DIV/0!"},null,null,null,null,null,null,null,null,null,null,{"$error":"#DIV/0!"},{"$error":"#DIV/0!"},{"$error":"#DIV/0!"}]
[null,null,null,null,78,{"$error":"#DIV/0!"},null,-99,{"$error":"#DIV/0!"},null,-99,{"$error":"#DIV/0!"},null,-99,{"$error":"#DIV/0!"},null,-99,{"$error":"#DIV/0!"},null,-99,{"$error":"#DIV/0!"},null,-99,{"$error":"#DIV/0!"},null,-99,{"$error":"#DIV/0!"},null,-99,{"$error":"#DIV/0!"},null,-99,{"$error":"#DIV/0!"},null,-99,{"$error":"#DIV/0!"},{"$error":"#DIV/0!"},null,null,null,null,null,null,null,null,null,null,{"$error":"#DIV/0!"},{"$error":"#DIV/0!"},{"$error":"#DIV/0!"}]
[null,null,null,null,78.25,{"$error":"#DIV/0!"},null,-99,{"$error":"#DIV/0!"},null,-99,{"$error":"#DIV/0!"},null,-99,{"$error":"#DIV/0!"},null,-99,{"$error":"#DIV/0!"},null,-99,{"$error":"#DIV/0!"},null,-99,{"$error":"#DIV/0!"},null,-99,{"$error":"#DIV/0!"},null,-99,{"$error":"#DIV/0!"},null,-99,{"$error":"#DIV/0!"},null,-99,{"$error":"#DIV/0!"},{"$error":"#DIV/0!"},null,null,null,null,null,null,null,null,null,null,{"$error":"#DIV/0!"},{"$error":"#DIV/0!"},{"$error":"#DIV/0!"}]
[null,null,null,null,78.5,{"$error":"#DIV/0!"},null,-99,{"$error":"#DIV/0!"},null,-99,{"$error":"#DIV/0!"},null,-99,{"$error":"#DIV/0!"},null,-99,{"$error":"#DIV/0!"},null,-99,{"$error":"#DIV/0!"},null,-99,{"$error":"#DIV/0!"},null,-99,{"$error":"#DIV/0!"},null,-99,{"$error":"#DIV/0!"},null,-99,{"$error":"#DIV/0!"},null,-99,{"$error":"#DIV/0!"},{"$error":"#DIV/0!"},null,null,null,null,null,null,null,null,null,null,{"$error":"#DIV/0!"},{"$error":"#DIV/0!"},{"$error":"#DIV/0!"}]
[null,null,null,null,78.75,{"$error":"#DIV/0!"},null,-99,{"$error":"#DIV/0!"},null,-99,{"$error":"#DIV/0!"},null,-99,{"$error":"#DIV/0!"},null,-99,{"$error":"#DIV/0!"},null,-99,{"$error":"#DIV/0!"},null,-99,{"$error":"#DIV/0!"},null,-99,{"$error":"#DIV/0!"},null,-99,{"$error":"#DIV/0!"},null,-99,{"$error":"#DIV/0!"},null,-99,{"$error":"#DIV/0!"},{"$error":"#DIV/0!"},null,null,null,null,null,null,null,null,null,null,{"$error":"#DIV/0!"},{"$error":"#DIV/0!"},{"$error":"#DIV/0!"}]
[null,null,null,null,79,{"$error":"#DIV/0!"},null,-99,{"$error":"#DIV/0!"},null,-99,{"$error":"#DIV/0!"},null,-99,{"$error":"#DIV/0!"},null,-99,{"$error":"#DIV/0!"},null,-99,{"$error":"#DIV/0!"},null,-99,{"$error":"#DIV/0!"},null,-99,{"$error":"#DIV/0!"},null,-99,{"$error":"#DIV/0!"},null,-99,{"$error":"#DIV/0!"},null,-99,{"$error":"#DIV/0!"},{"$error":"#DIV/0!"},null,null,null,null,null,null,null,null,null,null,{"$error":"#DIV/0!"},{"$error":"#DIV/0!"},{"$error":"#DIV/0!"}]
[null,null,null,null,79.25,{"$error":"#DIV/0!"},null,-99,{"$error":"#DIV/0!"},null,-99,{"$error":"#DIV/0!"},null,-99,{"$error":"#DIV/0!"},null,-99,{"$error":"#DIV/0!"},null,-99,{"$error":"#DIV/0!"},null,-99,{"$error":"#DIV/0!"},null,-99,{"$error":"#DIV/0!"},null,-99,{"$error":"#DIV/0!"},null,-99,{"$error":"#DIV/0!"},null,-99,{"$error":"#DIV/0!"},{"$error":"#DIV/0!"},null,null,null,null,null,null,null,null,null,null,{"$error":"#DIV/0!"},{"$error":"#DIV/0!"},{"$error":"#DIV/0!"}]
[null,null,null,null,79.5,{"$error":"#DIV/0!"},null,-99,{"$error":"#DIV/0!"},null,-99,{"$error":"#DIV/0!"},null,-99,{"$error":"#DIV/0!"},null,-99,{"$error":"#DIV/0!"},null,-99,{"$error":"#DIV/0!"},null,-99,{"$error":"#DIV/0!"},null,-99,{"$error":"#DIV/0!"},null,-99,{"$error":"#DIV/0!"},null,-99,{"$error":"#DIV/0!"},null,-99,{"$error":"#DIV/0!"},{"$error":"#DIV/0!"},null,null,null,null,null,null,null,null,null,null,{"$error":"#DIV/0!"},{"$error":"#DIV/0!"},{"$error":"#DIV/0!"}]
[null,null,null,null,79.75,{"$error":"#DIV/0!"},null,-99,{"$error":"#DIV/0!"},null,-99,{"$error":"#DIV/0!"},null,-99,{"$error":"#DIV/0!"},null,-99,{"$error":"#DIV/0!"},null,-99,{"$error":"#DIV/0!"},null,-99,{"$error":"#DIV/0!"},null,-99,{"$error":"#DIV/0!"},null,-99,{"$error":"#DIV/0!"},null,-99,{"$error":"#DIV/0!"},null,-99,{"$error":"#DIV/0!"},{"$error":"#DIV/0!"},null,null,null,null,null,null,null,null,null,null,{"$error":"#DIV/0!"},{"$error":"#DIV/0!"},{"$error":"#DIV/0!"}]
[null,null,null,null,80,{"$error":"#DIV/0!"},null,-99,{"$error":"#DIV/0!"},null,-99,{"$error":"#DIV/0!"},null,-99,{"$error":"#DIV/0!"},null,-99,{"$error":"#DIV/0!"},null,-99,{"$error":"#DIV/0!"},null,-99,{"$error":"#DIV/0!"},null,-99,{"$error":"#DIV/0!"},null,-99,{"$error":"#DIV/0!"},null,-99,{"$error":"#DIV/0!"},null,-99,{"$error":"#DIV/0!"},{"$error":"#DIV/0!"},null,null,null,null,null,null,null,null,null,null,{"$error":"#DIV/0!"},{"$error":"#DIV/0!"},{"$error":"#DIV/0!"}]
[null,null,null,null,{"$f":"E393+E$60","v":80.25},{"$f":"IF($E394<$E$8,$E394*$E$7/100,$E$6)","v":{"$error":"#DIV/0!"}},null,{"$f":"G394-H$68","v":-99},{"$f":"IF(AND(H394>0,$AX393<$E$14),1.59*H$65*H394^1.65,0)","v":{"$error":"#DIV/0!"}},null,{"$f":"J394-K$68","v":-99},{"$f":"IF(AND(K394>0,$AX393<$E$14),1.59*K$65*K394^1.65,0)","v":{"$error":"#DIV/0!"}},null,{"$f":"M394-N$68","v":-99},{"$f":"IF(AND(N394>0,$AX393<$E$14),1.59*N$65*N394^1.65,0)","v":{"$error":"#DIV/0!"}},null,{"$f":"P394-Q$68","v":-99},{"$f":"IF(AND(Q394>0,$AX393<$E$14),1.59*Q$65*Q394^1.65,0)","v":{"$error":"#DIV/0!"}},null,{"$f":"S394-T$68","v":-99},{"$f":"IF(AND(T394>0,$AX393<$E$14),1.59*T$65*T394^1.65,0)","v":{"$error":"#DIV/0!"}},null,{"$f":"V394-W$68","v":-99},{"$f":"IF(AND(W394>0,$AX393<$E$14),1.59*W$65*W394^1.65,0)","v":{"$error":"#DIV/0!"}},null,{"$f":"Y394-Z$68","v":-99},{"$f":"IF(AND(Z394>0,$AX393<$E$14),1.59*Z$65*Z394^1.65,0)","v":{"$error":"#DIV/0!"}},null,{"$f":"AB394-AC$68","v":-99},{"$f":"IF(AND(AC394>0,$AX393<$E$14),1.59*AC$65*AC394^1.65,0)","v":{"$error":"#DIV/0!"}},null,{"$f":"AE394-AF$68","v":-99},{"$f":"IF(AND(AF394>0,$AX393<$E$14),1.59*AF$65*AF394^1.65,0)","v":{"$error":"#DIV/0!"}},null,{"$f":"AH394-AI$68","v":-99},{"$f":"IF(AND(AI394>0,$AX393<$E$14),1.59*AI$65*AI394^1.65,0)","v":{"$error":"#DIV/0!"}},{"$error":"#DIV/0!"},null,null,null,null,null,null,null,null,null,null,{"$f":"AK394-SUM(AL394:AU394)","v":{"$error":"#DIV/0!"}},{"$error":"#DIV/0!"},{"$error":"#DIV/0!"}]
[null,null,null,null,80.5,{"$error":"#DIV/0!"},null,-99,{"$error":"#DIV/0!"},null,-99,{"$error":"#DIV/0!"},null,-99,{"$error":"#DIV/0!"},null,-99,{"$error":"#DIV/0!"},null,-99,{"$error":"#DIV/0!"},null,-99,{"$error":"#DIV/0!"},null,-99,{"$error":"#DIV/0!"},null,-99,{"$error":"#DIV/0!"},null,-99,{"$error":"#DIV/0!"},null,-99,{"$error":"#DIV/0!"},{"$f":"I395+L395+O395+R395+U395+X395+AA395+AD395+AG395+AJ395","v":{"$error":"#DIV/0!"}},null,null,null,null,null,null,null,null,null,null,{"$error":"#DIV/0!"},{"$f":"MIN(AW$69,(AV394+AV395)*E$60*60*0.5+AW394)","v":{"$error":"#DIV/0!"}},{"$error":"#DIV/0!"}]
[null,null,null,null,80.75,{"$error":"#DIV/0!"},null,-99,{"$error":"#DIV/0!"},null,-99,{"$error":"#DIV/0!"},null,-99,{"$error":"#DIV/0!"},null,-99,{"$error":"#DIV/0!"},null,-99,{"$error":"#DIV/0!"},null,-99,{"$error":"#DIV/0!"},null,-99,{"$error":"#DIV/0!"},null,-99,{"$error":"#DIV/0!"},null,-99,{"$error":"#DIV/0!"},null,-99,{"$error":"#DIV/0!"},{"$error":"#DIV/0!"},null,null,null,null,null,null,null,null,null,null,{"$error":"#DIV/0!"},{"$error":"#DIV/0!"},{"$error":"#DIV/0!"}]
[null,null,null,null,81,{"$error":"#DIV/0!"},null,-99,{"$error":"#DIV/0!"},null,-99,{"$error":"#DIV/0!"},null,-99,{"$error":"#DIV/0!"},null,-99,{"$error":"#DIV/0!"},null,-99,{"$error":"#DIV/0!"},null,-99,{"$error":"#DIV/0!"},null,-99,{"$error":"#DIV/0!"},null,-99,{"$error":"#DIV/0!"},null,-99,{"$error":"#DIV/0!"},null,-99,{"$error":"#DIV/0!"},{"$error":"#DIV/0!"},null,null,null,null,null,null,null,null,null,null,{"$error":"#DIV/0!"},{"$error":"#DIV/0!"},{"$error":"#DIV/0!"}]
[null,null,null,null,81.25,{"$error":"#DIV/0!"},null,-99,{"$error":"#DIV/0!"},null,-99,{"$error":"#DIV/0!"},null,-99,{"$error":"#DIV/0!"},null,-99,{"$error":"#DIV/0!"},null,-99,{"$error":"#DIV/0!"},null,-99,{"$error":"#DIV/0!"},null,-99,{"$error":"#DIV/0!"},null,-99,{"$error":"#DIV/0!"},null,-99,{"$error":"#DIV/0!"},null,-99,{"$error":"#DIV/0!"},{"$error":"#DIV/0!"},null,null,null,null,null,null,null,null,null,null,{"$error":"#DIV/0!"},{"$error":"#DIV/0!"},{"$error":"#DIV/0!"}]
[null,null,null,null,81.5,{"$error":"#DIV/0!"},null,-99,{"$error":"#DIV/0!"},null,-99,{"$error":"#DIV/0!"},null,-99,{"$error":"#DIV/0!"},null,-99,{"$error":"#DIV/0!"},null,-99,{"$error":"#DIV/0!"},null,-99,{"$error":"#DIV/0!"},null,-99,{"$error":"#DIV/0!"},null,-99,{"$error":"#DIV/0!"},null,-99,{"$error":"#DIV/0!"},null,-99,{"$error":"#DIV/0!"},{"$error":"#DIV/0!"},null,null,null,null,null,null,null,null,null,null,{"$error":"#DIV/0!"},{"$error":"#DIV/0!"},{"$f":"AW399/E$13","v":{"$error":"#DIV/0!"}}]
[null,null,null,null,81.75,{"$error":"#DIV/0!"},null,-99,{"$error":"#DIV/0!"},null,-99,{"$error":"#DIV/0!"},null,-99,{"$error":"#DIV/0!"},null,-99,{"$error":"#DIV/0!"},null,-99,{"$error":"#DIV/0!"},null,-99,{"$error":"#DIV/0!"},null,-99,{"$error":"#DIV/0!"},null,-99,{"$error":"#DIV/0!"},null,-99,{"$error":"#DIV/0!"},null,-99,{"$error":"#DIV/0!"},{"$error":"#DIV/0!"},null,null,null,null,null,null,null,null,null,null,{"$error":"#DIV/0!"},{"$error":"#DIV/0!"},{"$error":"#DIV/0!"}]
[null,null,null,null,82,{"$error":"#DIV/0!"},null,-99,{"$error":"#DIV/0!"},null,-99,{"$error":"#DIV/0!"},null,-99,{"$error":"#DIV/0!"},null,-99,{"$error":"#DIV/0!"},null,-99,{"$error":"#DIV/0!"},null,-99,{"$error":"#DIV/0!"},null,-99,{"$error":"#DIV/0!"},null,-99,{"$error":"#DIV/0!"},null,-99,{"$error":"#DIV/0!"},null,-99,{"$error":"#DIV/0!"},{"$error":"#DIV/0!"},null,null,null,null,null,null,null,null,null,null,{"$error":"#DIV/0!"},{"$error":"#DIV/0!"},{"$error":"#DIV/0!"}]
[null,null,null,null,82.25,{"$error":"#DIV/0!"},null,-99,{"$error":"#DIV/0!"},null,-99,{"$error":"#DIV/0!"},null,-99,{"$error":"#DIV/0!"},null,-99,{"$error":"#DIV/0!"},null,-99,{"$error":"#DIV/0!"},null,-99,{"$error":"#DIV/0!"},null,-99,{"$error":"#DIV/0!"},null,-99,{"$error":"#DIV/0!"},null,-99,{"$error":"#DIV/0!"},null,-99,{"$error":"#DIV/0!"},{"$error":"#DIV/0!"},null,null,null,null,null,null,null,null,null,null,{"$error":"#DIV/0!"},{"$error":"#DIV/0!"},{"$error":"#DIV/0!"}]
[null,null,null,null,82.5,{"$error":"#DIV/0!"},null,-99,{"$error":"#DIV/0!"},null,-99,{"$error":"#DIV/0!"},null,-99,{"$error":"#DIV/0!"},null,-99,{"$error":"#DIV/0!"},null,-99,{"$error":"#DIV/0!"},null,-99,{"$error":"#DIV/0!"},null,-99,{"$error":"#DIV/0!"},null,-99,{"$error":"#DIV/0!"},null,-99,{"$error":"#DIV/0!"},null,-99,{"$error":"#DIV/0!"},{"$error":"#DIV/0!"},null,null,null,null,null,null,null,null,null,null,{"$error":"#DIV/0!"},{"$error":"#DIV/0!"},{"$error":"#DIV/0!"}]
[null,null,null,null,82.75,{"$error":"#DIV/0!"},null,-99,{"$error":"#DIV/0!"},null,-99,{"$error":"#DIV/0!"},null,-99,{"$error":"#DIV/0!"},null,-99,{"$error":"#DIV/0!"},null,-99,{"$error":"#DIV/0!"},null,-99,{"$error":"#DIV/0!"},null,-99,{"$error":"#DIV/0!"},null,-99,{"$error":"#DIV/0!"},null,-99,{"$error":"#DIV/0!"},null,-99,{"$error":"#DIV/0!"},{"$error":"#DIV/0!"},null,null,null,null,null,null,null,null,null,null,{"$error":"#DIV/0!"},{"$error":"#DIV/0!"},{"$error":"#DIV/0!"}]
[null,null,null,null,83,{"$error":"#DIV/0!"},null,-99,{"$error":"#DIV/0!"},null,-99,{"$error":"#DIV/0!"},null,-99,{"$error":"#DIV/0!"},null,-99,{"$error":"#DIV/0!"},null,-99,{"$error":"#DIV/0!"},null,-99,{"$error":"#DIV/0!"},null,-99,{"$error":"#DIV/0!"},null,-99,{"$error":"#DIV/0!"},null,-99,{"$error":"#DIV/0!"},null,-99,{"$error":"#DIV/0!"},{"$error":"#DIV/0!"},null,null,null,null,null,null,null,null,null,null,{"$error":"#DIV/0!"},{"$error":"#DIV/0!"},{"$error":"#DIV/0!"}]
[null,null,null,null,83.25,{"$error":"#DIV/0!"},null,-99,{"$error":"#DIV/0!"},null,-99,{"$error":"#DIV/0!"},null,-99,{"$error":"#DIV/0!"},null,-99,{"$error":"#DIV/0!"},null,-99,{"$error":"#DIV/0!"},null,-99,{"$error":"#DIV/0!"},null,-99,{"$error":"#DIV/0!"},null,-99,{"$error":"#DIV/0!"},null,-99,{"$error":"#DIV/0!"},null,-99,{"$error":"#DIV/0!"},{"$error":"#DIV/0!"},null,null,null,null,null,null,null,null,null,null,{"$error":"#DIV/0!"},{"$error":"#DIV/0!"},{"$error":"#DIV/0!"}]
[null,null,null,null,83.5,{"$error":"#DIV/0!"},null,-99,{"$error":"#DIV/0!"},null,-99,{"$error":"#DIV/0!"},null,-99,{"$error":"#DIV/0!"},null,-99,{"$error":"#DIV/0!"},null,-99,{"$error":"#DIV/0!"},null,-99,{"$error":"#DIV/0!"},null,-99,{"$error":"#DIV/0!"},null,-99,{"$error":"#DIV/0!"},null,-99,{"$error":"#DIV/0!"},null,-99,{"$error":"#DIV/0!"},{"$error":"#DIV/0!"},null,null,null,null,null,null,null,null,null,null,{"$error":"#DIV/0!"},{"$error":"#DIV/0!"},{"$error":"#DIV/0!"}]
[null,null,null,null,83.75,{"$error":"#DIV/0!"},null,-99,{"$error":"#DIV/0!"},null,-99,{"$error":"#DIV/0!"},null,-99,{"$error":"#DIV/0!"},null,-99,{"$error":"#DIV/0!"},null,-99,{"$error":"#DIV/0!"},null,-99,{"$error":"#DIV/0!"},null,-99,{"$error":"#DIV/0!"},null,-99,{"$error":"#DIV/0!"},null,-99,{"$error":"#DIV/0!"},null,-99,{"$error":"#DIV/0!"},{"$error":"#DIV/0!"},null,null,null,null,null,null,null,null,null,null,{"$error":"#DIV/0!"},{"$error":"#DIV/0!"},{"$error":"#DIV/0!"}]
[null,null,null,null,84,{"$error":"#DIV/0!"},null,-99,{"$error":"#DIV/0!"},null,-99,{"$error":"#DIV/0!"},null,-99,{"$error":"#DIV/0!"},null,-99,{"$error":"#DIV/0!"},null,-99,{"$error":"#DIV/0!"},null,-99,{"$error":"#DIV/0!"},null,-99,{"$error":"#DIV/0!"},null,-99,{"$error":"#DIV/0!"},null,-99,{"$error":"#DIV/0!"},null,-99,{"$error":"#DIV/0!"},{"$error":"#DIV/0!"},null,null,null,null,null,null,null,null,null,null,{"$error":"#DIV/0!"},{"$error":"#DIV/0!"},{"$error":"#DIV/0!"}]
[null,null,null,null,84.25,{"$error":"#DIV/0!"},null,-99,{"$error":"#DIV/0!"},null,-99,{"$error":"#DIV/0!"},null,-99,{"$error":"#DIV/0!"},null,-99,{"$error":"#DIV/0!"},null,-99,{"$error":"#DIV/0!"},null,-99,{"$error":"#DIV/0!"},null,-99,{"$error":"#DIV/0!"},null,-99,{"$error":"#DIV/0!"},null,-99,{"$error":"#DIV/0!"},null,-99,{"$error":"#DIV/0!"},{"$error":"#DIV/0!"},null,null,null,null,null,null,null,null,null,null,{"$error":"#DIV/0!"},{"$error":"#DIV/0!"},{"$error":"#DIV/0!"}]
[null,null,null,null,84.5,{"$error":"#DIV/0!"},null,-99,{"$error":"#DIV/0!"},null,-99,{"$error":"#DIV/0!"},null,-99,{"$error":"#DIV/0!"},null,-99,{"$error":"#DIV/0!"},null,-99,{"$error":"#DIV/0!"},null,-99,{"$error":"#DIV/0!"},null,-99,{"$error":"#DIV/0!"},null,-99,{"$error":"#DIV/0!"},null,-99,{"$error":"#DIV/0!"},null,-99,{"$error":"#DIV/0!"},{"$error":"#DIV/0!"},null,null,null,null,null,null,null,null,null,null,{"$error":"#DIV/0!"},{"$error":"#DIV/0!"},{"$error":"#DIV/0!"}]
[null,null,null,null,84.75,{"$error":"#DIV/0!"},null,-99,{"$error":"#DIV/0!"},null,-99,{"$error":"#DIV/0!"},null,-99,{"$error":"#DIV/0!"},null,-99,{"$error":"#DIV/0!"},null,-99,{"$error":"#DIV/0!"},null,-99,{"$error":"#DIV/0!"},null,-99,{"$error":"#DIV/0!"},null,-99,{"$error":"#DIV/0!"},null,-99,{"$error":"#DIV/0!"},null,-99,{"$error":"#DIV/0!"},{"$error":"#DIV/0!"},null,null,null,null,null,null,null,null,null,null,{"$error":"#DIV/0!"},{"$error":"#DIV/0!"},{"$error":"#DIV/0!"}]
[null,null,null,null,85,{"$error":"#DIV/0!"},null,-99,{"$error":"#DIV/0!"},null,-99,{"$error":"#DIV/0!"},null,-99,{"$error":"#DIV/0!"},null,-99,{"$error":"#DIV/0!"},null,-99,{"$error":"#DIV/0!"},null,-99,{"$error":"#DIV/0!"},null,-99,{"$error":"#DIV/0!"},null,-99,{"$error":"#DIV/0!"},null,-99,{"$error":"#DIV/0!"},null,-99,{"$error":"#DIV/0!"},{"$error":"#DIV/0!"},null,null,null,null,null,null,null,null,null,null,{"$error":"#DIV/0!"},{"$error":"#DIV/0!"},{"$error":"#DIV/0!"}]
[null,null,null,null,85.25,{"$error":"#DIV/0!"},null,-99,{"$error":"#DIV/0!"},null,-99,{"$error":"#DIV/0!"},null,-99,{"$error":"#DIV/0!"},null,-99,{"$error":"#DIV/0!"},null,-99,{"$error":"#DIV/0!"},null,-99,{"$error":"#DIV/0!"},null,-99,{"$error":"#DIV/0!"},null,-99,{"$error":"#DIV/0!"},null,-99,{"$error":"#DIV/0!"},null,-99,{"$error":"#DIV/0!"},{"$error":"#DIV/0!"},null,null,null,null,null,null,null,null,null,null,{"$error":"#DIV/0!"},{"$error":"#DIV/0!"},{"$error":"#DIV/0!"}]
[null,null,null,null,85.5,{"$error":"#DIV/0!"},null,-99,{"$error":"#DIV/0!"},null,-99,{"$error":"#DIV/0!"},null,-99,{"$error":"#DIV/0!"},null,-99,{"$error":"#DIV/0!"},null,-99,{"$error":"#DIV/0!"},null,-99,{"$error":"#DIV/0!"},null,-99,{"$error":"#DIV/0!"},null,-99,{"$error":"#DIV/0!"},null,-99,{"$error":"#DIV/0!"},null,-99,{"$error":"#DIV/0!"},{"$error":"#DIV/0!"},null,null,null,null,null,null,null,null,null,null,{"$error":"#DIV/0!"},{"$error":"#DIV/0!"},{"$error":"#DIV/0!"}]
[null,null,null,null,85.75,{"$error":"#DIV/0!"},null,-99,{"$error":"#DIV/0!"},null,-99,{"$error":"#DIV/0!"},null,-99,{"$error":"#DIV/0!"},null,-99,{"$error":"#DIV/0!"},null,-99,{"$error":"#DIV/0!"},null,-99,{"$error":"#DIV/0!"},null,-99,{"$error":"#DIV/0!"},null,-99,{"$error":"#DIV/0!"},null,-99,{"$error":"#DIV/0!"},null,-99,{"$error":"#DIV/0!"},{"$error":"#DIV/0!"},null,null,null,null,null,null,null,null,null,null,{"$error":"#DIV/0!"},{"$error":"#DIV/0!"},{"$error":"#DIV/0!"}]
[null,null,null,null,86,{"$error":"#DIV/0!"},null,-99,{"$error":"#DIV/0!"},null,-99,{"$error":"#DIV/0!"},null,-99,{"$error":"#DIV/0!"},null,-99,{"$error":"#DIV/0!"},null,-99,{"$error":"#DIV/0!"},null,-99,{"$error":"#DIV/0!"},null,-99,{"$error":"#DIV/0!"},null,-99,{"$error":"#DIV/0!"},null,-99,{"$error":"#DIV/0!"},null,-99,{"$error":"#DIV/0!"},{"$error":"#DIV/0!"},null,null,null,null,null,null,null,null,null,null,{"$error":"#DIV/0!"},{"$error":"#DIV/0!"},{"$error":"#DIV/0!"}]
[null,null,null,null,86.25,{"$error":"#DIV/0!"},null,-99,{"$error":"#DIV/0!"},null,-99,{"$error":"#DIV/0!"},null,-99,{"$error":"#DIV/0!"},null,-99,{"$error":"#DIV/0!"},null,-99,{"$error":"#DIV/0!"},null,-99,{"$error":"#DIV/0!"},null,-99,{"$error":"#DIV/0!"},null,-99,{"$error":"#DIV/0!"},null,-99,{"$error":"#DIV/0!"},null,-99,{"$error":"#DIV/0!"},{"$error":"#DIV/0!"},null,null,null,null,null,null,null,null,null,null,{"$error":"#DIV/0!"},{"$error":"#DIV/0!"},{"$error":"#DIV/0!"}]
[null,null,null,null,86.5,{"$error":"#DIV/0!"},null,-99,{"$error":"#DIV/0!"},null,-99,{"$error":"#DIV/0!"},null,-99,{"$error":"#DIV/0!"},null,-99,{"$error":"#DIV/0!"},null,-99,{"$error":"#DIV/0!"},null,-99,{"$error":"#DIV/0!"},null,-99,{"$error":"#DIV/0!"},null,-99,{"$error":"#DIV/0!"},null,-99,{"$error":"#DIV/0!"},null,-99,{"$error":"#DIV/0!"},{"$error":"#DIV/0!"},null,null,null,null,null,null,null,null,null,null,{"$error":"#DIV/0!"},{"$error":"#DIV/0!"},{"$error":"#DIV/0!"}]
[null,null,null,null,86.75,{"$error":"#DIV/0!"},null,-99,{"$error":"#DIV/0!"},null,-99,{"$error":"#DIV/0!"},null,-99,{"$error":"#DIV/0!"},null,-99,{"$error":"#DIV/0!"},null,-99,{"$error":"#DIV/0!"},null,-99,{"$error":"#DIV/0!"},null,-99,{"$error":"#DIV/0!"},null,-99,{"$error":"#DIV/0!"},null,-99,{"$error":"#DIV/0!"},null,-99,{"$error":"#DIV/0!"},{"$error":"#DIV/0!"},null,null,null,null,null,null,null,null,null,null,{"$error":"#DIV/0!"},{"$error":"#DIV/0!"},{"$error":"#DIV/0!"}]
[null,null,null,null,87,{"$error":"#DIV/0!"},null,-99,{"$error":"#DIV/0!"},null,-99,{"$error":"#DIV/0!"},null,-99,{"$error":"#DIV/0!"},null,-99,{"$error":"#DIV/0!"},null,-99,{"$error":"#DIV/0!"},null,-99,{"$error":"#DIV/0!"},null,-99,{"$error":"#DIV/0!"},null,-99,{"$error":"#DIV/0!"},null,-99,{"$error":"#DIV/0!"},null,-99,{"$error":"#DIV/0!"},{"$error":"#DIV/0!"},null,null,null,null,null,null,null,null,null,null,{"$error":"#DIV/0!"},{"$error":"#DIV/0!"},{"$error":"#DIV/0!"}]
[null,null,null,null,87.25,{"$error":"#DIV/0!"},null,-99,{"$error":"#DIV/0!"},null,-99,{"$error":"#DIV/0!"},null,-99,{"$error":"#DIV/0!"},null,-99,{"$error":"#DIV/0!"},null,-99,{"$error":"#DIV/0!"},null,-99,{"$error":"#DIV/0!"},null,-99,{"$error":"#DIV/0!"},null,-99,{"$error":"#DIV/0!"},null,-99,{"$error":"#DIV/0!"},null,-99,{"$error":"#DIV/0!"},{"$error":"#DIV/0!"},null,null,null,null,null,null,null,null,null,null,{"$error":"#DIV/0!"},{"$error":"#DIV/0!"},{"$error":"#DIV/0!"}]
[null,null,null,null,87.5,{"$error":"#DIV/0!"},null,-99,{"$error":"#DIV/0!"},null,-99,{"$error":"#DIV/0!"},null,-99,{"$error":"#DIV/0!"},null,-99,{"$error":"#DIV/0!"},null,-99,{"$error":"#DIV/0!"},null,-99,{"$error":"#DIV/0!"},null,-99,{"$error":"#DIV/0!"},null,-99,{"$error":"#DIV/0!"},null,-99,{"$error":"#DIV/0!"},null,-99,{"$error":"#DIV/0!"},{"$error":"#DIV/0!"},null,null,null,null,null,null,null,null,null,null,{"$error":"#DIV/0!"},{"$error":"#DIV/0!"},{"$error":"#DIV/0!"}]
[null,null,null,null,87.75,{"$error":"#DIV/0!"},null,-99,{"$error":"#DIV/0!"},null,-99,{"$error":"#DIV/0!"},null,-99,{"$error":"#DIV/0!"},null,-99,{"$error":"#DIV/0!"},null,-99,{"$error":"#DIV/0!"},null,-99,{"$error":"#DIV/0!"},null,-99,{"$error":"#DIV/0!"},null,-99,{"$error":"#DIV/0!"},null,-99,{"$error":"#DIV/0!"},null,-99,{"$error":"#DIV/0!"},{"$error":"#DIV/0!"},null,null,null,null,null,null,null,null,null,null,{"$error":"#DIV/0!"},{"$error":"#DIV/0!"},{"$error":"#DIV/0!"}]
[null,null,null,null,88,{"$error":"#DIV/0!"},null,-99,{"$error":"#DIV/0!"},null,-99,{"$error":"#DIV/0!"},null,-99,{"$error":"#DIV/0!"},null,-99,{"$error":"#DIV/0!"},null,-99,{"$error":"#DIV/0!"},null,-99,{"$error":"#DIV/0!"},null,-99,{"$error":"#DIV/0!"},null,-99,{"$error":"#DIV/0!"},null,-99,{"$error":"#DIV/0!"},null,-99,{"$error":"#DIV/0!"},{"$error":"#DIV/0!"},null,null,null,null,null,null,null,null,null,null,{"$error":"#DIV/0!"},{"$error":"#DIV/0!"},{"$error":"#DIV/0!"}]
[null,null,null,null,88.25,{"$error":"#DIV/0!"},null,-99,{"$error":"#DIV/0!"},null,-99,{"$error":"#DIV/0!"},null,-99,{"$error":"#DIV/0!"},null,-99,{"$error":"#DIV/0!"},null,-99,{"$error":"#DIV/0!"},null,-99,{"$error":"#DIV/0!"},null,-99,{"$error":"#DIV/0!"},null,-99,{"$error":"#DIV/0!"},null,-99,{"$error":"#DIV/0!"},null,-99,{"$error":"#DIV/0!"},{"$error":"#DIV/0!"},null,null,null,null,null,null,null,null,null,null,{"$error":"#DIV/0!"},{"$error":"#DIV/0!"},{"$error":"#DIV/0!"}]
[null,null,null,null,88.5,{"$error":"#DIV/0!"},null,-99,{"$error":"#DIV/0!"},null,-99,{"$error":"#DIV/0!"},null,-99,{"$error":"#DIV/0!"},null,-99,{"$error":"#DIV/0!"},null,-99,{"$error":"#DIV/0!"},null,-99,{"$error":"#DIV/0!"},null,-99,{"$error":"#DIV/0!"},null,-99,{"$error":"#DIV/0!"},null,-99,{"$error":"#DIV/0!"},null,-99,{"$error":"#DIV/0!"},{"$error":"#DIV/0!"},null,null,null,null,null,null,null,null,null,null,{"$error":"#DIV/0!"},{"$error":"#DIV/0!"},{"$error":"#DIV/0!"}]
[null,null,null,null,88.75,{"$error":"#DIV/0!"},null,-99,{"$error":"#DIV/0!"},null,-99,{"$error":"#DIV/0!"},null,-99,{"$error":"#DIV/0!"},null,-99,{"$error":"#DIV/0!"},null,-99,{"$error":"#DIV/0!"},null,-99,{"$error":"#DIV/0!"},null,-99,{"$error":"#DIV/0!"},null,-99,{"$error":"#DIV/0!"},null,-99,{"$error":"#DIV/0!"},null,-99,{"$error":"#DIV/0!"},{"$error":"#DIV/0!"},null,null,null,null,null,null,null,null,null,null,{"$error":"#DIV/0!"},{"$error":"#DIV/0!"},{"$error":"#DIV/0!"}]
[null,null,null,null,89,{"$error":"#DIV/0!"},null,-99,{"$error":"#DIV/0!"},null,-99,{"$error":"#DIV/0!"},null,-99,{"$error":"#DIV/0!"},null,-99,{"$error":"#DIV/0!"},null,-99,{"$error":"#DIV/0!"},null,-99,{"$error":"#DIV/0!"},null,-99,{"$error":"#DIV/0!"},null,-99,{"$error":"#DIV/0!"},null,-99,{"$error":"#DIV/0!"},null,-99,{"$error":"#DIV/0!"},{"$error":"#DIV/0!"},null,null,null,null,null,null,null,null,null,null,{"$error":"#DIV/0!"},{"$error":"#DIV/0!"},{"$error":"#DIV/0!"}]
[null,null,null,null,89.25,{"$error":"#DIV/0!"},null,-99,{"$error":"#DIV/0!"},null,-99,{"$error":"#DIV/0!"},null,-99,{"$error":"#DIV/0!"},null,-99,{"$error":"#DIV/0!"},null,-99,{"$error":"#DIV/0!"},null,-99,{"$error":"#DIV/0!"},null,-99,{"$error":"#DIV/0!"},null,-99,{"$error":"#DIV/0!"},null,-99,{"$error":"#DIV/0!"},null,-99,{"$error":"#DIV/0!"},{"$error":"#DIV/0!"},null,null,null,null,null,null,null,null,null,null,{"$error":"#DIV/0!"},{"$error":"#DIV/0!"},{"$error":"#DIV/0!"}]
[null,null,null,null,89.5,{"$error":"#DIV/0!"},null,-99,{"$error":"#DIV/0!"},null,-99,{"$error":"#DIV/0!"},null,-99,{"$error":"#DIV/0!"},null,-99,{"$error":"#DIV/0!"},null,-99,{"$error":"#DIV/0!"},null,-99,{"$error":"#DIV/0!"},null,-99,{"$error":"#DIV/0!"},null,-99,{"$error":"#DIV/0!"},null,-99,{"$error":"#DIV/0!"},null,-99,{"$error":"#DIV/0!"},{"$error":"#DIV/0!"},null,null,null,null,null,null,null,null,null,null,{"$error":"#DIV/0!"},{"$error":"#DIV/0!"},{"$error":"#DIV/0!"}]
[null,null,null,null,89.75,{"$error":"#DIV/0!"},null,-99,{"$error":"#DIV/0!"},null,-99,{"$error":"#DIV/0!"},null,-99,{"$error":"#DIV/0!"},null,-99,{"$error":"#DIV/0!"},null,-99,{"$error":"#DIV/0!"},null,-99,{"$error":"#DIV/0!"},null,-99,{"$error":"#DIV/0!"},null,-99,{"$error":"#DIV/0!"},null,-99,{"$error":"#DIV/0!"},null,-99,{"$error":"#DIV/0!"},{"$error":"#DIV/0!"},null,null,null,null,null,null,null,null,null,null,{"$error":"#DIV/0!"},{"$error":"#DIV/0!"},{"$error":"#DIV/0!"}]
[null,null,null,null,90,{"$error":"#DIV/0!"},null,-99,{"$error":"#DIV/0!"},null,-99,{"$error":"#DIV/0!"},null,-99,{"$error":"#DIV/0!"},null,-99,{"$error":"#DIV/0!"},null,-99,{"$error":"#DIV/0!"},null,-99,{"$error":"#DIV/0!"},null,-99,{"$error":"#DIV/0!"},null,-99,{"$error":"#DIV/0!"},null,-99,{"$error":"#DIV/0!"},null,-99,{"$error":"#DIV/0!"},{"$error":"#DIV/0!"},null,null,null,null,null,null,null,null,null,null,{"$error":"#DIV/0!"},{"$error":"#DIV/0!"},{"$error":"#DIV/0!"}]

{"sheet":"ステップ6（異変認知時間）","index":7,"n_rows":46,"n_cols":11,"rows_kept":46,"cut":false,"hidden":false,"merged":[[45,10,46,10],[41,10,44,10],[35,0,36,0],[5,0,6,0],[4,4,5,4],[27,10,30,10],[5,10,11,10],[14,10,17,10],[4,5,4,8],[4,2,5,2],[4,3,5,3],[7,0,16,0]]}
[null,"↑の","　　をクリックで左の説明を閉じる"]
[null,"↑の","　　をクリックで左の説明を開く"]
["◆ここでやること",null,"■ステップ6：異変認知時間(t1)の算定",null,null,null,null,null,null,null,"◆解説"]
[null,null,null,null,null,"※(a)～(c)の再計算を行う場合は、ステップ5で行います。"]
["■ステップ6：異変認知時間の算定",null,"フロア","区画・部屋\n番号","区画・部屋\n名称","①異変認知時間（分）",null,null,null,null,"◆異変認知時間の対策について"]
["①(a)～(c)の入力は不要で、(d)のみ必要に応じて入力します。どの対策を選択するかは、ステップ9で決定します。",null,null,null,null,"(a) 無対策","(b) 対策1\n一斉通報1\n管理者地上監視","(ｃ) 対策2\n一斉通報2\n地上型浸水センサー","(d) 対策3\n一斉通報3\n浸水情報早期入手",null,"異変認知時間を短くするためには、外部の降雨及び地表の浸水状況や施設内の状況などの把握を行うための情報収集施設を整備する必要があります。\n地下空間の特性として、外部（地上）の降雨や浸水状況が把握しにくい点が上げられます。地上の浸水状況の把握は安全性の向上に効果が高いため、情報収集が可能となる対策を行います。\n設置にあたっては、設備の種類・設置箇所などを整理し、運用面での防災体制（モニタリング場所・監視盤位置）に対応した計画とします。なお、電源を必要とする設備には、漏電対策に配慮すると共に、停電した場合の予備電源の対策が必要となります。"]
[null,null,"自動入力","自動入力","自動入力","算定結果","算定結果","算定結果","任意入力\n（マイナスで）"]
["異変認知時間とは・・・\n異変認知時間は、地上の浸水開始から地下街等の管理者または一般の利用者が地下浸水の危険性を認知するまでの時間で、下記の(a)～(d)の４つが考えられます。\nこのうちの(a)～(c)は、ステップ5で算定した地上や地下の時間と浸水深の関係からその時間を抽出して、右の表に一覧表示しています。\n\n(d)は、浸水情報を早い段階で入手し、対象となる地下空間周辺で地上浸水が始まる前に異変認知できる場合に、任意入力でマイナスの値を入力します。",1,{"$f":"IF('ステップ2（地下フロア構造）'!$D$20<>\"\",'ステップ2（地下フロア構造）'!$C$20,\"\")","v":""},{"$f":"IF('ステップ2（地下フロア構造）'!$D$20<>\"\",'ステップ2（地下フロア構造）'!$D$20,\"\")","v":""},{"$f":"IF('ステップ2（地下フロア構造）'!$F$20<>\"\",'ステップ2（地下フロア構造）'!$F$20,\"\")","v":""}]
[null,2,{"$f":"IF('ステップ2（地下フロア構造）'!$D$21<>\"\",'ステップ2（地下フロア構造）'!$C$21,\"\")","v":""},{"$f":"IF('ステップ2（地下フロア構造）'!$D$21<>\"\",'ステップ2（地下フロア構造）'!$D$21,\"\")","v":""},{"$f":"IF('ステップ2（地下フロア構造）'!$F$21<>\"\",'ステップ2（地下フロア構造）'!$F$21,\"\")","v":""}]
[null,3,{"$f":"IF('ステップ2（地下フロア構造）'!$D$22<>\"\",'ステップ2（地下フロア構造）'!$C$22,\"\")","v":""},{"$f":"IF('ステップ2（地下フロア構造）'!$D$22<>\"\",'ステップ2（地下フロア構造）'!$D$22,\"\")","v":""},{"$f":"IF('ステップ2（地下フロア構造）'!$F$22<>\"\",'ステップ2（地下フロア構造）'!$F$22,\"\")","v":""}]
[null,4,{"$f":"IF('ステップ2（地下フロア構造）'!$D$23<>\"\",'ステップ2（地下フロア構造）'!$C$23,\"\")","v":""},{"$f":"IF('ステップ2（地下フロア構造）'!$D$23<>\"\",'ステップ2（地下フロア構造）'!$D$23,\"\")","v":""},{"$f":"IF('ステップ2（地下フロア構造）'!$F$23<>\"\",'ステップ2（地下フロア構造）'!$F$23,\"\")","v":""}]
[null,5,{"$f":"IF('ステップ2（地下フロア構造）'!$D$24<>\"\",'ステップ2（地下フロア構造）'!$C$24,\"\")","v":""},{"$f":"IF('ステップ2（地下フロア構造）'!$D$24<>\"\",'ステップ2（地下フロア構造）'!$D$24,\"\")","v":""},{"$f":"IF('ステップ2（地下フロア構造）'!$F$24<>\"\",'ステップ2（地下フロア構造）'!$F$24,\"\")","v":""}]
[null,6,{"$f":"IF('ステップ2（地下フロア構造）'!$D$25<>\"\",'ステップ2（地下フロア構造）'!$C$25,\"\")","v":""},{"$f":"IF('ステップ2（地下フロア構造）'!$D$25<>\"\",'ステップ2（地下フロア構造）'!$D$25,\"\")","v":""},{"$f":"IF('ステップ2（地下フロア構造）'!$F$25<>\"\",'ステップ2（地下フロア構造）'!$F$25,\"\")","v":""}]
[null,7,{"$f":"IF('ステップ2（地下フロア構造）'!$D$26<>\"\",'ステップ2（地下フロア構造）'!$C$26,\"\")","v":""},{"$f":"IF('ステップ2（地下フロア構造）'!$D$26<>\"\",'ステップ2（地下フロア構造）'!$D$26,\"\")","v":""},{"$f":"IF('ステップ2（地下フロア構造）'!$F$26<>\"\",'ステップ2（地下フロア構造）'!$F$26,\"\")","v":""},null,null,null,null,null,"1) CCTV設備の設置（管理者の地上監視）"]
[null,8,{"$f":"IF('ステップ2（地下フロア構造）'!$D$27<>\"\",'ステップ2（地下フロア構造）'!$C$27,\"\")","v":""},{"$f":"IF('ステップ2（地下フロア構造）'!$D$27<>\"\",'ステップ2（地下フロア構造）'!$D$27,\"\")","v":""},{"$f":"IF('ステップ2（地下フロア構造）'!$F$27<>\"\",'ステップ2（地下フロア構造）'!$F$27,\"\")","v":""},null,null,null,null,null,"カメラの映像を任意の場所でモニターにより監視が可能となるため、出入り口など流入の可能性がある場所を監視するために設置します。カメラは固定型・可動型などがあるため、監視したい方向・範囲などを考慮して設置します。また、施設内部に設置することで利用者の避難状況の確認が行えることから目的・用途に沿って適宜設置します。"]
[null,9,{"$f":"IF('ステップ2（地下フロア構造）'!$D$28<>\"\",'ステップ2（地下フロア構造）'!$C$28,\"\")","v":""},{"$f":"IF('ステップ2（地下フロア構造）'!$D$28<>\"\",'ステップ2（地下フロア構造）'!$D$28,\"\")","v":""},{"$f":"IF('ステップ2（地下フロア構造）'!$F$28<>\"\",'ステップ2（地下フロア構造）'!$F$28,\"\")","v":""}]
[null,10,{"$f":"IF('ステップ2（地下フロア構造）'!$D$29<>\"\",'ステップ2（地下フロア構造）'!$C$29,\"\")","v":""},{"$f":"IF('ステップ2（地下フロア構造）'!$D$29<>\"\",'ステップ2（地下フロア構造）'!$D$29,\"\")","v":""},{"$f":"IF('ステップ2（地下フロア構造）'!$F$29<>\"\",'ステップ2（地下フロア構造）'!$F$29,\"\")","v":""}]
["(a) 無対策",11,{"$f":"IF('ステップ2（地下フロア構造）'!$D$30<>\"\",'ステップ2（地下フロア構造）'!$C$30,\"\")","v":""},{"$f":"IF('ステップ2（地下フロア構造）'!$D$30<>\"\",'ステップ2（地下フロア構造）'!$D$30,\"\")","v":""},{"$f":"IF('ステップ2（地下フロア構造）'!$F$30<>\"\",'ステップ2（地下フロア構造）'!$F$30,\"\")","v":""}]
["　　異変認知の設定値：",12,{"$f":"IF('ステップ2（地下フロア構造）'!$D$31<>\"\",'ステップ2（地下フロア構造）'!$C$31,\"\")","v":""},{"$f":"IF('ステップ2（地下フロア構造）'!$D$31<>\"\",'ステップ2（地下フロア構造）'!$D$31,\"\")","v":""},{"$f":"IF('ステップ2（地下フロア構造）'!$F$31<>\"\",'ステップ2（地下フロア構造）'!$F$31,\"\")","v":""},null,null,null,null,null,"＜CCTVの解説図＞"]
["◆地下の区画・部屋の浸水深が",13,{"$f":"IF('ステップ2（地下フロア構造）'!$D$32<>\"\",'ステップ2（地下フロア構造）'!$C$32,\"\")","v":""},{"$f":"IF('ステップ2（地下フロア構造）'!$D$32<>\"\",'ステップ2（地下フロア構造）'!$D$32,\"\")","v":""},{"$f":"IF('ステップ2（地下フロア構造）'!$F$32<>\"\",'ステップ2（地下フロア構造）'!$F$32,\"\")","v":""}]
["３cmとなる時間",14,{"$f":"IF('ステップ2（地下フロア構造）'!$D$33<>\"\",'ステップ2（地下フロア構造）'!$C$33,\"\")","v":""},{"$f":"IF('ステップ2（地下フロア構造）'!$D$33<>\"\",'ステップ2（地下フロア構造）'!$D$33,\"\")","v":""},{"$f":"IF('ステップ2（地下フロア構造）'!$F$33<>\"\",'ステップ2（地下フロア構造）'!$F$33,\"\")","v":""}]
["(自動）",15,{"$f":"IF('ステップ2（地下フロア構造）'!$D$34<>\"\",'ステップ2（地下フロア構造）'!$C$34,\"\")","v":""},{"$f":"IF('ステップ2（地下フロア構造）'!$D$34<>\"\",'ステップ2（地下フロア構造）'!$D$34,\"\")","v":""},{"$f":"IF('ステップ2（地下フロア構造）'!$F$34<>\"\",'ステップ2（地下フロア構造）'!$F$34,\"\")","v":""}]
["(b) 対策1：一斉通報１",16,{"$f":"IF('ステップ2（地下フロア構造）'!$D$35<>\"\",'ステップ2（地下フロア構造）'!$C$35,\"\")","v":""},{"$f":"IF('ステップ2（地下フロア構造）'!$D$35<>\"\",'ステップ2（地下フロア構造）'!$D$35,\"\")","v":""},{"$f":"IF('ステップ2（地下フロア構造）'!$F$35<>\"\",'ステップ2（地下フロア構造）'!$F$35,\"\")","v":""}]
["（管理者による地上監視）",17,{"$f":"IF('ステップ2（地下フロア構造）'!$D$36<>\"\",'ステップ2（地下フロア構造）'!$C$36,\"\")","v":""},{"$f":"IF('ステップ2（地下フロア構造）'!$D$36<>\"\",'ステップ2（地下フロア構造）'!$D$36,\"\")","v":""},{"$f":"IF('ステップ2（地下フロア構造）'!$F$36<>\"\",'ステップ2（地下フロア構造）'!$F$36,\"\")","v":""}]
["　　異変認知の設定値：",18,{"$f":"IF('ステップ2（地下フロア構造）'!$D$37<>\"\",'ステップ2（地下フロア構造）'!$C$37,\"\")","v":""},{"$f":"IF('ステップ2（地下フロア構造）'!$D$37<>\"\",'ステップ2（地下フロア構造）'!$D$37,\"\")","v":""},{"$f":"IF('ステップ2（地下フロア構造）'!$F$37<>\"\",'ステップ2（地下フロア構造）'!$F$37,\"\")","v":""}]
["◆地上浸水深が１０cmとなる時間",19,{"$f":"IF('ステップ2（地下フロア構造）'!$D$38<>\"\",'ステップ2（地下フロア構造）'!$C$38,\"\")","v":""},{"$f":"IF('ステップ2（地下フロア構造）'!$D$38<>\"\",'ステップ2（地下フロア構造）'!$D$38,\"\")","v":""},{"$f":"IF('ステップ2（地下フロア構造）'!$F$38<>\"\",'ステップ2（地下フロア構造）'!$F$38,\"\")","v":""}]
["(自動）",20,{"$f":"IF('ステップ2（地下フロア構造）'!$D$39<>\"\",'ステップ2（地下フロア構造）'!$C$39,\"\")","v":""},{"$f":"IF('ステップ2（地下フロア構造）'!$D$39<>\"\",'ステップ2（地下フロア構造）'!$D$39,\"\")","v":""},{"$f":"IF('ステップ2（地下フロア構造）'!$F$39<>\"\",'ステップ2（地下フロア構造）'!$F$39,\"\")","v":""},null,null,null,null,null,"2) 浸水センサーの設置"]
["(c) 対策2：一斉通報２",null,null,null,null,null,null,null,null,null,"検知部が浸水することで、電気信号を発する設備により警戒が可能となるため、出入り口など流入の可能性のある場所を警戒するために設置します。実際の信号発報時には、外部状況が確認できないなどCCTV に比べ劣る面がありますが、自動立ち上げ防水板と連動させるなど相乗効果を高めることが可能です。"]
["　　　　　　　　（地上型浸水センサーの設置）"]
["　　異変認知の設定値："]
["◆地上浸水深が３cmとなる時間"]
["(自動）",null,null,null,null,null,null,null,null,null,"＜浸水センサーの解説図＞"]
["(d) 対策3：一斉通報3"]
["　　　　　　　　（浸水情報の早期入手）"]
["　　異変認知の設定値："]
["◆地上の浸水開始を０としてそれより前に\n情報を入手できる時間をマイナスで入力"]
[]
[]
["②「ステップ７」へ進みます。"]
[]
[null,null,null,null,null,null,null,null,null,null,"3) 浸水情報の早期入手"]
[null,null,null,null,null,null,null,null,null,null,"気象庁、消防庁、自治体等が配信し、携帯電話により受信できる災害・避難の緊急速報「エリアメール」等により、河川のはん濫や内水はん濫等の浸水情報を早い段階で入手することにより、対象となる地下空間周辺で地上浸水が始まる前に異変を認知することが可能となります。"]
[]
[]
[]
[null,null,null,null,null,null,null,null,null,null,"＜避難誘導対策の違いによる異変認知時間、意思決定時間\n及び避難移動のタイミング＞"]

{"sheet":"ステップ7（避難意思決定時間）","index":8,"n_rows":33,"n_cols":12,"rows_kept":33,"cut":false,"hidden":false,"merged":[[7,0,11,0],[4,5,5,5],[4,4,5,4],[5,11,10,11],[4,2,5,2],[4,3,5,3],[4,6,4,9]]}
[null,"↑の","　　をクリックで左の説明を閉じる"]
[null,"↑の","　　をクリックで左の説明を開く"]
["◆ここでやること",null,"■ステップ7：避難の意思決定時間(t2)の算定",null,null,null,null,null,null,null,null,"◆解説"]
[null,null,null,null,null,null,"※(a)～(d)の再計算を行う場合は、ステップ5で行います。"]
["■ステップ7：避難の意思決定時間の算定",null,"フロア","区画・部屋\n番号","区画・部屋\n名称","全体床面積\n(m2)","①避難の意思決定時間（分）",null,null,null,null,"◆意思決定時間の対策について"]
["①ここで入力は不要です。どの対策を選択するかは、ステップ9で決定します。",null,null,null,null,null,"(a) 無対策","(b) 対策1\n一斉通報1\n管理者地上監視","(ｃ) 対策2\n一斉通報2\n地上型浸水センサー","(d) 対策3\n一斉通報3\n浸水情報早期入手",null,"地下街等の利用者に対し、既設の放送設備を利用して、浸水被害の発生または発生のおそれを知らせることにより、避難行動を開始するまでの意思決定時間を短縮することができます。平時においても、特に不特定多数の利用者が集まる施設は、設置した放送設備を活用し、通常の案内放送にあわせて浸水被害の危険性などについての知識や情報の周知を行うことが必要です。\nまた、通常の法規制上設置対象とならない空間においても、非常時に有効な設備となるため設置することが望ましいと考えられます。"]
[null,null,"自動入力","自動入力","自動入力","自動入力","算定結果","算定結果","算定結果","算定結果"]
["避難の意思決定時間とは・・・\n地下空間の浸水危険性を認識してから、それが地下空間にいる全員に伝達され、避難行動を開始するまでの時間です。\n下記の(a)～(d)の４つが考えられ、(a)無対策の場合は全体床面積から計算します。",1,{"$f":"IF('ステップ2（地下フロア構造）'!$D20<>\"\",'ステップ2（地下フロア構造）'!$C20,\"\")","v":""},{"$f":"IF('ステップ2（地下フロア構造）'!$D20<>\"\",'ステップ2（地下フロア構造）'!$D20,\"\")","v":""},{"$f":"IF('ステップ2（地下フロア構造）'!$F20<>\"\",'ステップ2（地下フロア構造）'!$F20,\"\")","v":""},{"$f":"IF('ステップ2（地下フロア構造）'!$M20<>\"\",'ステップ2（地下フロア構造）'!$M20,\"\")","v":""}]
[null,2,{"$f":"IF('ステップ2（地下フロア構造）'!$D21<>\"\",'ステップ2（地下フロア構造）'!$C21,\"\")","v":""},{"$f":"IF('ステップ2（地下フロア構造）'!$D21<>\"\",'ステップ2（地下フロア構造）'!$D21,\"\")","v":""},{"$f":"IF('ステップ2（地下フロア構造）'!$F21<>\"\",'ステップ2（地下フロア構造）'!$F21,\"\")","v":""},{"$f":"IF('ステップ2（地下フロア構造）'!$M21<>\"\",'ステップ2（地下フロア構造）'!$M21,\"\")","v":""}]
[null,3,{"$f":"IF('ステップ2（地下フロア構造）'!$D22<>\"\",'ステップ2（地下フロア構造）'!$C22,\"\")","v":""},{"$f":"IF('ステップ2（地下フロア構造）'!$D22<>\"\",'ステップ2（地下フロア構造）'!$D22,\"\")","v":""},{"$f":"IF('ステップ2（地下フロア構造）'!$F22<>\"\",'ステップ2（地下フロア構造）'!$F22,\"\")","v":""},{"$f":"IF('ステップ2（地下フロア構造）'!$M22<>\"\",'ステップ2（地下フロア構造）'!$M22,\"\")","v":""}]
[null,4,{"$f":"IF('ステップ2（地下フロア構造）'!$D23<>\"\",'ステップ2（地下フロア構造）'!$C23,\"\")","v":""},{"$f":"IF('ステップ2（地下フロア構造）'!$D23<>\"\",'ステップ2（地下フロア構造）'!$D23,\"\")","v":""},{"$f":"IF('ステップ2（地下フロア構造）'!$F23<>\"\",'ステップ2（地下フロア構造）'!$F23,\"\")","v":""},{"$f":"IF('ステップ2（地下フロア構造）'!$M23<>\"\",'ステップ2（地下フロア構造）'!$M23,\"\")","v":""}]
[null,5,{"$f":"IF('ステップ2（地下フロア構造）'!$D24<>\"\",'ステップ2（地下フロア構造）'!$C24,\"\")","v":""},{"$f":"IF('ステップ2（地下フロア構造）'!$D24<>\"\",'ステップ2（地下フロア構造）'!$D24,\"\")","v":""},{"$f":"IF('ステップ2（地下フロア構造）'!$F24<>\"\",'ステップ2（地下フロア構造）'!$F24,\"\")","v":""},{"$f":"IF('ステップ2（地下フロア構造）'!$M24<>\"\",'ステップ2（地下フロア構造）'!$M24,\"\")","v":""}]
["※浸水床面積ではなく、全体床面積です。",6,{"$f":"IF('ステップ2（地下フロア構造）'!$D25<>\"\",'ステップ2（地下フロア構造）'!$C25,\"\")","v":""},{"$f":"IF('ステップ2（地下フロア構造）'!$D25<>\"\",'ステップ2（地下フロア構造）'!$D25,\"\")","v":""},{"$f":"IF('ステップ2（地下フロア構造）'!$F25<>\"\",'ステップ2（地下フロア構造）'!$F25,\"\")","v":""},{"$f":"IF('ステップ2（地下フロア構造）'!$M25<>\"\",'ステップ2（地下フロア構造）'!$M25,\"\")","v":""}]
[null,7,{"$f":"IF('ステップ2（地下フロア構造）'!$D26<>\"\",'ステップ2（地下フロア構造）'!$C26,\"\")","v":""},{"$f":"IF('ステップ2（地下フロア構造）'!$D26<>\"\",'ステップ2（地下フロア構造）'!$D26,\"\")","v":""},{"$f":"IF('ステップ2（地下フロア構造）'!$F26<>\"\",'ステップ2（地下フロア構造）'!$F26,\"\")","v":""},{"$f":"IF('ステップ2（地下フロア構造）'!$M26<>\"\",'ステップ2（地下フロア構造）'!$M26,\"\")","v":""}]
["(a) 無対策",8,{"$f":"IF('ステップ2（地下フロア構造）'!$D27<>\"\",'ステップ2（地下フロア構造）'!$C27,\"\")","v":""},{"$f":"IF('ステップ2（地下フロア構造）'!$D27<>\"\",'ステップ2（地下フロア構造）'!$D27,\"\")","v":""},{"$f":"IF('ステップ2（地下フロア構造）'!$F27<>\"\",'ステップ2（地下フロア構造）'!$F27,\"\")","v":""},{"$f":"IF('ステップ2（地下フロア構造）'!$M27<>\"\",'ステップ2（地下フロア構造）'!$M27,\"\")","v":""}]
[null,9,{"$f":"IF('ステップ2（地下フロア構造）'!$D28<>\"\",'ステップ2（地下フロア構造）'!$C28,\"\")","v":""},{"$f":"IF('ステップ2（地下フロア構造）'!$D28<>\"\",'ステップ2（地下フロア構造）'!$D28,\"\")","v":""},{"$f":"IF('ステップ2（地下フロア構造）'!$F28<>\"\",'ステップ2（地下フロア構造）'!$F28,\"\")","v":""},{"$f":"IF('ステップ2（地下フロア構造）'!$M28<>\"\",'ステップ2（地下フロア構造）'!$M28,\"\")","v":""}]
["　　意思決定時間：",10,{"$f":"IF('ステップ2（地下フロア構造）'!$D29<>\"\",'ステップ2（地下フロア構造）'!$C29,\"\")","v":""},{"$f":"IF('ステップ2（地下フロア構造）'!$D29<>\"\",'ステップ2（地下フロア構造）'!$D29,\"\")","v":""},{"$f":"IF('ステップ2（地下フロア構造）'!$F29<>\"\",'ステップ2（地下フロア構造）'!$F29,\"\")","v":""},{"$f":"IF('ステップ2（地下フロア構造）'!$M29<>\"\",'ステップ2（地下フロア構造）'!$M29,\"\")","v":""}]
[null,11,{"$f":"IF('ステップ2（地下フロア構造）'!$D30<>\"\",'ステップ2（地下フロア構造）'!$C30,\"\")","v":""},{"$f":"IF('ステップ2（地下フロア構造）'!$D30<>\"\",'ステップ2（地下フロア構造）'!$D30,\"\")","v":""},{"$f":"IF('ステップ2（地下フロア構造）'!$F30<>\"\",'ステップ2（地下フロア構造）'!$F30,\"\")","v":""},{"$f":"IF('ステップ2（地下フロア構造）'!$M30<>\"\",'ステップ2（地下フロア構造）'!$M30,\"\")","v":""}]
["(b) 対策1：一斉通報１",12,{"$f":"IF('ステップ2（地下フロア構造）'!$D31<>\"\",'ステップ2（地下フロア構造）'!$C31,\"\")","v":""},{"$f":"IF('ステップ2（地下フロア構造）'!$D31<>\"\",'ステップ2（地下フロア構造）'!$D31,\"\")","v":""},{"$f":"IF('ステップ2（地下フロア構造）'!$F31<>\"\",'ステップ2（地下フロア構造）'!$F31,\"\")","v":""},{"$f":"IF('ステップ2（地下フロア構造）'!$M31<>\"\",'ステップ2（地下フロア構造）'!$M31,\"\")","v":""}]
["（管理者による地上監視）",13,{"$f":"IF('ステップ2（地下フロア構造）'!$D32<>\"\",'ステップ2（地下フロア構造）'!$C32,\"\")","v":""},{"$f":"IF('ステップ2（地下フロア構造）'!$D32<>\"\",'ステップ2（地下フロア構造）'!$D32,\"\")","v":""},{"$f":"IF('ステップ2（地下フロア構造）'!$F32<>\"\",'ステップ2（地下フロア構造）'!$F32,\"\")","v":""},{"$f":"IF('ステップ2（地下フロア構造）'!$M32<>\"\",'ステップ2（地下フロア構造）'!$M32,\"\")","v":""}]
["　　意思決定時間：３分",14,{"$f":"IF('ステップ2（地下フロア構造）'!$D33<>\"\",'ステップ2（地下フロア構造）'!$C33,\"\")","v":""},{"$f":"IF('ステップ2（地下フロア構造）'!$D33<>\"\",'ステップ2（地下フロア構造）'!$D33,\"\")","v":""},{"$f":"IF('ステップ2（地下フロア構造）'!$F33<>\"\",'ステップ2（地下フロア構造）'!$F33,\"\")","v":""},{"$f":"IF('ステップ2（地下フロア構造）'!$M33<>\"\",'ステップ2（地下フロア構造）'!$M33,\"\")","v":""}]
["(自動）",15,{"$f":"IF('ステップ2（地下フロア構造）'!$D34<>\"\",'ステップ2（地下フロア構造）'!$C34,\"\")","v":""},{"$f":"IF('ステップ2（地下フロア構造）'!$D34<>\"\",'ステップ2（地下フロア構造）'!$D34,\"\")","v":""},{"$f":"IF('ステップ2（地下フロア構造）'!$F34<>\"\",'ステップ2（地下フロア構造）'!$F34,\"\")","v":""},{"$f":"IF('ステップ2（地下フロア構造）'!$M34<>\"\",'ステップ2（地下フロア構造）'!$M34,\"\")","v":""}]
["(c) 対策2：一斉通報２",16,{"$f":"IF('ステップ2（地下フロア構造）'!$D35<>\"\",'ステップ2（地下フロア構造）'!$C35,\"\")","v":""},{"$f":"IF('ステップ2（地下フロア構造）'!$D35<>\"\",'ステップ2（地下フロア構造）'!$D35,\"\")","v":""},{"$f":"IF('ステップ2（地下フロア構造）'!$F35<>\"\",'ステップ2（地下フロア構造）'!$F35,\"\")","v":""},{"$f":"IF('ステップ2（地下フロア構造）'!$M35<>\"\",'ステップ2（地下フロア構造）'!$M35,\"\")","v":""}]
["　　　　　　　　（地上型浸水センサーの設置）",17,{"$f":"IF('ステップ2（地下フロア構造）'!$D36<>\"\",'ステップ2（地下フロア構造）'!$C36,\"\")","v":""},{"$f":"IF('ステップ2（地下フロア構造）'!$D36<>\"\",'ステップ2（地下フロア構造）'!$D36,\"\")","v":""},{"$f":"IF('ステップ2（地下フロア構造）'!$F36<>\"\",'ステップ2（地下フロア構造）'!$F36,\"\")","v":""},{"$f":"IF('ステップ2（地下フロア構造）'!$M36<>\"\",'ステップ2（地下フロア構造）'!$M36,\"\")","v":""}]
["　　意思決定時間：３分",18,{"$f":"IF('ステップ2（地下フロア構造）'!$D37<>\"\",'ステップ2（地下フロア構造）'!$C37,\"\")","v":""},{"$f":"IF('ステップ2（地下フロア構造）'!$D37<>\"\",'ステップ2（地下フロア構造）'!$D37,\"\")","v":""},{"$f":"IF('ステップ2（地下フロア構造）'!$F37<>\"\",'ステップ2（地下フロア構造）'!$F37,\"\")","v":""},{"$f":"IF('ステップ2（地下フロア構造）'!$M37<>\"\",'ステップ2（地下フロア構造）'!$M37,\"\")","v":""}]
["(自動）",19,{"$f":"IF('ステップ2（地下フロア構造）'!$D38<>\"\",'ステップ2（地下フロア構造）'!$C38,\"\")","v":""},{"$f":"IF('ステップ2（地下フロア構造）'!$D38<>\"\",'ステップ2（地下フロア構造）'!$D38,\"\")","v":""},{"$f":"IF('ステップ2（地下フロア構造）'!$F38<>\"\",'ステップ2（地下フロア構造）'!$F38,\"\")","v":""},{"$f":"IF('ステップ2（地下フロア構造）'!$M38<>\"\",'ステップ2（地下フロア構造）'!$M38,\"\")","v":""}]
["(d) 対策3：一斉通報3",20,{"$f":"IF('ステップ2（地下フロア構造）'!$D39<>\"\",'ステップ2（地下フロア構造）'!$C39,\"\")","v":""},{"$f":"IF('ステップ2（地下フロア構造）'!$D39<>\"\",'ステップ2（地下フロア構造）'!$D39,\"\")","v":""},{"$f":"IF('ステップ2（地下フロア構造）'!$F39<>\"\",'ステップ2（地下フロア構造）'!$F39,\"\")","v":""},{"$f":"IF('ステップ2（地下フロア構造）'!$M39<>\"\",'ステップ2（地下フロア構造）'!$M39,\"\")","v":""}]
["　　　　　　　　（浸水情報の早期入手）"]
["　　意思決定時間：３分"]
["(自動）"]
[]
[]
["②「ステップ８」へ進みます。"]

{"sheet":"ステップ8（移動時間の算定）","index":9,"n_rows":137,"n_cols":27,"rows_kept":137,"cut":false,"hidden":false,"merged":[[56,2,56,3],[58,1,62,1],[65,2,65,3],[66,2,66,3],[67,2,67,3],[68,2,68,3],[69,1,73,1],[76,2,76,3],[77,2,77,3],[65,1,68,1],[76,1,79,1],[61,2,61,3],[111,2,112,2],[111,3,112,3],[63,26,67,26],[72,2,72,3],[83,2,83,3],[63,2,63,3],[86,2,86,3],[103,2,103,3],[104,2,104,3],[105,2,105,3],[91,2,91,3],[92,2,92,3],[80,2,80,3],[81,2,81,3],[82,2,82,3],[64,2,64,3],[69,2,69,3],[70,2,70,3],[71,2,71,3],[73,2,73,3],[75,2,75,3],[83,26,85,26],[89,26,92,26],[4,26,10,26],[25,0,26,0],[53,2,53,3],[58,2,58,3],[59,2,59,3],[60,2,60,3],[32,2,32,3],[33,2,33,3],[34,2,34,3],[40,2,40,3],[41,2,41,3],[42,2,42,3],[44,2,44,3],[50,2,50,3],[51,2,51,3],[52,2,52,3],[35,1,38,1],[39,2,39,11],[47,2,49,11],[35,2,35,3],[36,2,36,3],[37,2,37,3],[38,2,38,3],[40,1,44,1],[6,0,8,0],[14,0,15,0],[16,0,17,0],[23,0,24,0],[17,2,17,3],[18,2,18,3],[19,2,19,3],[21,2,21,3],[22,2,22,3],[23,2,23,3],[24,2,24,3],[9,0,11,0],[12,0,13,0],[20,2,20,3],[133,4,133,5],[124,4,124,5],[125,4,125,5],[126,4,126,5],[127,4,127,5],[128,4,128,5],[94,2,94,3],[95,2,95,3],[96,2,96,3],[97,2,97,3],[102,2,102,3],[106,2,106,3],[107,2,107,3],[108,2,108,3],[129,4,129,5],[109,2,109,3],[113,4,113,5],[119,4,119,5],[120,4,120,5],[121,4,121,5],[122,4,122,5],[123,4,123,5],[114,4,114,5],[115,4,115,5],[31,0,32,0],[62,2,62,3],[28,26,32,26],[57,2,57,3],[54,2,54,3],[55,2,55,3],[130,4,130,5],[131,4,131,5],[132,4,132,5],[116,4,116,5],[117,4,117,5],[118,4,118,5],[111,4,112,5],[93,2,93,3],[84,2,84,3],[74,2,74,3],[52,26,54,26],[78,2,78,3],[79,2,79,3],[80,1,84,1],[27,0,29,0],[54,1,57,1],[111,6,111,10],[43,2,43,3]]}
[null,"↑の","　　をクリックで左の説明を閉じる"]
[null,"↑の","　　をクリックで左の説明を開く"]
["◆ここでやること",null,"■ステップ8：移動時間(t3＋t4＋t5)の算定",null,null,null,null,null,null,null,null,"↑M列～Y列の表示／非表示",null,null,null,null,null,null,null,null,null,null,null,null,null,null,"◆解説"]
[null,null,null,null,null,null,null,null,null,null,null,null,null,null,null,null,null,null,null,null,null,null,null,null,null,null,"t3：避難行動の開始から上階へ昇る階段下までの移動時間"]
["■ステップ8：移動時間の算定",null,null,null,null,null,null,null,null,null,null,null,null,null,null,null,null,null,null,null,null,null,null,null,null,null,"避難行動を起こしてから地下フロアの出口まで移動する時間は、歩行距離と歩行速度を設定して算定します。\n歩行速度は、火災時の避難安全検証法の解説書である、「2001年版　避難安全検証法の解説及び計算例とその解説（平成13年3月）、国土交 通省住宅局建築指導課他編集」（以下、「火災時の避難安全検証法」という。）を参考とした平坦部の歩行速度を基本としますが、浸水による歩行速度の割引を考慮します。浸水時の歩行速度は、浸水深30cm を想定し、浸水が無い場合の57%とします。これは、浸水深70cm を平坦部の歩行ができなくなる水深（歩行限界水深：歩行速度＝0）とし、浸水深30cm 時の歩行速度を直線補完で設定したものです。"]
[]
["①t3～t5について、「必須入力」欄のデータを入力することによって、それぞれの移動時間が算定されます。"]
[null,null,"■地下フロア平面図"]
[]
["移動時間とは・・・\n移動時間は、無対策、一斉通報にかかわらず、地下フロアで避難行動を起こしてから上階に移動するまでの時間で、下記のt3～t5の合計とします。"]
[]
[null,null,"※移動距離は、縦横の距離とします",null,null,null,null,null,null,null,null,null,null,null,null,null,null,null,null,null,null,null,null,null,null,null,"※算定にあたっては、避難行動開始位置から上階へ昇る階段下までの移動距離が最も長い人の条件を入力します。\n※また、移動距離は、縦横の距離とします。"]
["※避難は階段のみを使用し、エスカレータや駐車場用道路等は使用しないこととします。",null,null,null,null,null,null,null,null,null,null,null,null,null,null,null,null,null,null,null,null,null,null,null,null,null,"■フロア平面図"]
[]
["t3：避難行動の開始位置から上階へ上る階段下までの移動時間",null,"t3：避難行動の開始から上階へ昇る階段下までの移動時間"]
[]
["　※避難行動開始位置から上階へ昇る階段下までの\n　　距離が最も長い人の条件を入力します。",null,"　　　※避難行動開始位置から上階へ昇る階段下までの移動距離が最も長い人の条件を入力します。"]
[null,null,"フロア",null,"自動入力",{"$f":"IF('ステップ2（地下フロア構造）'!$D$20<>\"\",'ステップ2（地下フロア構造）'!$C$20,\"\")","v":""},{"$f":"IF('ステップ2（地下フロア構造）'!$D$21<>\"\",'ステップ2（地下フロア構造）'!$C$21,\"\")","v":""},{"$f":"IF('ステップ2（地下フロア構造）'!$D$22<>\"\",'ステップ2（地下フロア構造）'!$C$22,\"\")","v":""},{"$f":"IF('ステップ2（地下フロア構造）'!$D$23<>\"\",'ステップ2（地下フロア構造）'!$C$23,\"\")","v":""},{"$f":"IF('ステップ2（地下フロア構造）'!$D$24<>\"\",'ステップ2（地下フロア構造）'!$C$24,\"\")","v":""},{"$f":"IF('ステップ2（地下フロア構造）'!$D$25<>\"\",'ステップ2（地下フロア構造）'!$C$25,\"\")","v":""},{"$f":"IF('ステップ2（地下フロア構造）'!$D$26<>\"\",'ステップ2（地下フロア構造）'!$C$26,\"\")","v":""},{"$f":"IF('ステップ2（地下フロア構造）'!$D$27<>\"\",'ステップ2（地下フロア構造）'!$C$27,\"\")","v":""},{"$f":"IF('ステップ2（地下フロア構造）'!$D$28<>\"\",'ステップ2（地下フロア構造）'!$C$28,\"\")","v":""},{"$f":"IF('ステップ2（地下フロア構造）'!$D$29<>\"\",'ステップ2（地下フロア構造）'!$C$29,\"\")","v":""},{"$f":"IF('ステップ2（地下フロア構造）'!$D$30<>\"\",'ステップ2（地下フロア構造）'!$C$30,\"\")","v":""},{"$f":"IF('ステップ2（地下フロア構造）'!$D$31<>\"\",'ステップ2（地下フロア構造）'!$C$31,\"\")","v":""},{"$f":"IF('ステップ2（地下フロア構造）'!$D$32<>\"\",'ステップ2（地下フロア構造）'!$C$32,\"\")","v":""},{"$f":"IF('ステップ2（地下フロア構造）'!$D$33<>\"\",'ステップ2（地下フロア構造）'!$C$33,\"\")","v":""},{"$f":"IF('ステップ2（地下フロア構造）'!$D$34<>\"\",'ステップ2（地下フロア構造）'!$C$34,\"\")","v":""},{"$f":"IF('ステップ2（地下フロア構造）'!$D$35<>\"\",'ステップ2（地下フロア構造）'!$C$35,\"\")","v":""},{"$f":"IF('ステップ2（地下フロア構造）'!$D$36<>\"\",'ステップ2（地下フロア構造）'!$C$36,\"\")","v":""},{"$f":"IF('ステップ2（地下フロア構造）'!$D$37<>\"\",'ステップ2（地下フロア構造）'!$C$37,\"\")","v":""},{"$f":"IF('ステップ2（地下フロア構造）'!$D$38<>\"\",'ステップ2（地下フロア構造）'!$C$38,\"\")","v":""},{"$f":"IF('ステップ2（地下フロア構造）'!$D$39<>\"\",'ステップ2（地下フロア構造）'!$C$39,\"\")","v":""}]
[null,null,"区画・部屋番号",null,"自動入力",{"$f":"IF('ステップ2（地下フロア構造）'!$D$20<>\"\",'ステップ2（地下フロア構造）'!$D$20,\"\")","v":""},{"$f":"IF('ステップ2（地下フロア構造）'!$D$21<>\"\",'ステップ2（地下フロア構造）'!$D$21,\"\")","v":""},{"$f":"IF('ステップ2（地下フロア構造）'!$D$22<>\"\",'ステップ2（地下フロア構造）'!$D$22,\"\")","v":""},{"$f":"IF('ステップ2（地下フロア構造）'!$D$23<>\"\",'ステップ2（地下フロア構造）'!$D$23,\"\")","v":""},{"$f":"IF('ステップ2（地下フロア構造）'!$D$24<>\"\",'ステップ2（地下フロア構造）'!$D$24,\"\")","v":""},{"$f":"IF('ステップ2（地下フロア構造）'!$D$25<>\"\",'ステップ2（地下フロア構造）'!$D$25,\"\")","v":""},{"$f":"IF('ステップ2（地下フロア構造）'!$D$26<>\"\",'ステップ2（地下フロア構造）'!$D$26,\"\")","v":""},{"$f":"IF('ステップ2（地下フロア構造）'!$D$27<>\"\",'ステップ2（地下フロア構造）'!$D$27,\"\")","v":""},{"$f":"IF('ステップ2（地下フロア構造）'!$D$28<>\"\",'ステップ2（地下フロア構造）'!$D$28,\"\")","v":""},{"$f":"IF('ステップ2（地下フロア構造）'!$D$29<>\"\",'ステップ2（地下フロア構造）'!$D$29,\"\")","v":""},{"$f":"IF('ステップ2（地下フロア構造）'!$D$30<>\"\",'ステップ2（地下フロア構造）'!$D$30,\"\")","v":""},{"$f":"IF('ステップ2（地下フロア構造）'!$D$31<>\"\",'ステップ2（地下フロア構造）'!$D$31,\"\")","v":""},{"$f":"IF('ステップ2（地下フロア構造）'!$D$32<>\"\",'ステップ2（地下フロア構造）'!$D$32,\"\")","v":""},{"$f":"IF('ステップ2（地下フロア構造）'!$D$33<>\"\",'ステップ2（地下フロア構造）'!$D$33,\"\")","v":""},{"$f":"IF('ステップ2（地下フロア構造）'!$D$34<>\"\",'ステップ2（地下フロア構造）'!$D$34,\"\")","v":""},{"$f":"IF('ステップ2（地下フロア構造）'!$D$35<>\"\",'ステップ2（地下フロア構造）'!$D$35,\"\")","v":""},{"$f":"IF('ステップ2（地下フロア構造）'!$D$36<>\"\",'ステップ2（地下フロア構造）'!$D$36,\"\")","v":""},{"$f":"IF('ステップ2（地下フロア構造）'!$D$37<>\"\",'ステップ2（地下フロア構造）'!$D$37,\"\")","v":""},{"$f":"IF('ステップ2（地下フロア構造）'!$D$38<>\"\",'ステップ2（地下フロア構造）'!$D$38,\"\")","v":""},{"$f":"IF('ステップ2（地下フロア構造）'!$D$39<>\"\",'ステップ2（地下フロア構造）'!$D$39,\"\")","v":""}]
["t4：地下フロア出口の通過時間（滞留時間）",null,"区画・部屋名称",null,"自動入力",{"$f":"IF('ステップ2（地下フロア構造）'!$F$20<>\"\",'ステップ2（地下フロア構造）'!$F$20,\"\")","v":""},{"$f":"IF('ステップ2（地下フロア構造）'!$F$21<>\"\",'ステップ2（地下フロア構造）'!$F$21,\"\")","v":""},{"$f":"IF('ステップ2（地下フロア構造）'!$F$22<>\"\",'ステップ2（地下フロア構造）'!$F$22,\"\")","v":""},{"$f":"IF('ステップ2（地下フロア構造）'!$F$23<>\"\",'ステップ2（地下フロア構造）'!$F$23,\"\")","v":""},{"$f":"IF('ステップ2（地下フロア構造）'!$F$24<>\"\",'ステップ2（地下フロア構造）'!$F$24,\"\")","v":""},{"$f":"IF('ステップ2（地下フロア構造）'!$F$25<>\"\",'ステップ2（地下フロア構造）'!$F$25,\"\")","v":""},{"$f":"IF('ステップ2（地下フロア構造）'!$F$26<>\"\",'ステップ2（地下フロア構造）'!$F$26,\"\")","v":""},{"$f":"IF('ステップ2（地下フロア構造）'!$F$27<>\"\",'ステップ2（地下フロア構造）'!$F$27,\"\")","v":""},{"$f":"IF('ステップ2（地下フロア構造）'!$F$28<>\"\",'ステップ2（地下フロア構造）'!$F$28,\"\")","v":""},{"$f":"IF('ステップ2（地下フロア構造）'!$F$29<>\"\",'ステップ2（地下フロア構造）'!$F$29,\"\")","v":""},{"$f":"IF('ステップ2（地下フロア構造）'!$F$30<>\"\",'ステップ2（地下フロア構造）'!$F$30,\"\")","v":""},{"$f":"IF('ステップ2（地下フロア構造）'!$F$31<>\"\",'ステップ2（地下フロア構造）'!$F$31,\"\")","v":""},{"$f":"IF('ステップ2（地下フロア構造）'!$F$32<>\"\",'ステップ2（地下フロア構造）'!$F$32,\"\")","v":""},{"$f":"IF('ステップ2（地下フロア構造）'!$F$33<>\"\",'ステップ2（地下フロア構造）'!$F$33,\"\")","v":""},{"$f":"IF('ステップ2（地下フロア構造）'!$F$34<>\"\",'ステップ2（地下フロア構造）'!$F$34,\"\")","v":""},{"$f":"IF('ステップ2（地下フロア構造）'!$F$35<>\"\",'ステップ2（地下フロア構造）'!$F$35,\"\")","v":""},{"$f":"IF('ステップ2（地下フロア構造）'!$F$36<>\"\",'ステップ2（地下フロア構造）'!$F$36,\"\")","v":""},{"$f":"IF('ステップ2（地下フロア構造）'!$F$37<>\"\",'ステップ2（地下フロア構造）'!$F$37,\"\")","v":""},{"$f":"IF('ステップ2（地下フロア構造）'!$F$38<>\"\",'ステップ2（地下フロア構造）'!$F$38,\"\")","v":""},{"$f":"IF('ステップ2（地下フロア構造）'!$F$39<>\"\",'ステップ2（地下フロア構造）'!$F$39,\"\")","v":""}]
["　（(a)と(b)の合計）",null,"全体床面積(m2)",null,"自動入力",{"$f":"IF('ステップ2（地下フロア構造）'!$D$20<>\"\",'ステップ2（地下フロア構造）'!$M$20,\"\")","v":""},{"$f":"IF('ステップ2（地下フロア構造）'!$D$21<>\"\",'ステップ2（地下フロア構造）'!$M$21,\"\")","v":""},{"$f":"IF('ステップ2（地下フロア構造）'!$D$22<>\"\",'ステップ2（地下フロア構造）'!$M$22,\"\")","v":""},{"$f":"IF('ステップ2（地下フロア構造）'!$D$23<>\"\",'ステップ2（地下フロア構造）'!$M$23,\"\")","v":""},{"$f":"IF('ステップ2（地下フロア構造）'!$D$24<>\"\",'ステップ2（地下フロア構造）'!$M$24,\"\")","v":""},{"$f":"IF('ステップ2（地下フロア構造）'!$D$25<>\"\",'ステップ2（地下フロア構造）'!$M$25,\"\")","v":""},{"$f":"IF('ステップ2（地下フロア構造）'!$D$26<>\"\",'ステップ2（地下フロア構造）'!$M$26,\"\")","v":""},{"$f":"IF('ステップ2（地下フロア構造）'!$D$27<>\"\",'ステップ2（地下フロア構造）'!$M$27,\"\")","v":""},{"$f":"IF('ステップ2（地下フロア構造）'!$D$28<>\"\",'ステップ2（地下フロア構造）'!$M$28,\"\")","v":""},{"$f":"IF('ステップ2（地下フロア構造）'!$D$29<>\"\",'ステップ2（地下フロア構造）'!$M$29,\"\")","v":""},{"$f":"IF('ステップ2（地下フロア構造）'!$D$30<>\"\",'ステップ2（地下フロア構造）'!$M$30,\"\")","v":""},{"$f":"IF('ステップ2（地下フロア構造）'!$D$31<>\"\",'ステップ2（地下フロア構造）'!$M$31,\"\")","v":""},{"$f":"IF('ステップ2（地下フロア構造）'!$D$32<>\"\",'ステップ2（地下フロア構造）'!$M$32,\"\")","v":""},{"$f":"IF('ステップ2（地下フロア構造）'!$D$33<>\"\",'ステップ2（地下フロア構造）'!$M$33,\"\")","v":""},{"$f":"IF('ステップ2（地下フロア構造）'!$D$34<>\"\",'ステップ2（地下フロア構造）'!$M$34,\"\")","v":""},{"$f":"IF('ステップ2（地下フロア構造）'!$D$35<>\"\",'ステップ2（地下フロア構造）'!$M$35,\"\")","v":""},{"$f":"IF('ステップ2（地下フロア構造）'!$D$36<>\"\",'ステップ2（地下フロア構造）'!$M$36,\"\")","v":""},{"$f":"IF('ステップ2（地下フロア構造）'!$D$37<>\"\",'ステップ2（地下フロア構造）'!$M$37,\"\")","v":""},{"$f":"IF('ステップ2（地下フロア構造）'!$D$38<>\"\",'ステップ2（地下フロア構造）'!$M$38,\"\")","v":""},{"$f":"IF('ステップ2（地下フロア構造）'!$D$39<>\"\",'ステップ2（地下フロア構造）'!$M$39,\"\")","v":""}]
[null,null,"L1:歩行距離(m)",null,"必須入力"]
["　(a) 上階へ昇るときの階段下での滞留時間",null,"α:浸水時歩行速度\n割引係数",null,"自動入力",0.56999999999999995,0.56999999999999995,0.56999999999999995,0.56999999999999995,0.56999999999999995,0.56999999999999995,0.56999999999999995,0.56999999999999995,0.56999999999999995,0.56999999999999995,0.56999999999999995,0.56999999999999995,0.56999999999999995,0.56999999999999995,0.56999999999999995,0.56999999999999995,0.56999999999999995,0.56999999999999995,0.56999999999999995,0.56999999999999995]
["　　※区画・部屋にいる利用者数と避難時に使用できる\n　　　全階段の合計幅を入力します。\n　　※利用者数は、最大となる時間帯の利用者数を入力\n　　　します。",null,"v1:平坦地の\n歩行速度(m/分)\n＜標準は60m/分＞",null,"必須入力\n任意変更可",60,60,60,60,60,60,60,60,60,60,60,60,60,60,60,60,60,60,60,60]
[null,null,"移動時間(分)",null,"算定結果",{"$f":"IF(F$19<>\"\",ROUNDUP(F22/(F23*F24),1),0)","v":0},{"$f":"IF(G$19<>\"\",ROUNDUP(G22/(G23*G24),1),0)","v":0},0,0,0,0,0,0,0,0,0,0,0,0,0,0,0,0,0,0]
["　(b) 居室部にドア等の出口がある場合の\n　　　通過時間"]
[]
["　　※必要に応じて算定します。\n　　※居室部にいる利用者数と出口の合計幅を入力\n　　　します。\n　　※複数ある場合は、最大通過時間を採用します。",null,"t4：地下フロア出口の通過時間（滞留時間）：",null,null,null,null,null,null,null,null,null,null,null,null,null,null,null,null,null,null,null,null,null,null,null,"t4：地下フロア出口の通過時間（滞留時間）"]
[null,null,null,null,null,null,null,null,null,null,null,null,null,null,null,null,null,null,null,null,null,null,null,null,null,null,"避難者が地下フロアからの出口を通過するために要する時間（滞留時間）を算定します。\nこの時間は、以下の(a)と(b)の合計となります。\n(a) 上階へ昇るときの階段下での通過時間\n(b) 居室部にドア等の出口がある場合の通過時間（必要に応じて算定）\n　　（居室部が複数ある場合は、最大出口通過時間を採用する。）"]
[null,null,"　(a) 上階へ昇るときの階段下の通過時間（滞留時間）"]
[null,null,"　　　※利用者数が最大となる時間帯の「利用者数」を入力します。"]
["t5：階段等を昇って上階に移動するまでの移動時間",null,"　　　※避難時に使用できる「階段の合計幅」を入力します。"]
[null,null,"　　　　　　フロア\n区画・部屋",null,"自動入力",{"$f":"IF('ステップ2（地下フロア構造）'!$C$20<>\"\",'ステップ2（地下フロア構造）'!$C$20,\"\")","v":""},{"$f":"IF('ステップ2（地下フロア構造）'!$C$21<>\"\",'ステップ2（地下フロア構造）'!$C$21,\"\")","v":""},{"$f":"IF('ステップ2（地下フロア構造）'!$C$22<>\"\",'ステップ2（地下フロア構造）'!$C$22,\"\")","v":""},{"$f":"IF('ステップ2（地下フロア構造）'!$C$23<>\"\",'ステップ2（地下フロア構造）'!$C$23,\"\")","v":""},{"$f":"IF('ステップ2（地下フロア構造）'!$C$24<>\"\",'ステップ2（地下フロア構造）'!$C$24,\"\")","v":""},{"$f":"IF('ステップ2（地下フロア構造）'!$C$25<>\"\",'ステップ2（地下フロア構造）'!$C$25,\"\")","v":""},{"$f":"IF('ステップ2（地下フロア構造）'!$C$26<>\"\",'ステップ2（地下フロア構造）'!$C$26,\"\")","v":""},{"$f":"IF('ステップ2（地下フロア構造）'!$C$27<>\"\",'ステップ2（地下フロア構造）'!$C$27,\"\")","v":""},{"$f":"IF('ステップ2（地下フロア構造）'!$C$28<>\"\",'ステップ2（地下フロア構造）'!$C$28,\"\")","v":""},{"$f":"IF('ステップ2（地下フロア構造）'!$C$29<>\"\",'ステップ2（地下フロア構造）'!$C$29,\"\")","v":""},{"$f":"IF('ステップ2（地下フロア構造）'!$C$30<>\"\",'ステップ2（地下フロア構造）'!$C$30,\"\")","v":""},{"$f":"IF('ステップ2（地下フロア構造）'!$C$31<>\"\",'ステップ2（地下フロア構造）'!$C$31,\"\")","v":""},{"$f":"IF('ステップ2（地下フロア構造）'!$C$32<>\"\",'ステップ2（地下フロア構造）'!$C$32,\"\")","v":""},{"$f":"IF('ステップ2（地下フロア構造）'!$C$33<>\"\",'ステップ2（地下フロア構造）'!$C$33,\"\")","v":""},{"$f":"IF('ステップ2（地下フロア構造）'!$C$34<>\"\",'ステップ2（地下フロア構造）'!$C$34,\"\")","v":""},{"$f":"IF('ステップ2（地下フロア構造）'!$C$35<>\"\",'ステップ2（地下フロア構造）'!$C$35,\"\")","v":""},{"$f":"IF('ステップ2（地下フロア構造）'!$C$36<>\"\",'ステップ2（地下フロア構造）'!$C$36,\"\")","v":""},{"$f":"IF('ステップ2（地下フロア構造）'!$C$37<>\"\",'ステップ2（地下フロア構造）'!$C$37,\"\")","v":""},{"$f":"IF('ステップ2（地下フロア構造）'!$C$38<>\"\",'ステップ2（地下フロア構造）'!$C$38,\"\")","v":""},{"$f":"IF('ステップ2（地下フロア構造）'!$C$39<>\"\",'ステップ2（地下フロア構造）'!$C$39,\"\")","v":""}]
[null,null,"番　号",null,"自動入力",{"$f":"IF('ステップ2（地下フロア構造）'!$D$20<>\"\",'ステップ2（地下フロア構造）'!$D$20,\"\")","v":""},{"$f":"IF('ステップ2（地下フロア構造）'!$D$21<>\"\",'ステップ2（地下フロア構造）'!$D$21,\"\")","v":""},{"$f":"IF('ステップ2（地下フロア構造）'!$D$22<>\"\",'ステップ2（地下フロア構造）'!$D$22,\"\")","v":""},{"$f":"IF('ステップ2（地下フロア構造）'!$D$23<>\"\",'ステップ2（地下フロア構造）'!$D$23,\"\")","v":""},{"$f":"IF('ステップ2（地下フロア構造）'!$D$24<>\"\",'ステップ2（地下フロア構造）'!$D$24,\"\")","v":""},{"$f":"IF('ステップ2（地下フロア構造）'!$D$25<>\"\",'ステップ2（地下フロア構造）'!$D$25,\"\")","v":""},{"$f":"IF('ステップ2（地下フロア構造）'!$D$26<>\"\",'ステップ2（地下フロア構造）'!$D$26,\"\")","v":""},{"$f":"IF('ステップ2（地下フロア構造）'!$D$27<>\"\",'ステップ2（地下フロア構造）'!$D$27,\"\")","v":""},{"$f":"IF('ステップ2（地下フロア構造）'!$D$28<>\"\",'ステップ2（地下フロア構造）'!$D$28,\"\")","v":""},{"$f":"IF('ステップ2（地下フロア構造）'!$D$29<>\"\",'ステップ2（地下フロア構造）'!$D$29,\"\")","v":""},{"$f":"IF('ステップ2（地下フロア構造）'!$D$30<>\"\",'ステップ2（地下フロア構造）'!$D$30,\"\")","v":""},{"$f":"IF('ステップ2（地下フロア構造）'!$D$31<>\"\",'ステップ2（地下フロア構造）'!$D$31,\"\")","v":""},{"$f":"IF('ステップ2（地下フロア構造）'!$D$32<>\"\",'ステップ2（地下フロア構造）'!$D$32,\"\")","v":""},{"$f":"IF('ステップ2（地下フロア構造）'!$D$33<>\"\",'ステップ2（地下フロア構造）'!$D$33,\"\")","v":""},{"$f":"IF('ステップ2（地下フロア構造）'!$D$34<>\"\",'ステップ2（地下フロア構造）'!$D$34,\"\")","v":""},{"$f":"IF('ステップ2（地下フロア構造）'!$D$35<>\"\",'ステップ2（地下フロア構造）'!$D$35,\"\")","v":""},{"$f":"IF('ステップ2（地下フロア構造）'!$D$36<>\"\",'ステップ2（地下フロア構造）'!$D$36,\"\")","v":""},{"$f":"IF('ステップ2（地下フロア構造）'!$D$37<>\"\",'ステップ2（地下フロア構造）'!$D$37,\"\")","v":""},{"$f":"IF('ステップ2（地下フロア構造）'!$D$38<>\"\",'ステップ2（地下フロア構造）'!$D$38,\"\")","v":""},{"$f":"IF('ステップ2（地下フロア構造）'!$D$39<>\"\",'ステップ2（地下フロア構造）'!$D$39,\"\")","v":""},null,"■フロア平面図"]
["②「ステップ９」へ進みます。",null,"名　称",null,"自動入力",{"$f":"IF('ステップ2（地下フロア構造）'!$F$20<>\"\",'ステップ2（地下フロア構造）'!$F$20,\"\")","v":""},{"$f":"IF('ステップ2（地下フロア構造）'!$F$21<>\"\",'ステップ2（地下フロア構造）'!$F$21,\"\")","v":""},{"$f":"IF('ステップ2（地下フロア構造）'!$F$22<>\"\",'ステップ2（地下フロア構造）'!$F$22,\"\")","v":""},{"$f":"IF('ステップ2（地下フロア構造）'!$F$23<>\"\",'ステップ2（地下フロア構造）'!$F$23,\"\")","v":""},{"$f":"IF('ステップ2（地下フロア構造）'!$F$24<>\"\",'ステップ2（地下フロア構造）'!$F$24,\"\")","v":""},{"$f":"IF('ステップ2（地下フロア構造）'!$F$25<>\"\",'ステップ2（地下フロア構造）'!$F$25,\"\")","v":""},{"$f":"IF('ステップ2（地下フロア構造）'!$F$26<>\"\",'ステップ2（地下フロア構造）'!$F$26,\"\")","v":""},{"$f":"IF('ステップ2（地下フロア構造）'!$F$27<>\"\",'ステップ2（地下フロア構造）'!$F$27,\"\")","v":""},{"$f":"IF('ステップ2（地下フロア構造）'!$F$28<>\"\",'ステップ2（地下フロア構造）'!$F$28,\"\")","v":""},{"$f":"IF('ステップ2（地下フロア構造）'!$F$29<>\"\",'ステップ2（地下フロア構造）'!$F$29,\"\")","v":""},{"$f":"IF('ステップ2（地下フロア構造）'!$F$30<>\"\",'ステップ2（地下フロア構造）'!$F$30,\"\")","v":""},{"$f":"IF('ステップ2（地下フロア構造）'!$F$31<>\"\",'ステップ2（地下フロア構造）'!$F$31,\"\")","v":""},{"$f":"IF('ステップ2（地下フロア構造）'!$F$32<>\"\",'ステップ2（地下フロア構造）'!$F$32,\"\")","v":""},{"$f":"IF('ステップ2（地下フロア構造）'!$F$33<>\"\",'ステップ2（地下フロア構造）'!$F$33,\"\")","v":""},{"$f":"IF('ステップ2（地下フロア構造）'!$F$34<>\"\",'ステップ2（地下フロア構造）'!$F$34,\"\")","v":""},{"$f":"IF('ステップ2（地下フロア構造）'!$F$35<>\"\",'ステップ2（地下フロア構造）'!$F$35,\"\")","v":""},{"$f":"IF('ステップ2（地下フロア構造）'!$F$36<>\"\",'ステップ2（地下フロア構造）'!$F$36,\"\")","v":""},{"$f":"IF('ステップ2（地下フロア構造）'!$F$37<>\"\",'ステップ2（地下フロア構造）'!$F$37,\"\")","v":""},{"$f":"IF('ステップ2（地下フロア構造）'!$F$38<>\"\",'ステップ2（地下フロア構造）'!$F$38,\"\")","v":""},{"$f":"IF('ステップ2（地下フロア構造）'!$F$39<>\"\",'ステップ2（地下フロア構造）'!$F$39,\"\")","v":""}]
[null,"採用値","PA:利用者数(人)",null,"必須入力"]
[null,null,"N:有効流動係数",null,"自動入力",90,90,90,90,90,90,90,90,90,90,90,90,90,90,90,90,90,90,90,90]
[null,null,"B:階段の合計幅(m)",null,"必須入力"]
[null,null,"通過時間(分)",null,"算定結果",{"$f":"IF(ISERROR(IF(F$34<>\"\",F36/(F37*F38),0)),0,IF(F$34<>\"\",ROUNDUP(F36/(F37*F38),1),0))","v":0},{"$f":"IF(ISERROR(IF(G$34<>\"\",G36/(G37*G38),0)),0,IF(G$34<>\"\",ROUNDUP(G36/(G37*G38),1),0))","v":0},0,0,0,0,0,0,0,0,0,0,0,0,0,0,0,0,0,0]
[null,null,"　　　※（参考値）は、「火災時の避難安全検証法」に準じた算定法で、利用者数が不明の場合等に目安にできます。（右の「解説」を参照。）　\n　　　※（参考値）では、区画・部屋の種類で在館者密度が決まり、これに全体床面積を掛けて利用者数を算定します。"]
[null,"（参考値）","種　類",null,"要選択"]
[null,null,"P:在館者密度(人/m2)",null,"自動入力",{"$f":"IF(F$41=\"\",\"\",VLOOKUP(F$41,リスト!$G$4:$H$18,2,FALSE))","v":""},{"$f":"IF(G$41=\"\",\"\",VLOOKUP(G$41,リスト!$G$4:$H$18,2,FALSE))","v":""},{"$f":"IF(H$41=\"\",\"\",VLOOKUP(H$41,リスト!$G$4:$H$18,2,FALSE))","v":""},{"$f":"IF(I$41=\"\",\"\",VLOOKUP(I$41,リスト!$G$4:$H$18,2,FALSE))","v":""},{"$f":"IF(J$41=\"\",\"\",VLOOKUP(J$41,リスト!$G$4:$H$18,2,FALSE))","v":""},{"$f":"IF(K$41=\"\",\"\",VLOOKUP(K$41,リスト!$G$4:$H$18,2,FALSE))","v":""},{"$f":"IF(L$41=\"\",\"\",VLOOKUP(L$41,リスト!$G$4:$H$18,2,FALSE))","v":""},{"$f":"IF(M$41=\"\",\"\",VLOOKUP(M$41,リスト!$G$4:$H$18,2,FALSE))","v":""},{"$f":"IF(N$41=\"\",\"\",VLOOKUP(N$41,リスト!$G$4:$H$18,2,FALSE))","v":""},{"$f":"IF(O$41=\"\",\"\",VLOOKUP(O$41,リスト!$G$4:$H$18,2,FALSE))","v":""},{"$f":"IF(P$41=\"\",\"\",VLOOKUP(P$41,リスト!$G$4:$H$18,2,FALSE))","v":""},{"$f":"IF(Q$41=\"\",\"\",VLOOKUP(Q$41,リスト!$G$4:$H$18,2,FALSE))","v":""},{"$f":"IF(R$41=\"\",\"\",VLOOKUP(R$41,リスト!$G$4:$H$18,2,FALSE))","v":""},{"$f":"IF(S$41=\"\",\"\",VLOOKUP(S$41,リスト!$G$4:$H$18,2,FALSE))","v":""},{"$f":"IF(T$41=\"\",\"\",VLOOKUP(T$41,リスト!$G$4:$H$18,2,FALSE))","v":""},{"$f":"IF(U$41=\"\",\"\",VLOOKUP(U$41,リスト!$G$4:$H$18,2,FALSE))","v":""},{"$f":"IF(V$41=\"\",\"\",VLOOKUP(V$41,リスト!$G$4:$H$18,2,FALSE))","v":""},{"$f":"IF(W$41=\"\",\"\",VLOOKUP(W$41,リスト!$G$4:$H$18,2,FALSE))","v":""},{"$f":"IF(X$41=\"\",\"\",VLOOKUP(X$41,リスト!$G$4:$H$18,2,FALSE))","v":""},{"$f":"IF(Y$41=\"\",\"\",VLOOKUP(Y$41,リスト!$G$4:$H$18,2,FALSE))","v":""}]
[null,null,"A:全体床面積(m2)",null,"自動入力",4000,{"$f":"IF('ステップ2（地下フロア構造）'!$D$21<>\"\",'ステップ2（地下フロア構造）'!$M$21,\"\")","v":""},{"$f":"IF('ステップ2（地下フロア構造）'!$D$22<>\"\",'ステップ2（地下フロア構造）'!$M$22,\"\")","v":""},{"$f":"IF('ステップ2（地下フロア構造）'!$D$23<>\"\",'ステップ2（地下フロア構造）'!$M$23,\"\")","v":""},{"$f":"IF('ステップ2（地下フロア構造）'!$D$24<>\"\",'ステップ2（地下フロア構造）'!$M$24,\"\")","v":""},{"$f":"IF('ステップ2（地下フロア構造）'!$D$25<>\"\",'ステップ2（地下フロア構造）'!$M$25,\"\")","v":""},{"$f":"IF('ステップ2（地下フロア構造）'!$D$26<>\"\",'ステップ2（地下フロア構造）'!$M$26,\"\")","v":""},{"$f":"IF('ステップ2（地下フロア構造）'!$D$27<>\"\",'ステップ2（地下フロア構造）'!$M$27,\"\")","v":""},{"$f":"IF('ステップ2（地下フロア構造）'!$D$28<>\"\",'ステップ2（地下フロア構造）'!$M$28,\"\")","v":""},{"$f":"IF('ステップ2（地下フロア構造）'!$D$29<>\"\",'ステップ2（地下フロア構造）'!$M$29,\"\")","v":""},{"$f":"IF('ステップ2（地下フロア構造）'!$D$30<>\"\",'ステップ2（地下フロア構造）'!$M$30,\"\")","v":""},{"$f":"IF('ステップ2（地下フロア構造）'!$D$31<>\"\",'ステップ2（地下フロア構造）'!$M$31,\"\")","v":""},{"$f":"IF('ステップ2（地下フロア構造）'!$D$32<>\"\",'ステップ2（地下フロア構造）'!$M$32,\"\")","v":""},{"$f":"IF('ステップ2（地下フロア構造）'!$D$33<>\"\",'ステップ2（地下フロア構造）'!$M$33,\"\")","v":""},{"$f":"IF('ステップ2（地下フロア構造）'!$D$34<>\"\",'ステップ2（地下フロア構造）'!$M$34,\"\")","v":""},{"$f":"IF('ステップ2（地下フロア構造）'!$D$35<>\"\",'ステップ2（地下フロア構造）'!$M$35,\"\")","v":""},{"$f":"IF('ステップ2（地下フロア構造）'!$D$36<>\"\",'ステップ2（地下フロア構造）'!$M$36,\"\")","v":""},{"$f":"IF('ステップ2（地下フロア構造）'!$D$37<>\"\",'ステップ2（地下フロア構造）'!$M$37,\"\")","v":""},{"$f":"IF('ステップ2（地下フロア構造）'!$D$38<>\"\",'ステップ2（地下フロア構造）'!$M$38,\"\")","v":""},{"$f":"IF('ステップ2（地下フロア構造）'!$D$39<>\"\",'ステップ2（地下フロア構造）'!$M$39,\"\")","v":""}]
[null,null,"利用者数(人)(P*A)",null,"自動入力",{"$f":"IF(F$41=\"\",\"\",ROUNDUP(F42*F43,0))","v":""},{"$f":"IF(G$41=\"\",\"\",ROUNDUP(G42*G43,0))","v":""},"","","","","","","","","","","","","","","","","",""]
[null,null,"通過時間(分)",null,"算定結果",{"$f":"IF(ISERROR(IF(F$34<>\"\",(F42*F43)/(F37*F38),0)),0,IF(F$34<>\"\",ROUNDUP((F42*F43)/(F37*F38),1),0))","v":0},0,0,0,0,0,0,0,0,0,0,0,0,0,0,0,0,0,0,0]
[]
[null,null,"　(b) 居室部にドア等の出口がある場合の通過時間（滞留時間）（必要に応じて算定）"]
[null,null,"　　　※１つの区画・部屋につき、最大３つの居室部の出口通過時間が計算でき、その３つのうちの最大値を採用します。\n　　　※利用者数が最大となる時間帯の「利用者数」を入力します。居室の「出口の合計幅」を入力します。\n　　　※（参考値）は、「火災時の避難安全検証法」に準じた算定法で、利用者数が不明の場合等に目安にできます。（右の「解説」を参照。）　\n　　　※（参考値）では、区画・部屋の種類で在館者密度が決まり、これに全体床面積を掛けて利用者数を算定します。"]
[]
[]
[null,null,"フロア",null,"自動入力",{"$f":"IF('ステップ2（地下フロア構造）'!$C$20<>\"\",'ステップ2（地下フロア構造）'!$C$20,\"\")","v":""},{"$f":"IF('ステップ2（地下フロア構造）'!$C$21<>\"\",'ステップ2（地下フロア構造）'!$C$21,\"\")","v":""},{"$f":"IF('ステップ2（地下フロア構造）'!$C$22<>\"\",'ステップ2（地下フロア構造）'!$C$22,\"\")","v":""},{"$f":"IF('ステップ2（地下フロア構造）'!$C$23<>\"\",'ステップ2（地下フロア構造）'!$C$23,\"\")","v":""},{"$f":"IF('ステップ2（地下フロア構造）'!$C$24<>\"\",'ステップ2（地下フロア構造）'!$C$24,\"\")","v":""},{"$f":"IF('ステップ2（地下フロア構造）'!$C$25<>\"\",'ステップ2（地下フロア構造）'!$C$25,\"\")","v":""},{"$f":"IF('ステップ2（地下フロア構造）'!$C$26<>\"\",'ステップ2（地下フロア構造）'!$C$26,\"\")","v":""},{"$f":"IF('ステップ2（地下フロア構造）'!$C$27<>\"\",'ステップ2（地下フロア構造）'!$C$27,\"\")","v":""},{"$f":"IF('ステップ2（地下フロア構造）'!$C$28<>\"\",'ステップ2（地下フロア構造）'!$C$28,\"\")","v":""},{"$f":"IF('ステップ2（地下フロア構造）'!$C$29<>\"\",'ステップ2（地下フロア構造）'!$C$29,\"\")","v":""},{"$f":"IF('ステップ2（地下フロア構造）'!$C$30<>\"\",'ステップ2（地下フロア構造）'!$C$30,\"\")","v":""},{"$f":"IF('ステップ2（地下フロア構造）'!$C$31<>\"\",'ステップ2（地下フロア構造）'!$C$31,\"\")","v":""},{"$f":"IF('ステップ2（地下フロア構造）'!$C$32<>\"\",'ステップ2（地下フロア構造）'!$C$32,\"\")","v":""},{"$f":"IF('ステップ2（地下フロア構造）'!$C$33<>\"\",'ステップ2（地下フロア構造）'!$C$33,\"\")","v":""},{"$f":"IF('ステップ2（地下フロア構造）'!$C$34<>\"\",'ステップ2（地下フロア構造）'!$C$34,\"\")","v":""},{"$f":"IF('ステップ2（地下フロア構造）'!$C$35<>\"\",'ステップ2（地下フロア構造）'!$C$35,\"\")","v":""},{"$f":"IF('ステップ2（地下フロア構造）'!$C$36<>\"\",'ステップ2（地下フロア構造）'!$C$36,\"\")","v":""},{"$f":"IF('ステップ2（地下フロア構造）'!$C$37<>\"\",'ステップ2（地下フロア構造）'!$C$37,\"\")","v":""},{"$f":"IF('ステップ2（地下フロア構造）'!$C$38<>\"\",'ステップ2（地下フロア構造）'!$C$38,\"\")","v":""},{"$f":"IF('ステップ2（地下フロア構造）'!$C$39<>\"\",'ステップ2（地下フロア構造）'!$C$39,\"\")","v":""}]
[null,"　","　　　　　区画・部屋番号\n居室部",null,"自動入力",{"$f":"IF('ステップ2（地下フロア構造）'!$D$20<>\"\",'ステップ2（地下フロア構造）'!$D$20,\"\")","v":""},{"$f":"IF('ステップ2（地下フロア構造）'!$D$21<>\"\",'ステップ2（地下フロア構造）'!$D$21,\"\")","v":""},{"$f":"IF('ステップ2（地下フロア構造）'!$D$22<>\"\",'ステップ2（地下フロア構造）'!$D$22,\"\")","v":""},{"$f":"IF('ステップ2（地下フロア構造）'!$D$23<>\"\",'ステップ2（地下フロア構造）'!$D$23,\"\")","v":""},{"$f":"IF('ステップ2（地下フロア構造）'!$D$24<>\"\",'ステップ2（地下フロア構造）'!$D$24,\"\")","v":""},{"$f":"IF('ステップ2（地下フロア構造）'!$D$25<>\"\",'ステップ2（地下フロア構造）'!$D$25,\"\")","v":""},{"$f":"IF('ステップ2（地下フロア構造）'!$D$26<>\"\",'ステップ2（地下フロア構造）'!$D$26,\"\")","v":""},{"$f":"IF('ステップ2（地下フロア構造）'!$D$27<>\"\",'ステップ2（地下フロア構造）'!$D$27,\"\")","v":""},{"$f":"IF('ステップ2（地下フロア構造）'!$D$28<>\"\",'ステップ2（地下フロア構造）'!$D$28,\"\")","v":""},{"$f":"IF('ステップ2（地下フロア構造）'!$D$29<>\"\",'ステップ2（地下フロア構造）'!$D$29,\"\")","v":""},{"$f":"IF('ステップ2（地下フロア構造）'!$D$30<>\"\",'ステップ2（地下フロア構造）'!$D$30,\"\")","v":""},{"$f":"IF('ステップ2（地下フロア構造）'!$D$31<>\"\",'ステップ2（地下フロア構造）'!$D$31,\"\")","v":""},{"$f":"IF('ステップ2（地下フロア構造）'!$D$32<>\"\",'ステップ2（地下フロア構造）'!$D$32,\"\")","v":""},{"$f":"IF('ステップ2（地下フロア構造）'!$D$33<>\"\",'ステップ2（地下フロア構造）'!$D$33,\"\")","v":""},{"$f":"IF('ステップ2（地下フロア構造）'!$D$34<>\"\",'ステップ2（地下フロア構造）'!$D$34,\"\")","v":""},{"$f":"IF('ステップ2（地下フロア構造）'!$D$35<>\"\",'ステップ2（地下フロア構造）'!$D$35,\"\")","v":""},{"$f":"IF('ステップ2（地下フロア構造）'!$D$36<>\"\",'ステップ2（地下フロア構造）'!$D$36,\"\")","v":""},{"$f":"IF('ステップ2（地下フロア構造）'!$D$37<>\"\",'ステップ2（地下フロア構造）'!$D$37,\"\")","v":""},{"$f":"IF('ステップ2（地下フロア構造）'!$D$38<>\"\",'ステップ2（地下フロア構造）'!$D$38,\"\")","v":""},{"$f":"IF('ステップ2（地下フロア構造）'!$D$39<>\"\",'ステップ2（地下フロア構造）'!$D$39,\"\")","v":""}]
[null,null,"居室部（その１）",null,null,null,null,null,null,null,null,null,null,null,null,null,null,null,null,null,null,null,null,null,null,null,"左記で（参考値）として示したものは、「火災時の避難安全検証法」に準じたもので、在館者密度×床面積で利用者数を算定するようになっています。"]
[null,null,"名　称",null,"任意入力"]
[null,"採用値","PA:利用者数(人)",null,"必須入力"]
[null,null,"N:有効流動係数",null,"自動入力",90,90,90,90,90,90,90,90,90,90,90,90,90,90,90,90,90,90,90,90]
[null,null,"B:出口の合計幅(m)",null,"必須入力"]
[null,null,"出口通過時間(分)",null,"算定結果",{"$f":"IF(ISERROR(IF(F$52<>\"\",F55/(F56*F57),0)),0,IF(F$52<>\"\",ROUNDUP(F55/(F56*F57),1),0))","v":0},{"$f":"IF(ISERROR(IF(G$52<>\"\",G55/(G56*G57),0)),0,IF(G$52<>\"\",ROUNDUP(G55/(G56*G57),1),0))","v":0},0,0,0,0,0,0,0,0,0,0,0,0,0,0,0,0,0,0]
[null,"（参考値）","種　類",null,"要選択"]
[null,null,"P:在館者密度(人/m2)",null,"自動入力",{"$f":"IF(F59=\"\",\"\",VLOOKUP(F59,リスト!$G$4:$H$18,2,FALSE))","v":""},{"$f":"IF(G59=\"\",\"\",VLOOKUP(G59,リスト!$G$4:$H$18,2,FALSE))","v":""},{"$f":"IF(H59=\"\",\"\",VLOOKUP(H59,リスト!$G$4:$H$18,2,FALSE))","v":""},{"$f":"IF(I59=\"\",\"\",VLOOKUP(I59,リスト!$G$4:$H$18,2,FALSE))","v":""},{"$f":"IF(J59=\"\",\"\",VLOOKUP(J59,リスト!$G$4:$H$18,2,FALSE))","v":""},{"$f":"IF(K59=\"\",\"\",VLOOKUP(K59,リスト!$G$4:$H$18,2,FALSE))","v":""},{"$f":"IF(L59=\"\",\"\",VLOOKUP(L59,リスト!$G$4:$H$18,2,FALSE))","v":""},{"$f":"IF(M59=\"\",\"\",VLOOKUP(M59,リスト!$G$4:$H$18,2,FALSE))","v":""},{"$f":"IF(N59=\"\",\"\",VLOOKUP(N59,リスト!$G$4:$H$18,2,FALSE))","v":""},{"$f":"IF(O59=\"\",\"\",VLOOKUP(O59,リスト!$G$4:$H$18,2,FALSE))","v":""},{"$f":"IF(P59=\"\",\"\",VLOOKUP(P59,リスト!$G$4:$H$18,2,FALSE))","v":""},{"$f":"IF(Q59=\"\",\"\",VLOOKUP(Q59,リスト!$G$4:$H$18,2,FALSE))","v":""},{"$f":"IF(R59=\"\",\"\",VLOOKUP(R59,リスト!$G$4:$H$18,2,FALSE))","v":""},{"$f":"IF(S59=\"\",\"\",VLOOKUP(S59,リスト!$G$4:$H$18,2,FALSE))","v":""},{"$f":"IF(T59=\"\",\"\",VLOOKUP(T59,リスト!$G$4:$H$18,2,FALSE))","v":""},{"$f":"IF(U59=\"\",\"\",VLOOKUP(U59,リスト!$G$4:$H$18,2,FALSE))","v":""},{"$f":"IF(V59=\"\",\"\",VLOOKUP(V59,リスト!$G$4:$H$18,2,FALSE))","v":""},{"$f":"IF(W59=\"\",\"\",VLOOKUP(W59,リスト!$G$4:$H$18,2,FALSE))","v":""},{"$f":"IF(X59=\"\",\"\",VLOOKUP(X59,リスト!$G$4:$H$18,2,FALSE))","v":""},{"$f":"IF(Y59=\"\",\"\",VLOOKUP(Y59,リスト!$G$4:$H$18,2,FALSE))","v":""}]
[null,null,"A:床面積(m2)",null,"要入力"]
[null,null,"利用者数(人)(P*A)",null,"自動入力",{"$f":"IF(F59=\"\",\"\",F60*F61)","v":""},{"$f":"IF(G59=\"\",\"\",G60*G61)","v":""},"","","","","","","","","","","","","","","","","",""]
[null,null,"出口通過時間(分)",null,"算定結果",{"$f":"IF(ISERROR(IF(F$52<>\"\",(F60*F61)/(F56*F57),0)),0,IF(F$52<>\"\",ROUNDUP((F60*F61)/(F56*F57),1),0))","v":0},0,0,0,0,0,0,0,0,0,0,0,0,0,0,0,0,0,0,0]
[null,null,"居室部（その２）",null,null,null,null,null,null,null,null,null,null,null,null,null,null,null,null,null,null,null,null,null,null,null,"※（参考値）の在館者密度は、「火災時の避難安全検証法」に準じたもので、区画・部屋の種類または居室の種類で決まります。\nただし、下表に示すように、「火災時の避難安全検証法」では種類と密度の設定がない場合など、一部この計算シート用に設定しているものがあります。"]
[null,null,"名　称",null,"任意入力"]
[null,"採用値","PA:利用者数(人)",null,"必須入力"]
[null,null,"N:有効流動係数",null,"自動入力",90,90,90,90,90,90,90,90,90,90,90,90,90,90,90,90,90,90,90,90]
[null,null,"B:出口の合計幅(m)",null,"必須入力"]
[null,null,"出口通過時間(分)",null,"算定結果",{"$f":"IF(ISERROR(IF(F$52<>\"\",F66/(F67*F68),0)),0,IF(F$52<>\"\",ROUNDUP(F66/(F67*F68),1),0))","v":0},{"$f":"IF(ISERROR(IF(G$52<>\"\",G66/(G67*G68),0)),0,IF(G$52<>\"\",ROUNDUP(G66/(G67*G68),1),0))","v":0},{"$f":"IF(ISERROR(IF(H$52<>\"\",H66/(H67*H68),0)),0,IF(H$52<>\"\",ROUNDUP(H66/(H67*H68),1),0))","v":0},{"$f":"IF(ISERROR(IF(I$52<>\"\",I66/(I67*I68),0)),0,IF(I$52<>\"\",ROUNDUP(I66/(I67*I68),1),0))","v":0},{"$f":"IF(ISERROR(IF(J$52<>\"\",J66/(J67*J68),0)),0,IF(J$52<>\"\",ROUNDUP(J66/(J67*J68),1),0))","v":0},{"$f":"IF(ISERROR(IF(K$52<>\"\",K66/(K67*K68),0)),0,IF(K$52<>\"\",ROUNDUP(K66/(K67*K68),1),0))","v":0},{"$f":"IF(ISERROR(IF(L$52<>\"\",L66/(L67*L68),0)),0,IF(L$52<>\"\",ROUNDUP(L66/(L67*L68),1),0))","v":0},{"$f":"IF(ISERROR(IF(M$52<>\"\",M66/(M67*M68),0)),0,IF(M$52<>\"\",ROUNDUP(M66/(M67*M68),1),0))","v":0},{"$f":"IF(ISERROR(IF(N$52<>\"\",N66/(N67*N68),0)),0,IF(N$52<>\"\",ROUNDUP(N66/(N67*N68),1),0))","v":0},{"$f":"IF(ISERROR(IF(O$52<>\"\",O66/(O67*O68),0)),0,IF(O$52<>\"\",ROUNDUP(O66/(O67*O68),1),0))","v":0},{"$f":"IF(ISERROR(IF(P$52<>\"\",P66/(P67*P68),0)),0,IF(P$52<>\"\",ROUNDUP(P66/(P67*P68),1),0))","v":0},{"$f":"IF(ISERROR(IF(Q$52<>\"\",Q66/(Q67*Q68),0)),0,IF(Q$52<>\"\",ROUNDUP(Q66/(Q67*Q68),1),0))","v":0},{"$f":"IF(ISERROR(IF(R$52<>\"\",R66/(R67*R68),0)),0,IF(R$52<>\"\",ROUNDUP(R66/(R67*R68),1),0))","v":0},{"$f":"IF(ISERROR(IF(S$52<>\"\",S66/(S67*S68),0)),0,IF(S$52<>\"\",ROUNDUP(S66/(S67*S68),1),0))","v":0},{"$f":"IF(ISERROR(IF(T$52<>\"\",T66/(T67*T68),0)),0,IF(T$52<>\"\",ROUNDUP(T66/(T67*T68),1),0))","v":0},{"$f":"IF(ISERROR(IF(U$52<>\"\",U66/(U67*U68),0)),0,IF(U$52<>\"\",ROUNDUP(U66/(U67*U68),1),0))","v":0},{"$f":"IF(ISERROR(IF(V$52<>\"\",V66/(V67*V68),0)),0,IF(V$52<>\"\",ROUNDUP(V66/(V67*V68),1),0))","v":0},{"$f":"IF(ISERROR(IF(W$52<>\"\",W66/(W67*W68),0)),0,IF(W$52<>\"\",ROUNDUP(W66/(W67*W68),1),0))","v":0},{"$f":"IF(ISERROR(IF(X$52<>\"\",X66/(X67*X68),0)),0,IF(X$52<>\"\",ROUNDUP(X66/(X67*X68),1),0))","v":0},{"$f":"IF(ISERROR(IF(Y$52<>\"\",Y66/(Y67*Y68),0)),0,IF(Y$52<>\"\",ROUNDUP(Y66/(Y67*Y68),1),0))","v":0},null,"＜在館者密度＞"]
[null,"（参考値）","種　類",null,"要選択"]
[null,null,"P:在館者密度(人/m2)",null,"自動入力",{"$f":"IF(F70=\"\",\"\",VLOOKUP(F70,リスト!$G$4:$H$18,2,FALSE))","v":""},{"$f":"IF(G70=\"\",\"\",VLOOKUP(G70,リスト!$G$4:$H$18,2,FALSE))","v":""},{"$f":"IF(H70=\"\",\"\",VLOOKUP(H70,リスト!$G$4:$H$18,2,FALSE))","v":""},{"$f":"IF(I70=\"\",\"\",VLOOKUP(I70,リスト!$G$4:$H$18,2,FALSE))","v":""},{"$f":"IF(J70=\"\",\"\",VLOOKUP(J70,リスト!$G$4:$H$18,2,FALSE))","v":""},{"$f":"IF(K70=\"\",\"\",VLOOKUP(K70,リスト!$G$4:$H$18,2,FALSE))","v":""},{"$f":"IF(L70=\"\",\"\",VLOOKUP(L70,リスト!$G$4:$H$18,2,FALSE))","v":""},{"$f":"IF(M70=\"\",\"\",VLOOKUP(M70,リスト!$G$4:$H$18,2,FALSE))","v":""},{"$f":"IF(N70=\"\",\"\",VLOOKUP(N70,リスト!$G$4:$H$18,2,FALSE))","v":""},{"$f":"IF(O70=\"\",\"\",VLOOKUP(O70,リスト!$G$4:$H$18,2,FALSE))","v":""},{"$f":"IF(P70=\"\",\"\",VLOOKUP(P70,リスト!$G$4:$H$18,2,FALSE))","v":""},{"$f":"IF(Q70=\"\",\"\",VLOOKUP(Q70,リスト!$G$4:$H$18,2,FALSE))","v":""},{"$f":"IF(R70=\"\",\"\",VLOOKUP(R70,リスト!$G$4:$H$18,2,FALSE))","v":""},{"$f":"IF(S70=\"\",\"\",VLOOKUP(S70,リスト!$G$4:$H$18,2,FALSE))","v":""},{"$f":"IF(T70=\"\",\"\",VLOOKUP(T70,リスト!$G$4:$H$18,2,FALSE))","v":""},{"$f":"IF(U70=\"\",\"\",VLOOKUP(U70,リスト!$G$4:$H$18,2,FALSE))","v":""},{"$f":"IF(V70=\"\",\"\",VLOOKUP(V70,リスト!$G$4:$H$18,2,FALSE))","v":""},{"$f":"IF(W70=\"\",\"\",VLOOKUP(W70,リスト!$G$4:$H$18,2,FALSE))","v":""},{"$f":"IF(X70=\"\",\"\",VLOOKUP(X70,リスト!$G$4:$H$18,2,FALSE))","v":""},{"$f":"IF(Y70=\"\",\"\",VLOOKUP(Y70,リスト!$G$4:$H$18,2,FALSE))","v":""}]
[null,null,"A:床面積(m2)",null,"要入力"]
[null,null,"利用者数(人)(P*A)",null,"自動入力",{"$f":"IF(F70=\"\",\"\",F71*F72)","v":""},{"$f":"IF(G70=\"\",\"\",G71*G72)","v":""},"","","","","","","","","","","","","","","","","",""]
[null,null,"出口通過時間(分)",null,"算定結果",{"$f":"IF(ISERROR(IF(F$52<>\"\",(F71*F72)/(F67*F68),0)),0,IF(F$52<>\"\",ROUNDUP((F71*F72)/(F67*F68),1),0))","v":0},0,0,0,0,0,0,0,0,0,0,0,0,0,0,0,0,0,0,0]
[null,null,"居室部（その３）"]
[null,null,"名　称",null,"任意入力"]
[null,"採用値","PA:利用者数(人)",null,"必須入力"]
[null,null,"N:有効流動係数",null,"自動入力",90,90,90,90,90,90,90,90,90,90,90,90,90,90,90,90,90,90,90,90]
[null,null,"B:出口の合計幅(m)",null,"必須入力"]
[null,null,"出口通過時間(分)",null,"算定結果",{"$f":"IF(ISERROR(IF(F$52<>\"\",F77/(F78*F79),0)),0,IF(F$52<>\"\",ROUNDUP(F77/(F78*F79),1),0))","v":0},{"$f":"IF(ISERROR(IF(G$52<>\"\",G77/(G78*G79),0)),0,IF(G$52<>\"\",ROUNDUP(G77/(G78*G79),1),0))","v":0},{"$f":"IF(ISERROR(IF(H$52<>\"\",H77/(H78*H79),0)),0,IF(H$52<>\"\",ROUNDUP(H77/(H78*H79),1),0))","v":0},{"$f":"IF(ISERROR(IF(I$52<>\"\",I77/(I78*I79),0)),0,IF(I$52<>\"\",ROUNDUP(I77/(I78*I79),1),0))","v":0},{"$f":"IF(ISERROR(IF(J$52<>\"\",J77/(J78*J79),0)),0,IF(J$52<>\"\",ROUNDUP(J77/(J78*J79),1),0))","v":0},{"$f":"IF(ISERROR(IF(K$52<>\"\",K77/(K78*K79),0)),0,IF(K$52<>\"\",ROUNDUP(K77/(K78*K79),1),0))","v":0},{"$f":"IF(ISERROR(IF(L$52<>\"\",L77/(L78*L79),0)),0,IF(L$52<>\"\",ROUNDUP(L77/(L78*L79),1),0))","v":0},{"$f":"IF(ISERROR(IF(M$52<>\"\",M77/(M78*M79),0)),0,IF(M$52<>\"\",ROUNDUP(M77/(M78*M79),1),0))","v":0},{"$f":"IF(ISERROR(IF(N$52<>\"\",N77/(N78*N79),0)),0,IF(N$52<>\"\",ROUNDUP(N77/(N78*N79),1),0))","v":0},{"$f":"IF(ISERROR(IF(O$52<>\"\",O77/(O78*O79),0)),0,IF(O$52<>\"\",ROUNDUP(O77/(O78*O79),1),0))","v":0},{"$f":"IF(ISERROR(IF(P$52<>\"\",P77/(P78*P79),0)),0,IF(P$52<>\"\",ROUNDUP(P77/(P78*P79),1),0))","v":0},{"$f":"IF(ISERROR(IF(Q$52<>\"\",Q77/(Q78*Q79),0)),0,IF(Q$52<>\"\",ROUNDUP(Q77/(Q78*Q79),1),0))","v":0},{"$f":"IF(ISERROR(IF(R$52<>\"\",R77/(R78*R79),0)),0,IF(R$52<>\"\",ROUNDUP(R77/(R78*R79),1),0))","v":0},{"$f":"IF(ISERROR(IF(S$52<>\"\",S77/(S78*S79),0)),0,IF(S$52<>\"\",ROUNDUP(S77/(S78*S79),1),0))","v":0},{"$f":"IF(ISERROR(IF(T$52<>\"\",T77/(T78*T79),0)),0,IF(T$52<>\"\",ROUNDUP(T77/(T78*T79),1),0))","v":0},{"$f":"IF(ISERROR(IF(U$52<>\"\",U77/(U78*U79),0)),0,IF(U$52<>\"\",ROUNDUP(U77/(U78*U79),1),0))","v":0},{"$f":"IF(ISERROR(IF(V$52<>\"\",V77/(V78*V79),0)),0,IF(V$52<>\"\",ROUNDUP(V77/(V78*V79),1),0))","v":0},{"$f":"IF(ISERROR(IF(W$52<>\"\",W77/(W78*W79),0)),0,IF(W$52<>\"\",ROUNDUP(W77/(W78*W79),1),0))","v":0},{"$f":"IF(ISERROR(IF(X$52<>\"\",X77/(X78*X79),0)),0,IF(X$52<>\"\",ROUNDUP(X77/(X78*X79),1),0))","v":0},{"$f":"IF(ISERROR(IF(Y$52<>\"\",Y77/(Y78*Y79),0)),0,IF(Y$52<>\"\",ROUNDUP(Y77/(Y78*Y79),1),0))","v":0}]
[null,"（参考値）","種　類",null,"要選択"]
[null,null,"P:在館者密度(人/m2)",null,"自動入力",{"$f":"IF(F81=\"\",\"\",VLOOKUP(F81,リスト!$G$4:$H$18,2,FALSE))","v":""},{"$f":"IF(G81=\"\",\"\",VLOOKUP(G81,リスト!$G$4:$H$18,2,FALSE))","v":""},{"$f":"IF(H81=\"\",\"\",VLOOKUP(H81,リスト!$G$4:$H$18,2,FALSE))","v":""},{"$f":"IF(I81=\"\",\"\",VLOOKUP(I81,リスト!$G$4:$H$18,2,FALSE))","v":""},{"$f":"IF(J81=\"\",\"\",VLOOKUP(J81,リスト!$G$4:$H$18,2,FALSE))","v":""},{"$f":"IF(K81=\"\",\"\",VLOOKUP(K81,リスト!$G$4:$H$18,2,FALSE))","v":""},{"$f":"IF(L81=\"\",\"\",VLOOKUP(L81,リスト!$G$4:$H$18,2,FALSE))","v":""},{"$f":"IF(M81=\"\",\"\",VLOOKUP(M81,リスト!$G$4:$H$18,2,FALSE))","v":""},{"$f":"IF(N81=\"\",\"\",VLOOKUP(N81,リスト!$G$4:$H$18,2,FALSE))","v":""},{"$f":"IF(O81=\"\",\"\",VLOOKUP(O81,リスト!$G$4:$H$18,2,FALSE))","v":""},{"$f":"IF(P81=\"\",\"\",VLOOKUP(P81,リスト!$G$4:$H$18,2,FALSE))","v":""},{"$f":"IF(Q81=\"\",\"\",VLOOKUP(Q81,リスト!$G$4:$H$18,2,FALSE))","v":""},{"$f":"IF(R81=\"\",\"\",VLOOKUP(R81,リスト!$G$4:$H$18,2,FALSE))","v":""},{"$f":"IF(S81=\"\",\"\",VLOOKUP(S81,リスト!$G$4:$H$18,2,FALSE))","v":""},{"$f":"IF(T81=\"\",\"\",VLOOKUP(T81,リスト!$G$4:$H$18,2,FALSE))","v":""},{"$f":"IF(U81=\"\",\"\",VLOOKUP(U81,リスト!$G$4:$H$18,2,FALSE))","v":""},{"$f":"IF(V81=\"\",\"\",VLOOKUP(V81,リスト!$G$4:$H$18,2,FALSE))","v":""},{"$f":"IF(W81=\"\",\"\",VLOOKUP(W81,リスト!$G$4:$H$18,2,FALSE))","v":""},{"$f":"IF(X81=\"\",\"\",VLOOKUP(X81,リスト!$G$4:$H$18,2,FALSE))","v":""},{"$f":"IF(Y81=\"\",\"\",VLOOKUP(Y81,リスト!$G$4:$H$18,2,FALSE))","v":""}]
[null,null,"A:床面積(m2)",null,"要入力"]
[null,null,"利用者数(人)(P*A)",null,"自動入力",{"$f":"IF(F81=\"\",\"\",F82*F83)","v":""},{"$f":"IF(G81=\"\",\"\",G82*G83)","v":""},"","","","","","","","","","","","","","","","","","",null,"※「在館者密度表」シートに、「火災時の避難安全検証法」に掲載されている表を示します。"]
[null,null,"出口通過時間(分)",null,"算定結果",{"$f":"IF(ISERROR(IF(F$52<>\"\",(F82*F83)/(F78*F79),0)),0,IF(F$52<>\"\",ROUNDUP((F82*F83)/(F78*F79),1),0))","v":0},0,0,0,0,0,0,0,0,0,0,0,0,0,0,0,0,0,0,0]
[null,null,"居室部（その１～その３）の最大出口通過時間"]
[null,null,"最大出口通過時間(分)",null,"算定結果",{"$f":"MAX(F58,F69,F80)","v":0},{"$f":"MAX(G58,G69,G80)","v":0},0,0,0,0,0,0,0,0,0,0,0,0,0,0,0,0,0,0]
[]
[null,null,null,null,null,null,null,null,null,null,null,null,null,null,null,null,null,null,null,null,null,null,null,null,null,null,"t5：階段で上階へ昇るまでの移動時間"]
[null,null,"t5：階段で上階へ昇るまでの移動時間：",null,null,null,null,null,null,null,null,null,null,null,null,null,null,null,null,null,null,null,null,null,null,null,"避難者が階段を昇って上の階まで行く移動時間を算定します。\n階段を昇る歩行速度は、「火災時の避難安全検証法」を参考としていますが、流水中の歩行の割引を考慮して、無浸水時の33％とします。この割引率は、流入水深20cm を想定したものです（流入水深30cm 時に歩行速度0 と仮定）。"]
[]
[null,null,"フロア",null,"自動入力",{"$f":"IF('ステップ2（地下フロア構造）'!$C$20<>\"\",'ステップ2（地下フロア構造）'!$C$20,\"\")","v":""},{"$f":"IF('ステップ2（地下フロア構造）'!$C$21<>\"\",'ステップ2（地下フロア構造）'!$C$21,\"\")","v":""},{"$f":"IF('ステップ2（地下フロア構造）'!$C$22<>\"\",'ステップ2（地下フロア構造）'!$C$22,\"\")","v":""},{"$f":"IF('ステップ2（地下フロア構造）'!$C$23<>\"\",'ステップ2（地下フロア構造）'!$C$23,\"\")","v":""},{"$f":"IF('ステップ2（地下フロア構造）'!$C$24<>\"\",'ステップ2（地下フロア構造）'!$C$24,\"\")","v":""},{"$f":"IF('ステップ2（地下フロア構造）'!$C$25<>\"\",'ステップ2（地下フロア構造）'!$C$25,\"\")","v":""},{"$f":"IF('ステップ2（地下フロア構造）'!$C$26<>\"\",'ステップ2（地下フロア構造）'!$C$26,\"\")","v":""},{"$f":"IF('ステップ2（地下フロア構造）'!$C$27<>\"\",'ステップ2（地下フロア構造）'!$C$27,\"\")","v":""},{"$f":"IF('ステップ2（地下フロア構造）'!$C$28<>\"\",'ステップ2（地下フロア構造）'!$C$28,\"\")","v":""},{"$f":"IF('ステップ2（地下フロア構造）'!$C$29<>\"\",'ステップ2（地下フロア構造）'!$C$29,\"\")","v":""},{"$f":"IF('ステップ2（地下フロア構造）'!$C$30<>\"\",'ステップ2（地下フロア構造）'!$C$30,\"\")","v":""},{"$f":"IF('ステップ2（地下フロア構造）'!$C$31<>\"\",'ステップ2（地下フロア構造）'!$C$31,\"\")","v":""},{"$f":"IF('ステップ2（地下フロア構造）'!$C$32<>\"\",'ステップ2（地下フロア構造）'!$C$32,\"\")","v":""},{"$f":"IF('ステップ2（地下フロア構造）'!$C$33<>\"\",'ステップ2（地下フロア構造）'!$C$33,\"\")","v":""},{"$f":"IF('ステップ2（地下フロア構造）'!$C$34<>\"\",'ステップ2（地下フロア構造）'!$C$34,\"\")","v":""},{"$f":"IF('ステップ2（地下フロア構造）'!$C$35<>\"\",'ステップ2（地下フロア構造）'!$C$35,\"\")","v":""},{"$f":"IF('ステップ2（地下フロア構造）'!$C$36<>\"\",'ステップ2（地下フロア構造）'!$C$36,\"\")","v":""},{"$f":"IF('ステップ2（地下フロア構造）'!$C$37<>\"\",'ステップ2（地下フロア構造）'!$C$37,\"\")","v":""},{"$f":"IF('ステップ2（地下フロア構造）'!$C$38<>\"\",'ステップ2（地下フロア構造）'!$C$38,\"\")","v":""},{"$f":"IF('ステップ2（地下フロア構造）'!$C$39<>\"\",'ステップ2（地下フロア構造）'!$C$39,\"\")","v":""}]
[null,null,"区画・部屋番号",null,"自動入力",{"$f":"IF('ステップ2（地下フロア構造）'!$D$20<>\"\",'ステップ2（地下フロア構造）'!$D$20,\"\")","v":""},{"$f":"IF('ステップ2（地下フロア構造）'!$D$21<>\"\",'ステップ2（地下フロア構造）'!$D$21,\"\")","v":""},{"$f":"IF('ステップ2（地下フロア構造）'!$D$22<>\"\",'ステップ2（地下フロア構造）'!$D$22,\"\")","v":""},{"$f":"IF('ステップ2（地下フロア構造）'!$D$23<>\"\",'ステップ2（地下フロア構造）'!$D$23,\"\")","v":""},{"$f":"IF('ステップ2（地下フロア構造）'!$D$24<>\"\",'ステップ2（地下フロア構造）'!$D$24,\"\")","v":""},{"$f":"IF('ステップ2（地下フロア構造）'!$D$25<>\"\",'ステップ2（地下フロア構造）'!$D$25,\"\")","v":""},{"$f":"IF('ステップ2（地下フロア構造）'!$D$26<>\"\",'ステップ2（地下フロア構造）'!$D$26,\"\")","v":""},{"$f":"IF('ステップ2（地下フロア構造）'!$D$27<>\"\",'ステップ2（地下フロア構造）'!$D$27,\"\")","v":""},{"$f":"IF('ステップ2（地下フロア構造）'!$D$28<>\"\",'ステップ2（地下フロア構造）'!$D$28,\"\")","v":""},{"$f":"IF('ステップ2（地下フロア構造）'!$D$29<>\"\",'ステップ2（地下フロア構造）'!$D$29,\"\")","v":""},{"$f":"IF('ステップ2（地下フロア構造）'!$D$30<>\"\",'ステップ2（地下フロア構造）'!$D$30,\"\")","v":""},{"$f":"IF('ステップ2（地下フロア構造）'!$D$31<>\"\",'ステップ2（地下フロア構造）'!$D$31,\"\")","v":""},{"$f":"IF('ステップ2（地下フロア構造）'!$D$32<>\"\",'ステップ2（地下フロア構造）'!$D$32,\"\")","v":""},{"$f":"IF('ステップ2（地下フロア構造）'!$D$33<>\"\",'ステップ2（地下フロア構造）'!$D$33,\"\")","v":""},{"$f":"IF('ステップ2（地下フロア構造）'!$D$34<>\"\",'ステップ2（地下フロア構造）'!$D$34,\"\")","v":""},{"$f":"IF('ステップ2（地下フロア構造）'!$D$35<>\"\",'ステップ2（地下フロア構造）'!$D$35,\"\")","v":""},{"$f":"IF('ステップ2（地下フロア構造）'!$D$36<>\"\",'ステップ2（地下フロア構造）'!$D$36,\"\")","v":""},{"$f":"IF('ステップ2（地下フロア構造）'!$D$37<>\"\",'ステップ2（地下フロア構造）'!$D$37,\"\")","v":""},{"$f":"IF('ステップ2（地下フロア構造）'!$D$38<>\"\",'ステップ2（地下フロア構造）'!$D$38,\"\")","v":""},{"$f":"IF('ステップ2（地下フロア構造）'!$D$39<>\"\",'ステップ2（地下フロア構造）'!$D$39,\"\")","v":""}]
[null,null,"区画・部屋名称",null,"自動入力",{"$f":"IF('ステップ2（地下フロア構造）'!$F$20<>\"\",'ステップ2（地下フロア構造）'!$F$20,\"\")","v":""},{"$f":"IF('ステップ2（地下フロア構造）'!$F$21<>\"\",'ステップ2（地下フロア構造）'!$F$21,\"\")","v":""},{"$f":"IF('ステップ2（地下フロア構造）'!$F$22<>\"\",'ステップ2（地下フロア構造）'!$F$22,\"\")","v":""},{"$f":"IF('ステップ2（地下フロア構造）'!$F$23<>\"\",'ステップ2（地下フロア構造）'!$F$23,\"\")","v":""},{"$f":"IF('ステップ2（地下フロア構造）'!$F$24<>\"\",'ステップ2（地下フロア構造）'!$F$24,\"\")","v":""},{"$f":"IF('ステップ2（地下フロア構造）'!$F$25<>\"\",'ステップ2（地下フロア構造）'!$F$25,\"\")","v":""},{"$f":"IF('ステップ2（地下フロア構造）'!$F$26<>\"\",'ステップ2（地下フロア構造）'!$F$26,\"\")","v":""},{"$f":"IF('ステップ2（地下フロア構造）'!$F$27<>\"\",'ステップ2（地下フロア構造）'!$F$27,\"\")","v":""},{"$f":"IF('ステップ2（地下フロア構造）'!$F$28<>\"\",'ステップ2（地下フロア構造）'!$F$28,\"\")","v":""},{"$f":"IF('ステップ2（地下フロア構造）'!$F$29<>\"\",'ステップ2（地下フロア構造）'!$F$29,\"\")","v":""},{"$f":"IF('ステップ2（地下フロア構造）'!$F$30<>\"\",'ステップ2（地下フロア構造）'!$F$30,\"\")","v":""},{"$f":"IF('ステップ2（地下フロア構造）'!$F$31<>\"\",'ステップ2（地下フロア構造）'!$F$31,\"\")","v":""},{"$f":"IF('ステップ2（地下フロア構造）'!$F$32<>\"\",'ステップ2（地下フロア構造）'!$F$32,\"\")","v":""},{"$f":"IF('ステップ2（地下フロア構造）'!$F$33<>\"\",'ステップ2（地下フロア構造）'!$F$33,\"\")","v":""},{"$f":"IF('ステップ2（地下フロア構造）'!$F$34<>\"\",'ステップ2（地下フロア構造）'!$F$34,\"\")","v":""},{"$f":"IF('ステップ2（地下フロア構造）'!$F$35<>\"\",'ステップ2（地下フロア構造）'!$F$35,\"\")","v":""},{"$f":"IF('ステップ2（地下フロア構造）'!$F$36<>\"\",'ステップ2（地下フロア構造）'!$F$36,\"\")","v":""},{"$f":"IF('ステップ2（地下フロア構造）'!$F$37<>\"\",'ステップ2（地下フロア構造）'!$F$37,\"\")","v":""},{"$f":"IF('ステップ2（地下フロア構造）'!$F$38<>\"\",'ステップ2（地下フロア構造）'!$F$38,\"\")","v":""},{"$f":"IF('ステップ2（地下フロア構造）'!$F$39<>\"\",'ステップ2（地下フロア構造）'!$F$39,\"\")","v":""}]
[null,null,"L2:階段距離(m)",null,"必須入力"]
[null,null,"β:浸水時歩行速度\n割引係数",null,"自動入力",{"$f":"IF(F$93<>\"\",0.33,\"\")","v":""},{"$f":"IF(G$93<>\"\",0.33,\"\")","v":""},"","","","","","","","","","","","","","","","","",""]
[null,null,"v2:階段を上る\n歩行速度(m/分)\n＜標準は27m/分＞",null,"必須入力\n任意変更可",27,27,27,27,27,27,27,27,27,27,27,27,27,27,27,27,27,27,27,27]
[null,null,"移動時間(分)",null,"算定結果",{"$f":"IF(F93<>\"\",ROUNDUP(F95/(F96*F97),1),0)","v":0},{"$f":"IF(G93<>\"\",ROUNDUP(G95/(G96*G97),1),0)","v":0},0,0,0,0,0,0,0,0,0,0,0,0,0,0,0,0,0,0]
[]
[]
[null,null,"■移動時間の合計(t3＋t4＋t5)"]
[null,null,"◆横並び表",null,null,1,2,3,4,5,6,7,8,9,10,11,12,13,14,15,16,17,18,19,20]
[null,null,"フロア",null,"自動入力",{"$f":"IF('ステップ2（地下フロア構造）'!$C$20<>\"\",'ステップ2（地下フロア構造）'!$C$20,\"\")","v":""},{"$f":"IF('ステップ2（地下フロア構造）'!$C$21<>\"\",'ステップ2（地下フロア構造）'!$C$21,\"\")","v":""},{"$f":"IF('ステップ2（地下フロア構造）'!$C$22<>\"\",'ステップ2（地下フロア構造）'!$C$22,\"\")","v":""},{"$f":"IF('ステップ2（地下フロア構造）'!$C$23<>\"\",'ステップ2（地下フロア構造）'!$C$23,\"\")","v":""},{"$f":"IF('ステップ2（地下フロア構造）'!$C$24<>\"\",'ステップ2（地下フロア構造）'!$C$24,\"\")","v":""},{"$f":"IF('ステップ2（地下フロア構造）'!$C$25<>\"\",'ステップ2（地下フロア構造）'!$C$25,\"\")","v":""},{"$f":"IF('ステップ2（地下フロア構造）'!$C$26<>\"\",'ステップ2（地下フロア構造）'!$C$26,\"\")","v":""},{"$f":"IF('ステップ2（地下フロア構造）'!$C$27<>\"\",'ステップ2（地下フロア構造）'!$C$27,\"\")","v":""},{"$f":"IF('ステップ2（地下フロア構造）'!$C$28<>\"\",'ステップ2（地下フロア構造）'!$C$28,\"\")","v":""},{"$f":"IF('ステップ2（地下フロア構造）'!$C$29<>\"\",'ステップ2（地下フロア構造）'!$C$29,\"\")","v":""},{"$f":"IF('ステップ2（地下フロア構造）'!$C$30<>\"\",'ステップ2（地下フロア構造）'!$C$30,\"\")","v":""},{"$f":"IF('ステップ2（地下フロア構造）'!$C$31<>\"\",'ステップ2（地下フロア構造）'!$C$31,\"\")","v":""},{"$f":"IF('ステップ2（地下フロア構造）'!$C$32<>\"\",'ステップ2（地下フロア構造）'!$C$32,\"\")","v":""},{"$f":"IF('ステップ2（地下フロア構造）'!$C$33<>\"\",'ステップ2（地下フロア構造）'!$C$33,\"\")","v":""},{"$f":"IF('ステップ2（地下フロア構造）'!$C$34<>\"\",'ステップ2（地下フロア構造）'!$C$34,\"\")","v":""},{"$f":"IF('ステップ2（地下フロア構造）'!$C$35<>\"\",'ステップ2（地下フロア構造）'!$C$35,\"\")","v":""},{"$f":"IF('ステップ2（地下フロア構造）'!$C$36<>\"\",'ステップ2（地下フロア構造）'!$C$36,\"\")","v":""},{"$f":"IF('ステップ2（地下フロア構造）'!$C$37<>\"\",'ステップ2（地下フロア構造）'!$C$37,\"\")","v":""},{"$f":"IF('ステップ2（地下フロア構造）'!$C$38<>\"\",'ステップ2（地下フロア構造）'!$C$38,\"\")","v":""},{"$f":"IF('ステップ2（地下フロア構造）'!$C$39<>\"\",'ステップ2（地下フロア構造）'!$C$39,\"\")","v":""}]
[null,null,"区画・部屋番号",null,"自動入力",{"$f":"IF('ステップ2（地下フロア構造）'!$D$20<>\"\",'ステップ2（地下フロア構造）'!$D$20,\"\")","v":""},{"$f":"IF('ステップ2（地下フロア構造）'!$D$21<>\"\",'ステップ2（地下フロア構造）'!$D$21,\"\")","v":""},{"$f":"IF('ステップ2（地下フロア構造）'!$D$22<>\"\",'ステップ2（地下フロア構造）'!$D$22,\"\")","v":""},{"$f":"IF('ステップ2（地下フロア構造）'!$D$23<>\"\",'ステップ2（地下フロア構造）'!$D$23,\"\")","v":""},{"$f":"IF('ステップ2（地下フロア構造）'!$D$24<>\"\",'ステップ2（地下フロア構造）'!$D$24,\"\")","v":""},{"$f":"IF('ステップ2（地下フロア構造）'!$D$25<>\"\",'ステップ2（地下フロア構造）'!$D$25,\"\")","v":""},{"$f":"IF('ステップ2（地下フロア構造）'!$D$26<>\"\",'ステップ2（地下フロア構造）'!$D$26,\"\")","v":""},{"$f":"IF('ステップ2（地下フロア構造）'!$D$27<>\"\",'ステップ2（地下フロア構造）'!$D$27,\"\")","v":""},{"$f":"IF('ステップ2（地下フロア構造）'!$D$28<>\"\",'ステップ2（地下フロア構造）'!$D$28,\"\")","v":""},{"$f":"IF('ステップ2（地下フロア構造）'!$D$29<>\"\",'ステップ2（地下フロア構造）'!$D$29,\"\")","v":""},{"$f":"IF('ステップ2（地下フロア構造）'!$D$30<>\"\",'ステップ2（地下フロア構造）'!$D$30,\"\")","v":""},{"$f":"IF('ステップ2（地下フロア構造）'!$D$31<>\"\",'ステップ2（地下フロア構造）'!$D$31,\"\")","v":""},{"$f":"IF('ステップ2（地下フロア構造）'!$D$32<>\"\",'ステップ2（地下フロア構造）'!$D$32,\"\")","v":""},{"$f":"IF('ステップ2（地下フロア構造）'!$D$33<>\"\",'ステップ2（地下フロア構造）'!$D$33,\"\")","v":""},{"$f":"IF('ステップ2（地下フロア構造）'!$D$34<>\"\",'ステップ2（地下フロア構造）'!$D$34,\"\")","v":""},{"$f":"IF('ステップ2（地下フロア構造）'!$D$35<>\"\",'ステップ2（地下フロア構造）'!$D$35,\"\")","v":""},{"$f":"IF('ステップ2（地下フロア構造）'!$D$36<>\"\",'ステップ2（地下フロア構造）'!$D$36,\"\")","v":""},{"$f":"IF('ステップ2（地下フロア構造）'!$D$37<>\"\",'ステップ2（地下フロア構造）'!$D$37,\"\")","v":""},{"$f":"IF('ステップ2（地下フロア構造）'!$D$38<>\"\",'ステップ2（地下フロア構造）'!$D$38,\"\")","v":""},{"$f":"IF('ステップ2（地下フロア構造）'!$D$39<>\"\",'ステップ2（地下フロア構造）'!$D$39,\"\")","v":""}]
[null,null,"施設名称",null,"自動入力",{"$f":"IF('ステップ2（地下フロア構造）'!$F$20<>\"\",'ステップ2（地下フロア構造）'!$F$20,\"\")","v":""},{"$f":"IF('ステップ2（地下フロア構造）'!$F$21<>\"\",'ステップ2（地下フロア構造）'!$F$21,\"\")","v":""},{"$f":"IF('ステップ2（地下フロア構造）'!$F$22<>\"\",'ステップ2（地下フロア構造）'!$F$22,\"\")","v":""},{"$f":"IF('ステップ2（地下フロア構造）'!$F$23<>\"\",'ステップ2（地下フロア構造）'!$F$23,\"\")","v":""},{"$f":"IF('ステップ2（地下フロア構造）'!$F$24<>\"\",'ステップ2（地下フロア構造）'!$F$24,\"\")","v":""},{"$f":"IF('ステップ2（地下フロア構造）'!$F$25<>\"\",'ステップ2（地下フロア構造）'!$F$25,\"\")","v":""},{"$f":"IF('ステップ2（地下フロア構造）'!$F$26<>\"\",'ステップ2（地下フロア構造）'!$F$26,\"\")","v":""},{"$f":"IF('ステップ2（地下フロア構造）'!$F$27<>\"\",'ステップ2（地下フロア構造）'!$F$27,\"\")","v":""},{"$f":"IF('ステップ2（地下フロア構造）'!$F$28<>\"\",'ステップ2（地下フロア構造）'!$F$28,\"\")","v":""},{"$f":"IF('ステップ2（地下フロア構造）'!$F$29<>\"\",'ステップ2（地下フロア構造）'!$F$29,\"\")","v":""},{"$f":"IF('ステップ2（地下フロア構造）'!$F$30<>\"\",'ステップ2（地下フロア構造）'!$F$30,\"\")","v":""},{"$f":"IF('ステップ2（地下フロア構造）'!$F$31<>\"\",'ステップ2（地下フロア構造）'!$F$31,\"\")","v":""},{"$f":"IF('ステップ2（地下フロア構造）'!$F$32<>\"\",'ステップ2（地下フロア構造）'!$F$32,\"\")","v":""},{"$f":"IF('ステップ2（地下フロア構造）'!$F$33<>\"\",'ステップ2（地下フロア構造）'!$F$33,\"\")","v":""},{"$f":"IF('ステップ2（地下フロア構造）'!$F$34<>\"\",'ステップ2（地下フロア構造）'!$F$34,\"\")","v":""},{"$f":"IF('ステップ2（地下フロア構造）'!$F$35<>\"\",'ステップ2（地下フロア構造）'!$F$35,\"\")","v":""},{"$f":"IF('ステップ2（地下フロア構造）'!$F$36<>\"\",'ステップ2（地下フロア構造）'!$F$36,\"\")","v":""},{"$f":"IF('ステップ2（地下フロア構造）'!$F$37<>\"\",'ステップ2（地下フロア構造）'!$F$37,\"\")","v":""},{"$f":"IF('ステップ2（地下フロア構造）'!$F$38<>\"\",'ステップ2（地下フロア構造）'!$F$38,\"\")","v":""},{"$f":"IF('ステップ2（地下フロア構造）'!$F$39<>\"\",'ステップ2（地下フロア構造）'!$F$39,\"\")","v":""}]
[null,null,"t3:階段下までの移動時間(分)",null,"算定結果",{"$f":"$F$25","v":0},{"$f":"$G$25","v":0},{"$f":"$H$25","v":0},{"$f":"$I$25","v":0},{"$f":"$J$25","v":0},{"$f":"$K$25","v":0},{"$f":"$L$25","v":0},{"$f":"$M$25","v":0},{"$f":"$N$25","v":0},{"$f":"$O$25","v":0},{"$f":"$P$25","v":0},{"$f":"$Q$25","v":0},{"$f":"$R$25","v":0},{"$f":"$S$25","v":0},{"$f":"$T$25","v":0},{"$f":"$U$25","v":0},{"$f":"$V$25","v":0},{"$f":"$W$25","v":0},{"$f":"$X$25","v":0},{"$f":"$Y$25","v":0}]
[null,null,"t4(a):階段下通過時間(分)",null,"算定結果",{"$f":"$F$39","v":0},{"$f":"$G$39","v":0},{"$f":"$H$39","v":0},{"$f":"$I$39","v":0},{"$f":"$J$39","v":0},{"$f":"$K$39","v":0},{"$f":"$L$39","v":0},{"$f":"$M$39","v":0},{"$f":"$N$39","v":0},{"$f":"$O$39","v":0},{"$f":"$P$39","v":0},{"$f":"$Q$39","v":0},{"$f":"$R$39","v":0},{"$f":"$S$39","v":0},{"$f":"$T$39","v":0},{"$f":"$U$39","v":0},{"$f":"$V$39","v":0},{"$f":"$W$39","v":0},{"$f":"$X$39","v":0},{"$f":"$Y$39","v":0}]
[null,null,"t4(b):居室部出口通過時間(分)",null,"算定結果",{"$f":"$F$87","v":0},{"$f":"$G$87","v":0},{"$f":"$H$87","v":0},{"$f":"$I$87","v":0},{"$f":"$J$87","v":0},{"$f":"$K$87","v":0},{"$f":"$L$87","v":0},{"$f":"$M$87","v":0},{"$f":"$N$87","v":0},{"$f":"$O$87","v":0},{"$f":"$P$87","v":0},{"$f":"$Q$87","v":0},{"$f":"$R$87","v":0},{"$f":"$S$87","v":0},{"$f":"$T$87","v":0},{"$f":"$U$87","v":0},{"$f":"$V$87","v":0},{"$f":"$W$87","v":0},{"$f":"$X$87","v":0},{"$f":"$Y$87","v":0}]
[null,null,"t5:階段移動時間(分)",null,"算定結果",{"$f":"$F$98","v":0},{"$f":"$G$98","v":0},{"$f":"$H$98","v":0},{"$f":"$I$98","v":0},{"$f":"$J$98","v":0},{"$f":"$K$98","v":0},{"$f":"$L$98","v":0},{"$f":"$M$98","v":0},{"$f":"$N$98","v":0},{"$f":"$O$98","v":0},{"$f":"$P$98","v":0},{"$f":"$Q$98","v":0},{"$f":"$R$98","v":0},{"$f":"$S$98","v":0},{"$f":"$T$98","v":0},{"$f":"$U$98","v":0},{"$f":"$V$98","v":0},{"$f":"$W$98","v":0},{"$f":"$X$98","v":0},{"$f":"$Y$98","v":0}]
[null,null,"移動時間の合計(分)",null,"算定結果",{"$f":"SUM(F106:F109)","v":0},{"$f":"SUM(G106:G109)","v":0},0,0,0,0,0,0,0,0,0,0,0,0,0,0,0,0,0,0]
[null,null,"◆縦並び版"]
[null,null,"フロア","区画・部屋番号","施設名称",null,"移動時間(分)"]
[null,null,null,null,null,null,"t3:階段下\nまでの\n移動時間","t4(a): 階段\n下の\n通過時間","t4(b):居室\n出口の\n通過時間","t5:階段で\n上階への\n移動時間","合計"]
[null,null,"自動入力","自動入力","自動入力",null,"算定結果","算定結果","算定結果","算定結果","算定結果"]
[null,1,{"$f":"IF('ステップ2（地下フロア構造）'!$C$20<>\"\",'ステップ2（地下フロア構造）'!$C$20,\"\")","v":""},{"$f":"IF('ステップ2（地下フロア構造）'!$D$20<>\"\",'ステップ2（地下フロア構造）'!$D$20,\"\")","v":""},{"$f":"IF('ステップ2（地下フロア構造）'!$F$20<>\"\",'ステップ2（地下フロア構造）'!$F$20,\"\")","v":""},null,{"$f":"$F$25","v":0},{"$f":"$F$39","v":0},{"$f":"$F$87","v":0},{"$f":"$F$98","v":0},{"$f":"SUM(G115:J115)","v":0}]
[null,2,{"$f":"IF('ステップ2（地下フロア構造）'!$C$21<>\"\",'ステップ2（地下フロア構造）'!$C$21,\"\")","v":""},{"$f":"IF('ステップ2（地下フロア構造）'!$D$21<>\"\",'ステップ2（地下フロア構造）'!$D$21,\"\")","v":""},{"$f":"IF('ステップ2（地下フロア構造）'!$F$21<>\"\",'ステップ2（地下フロア構造）'!$F$21,\"\")","v":""},null,{"$f":"$G$25","v":0},{"$f":"$G$39","v":0},{"$f":"$G$87","v":0},{"$f":"$G$98","v":0},0]
[null,3,{"$f":"IF('ステップ2（地下フロア構造）'!$C$22<>\"\",'ステップ2（地下フロア構造）'!$C$22,\"\")","v":""},{"$f":"IF('ステップ2（地下フロア構造）'!$D$22<>\"\",'ステップ2（地下フロア構造）'!$D$22,\"\")","v":""},{"$f":"IF('ステップ2（地下フロア構造）'!$F$22<>\"\",'ステップ2（地下フロア構造）'!$F$22,\"\")","v":""},null,{"$f":"$H$25","v":0},{"$f":"$H$39","v":0},{"$f":"$H$87","v":0},{"$f":"$H$98","v":0},0]
[null,4,{"$f":"IF('ステップ2（地下フロア構造）'!$C$23<>\"\",'ステップ2（地下フロア構造）'!$C$23,\"\")","v":""},{"$f":"IF('ステップ2（地下フロア構造）'!$D$23<>\"\",'ステップ2（地下フロア構造）'!$D$23,\"\")","v":""},{"$f":"IF('ステップ2（地下フロア構造）'!$F$23<>\"\",'ステップ2（地下フロア構造）'!$F$23,\"\")","v":""},null,{"$f":"$I$25","v":0},{"$f":"$I$39","v":0},{"$f":"$I$87","v":0},{"$f":"$I$98","v":0},0]
[null,5,{"$f":"IF('ステップ2（地下フロア構造）'!$C$24<>\"\",'ステップ2（地下フロア構造）'!$C$24,\"\")","v":""},{"$f":"IF('ステップ2（地下フロア構造）'!$D$24<>\"\",'ステップ2（地下フロア構造）'!$D$24,\"\")","v":""},{"$f":"IF('ステップ2（地下フロア構造）'!$F$24<>\"\",'ステップ2（地下フロア構造）'!$F$24,\"\")","v":""},null,{"$f":"$J$25","v":0},{"$f":"$J$39","v":0},{"$f":"$J$87","v":0},{"$f":"$J$98","v":0},0]
[null,6,{"$f":"IF('ステップ2（地下フロア構造）'!$C$25<>\"\",'ステップ2（地下フロア構造）'!$C$25,\"\")","v":""},{"$f":"IF('ステップ2（地下フロア構造）'!$D$25<>\"\",'ステップ2（地下フロア構造）'!$D$25,\"\")","v":""},{"$f":"IF('ステップ2（地下フロア構造）'!$F$25<>\"\",'ステップ2（地下フロア構造）'!$F$25,\"\")","v":""},null,{"$f":"$K$25","v":0},{"$f":"$K$39","v":0},{"$f":"$K$87","v":0},{"$f":"$K$98","v":0},0]
[null,7,{"$f":"IF('ステップ2（地下フロア構造）'!$C$26<>\"\",'ステップ2（地下フロア構造）'!$C$26,\"\")","v":""},{"$f":"IF('ステップ2（地下フロア構造）'!$D$26<>\"\",'ステップ2（地下フロア構造）'!$D$26,\"\")","v":""},{"$f":"IF('ステップ2（地下フロア構造）'!$F$26<>\"\",'ステップ2（地下フロア構造）'!$F$26,\"\")","v":""},null,{"$f":"$L$25","v":0},{"$f":"$L$39","v":0},{"$f":"$L$87","v":0},{"$f":"$L$98","v":0},0]
[null,8,{"$f":"IF('ステップ2（地下フロア構造）'!$C$27<>\"\",'ステップ2（地下フロア構造）'!$C$27,\"\")","v":""},{"$f":"IF('ステップ2（地下フロア構造）'!$D$27<>\"\",'ステップ2（地下フロア構造）'!$D$27,\"\")","v":""},{"$f":"IF('ステップ2（地下フロア構造）'!$F$27<>\"\",'ステップ2（地下フロア構造）'!$F$27,\"\")","v":""},null,{"$f":"$M$25","v":0},{"$f":"$M$39","v":0},{"$f":"$M$87","v":0},{"$f":"$M$98","v":0},0]
[null,9,{"$f":"IF('ステップ2（地下フロア構造）'!$C$28<>\"\",'ステップ2（地下フロア構造）'!$C$28,\"\")","v":""},{"$f":"IF('ステップ2（地下フロア構造）'!$D$28<>\"\",'ステップ2（地下フロア構造）'!$D$28,\"\")","v":""},{"$f":"IF('ステップ2（地下フロア構造）'!$F$28<>\"\",'ステップ2（地下フロア構造）'!$F$28,\"\")","v":""},null,{"$f":"$N$25","v":0},{"$f":"$N$39","v":0},{"$f":"$N$87","v":0},{"$f":"$N$98","v":0},0]
[null,10,{"$f":"IF('ステップ2（地下フロア構造）'!$C$29<>\"\",'ステップ2（地下フロア構造）'!$C$29,\"\")","v":""},{"$f":"IF('ステップ2（地下フロア構造）'!$D$29<>\"\",'ステップ2（地下フロア構造）'!$D$29,\"\")","v":""},{"$f":"IF('ステップ2（地下フロア構造）'!$F$29<>\"\",'ステップ2（地下フロア構造）'!$F$29,\"\")","v":""},null,{"$f":"$O$25","v":0},{"$f":"$O$39","v":0},{"$f":"$O$87","v":0},{"$f":"$O$98","v":0},0]
[null,11,{"$f":"IF('ステップ2（地下フロア構造）'!$C$30<>\"\",'ステップ2（地下フロア構造）'!$C$30,\"\")","v":""},{"$f":"IF('ステップ2（地下フロア構造）'!$D$30<>\"\",'ステップ2（地下フロア構造）'!$D$30,\"\")","v":""},{"$f":"IF('ステップ2（地下フロア構造）'!$F$30<>\"\",'ステップ2（地下フロア構造）'!$F$30,\"\")","v":""},null,{"$f":"$P$25","v":0},{"$f":"$P$39","v":0},{"$f":"$P$87","v":0},{"$f":"$P$98","v":0},0]
[null,12,{"$f":"IF('ステップ2（地下フロア構造）'!$C$31<>\"\",'ステップ2（地下フロア構造）'!$C$31,\"\")","v":""},{"$f":"IF('ステップ2（地下フロア構造）'!$D$31<>\"\",'ステップ2（地下フロア構造）'!$D$31,\"\")","v":""},{"$f":"IF('ステップ2（地下フロア構造）'!$F$31<>\"\",'ステップ2（地下フロア構造）'!$F$31,\"\")","v":""},null,{"$f":"$Q$25","v":0},{"$f":"$Q$39","v":0},{"$f":"$Q$87","v":0},{"$f":"$Q$98","v":0},0]
[null,13,{"$f":"IF('ステップ2（地下フロア構造）'!$C$32<>\"\",'ステップ2（地下フロア構造）'!$C$32,\"\")","v":""},{"$f":"IF('ステップ2（地下フロア構造）'!$D$32<>\"\",'ステップ2（地下フロア構造）'!$D$32,\"\")","v":""},{"$f":"IF('ステップ2（地下フロア構造）'!$F$32<>\"\",'ステップ2（地下フロア構造）'!$F$32,\"\")","v":""},null,{"$f":"$R$25","v":0},{"$f":"$R$39","v":0},{"$f":"$R$87","v":0},{"$f":"$R$98","v":0},0]
[null,14,{"$f":"IF('ステップ2（地下フロア構造）'!$C$33<>\"\",'ステップ2（地下フロア構造）'!$C$33,\"\")","v":""},{"$f":"IF('ステップ2（地下フロア構造）'!$D$33<>\"\",'ステップ2（地下フロア構造）'!$D$33,\"\")","v":""},{"$f":"IF('ステップ2（地下フロア構造）'!$F$33<>\"\",'ステップ2（地下フロア構造）'!$F$33,\"\")","v":""},null,{"$f":"$S$25","v":0},{"$f":"$S$39","v":0},{"$f":"$S$87","v":0},{"$f":"$S$98","v":0},0]
[null,15,{"$f":"IF('ステップ2（地下フロア構造）'!$C$34<>\"\",'ステップ2（地下フロア構造）'!$C$34,\"\")","v":""},{"$f":"IF('ステップ2（地下フロア構造）'!$D$34<>\"\",'ステップ2（地下フロア構造）'!$D$34,\"\")","v":""},{"$f":"IF('ステップ2（地下フロア構造）'!$F$34<>\"\",'ステップ2（地下フロア構造）'!$F$34,\"\")","v":""},null,{"$f":"$T$25","v":0},{"$f":"$T$39","v":0},{"$f":"$T$87","v":0},{"$f":"$T$98","v":0},0]
[null,16,{"$f":"IF('ステップ2（地下フロア構造）'!$C$35<>\"\",'ステップ2（地下フロア構造）'!$C$35,\"\")","v":""},{"$f":"IF('ステップ2（地下フロア構造）'!$D$35<>\"\",'ステップ2（地下フロア構造）'!$D$35,\"\")","v":""},{"$f":"IF('ステップ2（地下フロア構造）'!$F$35<>\"\",'ステップ2（地下フロア構造）'!$F$35,\"\")","v":""},null,{"$f":"$U$25","v":0},{"$f":"$U$39","v":0},{"$f":"$U$87","v":0},{"$f":"$U$98","v":0},0]
[null,17,{"$f":"IF('ステップ2（地下フロア構造）'!$C$36<>\"\",'ステップ2（地下フロア構造）'!$C$36,\"\")","v":""},{"$f":"IF('ステップ2（地下フロア構造）'!$D$36<>\"\",'ステップ2（地下フロア構造）'!$D$36,\"\")","v":""},{"$f":"IF('ステップ2（地下フロア構造）'!$F$36<>\"\",'ステップ2（地下フロア構造）'!$F$36,\"\")","v":""},null,{"$f":"$V$25","v":0},{"$f":"$V$39","v":0},{"$f":"$V$87","v":0},{"$f":"$V$98","v":0},0]
[null,18,{"$f":"IF('ステップ2（地下フロア構造）'!$C$37<>\"\",'ステップ2（地下フロア構造）'!$C$37,\"\")","v":""},{"$f":"IF('ステップ2（地下フロア構造）'!$D$37<>\"\",'ステップ2（地下フロア構造）'!$D$37,\"\")","v":""},{"$f":"IF('ステップ2（地下フロア構造）'!$F$37<>\"\",'ステップ2（地下フロア構造）'!$F$37,\"\")","v":""},null,{"$f":"$W$25","v":0},{"$f":"$W$39","v":0},{"$f":"$W$87","v":0},{"$f":"$W$98","v":0},0]
[null,19,{"$f":"IF('ステップ2（地下フロア構造）'!$C$38<>\"\",'ステップ2（地下フロア構造）'!$C$38,\"\")","v":""},{"$f":"IF('ステップ2（地下フロア構造）'!$D$38<>\"\",'ステップ2（地下フロア構造）'!$D$38,\"\")","v":""},{"$f":"IF('ステップ2（地下フロア構造）'!$F$38<>\"\",'ステップ2（地下フロア構造）'!$F$38,\"\")","v":""},null,{"$f":"$X$25","v":0},{"$f":"$X$39","v":0},{"$f":"$X$87","v":0},{"$f":"$X$98","v":0},0]
[null,20,{"$f":"IF('ステップ2（地下フロア構造）'!$C$39<>\"\",'ステップ2（地下フロア構造）'!$C$39,\"\")","v":""},{"$f":"IF('ステップ2（地下フロア構造）'!$D$39<>\"\",'ステップ2（地下フロア構造）'!$D$39,\"\")","v":""},{"$f":"IF('ステップ2（地下フロア構造）'!$F$39<>\"\",'ステップ2（地下フロア構造）'!$F$39,\"\")","v":""},null,{"$f":"$Y$25","v":0},{"$f":"$Y$39","v":0},{"$f":"$Y$87","v":0},{"$f":"$Y$98","v":0},0]
[]
["←左の　　をクリックすると縦並び表が開きます"]
["←左の　　をクリックすると縦並び表を閉じます"]

{"sheet":"在館者密度表","index":10,"n_rows":18,"n_cols":7,"rows_kept":18,"cut":false,"hidden":false,"merged":[[3,5,3,6],[6,6,7,6],[5,1,5,2],[6,1,7,1],[6,3,7,3],[6,4,7,4],[3,1,4,2],[3,3,4,3],[3,4,4,4],[13,6,14,6],[13,4,14,4],[15,1,15,2],[13,3,14,3],[8,1,8,2],[9,1,9,2],[10,1,11,1],[12,1,12,2],[13,1,14,1]]}
[]
[null,"表　　在館者密度と各居室の用途に類するものの例"]
[]
[null,"居室の種類",null,"用途の特徴","その他これに類するものの例","在館者密度\n（人/㎡）"]
[null,null,null,null,null,"避難安全検証法","この計算シート"]
[null,"住宅の居室",null,"居住の目的とするもの。","下宿・寄宿舎の居室",0.06,0.06]
[null,"住宅以外の建築物における寝室","固定ベッドの場合","専ら就寝することを目的とするもの。","ホテル・旅館の客室\n宿直室・仮眠室","ベッド数\n /床面積",0.16]
[null,null,"その他の場合",null,null,0.16]
[null,"事務室\n会議室\nその他",null,"事務の執務に使われるもの。\n\n事務室に隣接して設けられた打ち合わせなどに利用されるもの。（貸会議室は除く。）","学校の教員室・職員室\n飲食店の厨房\nマーケット等の調理作業室\nリフレッシュコーナー、打合 コーナー\n社長室、役員室、応接室\n中央管理室、防災センター",0.125,0.125]
[null,"教室",null,"主に机と椅子を\n並べて使うもの。","小規模の会議室、研修室",0.7,0.7]
[null,"百貨店又は物品販売業を営む店舗","売場の部分","商品の間を自由に移動できるもの。店舗内の通路を含む。","マーケット\n遊技場、ゲームセンター",0.5,0.5]
[null,null,"売場に附属する通路の部分","連続式店舗の共用の通路部分。","ショッピングモールの通路部分",0.25,0.25]
[null,"飲食室",null,"主に、机と椅子を並べて、飲食に利用するもの。","料理店、レストラン、喫茶店、コーヒーショップ、喫茶室、ティーラウンジ\nキャバレー、カフェー、ナイトクラブ、バー、ダンスホール、カラオケルーム",0.7,0.7]
[null,"劇場、映画館、\n演芸上、観覧場\n公会堂、集会場\nその他","固定席の場合","主に不特定かつ多数の人が高密度で利用するもの。","イベントホール\n\n式場、宴会場\n会議場\nディスコ、ライブハウス","座席数 \n/床面積",1.5]
[null,null,"その他の場合",null,null,1.5]
[null,"展示室その他",null,"展示の周囲を自由に回遊できるもの。","図書館、博物館、美術館、ギャラリー、ショールーム",0.5,0.5]
[null,"※「2001年版　避難安全検証法の解説及び計算例とその解説（平成13年３月）」をもとに作成。"]
[null,"※上記に記載のない、駐車場、倉庫（作業員等常駐）、その他（有人の居室）の在館者密度は、「0.125」とする。"]

{"sheet":"ステップ9（避難行動余裕時間の算定）","index":11,"n_rows":173,"n_cols":28,"rows_kept":173,"cut":false,"hidden":false,"merged":[[2,13,3,13],[2,12,3,12],[4,0,5,0],[33,5,34,5],[35,5,36,5],[13,2,17,4],[6,0,8,0],[9,0,10,0],[34,0,40,0],[50,2,55,3],[11,0,17,0],[126,5,127,5],[106,2,115,4],[106,5,107,5],[108,5,109,5],[110,5,111,5],[28,0,30,0],[37,5,38,5],[89,5,90,5],[91,5,92,5],[93,5,94,5],[95,5,96,5],[87,2,96,4],[87,5,88,5],[5,27,7,27],[9,27,15,27],[16,27,18,27],[45,2,45,5],[49,2,49,4],[48,2,48,4],[47,2,47,5],[46,2,46,5],[30,27,32,27],[29,5,30,5],[31,5,32,5],[19,5,20,5],[172,2,174,4],[100,2,100,5],[101,2,101,5],[154,2,157,4],[163,2,167,4],[168,2,171,4],[158,2,162,4],[112,5,113,5],[114,5,115,5],[126,2,135,4],[136,2,136,5],[102,2,102,5],[128,5,129,5],[130,5,131,5],[132,5,133,5],[134,5,135,5]]}
[null,"↑の","　　をクリックで左の説明を閉じる"]
[null,"↑の","　　をクリックで左の説明を開く"]
["◆ここでやること",null,"■ステップ9：地下空間浸水時の避難安全性の検討",null,null,null,null,null,null,null,null,null,"↑N列～Z列の表示／非表示",null,null,null,null,null,null,null,null,null,null,null,null,null,null,"◆解説"]
[null,null,"　　　　　　　（避難行動余裕時間の算定）"]
["■ステップ9：地下空間浸水時の避難安全性の検討（避難行動余裕時間の算定）",null,null,null,null,null,null,null,null,null,null,null,null,null,null,null,null,null,null,null,null,null,null,null,null,null,null,"◆避難安全性の検討（判定・評価）について"]
[null,null,"１．避難経路の設定（避難開始区画・部屋から地上までの経路の設定）",null,null,null,null,null,null,null,null,null,null,null,null,null,null,null,null,null,null,null,null,null,null,null,null,"地下空間からの避難行動の安全性の検討（判定・評価）は、地下空間利用者が地上まで避難経路上において、避難行動に重大な影響を及ぼすと考えられる状況になるまでに、その地点を通過することができるかで判断します。"]
["①「１．避難経路の設定」で、避難対策の種類と避難を開始する区画・部屋から地上までの避難経路となる区画・部屋を設定します。"]
[null,null,null,null,null,"避難開始フロア",{"$f":"IF('ステップ2（地下フロア構造）'!$D$20<>\"\",'ステップ2（地下フロア構造）'!$C$20,\"\")","v":""},{"$f":"IF('ステップ2（地下フロア構造）'!$D$21<>\"\",'ステップ2（地下フロア構造）'!$C$21,\"\")","v":""},{"$f":"IF('ステップ2（地下フロア構造）'!$D$22<>\"\",'ステップ2（地下フロア構造）'!$C$22,\"\")","v":""},{"$f":"IF('ステップ2（地下フロア構造）'!$D$23<>\"\",'ステップ2（地下フロア構造）'!$C$23,\"\")","v":""},{"$f":"IF('ステップ2（地下フロア構造）'!$D$24<>\"\",'ステップ2（地下フロア構造）'!$C$24,\"\")","v":""},{"$f":"IF('ステップ2（地下フロア構造）'!$D$25<>\"\",'ステップ2（地下フロア構造）'!$C$25,\"\")","v":""},{"$f":"IF('ステップ2（地下フロア構造）'!$D$26<>\"\",'ステップ2（地下フロア構造）'!$C$26,\"\")","v":""},{"$f":"IF('ステップ2（地下フロア構造）'!$D$27<>\"\",'ステップ2（地下フロア構造）'!$C$27,\"\")","v":""},{"$f":"IF('ステップ2（地下フロア構造）'!$D$28<>\"\",'ステップ2（地下フロア構造）'!$C$28,\"\")","v":""},{"$f":"IF('ステップ2（地下フロア構造）'!$D$29<>\"\",'ステップ2（地下フロア構造）'!$C$29,\"\")","v":""},{"$f":"IF('ステップ2（地下フロア構造）'!$D$30<>\"\",'ステップ2（地下フロア構造）'!$C$30,\"\")","v":""},{"$f":"IF('ステップ2（地下フロア構造）'!$D$31<>\"\",'ステップ2（地下フロア構造）'!$C$31,\"\")","v":""},{"$f":"IF('ステップ2（地下フロア構造）'!$D$32<>\"\",'ステップ2（地下フロア構造）'!$C$32,\"\")","v":""},{"$f":"IF('ステップ2（地下フロア構造）'!$D$33<>\"\",'ステップ2（地下フロア構造）'!$C$33,\"\")","v":""},{"$f":"IF('ステップ2（地下フロア構造）'!$D$34<>\"\",'ステップ2（地下フロア構造）'!$C$34,\"\")","v":""},{"$f":"IF('ステップ2（地下フロア構造）'!$D$35<>\"\",'ステップ2（地下フロア構造）'!$C$35,\"\")","v":""},{"$f":"IF('ステップ2（地下フロア構造）'!$D$36<>\"\",'ステップ2（地下フロア構造）'!$C$36,\"\")","v":""},{"$f":"IF('ステップ2（地下フロア構造）'!$D$37<>\"\",'ステップ2（地下フロア構造）'!$C$37,\"\")","v":""},{"$f":"IF('ステップ2（地下フロア構造）'!$D$38<>\"\",'ステップ2（地下フロア構造）'!$C$38,\"\")","v":""},{"$f":"IF('ステップ2（地下フロア構造）'!$D$39<>\"\",'ステップ2（地下フロア構造）'!$C$39,\"\")","v":""}]
[null,null,null,null,null,"避難開始区画・部屋番号",{"$f":"IF('ステップ2（地下フロア構造）'!$D$20<>\"\",'ステップ2（地下フロア構造）'!$D$20,\"\")","v":""},{"$f":"IF('ステップ2（地下フロア構造）'!$D$21<>\"\",'ステップ2（地下フロア構造）'!$D$21,\"\")","v":""},{"$f":"IF('ステップ2（地下フロア構造）'!$D$22<>\"\",'ステップ2（地下フロア構造）'!$D$22,\"\")","v":""},{"$f":"IF('ステップ2（地下フロア構造）'!$D$23<>\"\",'ステップ2（地下フロア構造）'!$D$23,\"\")","v":""},{"$f":"IF('ステップ2（地下フロア構造）'!$D$24<>\"\",'ステップ2（地下フロア構造）'!$D$24,\"\")","v":""},{"$f":"IF('ステップ2（地下フロア構造）'!$D$25<>\"\",'ステップ2（地下フロア構造）'!$D$25,\"\")","v":""},{"$f":"IF('ステップ2（地下フロア構造）'!$D$26<>\"\",'ステップ2（地下フロア構造）'!$D$26,\"\")","v":""},{"$f":"IF('ステップ2（地下フロア構造）'!$D$27<>\"\",'ステップ2（地下フロア構造）'!$D$27,\"\")","v":""},{"$f":"IF('ステップ2（地下フロア構造）'!$D$28<>\"\",'ステップ2（地下フロア構造）'!$D$28,\"\")","v":""},{"$f":"IF('ステップ2（地下フロア構造）'!$D$29<>\"\",'ステップ2（地下フロア構造）'!$D$29,\"\")","v":""},{"$f":"IF('ステップ2（地下フロア構造）'!$D$30<>\"\",'ステップ2（地下フロア構造）'!$D$30,\"\")","v":""},{"$f":"IF('ステップ2（地下フロア構造）'!$D$31<>\"\",'ステップ2（地下フロア構造）'!$D$31,\"\")","v":""},{"$f":"IF('ステップ2（地下フロア構造）'!$D$32<>\"\",'ステップ2（地下フロア構造）'!$D$32,\"\")","v":""},{"$f":"IF('ステップ2（地下フロア構造）'!$D$33<>\"\",'ステップ2（地下フロア構造）'!$D$33,\"\")","v":""},{"$f":"IF('ステップ2（地下フロア構造）'!$D$34<>\"\",'ステップ2（地下フロア構造）'!$D$34,\"\")","v":""},{"$f":"IF('ステップ2（地下フロア構造）'!$D$35<>\"\",'ステップ2（地下フロア構造）'!$D$35,\"\")","v":""},{"$f":"IF('ステップ2（地下フロア構造）'!$D$36<>\"\",'ステップ2（地下フロア構造）'!$D$36,\"\")","v":""},{"$f":"IF('ステップ2（地下フロア構造）'!$D$37<>\"\",'ステップ2（地下フロア構造）'!$D$37,\"\")","v":""},{"$f":"IF('ステップ2（地下フロア構造）'!$D$38<>\"\",'ステップ2（地下フロア構造）'!$D$38,\"\")","v":""},{"$f":"IF('ステップ2（地下フロア構造）'!$D$39<>\"\",'ステップ2（地下フロア構造）'!$D$39,\"\")","v":""}]
["※避難対策の種類と区画・部屋は、いずれもプルダウンメニューで選択します。",null,null,null,null,"避難開始区画・部屋名称",{"$f":"IF('ステップ2（地下フロア構造）'!$F$20<>\"\",'ステップ2（地下フロア構造）'!$F$20,\"\")","v":""},{"$f":"IF('ステップ2（地下フロア構造）'!$F$21<>\"\",'ステップ2（地下フロア構造）'!$F$21,\"\")","v":""},{"$f":"IF('ステップ2（地下フロア構造）'!$F$22<>\"\",'ステップ2（地下フロア構造）'!$F$22,\"\")","v":""},{"$f":"IF('ステップ2（地下フロア構造）'!$F$23<>\"\",'ステップ2（地下フロア構造）'!$F$23,\"\")","v":""},{"$f":"IF('ステップ2（地下フロア構造）'!$F$24<>\"\",'ステップ2（地下フロア構造）'!$F$24,\"\")","v":""},{"$f":"IF('ステップ2（地下フロア構造）'!$F$25<>\"\",'ステップ2（地下フロア構造）'!$F$25,\"\")","v":""},{"$f":"IF('ステップ2（地下フロア構造）'!$F$26<>\"\",'ステップ2（地下フロア構造）'!$F$26,\"\")","v":""},{"$f":"IF('ステップ2（地下フロア構造）'!$F$27<>\"\",'ステップ2（地下フロア構造）'!$F$27,\"\")","v":""},{"$f":"IF('ステップ2（地下フロア構造）'!$F$28<>\"\",'ステップ2（地下フロア構造）'!$F$28,\"\")","v":""},{"$f":"IF('ステップ2（地下フロア構造）'!$F$29<>\"\",'ステップ2（地下フロア構造）'!$F$29,\"\")","v":""},{"$f":"IF('ステップ2（地下フロア構造）'!$F$30<>\"\",'ステップ2（地下フロア構造）'!$F$30,\"\")","v":""},{"$f":"IF('ステップ2（地下フロア構造）'!$F$31<>\"\",'ステップ2（地下フロア構造）'!$F$31,\"\")","v":""},{"$f":"IF('ステップ2（地下フロア構造）'!$F$32<>\"\",'ステップ2（地下フロア構造）'!$F$32,\"\")","v":""},{"$f":"IF('ステップ2（地下フロア構造）'!$F$33<>\"\",'ステップ2（地下フロア構造）'!$F$33,\"\")","v":""},{"$f":"IF('ステップ2（地下フロア構造）'!$F$34<>\"\",'ステップ2（地下フロア構造）'!$F$34,\"\")","v":""},{"$f":"IF('ステップ2（地下フロア構造）'!$F$35<>\"\",'ステップ2（地下フロア構造）'!$F$35,\"\")","v":""},{"$f":"IF('ステップ2（地下フロア構造）'!$F$36<>\"\",'ステップ2（地下フロア構造）'!$F$36,\"\")","v":""},{"$f":"IF('ステップ2（地下フロア構造）'!$F$37<>\"\",'ステップ2（地下フロア構造）'!$F$37,\"\")","v":""},{"$f":"IF('ステップ2（地下フロア構造）'!$F$38<>\"\",'ステップ2（地下フロア構造）'!$F$38,\"\")","v":""},{"$f":"IF('ステップ2（地下フロア構造）'!$F$39<>\"\",'ステップ2（地下フロア構造）'!$F$39,\"\")","v":""},null,"避難行動に重大な影響を及ぼすと考えられる浸水状況には、ステップ５でも示した「避難困難水深」になる以下の状況が考えられます。\n\n① 地下フロアにおいては、ドアが開かなくなる可能性があり、歩行が困難となる浸水状況（浸水深0.3m）\n\n② 地上への階段部においては、階段を昇るのが困難になる浸水状況\n（階段踏面上の越流水深0.2m）"]
[null,null,null,null,null,null,"避難対策及び避難経路となる区画・部屋番号の選択"]
["②「２．避難困難水深になる時間(Ts)」がステップ５の結果から参照されます。（自動）\n\n③「３．避難行動所要時間(Th)」がステップ８の結果から算定されます。（自動）\n\n④「４．避難行動余裕時間と避難安全性評価」で避難行動余裕時間を算定し、避難安全性評価を行います。（自動）",null,null,null,null,null,{"$f":"IF(G9<>\"\",\"必須選択\",\"\")","v":""},{"$f":"IF(H9<>\"\",\"必須選択\",\"\")","v":""},"","","","","","","","","","","","","","","","","",""]
[null,null,null,null,null,"避難誘導対策 *1)"]
[null,null,"通過区画・部屋\n\n※避難開始区画・部屋から地下1階まで選択します。",null,null,"地下1階"]
[null,null,null,null,null,"地下2階"]
[null,null,null,null,null,"地下3階"]
[null,null,null,null,null,"地下4階",null,null,null,null,null,null,null,null,null,null,null,null,null,null,null,null,null,null,null,null,null,"避難経路上において、避難困難水深になる時間と避難する人がその地点まで到達する時間（避難行動所要時間）とを比較し安全性を検討（判定・評価）します。"]
[null,null,null,null,null,"地下5階"]
[null,null,null,null,null,null,"　無対策"]
["※避難行動余裕時間 ",null,null,null,null,"　*1)避難誘導対策の種類","　対策1：一斉通報1（管理者による地上監視かつ一斉通報を行える場合）"]
[" ＝ 避難困難水深になる時間(Ts) － 避難行動所要時間(Th)",null,null,null,null,null,"　対策2：一斉通報2（地上型浸水センサーの設置かつ一斉通報が行える場合）"]
[null,null,null,null,null,null,"　対策3：一斉通報3（浸水情報の早期入手かつ一斉通報行える場合）"]
["＜避難安全性評価＞",null,null,null,null,null,null,null,null,null,null,null,null,null,null,null,null,null,null,null,null,null,null,null,null,null,null,"※避難行動余裕時間 "]
["・Ts－Th＜0（避難行動余裕時間がマイナス）：",null,"２．避難困難水深になる時間(Ts)（ステップ５の結果を参照）",null,null,null,null,null,null,null,null,null,null,null,null,null,null,null,null,null,null,null,null,null,null,null,null," ＝ 避難困難水深になる時間(Ts) － 避難行動所要時間(Th)"]
["「×」→避難終了前に避難が困難になる\n",null,null,null,null,null,null,null,null,null,null,null,null,null,null,null,null,null,null,null,null,null,null,null,null,null,null,"＜避難安全性評価＞"]
["・Ts－Th＞0（避難行動余裕時間がプラス）　：",null,null,null,null,"避難開始区画・部屋番号",{"$f":"IF('ステップ2（地下フロア構造）'!$D$20<>\"\",'ステップ2（地下フロア構造）'!$D$20,\"\")","v":""},{"$f":"IF('ステップ2（地下フロア構造）'!$D$21<>\"\",'ステップ2（地下フロア構造）'!$D$21,\"\")","v":""},{"$f":"IF('ステップ2（地下フロア構造）'!$D$22<>\"\",'ステップ2（地下フロア構造）'!$D$22,\"\")","v":""},{"$f":"IF('ステップ2（地下フロア構造）'!$D$23<>\"\",'ステップ2（地下フロア構造）'!$D$23,\"\")","v":""},{"$f":"IF('ステップ2（地下フロア構造）'!$D$24<>\"\",'ステップ2（地下フロア構造）'!$D$24,\"\")","v":""},{"$f":"IF('ステップ2（地下フロア構造）'!$D$25<>\"\",'ステップ2（地下フロア構造）'!$D$25,\"\")","v":""},{"$f":"IF('ステップ2（地下フロア構造）'!$D$26<>\"\",'ステップ2（地下フロア構造）'!$D$26,\"\")","v":""},{"$f":"IF('ステップ2（地下フロア構造）'!$D$27<>\"\",'ステップ2（地下フロア構造）'!$D$27,\"\")","v":""},{"$f":"IF('ステップ2（地下フロア構造）'!$D$28<>\"\",'ステップ2（地下フロア構造）'!$D$28,\"\")","v":""},{"$f":"IF('ステップ2（地下フロア構造）'!$D$29<>\"\",'ステップ2（地下フロア構造）'!$D$29,\"\")","v":""},{"$f":"IF('ステップ2（地下フロア構造）'!$D$30<>\"\",'ステップ2（地下フロア構造）'!$D$30,\"\")","v":""},{"$f":"IF('ステップ2（地下フロア構造）'!$D$31<>\"\",'ステップ2（地下フロア構造）'!$D$31,\"\")","v":""},{"$f":"IF('ステップ2（地下フロア構造）'!$D$32<>\"\",'ステップ2（地下フロア構造）'!$D$32,\"\")","v":""},{"$f":"IF('ステップ2（地下フロア構造）'!$D$33<>\"\",'ステップ2（地下フロア構造）'!$D$33,\"\")","v":""},{"$f":"IF('ステップ2（地下フロア構造）'!$D$34<>\"\",'ステップ2（地下フロア構造）'!$D$34,\"\")","v":""},{"$f":"IF('ステップ2（地下フロア構造）'!$D$35<>\"\",'ステップ2（地下フロア構造）'!$D$35,\"\")","v":""},{"$f":"IF('ステップ2（地下フロア構造）'!$D$36<>\"\",'ステップ2（地下フロア構造）'!$D$36,\"\")","v":""},{"$f":"IF('ステップ2（地下フロア構造）'!$D$37<>\"\",'ステップ2（地下フロア構造）'!$D$37,\"\")","v":""},{"$f":"IF('ステップ2（地下フロア構造）'!$D$38<>\"\",'ステップ2（地下フロア構造）'!$D$38,\"\")","v":""},{"$f":"IF('ステップ2（地下フロア構造）'!$D$39<>\"\",'ステップ2（地下フロア構造）'!$D$39,\"\")","v":""},null,"・Ts－Th＜0（避難行動余裕時間がマイナス）："]
["「○」→避難が困難になる前に避難完了",null,null,null,null,null,"避難困難水深になる時間(Ts)（分）",null,null,null,null,null,null,null,null,null,null,null,null,null,null,null,null,null,null,null,null,"「×」→避難終了前に避難が困難になる\n"]
[null,null,null,null,null,null,"　　[各区画・部屋の避難困難水深になる時間をステップ５から参照]",null,null,null,null,null,null,null,null,null,null,null,null,null,null,null,null,null,null,null,null,"・Ts－Th＞0（避難行動余裕時間がプラス）　："]
["⑤避難安全性評価が出た段階で、いったんファイルを保存します。",null,null,null,null,null,"算定結果","算定結果","算定結果","算定結果","算定結果","算定結果","算定結果","算定結果","算定結果","算定結果","算定結果","算定結果","算定結果","算定結果","算定結果","算定結果","算定結果","算定結果","算定結果","算定結果",null,"「○」→避難が困難になる前に避難完了"]
[null,null,null,null,null,"地下1階",{"$f":"IF(G14<>\"\",G14,\"\")","v":""},"","","","","","","","","","","","","","","","","","",""]
[null,null,null,null,null,null,{"$f":"IF(G14=\"\",\"\",IF(ISERROR(VLOOKUP(G14,'ステップ5（地下浸水状況）'!$D$12:$H$31,5,FALSE)),\"\",VLOOKUP(G14,'ステップ5（地下浸水状況）'!$D$12:$H$31,5,FALSE)))","v":""},{"$f":"IF(H14=\"\",\"\",IF(ISERROR(VLOOKUP(H14,'ステップ5（地下浸水状況）'!$D$12:$H$31,5,FALSE)),\"\",VLOOKUP(H14,'ステップ5（地下浸水状況）'!$D$12:$H$31,5,FALSE)))","v":""},{"$f":"IF(I14=\"\",\"\",IF(ISERROR(VLOOKUP(I14,'ステップ5（地下浸水状況）'!$D$12:$H$31,5,FALSE)),\"\",VLOOKUP(I14,'ステップ5（地下浸水状況）'!$D$12:$H$31,5,FALSE)))","v":""},{"$f":"IF(J14=\"\",\"\",IF(ISERROR(VLOOKUP(J14,'ステップ5（地下浸水状況）'!$D$12:$H$31,5,FALSE)),\"\",VLOOKUP(J14,'ステップ5（地下浸水状況）'!$D$12:$H$31,5,FALSE)))","v":""},{"$f":"IF(K14=\"\",\"\",IF(ISERROR(VLOOKUP(K14,'ステップ5（地下浸水状況）'!$D$12:$H$31,5,FALSE)),\"\",VLOOKUP(K14,'ステップ5（地下浸水状況）'!$D$12:$H$31,5,FALSE)))","v":""},{"$f":"IF(L14=\"\",\"\",IF(ISERROR(VLOOKUP(L14,'ステップ5（地下浸水状況）'!$D$12:$H$31,5,FALSE)),\"\",VLOOKUP(L14,'ステップ5（地下浸水状況）'!$D$12:$H$31,5,FALSE)))","v":""},{"$f":"IF(M14=\"\",\"\",IF(ISERROR(VLOOKUP(M14,'ステップ5（地下浸水状況）'!$D$12:$H$31,5,FALSE)),\"\",VLOOKUP(M14,'ステップ5（地下浸水状況）'!$D$12:$H$31,5,FALSE)))","v":""},{"$f":"IF(N14=\"\",\"\",IF(ISERROR(VLOOKUP(N14,'ステップ5（地下浸水状況）'!$D$12:$H$31,5,FALSE)),\"\",VLOOKUP(N14,'ステップ5（地下浸水状況）'!$D$12:$H$31,5,FALSE)))","v":""},{"$f":"IF(O14=\"\",\"\",IF(ISERROR(VLOOKUP(O14,'ステップ5（地下浸水状況）'!$D$12:$H$31,5,FALSE)),\"\",VLOOKUP(O14,'ステップ5（地下浸水状況）'!$D$12:$H$31,5,FALSE)))","v":""},{"$f":"IF(P14=\"\",\"\",IF(ISERROR(VLOOKUP(P14,'ステップ5（地下浸水状況）'!$D$12:$H$31,5,FALSE)),\"\",VLOOKUP(P14,'ステップ5（地下浸水状況）'!$D$12:$H$31,5,FALSE)))","v":""},{"$f":"IF(Q14=\"\",\"\",IF(ISERROR(VLOOKUP(Q14,'ステップ5（地下浸水状況）'!$D$12:$H$31,5,FALSE)),\"\",VLOOKUP(Q14,'ステップ5（地下浸水状況）'!$D$12:$H$31,5,FALSE)))","v":""},{"$f":"IF(R14=\"\",\"\",IF(ISERROR(VLOOKUP(R14,'ステップ5（地下浸水状況）'!$D$12:$H$31,5,FALSE)),\"\",VLOOKUP(R14,'ステップ5（地下浸水状況）'!$D$12:$H$31,5,FALSE)))","v":""},{"$f":"IF(S14=\"\",\"\",IF(ISERROR(VLOOKUP(S14,'ステップ5（地下浸水状況）'!$D$12:$H$31,5,FALSE)),\"\",VLOOKUP(S14,'ステップ5（地下浸水状況）'!$D$12:$H$31,5,FALSE)))","v":""},{"$f":"IF(T14=\"\",\"\",IF(ISERROR(VLOOKUP(T14,'ステップ5（地下浸水状況）'!$D$12:$H$31,5,FALSE)),\"\",VLOOKUP(T14,'ステップ5（地下浸水状況）'!$D$12:$H$31,5,FALSE)))","v":""},{"$f":"IF(U14=\"\",\"\",IF(ISERROR(VLOOKUP(U14,'ステップ5（地下浸水状況）'!$D$12:$H$31,5,FALSE)),\"\",VLOOKUP(U14,'ステップ5（地下浸水状況）'!$D$12:$H$31,5,FALSE)))","v":""},{"$f":"IF(V14=\"\",\"\",IF(ISERROR(VLOOKUP(V14,'ステップ5（地下浸水状況）'!$D$12:$H$31,5,FALSE)),\"\",VLOOKUP(V14,'ステップ5（地下浸水状況）'!$D$12:$H$31,5,FALSE)))","v":""},{"$f":"IF(W14=\"\",\"\",IF(ISERROR(VLOOKUP(W14,'ステップ5（地下浸水状況）'!$D$12:$H$31,5,FALSE)),\"\",VLOOKUP(W14,'ステップ5（地下浸水状況）'!$D$12:$H$31,5,FALSE)))","v":""},{"$f":"IF(X14=\"\",\"\",IF(ISERROR(VLOOKUP(X14,'ステップ5（地下浸水状況）'!$D$12:$H$31,5,FALSE)),\"\",VLOOKUP(X14,'ステップ5（地下浸水状況）'!$D$12:$H$31,5,FALSE)))","v":""},{"$f":"IF(Y14=\"\",\"\",IF(ISERROR(VLOOKUP(Y14,'ステップ5（地下浸水状況）'!$D$12:$H$31,5,FALSE)),\"\",VLOOKUP(Y14,'ステップ5（地下浸水状況）'!$D$12:$H$31,5,FALSE)))","v":""},{"$f":"IF(Z14=\"\",\"\",IF(ISERROR(VLOOKUP(Z14,'ステップ5（地下浸水状況）'!$D$12:$H$31,5,FALSE)),\"\",VLOOKUP(Z14,'ステップ5（地下浸水状況）'!$D$12:$H$31,5,FALSE)))","v":""},null,"検討の結果「×」となった場合、どのように避難対策または浸水対策を行えば「○」になるかをトライアルして適切な対策を見出す必要があります。"]
[null,null,null,null,null,"地下2階",{"$f":"IF(G15<>\"\",G15,\"\")","v":""},"","","","","","","","","","","","","","","","","","",""]
["（ステップ1～9の一連の作業の終了）",null,null,null,null,null,{"$f":"IF(G15=\"\",\"\",IF(ISERROR(VLOOKUP(G15,'ステップ5（地下浸水状況）'!$D$12:$H$31,5,FALSE)),\"\",VLOOKUP(G15,'ステップ5（地下浸水状況）'!$D$12:$H$31,5,FALSE)))","v":""},{"$f":"IF(H15=\"\",\"\",IF(ISERROR(VLOOKUP(H15,'ステップ5（地下浸水状況）'!$D$12:$H$31,5,FALSE)),\"\",VLOOKUP(H15,'ステップ5（地下浸水状況）'!$D$12:$H$31,5,FALSE)))","v":""},{"$f":"IF(I15=\"\",\"\",IF(ISERROR(VLOOKUP(I15,'ステップ5（地下浸水状況）'!$D$12:$H$31,5,FALSE)),\"\",VLOOKUP(I15,'ステップ5（地下浸水状況）'!$D$12:$H$31,5,FALSE)))","v":""},{"$f":"IF(J15=\"\",\"\",IF(ISERROR(VLOOKUP(J15,'ステップ5（地下浸水状況）'!$D$12:$H$31,5,FALSE)),\"\",VLOOKUP(J15,'ステップ5（地下浸水状況）'!$D$12:$H$31,5,FALSE)))","v":""},{"$f":"IF(K15=\"\",\"\",IF(ISERROR(VLOOKUP(K15,'ステップ5（地下浸水状況）'!$D$12:$H$31,5,FALSE)),\"\",VLOOKUP(K15,'ステップ5（地下浸水状況）'!$D$12:$H$31,5,FALSE)))","v":""},{"$f":"IF(L15=\"\",\"\",IF(ISERROR(VLOOKUP(L15,'ステップ5（地下浸水状況）'!$D$12:$H$31,5,FALSE)),\"\",VLOOKUP(L15,'ステップ5（地下浸水状況）'!$D$12:$H$31,5,FALSE)))","v":""},{"$f":"IF(M15=\"\",\"\",IF(ISERROR(VLOOKUP(M15,'ステップ5（地下浸水状況）'!$D$12:$H$31,5,FALSE)),\"\",VLOOKUP(M15,'ステップ5（地下浸水状況）'!$D$12:$H$31,5,FALSE)))","v":""},{"$f":"IF(N15=\"\",\"\",IF(ISERROR(VLOOKUP(N15,'ステップ5（地下浸水状況）'!$D$12:$H$31,5,FALSE)),\"\",VLOOKUP(N15,'ステップ5（地下浸水状況）'!$D$12:$H$31,5,FALSE)))","v":""},{"$f":"IF(O15=\"\",\"\",IF(ISERROR(VLOOKUP(O15,'ステップ5（地下浸水状況）'!$D$12:$H$31,5,FALSE)),\"\",VLOOKUP(O15,'ステップ5（地下浸水状況）'!$D$12:$H$31,5,FALSE)))","v":""},{"$f":"IF(P15=\"\",\"\",IF(ISERROR(VLOOKUP(P15,'ステップ5（地下浸水状況）'!$D$12:$H$31,5,FALSE)),\"\",VLOOKUP(P15,'ステップ5（地下浸水状況）'!$D$12:$H$31,5,FALSE)))","v":""},{"$f":"IF(Q15=\"\",\"\",IF(ISERROR(VLOOKUP(Q15,'ステップ5（地下浸水状況）'!$D$12:$H$31,5,FALSE)),\"\",VLOOKUP(Q15,'ステップ5（地下浸水状況）'!$D$12:$H$31,5,FALSE)))","v":""},{"$f":"IF(R15=\"\",\"\",IF(ISERROR(VLOOKUP(R15,'ステップ5（地下浸水状況）'!$D$12:$H$31,5,FALSE)),\"\",VLOOKUP(R15,'ステップ5（地下浸水状況）'!$D$12:$H$31,5,FALSE)))","v":""},{"$f":"IF(S15=\"\",\"\",IF(ISERROR(VLOOKUP(S15,'ステップ5（地下浸水状況）'!$D$12:$H$31,5,FALSE)),\"\",VLOOKUP(S15,'ステップ5（地下浸水状況）'!$D$12:$H$31,5,FALSE)))","v":""},{"$f":"IF(T15=\"\",\"\",IF(ISERROR(VLOOKUP(T15,'ステップ5（地下浸水状況）'!$D$12:$H$31,5,FALSE)),\"\",VLOOKUP(T15,'ステップ5（地下浸水状況）'!$D$12:$H$31,5,FALSE)))","v":""},{"$f":"IF(U15=\"\",\"\",IF(ISERROR(VLOOKUP(U15,'ステップ5（地下浸水状況）'!$D$12:$H$31,5,FALSE)),\"\",VLOOKUP(U15,'ステップ5（地下浸水状況）'!$D$12:$H$31,5,FALSE)))","v":""},{"$f":"IF(V15=\"\",\"\",IF(ISERROR(VLOOKUP(V15,'ステップ5（地下浸水状況）'!$D$12:$H$31,5,FALSE)),\"\",VLOOKUP(V15,'ステップ5（地下浸水状況）'!$D$12:$H$31,5,FALSE)))","v":""},{"$f":"IF(W15=\"\",\"\",IF(ISERROR(VLOOKUP(W15,'ステップ5（地下浸水状況）'!$D$12:$H$31,5,FALSE)),\"\",VLOOKUP(W15,'ステップ5（地下浸水状況）'!$D$12:$H$31,5,FALSE)))","v":""},{"$f":"IF(X15=\"\",\"\",IF(ISERROR(VLOOKUP(X15,'ステップ5（地下浸水状況）'!$D$12:$H$31,5,FALSE)),\"\",VLOOKUP(X15,'ステップ5（地下浸水状況）'!$D$12:$H$31,5,FALSE)))","v":""},{"$f":"IF(Y15=\"\",\"\",IF(ISERROR(VLOOKUP(Y15,'ステップ5（地下浸水状況）'!$D$12:$H$31,5,FALSE)),\"\",VLOOKUP(Y15,'ステップ5（地下浸水状況）'!$D$12:$H$31,5,FALSE)))","v":""},{"$f":"IF(Z15=\"\",\"\",IF(ISERROR(VLOOKUP(Z15,'ステップ5（地下浸水状況）'!$D$12:$H$31,5,FALSE)),\"\",VLOOKUP(Z15,'ステップ5（地下浸水状況）'!$D$12:$H$31,5,FALSE)))","v":""}]
[null,null,null,null,null,"地下3階",{"$f":"IF(G16<>\"\",G16,\"\")","v":""},{"$f":"IF(H16<>\"\",H16,\"\")","v":""},"","","","","","","","","","","","","","","","","",""]
["⑥評価が「×」となった場合、どのように避難対策または浸水対策を行えば「○」になるかを試算します。その際、ファイルを⑤とは違う名前で保存します。\n\n⑦試算の結果、避難安全性評価が「○」になったら、再度ファイルを保存して終了します。",null,null,null,null,null,{"$f":"IF(G16=\"\",\"\",IF(ISERROR(VLOOKUP(G16,'ステップ5（地下浸水状況）'!$D$12:$H$31,5,FALSE)),\"\",VLOOKUP(G16,'ステップ5（地下浸水状況）'!$D$12:$H$31,5,FALSE)))","v":""},{"$f":"IF(H16=\"\",\"\",IF(ISERROR(VLOOKUP(H16,'ステップ5（地下浸水状況）'!$D$12:$H$31,5,FALSE)),\"\",VLOOKUP(H16,'ステップ5（地下浸水状況）'!$D$12:$H$31,5,FALSE)))","v":""},{"$f":"IF(I16=\"\",\"\",IF(ISERROR(VLOOKUP(I16,'ステップ5（地下浸水状況）'!$D$12:$H$31,5,FALSE)),\"\",VLOOKUP(I16,'ステップ5（地下浸水状況）'!$D$12:$H$31,5,FALSE)))","v":""},{"$f":"IF(J16=\"\",\"\",IF(ISERROR(VLOOKUP(J16,'ステップ5（地下浸水状況）'!$D$12:$H$31,5,FALSE)),\"\",VLOOKUP(J16,'ステップ5（地下浸水状況）'!$D$12:$H$31,5,FALSE)))","v":""},{"$f":"IF(K16=\"\",\"\",IF(ISERROR(VLOOKUP(K16,'ステップ5（地下浸水状況）'!$D$12:$H$31,5,FALSE)),\"\",VLOOKUP(K16,'ステップ5（地下浸水状況）'!$D$12:$H$31,5,FALSE)))","v":""},{"$f":"IF(L16=\"\",\"\",IF(ISERROR(VLOOKUP(L16,'ステップ5（地下浸水状況）'!$D$12:$H$31,5,FALSE)),\"\",VLOOKUP(L16,'ステップ5（地下浸水状況）'!$D$12:$H$31,5,FALSE)))","v":""},{"$f":"IF(M16=\"\",\"\",IF(ISERROR(VLOOKUP(M16,'ステップ5（地下浸水状況）'!$D$12:$H$31,5,FALSE)),\"\",VLOOKUP(M16,'ステップ5（地下浸水状況）'!$D$12:$H$31,5,FALSE)))","v":""},{"$f":"IF(N16=\"\",\"\",IF(ISERROR(VLOOKUP(N16,'ステップ5（地下浸水状況）'!$D$12:$H$31,5,FALSE)),\"\",VLOOKUP(N16,'ステップ5（地下浸水状況）'!$D$12:$H$31,5,FALSE)))","v":""},{"$f":"IF(O16=\"\",\"\",IF(ISERROR(VLOOKUP(O16,'ステップ5（地下浸水状況）'!$D$12:$H$31,5,FALSE)),\"\",VLOOKUP(O16,'ステップ5（地下浸水状況）'!$D$12:$H$31,5,FALSE)))","v":""},{"$f":"IF(P16=\"\",\"\",IF(ISERROR(VLOOKUP(P16,'ステップ5（地下浸水状況）'!$D$12:$H$31,5,FALSE)),\"\",VLOOKUP(P16,'ステップ5（地下浸水状況）'!$D$12:$H$31,5,FALSE)))","v":""},{"$f":"IF(Q16=\"\",\"\",IF(ISERROR(VLOOKUP(Q16,'ステップ5（地下浸水状況）'!$D$12:$H$31,5,FALSE)),\"\",VLOOKUP(Q16,'ステップ5（地下浸水状況）'!$D$12:$H$31,5,FALSE)))","v":""},{"$f":"IF(R16=\"\",\"\",IF(ISERROR(VLOOKUP(R16,'ステップ5（地下浸水状況）'!$D$12:$H$31,5,FALSE)),\"\",VLOOKUP(R16,'ステップ5（地下浸水状況）'!$D$12:$H$31,5,FALSE)))","v":""},{"$f":"IF(S16=\"\",\"\",IF(ISERROR(VLOOKUP(S16,'ステップ5（地下浸水状況）'!$D$12:$H$31,5,FALSE)),\"\",VLOOKUP(S16,'ステップ5（地下浸水状況）'!$D$12:$H$31,5,FALSE)))","v":""},{"$f":"IF(T16=\"\",\"\",IF(ISERROR(VLOOKUP(T16,'ステップ5（地下浸水状況）'!$D$12:$H$31,5,FALSE)),\"\",VLOOKUP(T16,'ステップ5（地下浸水状況）'!$D$12:$H$31,5,FALSE)))","v":""},{"$f":"IF(U16=\"\",\"\",IF(ISERROR(VLOOKUP(U16,'ステップ5（地下浸水状況）'!$D$12:$H$31,5,FALSE)),\"\",VLOOKUP(U16,'ステップ5（地下浸水状況）'!$D$12:$H$31,5,FALSE)))","v":""},{"$f":"IF(V16=\"\",\"\",IF(ISERROR(VLOOKUP(V16,'ステップ5（地下浸水状況）'!$D$12:$H$31,5,FALSE)),\"\",VLOOKUP(V16,'ステップ5（地下浸水状況）'!$D$12:$H$31,5,FALSE)))","v":""},{"$f":"IF(W16=\"\",\"\",IF(ISERROR(VLOOKUP(W16,'ステップ5（地下浸水状況）'!$D$12:$H$31,5,FALSE)),\"\",VLOOKUP(W16,'ステップ5（地下浸水状況）'!$D$12:$H$31,5,FALSE)))","v":""},{"$f":"IF(X16=\"\",\"\",IF(ISERROR(VLOOKUP(X16,'ステップ5（地下浸水状況）'!$D$12:$H$31,5,FALSE)),\"\",VLOOKUP(X16,'ステップ5（地下浸水状況）'!$D$12:$H$31,5,FALSE)))","v":""},{"$f":"IF(Y16=\"\",\"\",IF(ISERROR(VLOOKUP(Y16,'ステップ5（地下浸水状況）'!$D$12:$H$31,5,FALSE)),\"\",VLOOKUP(Y16,'ステップ5（地下浸水状況）'!$D$12:$H$31,5,FALSE)))","v":""},{"$f":"IF(Z16=\"\",\"\",IF(ISERROR(VLOOKUP(Z16,'ステップ5（地下浸水状況）'!$D$12:$H$31,5,FALSE)),\"\",VLOOKUP(Z16,'ステップ5（地下浸水状況）'!$D$12:$H$31,5,FALSE)))","v":""}]
[null,null,null,null,null,"地下4階",{"$f":"IF(G17<>\"\",G17,\"\")","v":""},{"$f":"IF(H17<>\"\",H17,\"\")","v":""},"","","","","","","","","","","","","","","","","",""]
[null,null,null,null,null,null,{"$f":"IF(G17=\"\",\"\",IF(ISERROR(VLOOKUP(G17,'ステップ5（地下浸水状況）'!$D$12:$H$31,5,FALSE)),\"\",VLOOKUP(G17,'ステップ5（地下浸水状況）'!$D$12:$H$31,5,FALSE)))","v":""},{"$f":"IF(H17=\"\",\"\",IF(ISERROR(VLOOKUP(H17,'ステップ5（地下浸水状況）'!$D$12:$H$31,5,FALSE)),\"\",VLOOKUP(H17,'ステップ5（地下浸水状況）'!$D$12:$H$31,5,FALSE)))","v":""},{"$f":"IF(I17=\"\",\"\",IF(ISERROR(VLOOKUP(I17,'ステップ5（地下浸水状況）'!$D$12:$H$31,5,FALSE)),\"\",VLOOKUP(I17,'ステップ5（地下浸水状況）'!$D$12:$H$31,5,FALSE)))","v":""},{"$f":"IF(J17=\"\",\"\",IF(ISERROR(VLOOKUP(J17,'ステップ5（地下浸水状況）'!$D$12:$H$31,5,FALSE)),\"\",VLOOKUP(J17,'ステップ5（地下浸水状況）'!$D$12:$H$31,5,FALSE)))","v":""},{"$f":"IF(K17=\"\",\"\",IF(ISERROR(VLOOKUP(K17,'ステップ5（地下浸水状況）'!$D$12:$H$31,5,FALSE)),\"\",VLOOKUP(K17,'ステップ5（地下浸水状況）'!$D$12:$H$31,5,FALSE)))","v":""},{"$f":"IF(L17=\"\",\"\",IF(ISERROR(VLOOKUP(L17,'ステップ5（地下浸水状況）'!$D$12:$H$31,5,FALSE)),\"\",VLOOKUP(L17,'ステップ5（地下浸水状況）'!$D$12:$H$31,5,FALSE)))","v":""},{"$f":"IF(M17=\"\",\"\",IF(ISERROR(VLOOKUP(M17,'ステップ5（地下浸水状況）'!$D$12:$H$31,5,FALSE)),\"\",VLOOKUP(M17,'ステップ5（地下浸水状況）'!$D$12:$H$31,5,FALSE)))","v":""},{"$f":"IF(N17=\"\",\"\",IF(ISERROR(VLOOKUP(N17,'ステップ5（地下浸水状況）'!$D$12:$H$31,5,FALSE)),\"\",VLOOKUP(N17,'ステップ5（地下浸水状況）'!$D$12:$H$31,5,FALSE)))","v":""},{"$f":"IF(O17=\"\",\"\",IF(ISERROR(VLOOKUP(O17,'ステップ5（地下浸水状況）'!$D$12:$H$31,5,FALSE)),\"\",VLOOKUP(O17,'ステップ5（地下浸水状況）'!$D$12:$H$31,5,FALSE)))","v":""},{"$f":"IF(P17=\"\",\"\",IF(ISERROR(VLOOKUP(P17,'ステップ5（地下浸水状況）'!$D$12:$H$31,5,FALSE)),\"\",VLOOKUP(P17,'ステップ5（地下浸水状況）'!$D$12:$H$31,5,FALSE)))","v":""},{"$f":"IF(Q17=\"\",\"\",IF(ISERROR(VLOOKUP(Q17,'ステップ5（地下浸水状況）'!$D$12:$H$31,5,FALSE)),\"\",VLOOKUP(Q17,'ステップ5（地下浸水状況）'!$D$12:$H$31,5,FALSE)))","v":""},{"$f":"IF(R17=\"\",\"\",IF(ISERROR(VLOOKUP(R17,'ステップ5（地下浸水状況）'!$D$12:$H$31,5,FALSE)),\"\",VLOOKUP(R17,'ステップ5（地下浸水状況）'!$D$12:$H$31,5,FALSE)))","v":""},{"$f":"IF(S17=\"\",\"\",IF(ISERROR(VLOOKUP(S17,'ステップ5（地下浸水状況）'!$D$12:$H$31,5,FALSE)),\"\",VLOOKUP(S17,'ステップ5（地下浸水状況）'!$D$12:$H$31,5,FALSE)))","v":""},{"$f":"IF(T17=\"\",\"\",IF(ISERROR(VLOOKUP(T17,'ステップ5（地下浸水状況）'!$D$12:$H$31,5,FALSE)),\"\",VLOOKUP(T17,'ステップ5（地下浸水状況）'!$D$12:$H$31,5,FALSE)))","v":""},{"$f":"IF(U17=\"\",\"\",IF(ISERROR(VLOOKUP(U17,'ステップ5（地下浸水状況）'!$D$12:$H$31,5,FALSE)),\"\",VLOOKUP(U17,'ステップ5（地下浸水状況）'!$D$12:$H$31,5,FALSE)))","v":""},{"$f":"IF(V17=\"\",\"\",IF(ISERROR(VLOOKUP(V17,'ステップ5（地下浸水状況）'!$D$12:$H$31,5,FALSE)),\"\",VLOOKUP(V17,'ステップ5（地下浸水状況）'!$D$12:$H$31,5,FALSE)))","v":""},{"$f":"IF(W17=\"\",\"\",IF(ISERROR(VLOOKUP(W17,'ステップ5（地下浸水状況）'!$D$12:$H$31,5,FALSE)),\"\",VLOOKUP(W17,'ステップ5（地下浸水状況）'!$D$12:$H$31,5,FALSE)))","v":""},{"$f":"IF(X17=\"\",\"\",IF(ISERROR(VLOOKUP(X17,'ステップ5（地下浸水状況）'!$D$12:$H$31,5,FALSE)),\"\",VLOOKUP(X17,'ステップ5（地下浸水状況）'!$D$12:$H$31,5,FALSE)))","v":""},{"$f":"IF(Y17=\"\",\"\",IF(ISERROR(VLOOKUP(Y17,'ステップ5（地下浸水状況）'!$D$12:$H$31,5,FALSE)),\"\",VLOOKUP(Y17,'ステップ5（地下浸水状況）'!$D$12:$H$31,5,FALSE)))","v":""},{"$f":"IF(Z17=\"\",\"\",IF(ISERROR(VLOOKUP(Z17,'ステップ5（地下浸水状況）'!$D$12:$H$31,5,FALSE)),\"\",VLOOKUP(Z17,'ステップ5（地下浸水状況）'!$D$12:$H$31,5,FALSE)))","v":""}]
[null,null,null,null,null,"地下5階",{"$f":"IF(G18<>\"\",G18,\"\")","v":""},{"$f":"IF(H18<>\"\",H18,\"\")","v":""},"","","","","","","","","","","","","","","","","",""]
[null,null,null,null,null,null,{"$f":"IF(G18=\"\",\"\",IF(ISERROR(VLOOKUP(G18,'ステップ5（地下浸水状況）'!$D$12:$H$31,5,FALSE)),\"\",VLOOKUP(G18,'ステップ5（地下浸水状況）'!$D$12:$H$31,5,FALSE)))","v":""},{"$f":"IF(H18=\"\",\"\",IF(ISERROR(VLOOKUP(H18,'ステップ5（地下浸水状況）'!$D$12:$H$31,5,FALSE)),\"\",VLOOKUP(H18,'ステップ5（地下浸水状況）'!$D$12:$H$31,5,FALSE)))","v":""},{"$f":"IF(I18=\"\",\"\",IF(ISERROR(VLOOKUP(I18,'ステップ5（地下浸水状況）'!$D$12:$H$31,5,FALSE)),\"\",VLOOKUP(I18,'ステップ5（地下浸水状況）'!$D$12:$H$31,5,FALSE)))","v":""},{"$f":"IF(J18=\"\",\"\",IF(ISERROR(VLOOKUP(J18,'ステップ5（地下浸水状況）'!$D$12:$H$31,5,FALSE)),\"\",VLOOKUP(J18,'ステップ5（地下浸水状況）'!$D$12:$H$31,5,FALSE)))","v":""},{"$f":"IF(K18=\"\",\"\",IF(ISERROR(VLOOKUP(K18,'ステップ5（地下浸水状況）'!$D$12:$H$31,5,FALSE)),\"\",VLOOKUP(K18,'ステップ5（地下浸水状況）'!$D$12:$H$31,5,FALSE)))","v":""},{"$f":"IF(L18=\"\",\"\",IF(ISERROR(VLOOKUP(L18,'ステップ5（地下浸水状況）'!$D$12:$H$31,5,FALSE)),\"\",VLOOKUP(L18,'ステップ5（地下浸水状況）'!$D$12:$H$31,5,FALSE)))","v":""},{"$f":"IF(M18=\"\",\"\",IF(ISERROR(VLOOKUP(M18,'ステップ5（地下浸水状況）'!$D$12:$H$31,5,FALSE)),\"\",VLOOKUP(M18,'ステップ5（地下浸水状況）'!$D$12:$H$31,5,FALSE)))","v":""},{"$f":"IF(N18=\"\",\"\",IF(ISERROR(VLOOKUP(N18,'ステップ5（地下浸水状況）'!$D$12:$H$31,5,FALSE)),\"\",VLOOKUP(N18,'ステップ5（地下浸水状況）'!$D$12:$H$31,5,FALSE)))","v":""},{"$f":"IF(O18=\"\",\"\",IF(ISERROR(VLOOKUP(O18,'ステップ5（地下浸水状況）'!$D$12:$H$31,5,FALSE)),\"\",VLOOKUP(O18,'ステップ5（地下浸水状況）'!$D$12:$H$31,5,FALSE)))","v":""},{"$f":"IF(P18=\"\",\"\",IF(ISERROR(VLOOKUP(P18,'ステップ5（地下浸水状況）'!$D$12:$H$31,5,FALSE)),\"\",VLOOKUP(P18,'ステップ5（地下浸水状況）'!$D$12:$H$31,5,FALSE)))","v":""},{"$f":"IF(Q18=\"\",\"\",IF(ISERROR(VLOOKUP(Q18,'ステップ5（地下浸水状況）'!$D$12:$H$31,5,FALSE)),\"\",VLOOKUP(Q18,'ステップ5（地下浸水状況）'!$D$12:$H$31,5,FALSE)))","v":""},{"$f":"IF(R18=\"\",\"\",IF(ISERROR(VLOOKUP(R18,'ステップ5（地下浸水状況）'!$D$12:$H$31,5,FALSE)),\"\",VLOOKUP(R18,'ステップ5（地下浸水状況）'!$D$12:$H$31,5,FALSE)))","v":""},{"$f":"IF(S18=\"\",\"\",IF(ISERROR(VLOOKUP(S18,'ステップ5（地下浸水状況）'!$D$12:$H$31,5,FALSE)),\"\",VLOOKUP(S18,'ステップ5（地下浸水状況）'!$D$12:$H$31,5,FALSE)))","v":""},{"$f":"IF(T18=\"\",\"\",IF(ISERROR(VLOOKUP(T18,'ステップ5（地下浸水状況）'!$D$12:$H$31,5,FALSE)),\"\",VLOOKUP(T18,'ステップ5（地下浸水状況）'!$D$12:$H$31,5,FALSE)))","v":""},{"$f":"IF(U18=\"\",\"\",IF(ISERROR(VLOOKUP(U18,'ステップ5（地下浸水状況）'!$D$12:$H$31,5,FALSE)),\"\",VLOOKUP(U18,'ステップ5（地下浸水状況）'!$D$12:$H$31,5,FALSE)))","v":""},{"$f":"IF(V18=\"\",\"\",IF(ISERROR(VLOOKUP(V18,'ステップ5（地下浸水状況）'!$D$12:$H$31,5,FALSE)),\"\",VLOOKUP(V18,'ステップ5（地下浸水状況）'!$D$12:$H$31,5,FALSE)))","v":""},{"$f":"IF(W18=\"\",\"\",IF(ISERROR(VLOOKUP(W18,'ステップ5（地下浸水状況）'!$D$12:$H$31,5,FALSE)),\"\",VLOOKUP(W18,'ステップ5（地下浸水状況）'!$D$12:$H$31,5,FALSE)))","v":""},{"$f":"IF(X18=\"\",\"\",IF(ISERROR(VLOOKUP(X18,'ステップ5（地下浸水状況）'!$D$12:$H$31,5,FALSE)),\"\",VLOOKUP(X18,'ステップ5（地下浸水状況）'!$D$12:$H$31,5,FALSE)))","v":""},{"$f":"IF(Y18=\"\",\"\",IF(ISERROR(VLOOKUP(Y18,'ステップ5（地下浸水状況）'!$D$12:$H$31,5,FALSE)),\"\",VLOOKUP(Y18,'ステップ5（地下浸水状況）'!$D$12:$H$31,5,FALSE)))","v":""},{"$f":"IF(Z18=\"\",\"\",IF(ISERROR(VLOOKUP(Z18,'ステップ5（地下浸水状況）'!$D$12:$H$31,5,FALSE)),\"\",VLOOKUP(Z18,'ステップ5（地下浸水状況）'!$D$12:$H$31,5,FALSE)))","v":""}]
[]
[]
[null,null,"３．避難行動所要時間(Th)（ステップ８の結果を用いて算定）"]
[]
[null,null,"◆フロア別移動時間の内訳と小計"]
[null,null,null,null,null,"避難開始区画・部屋番号",{"$f":"IF('ステップ2（地下フロア構造）'!$D$20<>\"\",'ステップ2（地下フロア構造）'!$D$20,\"\")","v":""},{"$f":"IF('ステップ2（地下フロア構造）'!$D$21<>\"\",'ステップ2（地下フロア構造）'!$D$21,\"\")","v":""},{"$f":"IF('ステップ2（地下フロア構造）'!$D$22<>\"\",'ステップ2（地下フロア構造）'!$D$22,\"\")","v":""},{"$f":"IF('ステップ2（地下フロア構造）'!$D$23<>\"\",'ステップ2（地下フロア構造）'!$D$23,\"\")","v":""},{"$f":"IF('ステップ2（地下フロア構造）'!$D$24<>\"\",'ステップ2（地下フロア構造）'!$D$24,\"\")","v":""},{"$f":"IF('ステップ2（地下フロア構造）'!$D$25<>\"\",'ステップ2（地下フロア構造）'!$D$25,\"\")","v":""},{"$f":"IF('ステップ2（地下フロア構造）'!$D$26<>\"\",'ステップ2（地下フロア構造）'!$D$26,\"\")","v":""},{"$f":"IF('ステップ2（地下フロア構造）'!$D$27<>\"\",'ステップ2（地下フロア構造）'!$D$27,\"\")","v":""},{"$f":"IF('ステップ2（地下フロア構造）'!$D$28<>\"\",'ステップ2（地下フロア構造）'!$D$28,\"\")","v":""},{"$f":"IF('ステップ2（地下フロア構造）'!$D$29<>\"\",'ステップ2（地下フロア構造）'!$D$29,\"\")","v":""},{"$f":"IF('ステップ2（地下フロア構造）'!$D$30<>\"\",'ステップ2（地下フロア構造）'!$D$30,\"\")","v":""},{"$f":"IF('ステップ2（地下フロア構造）'!$D$31<>\"\",'ステップ2（地下フロア構造）'!$D$31,\"\")","v":""},{"$f":"IF('ステップ2（地下フロア構造）'!$D$32<>\"\",'ステップ2（地下フロア構造）'!$D$32,\"\")","v":""},{"$f":"IF('ステップ2（地下フロア構造）'!$D$33<>\"\",'ステップ2（地下フロア構造）'!$D$33,\"\")","v":""},{"$f":"IF('ステップ2（地下フロア構造）'!$D$34<>\"\",'ステップ2（地下フロア構造）'!$D$34,\"\")","v":""},{"$f":"IF('ステップ2（地下フロア構造）'!$D$35<>\"\",'ステップ2（地下フロア構造）'!$D$35,\"\")","v":""},{"$f":"IF('ステップ2（地下フロア構造）'!$D$36<>\"\",'ステップ2（地下フロア構造）'!$D$36,\"\")","v":""},{"$f":"IF('ステップ2（地下フロア構造）'!$D$37<>\"\",'ステップ2（地下フロア構造）'!$D$37,\"\")","v":""},{"$f":"IF('ステップ2（地下フロア構造）'!$D$38<>\"\",'ステップ2（地下フロア構造）'!$D$38,\"\")","v":""},{"$f":"IF('ステップ2（地下フロア構造）'!$D$39<>\"\",'ステップ2（地下フロア構造）'!$D$39,\"\")","v":""}]
[null,null,null,null,null,null,"避難行動所要時間(Th)（分）"]
[null,null,null,null,null,null,"算定結果","算定結果","算定結果","算定結果","算定結果","算定結果","算定結果","算定結果","算定結果","算定結果","算定結果","算定結果","算定結果","算定結果","算定結果","算定結果","算定結果","算定結果","算定結果","算定結果"]
[null,null,"異変認知・避難意思決定の時短対策",null,null,null,{"$f":"IF(G$13=\"\",\"\",IF(G$13=\"無対策\",\"無対策\",IF(G$13=\"対策1\",\"管理者あり\",\"浸水センサー\")))","v":""},{"$f":"IF(H$13=\"\",\"\",IF(H$13=\"無対策\",\"無対策\",IF(H$13=\"対策1\",\"管理者あり\",\"浸水センサー\")))","v":""},"","","","","","","","","","","","","","","","","",""]
[null,null,"t1：異変認知時間(分)",null,null,null,{"$f":"IF(G$9=\"\",\"\",IF(OR(G$13=\"\",G$13=\"無対策\"),IF(ISERROR(VLOOKUP(G$9,'ステップ6（異変認知時間）'!$D$8:$J$27,3,FALSE)),\"\",VLOOKUP(G$9,'ステップ6（異変認知時間）'!$D$8:$J$27,3,FALSE)),IF(G$13=\"対策1\",IF(ISERROR(VLOOKUP(G$9,'ステップ6（異変認知時間）'!$D$8:$J$27,4,FALSE)),\"\",VLOOKUP(G$9,'ステップ6（異変認知時間）'!$D$8:$J$27,4,FALSE)),IF(G$13=\"対策2\",IF(ISERROR(VLOOKUP(G$9,'ステップ6（異変認知時間）'!$D$8:$J$27,5,FALSE)),\"\",VLOOKUP(G$9,'ステップ6（異変認知時間）'!$D$8:$J$27,5,FALSE)),IF(ISERROR(VLOOKUP(G$9,'ステップ6（異変認知時間）'!$D$8:$J$27,6,FALSE)),\"\",VLOOKUP(G$9,'ステップ6（異変認知時間）'!$D$8:$J$27,6,FALSE))))))","v":""},{"$f":"IF(H$9=\"\",\"\",IF(OR(H$13=\"\",H$13=\"無対策\"),IF(ISERROR(VLOOKUP(H$9,'ステップ6（異変認知時間）'!$D$8:$J$27,3,FALSE)),\"\",VLOOKUP(H$9,'ステップ6（異変認知時間）'!$D$8:$J$27,3,FALSE)),IF(H$13=\"対策1\",IF(ISERROR(VLOOKUP(H$9,'ステップ6（異変認知時間）'!$D$8:$J$27,4,FALSE)),\"\",VLOOKUP(H$9,'ステップ6（異変認知時間）'!$D$8:$J$27,4,FALSE)),IF(H$13=\"対策2\",IF(ISERROR(VLOOKUP(H$9,'ステップ6（異変認知時間）'!$D$8:$J$27,5,FALSE)),\"\",VLOOKUP(H$9,'ステップ6（異変認知時間）'!$D$8:$J$27,5,FALSE)),IF(ISERROR(VLOOKUP(H$9,'ステップ6（異変認知時間）'!$D$8:$J$27,6,FALSE)),\"\",VLOOKUP(H$9,'ステップ6（異変認知時間）'!$D$8:$J$27,6,FALSE))))))","v":""},{"$f":"IF(I$9=\"\",\"\",IF(OR(I$13=\"\",I$13=\"無対策\"),IF(ISERROR(VLOOKUP(I$9,'ステップ6（異変認知時間）'!$D$8:$J$27,3,FALSE)),\"\",VLOOKUP(I$9,'ステップ6（異変認知時間）'!$D$8:$J$27,3,FALSE)),IF(I$13=\"対策1\",IF(ISERROR(VLOOKUP(I$9,'ステップ6（異変認知時間）'!$D$8:$J$27,4,FALSE)),\"\",VLOOKUP(I$9,'ステップ6（異変認知時間）'!$D$8:$J$27,4,FALSE)),IF(I$13=\"対策2\",IF(ISERROR(VLOOKUP(I$9,'ステップ6（異変認知時間）'!$D$8:$J$27,5,FALSE)),\"\",VLOOKUP(I$9,'ステップ6（異変認知時間）'!$D$8:$J$27,5,FALSE)),IF(ISERROR(VLOOKUP(I$9,'ステップ6（異変認知時間）'!$D$8:$J$27,6,FALSE)),\"\",VLOOKUP(I$9,'ステップ6（異変認知時間）'!$D$8:$J$27,6,FALSE))))))","v":""},{"$f":"IF(J$9=\"\",\"\",IF(OR(J$13=\"\",J$13=\"無対策\"),IF(ISERROR(VLOOKUP(J$9,'ステップ6（異変認知時間）'!$D$8:$J$27,3,FALSE)),\"\",VLOOKUP(J$9,'ステップ6（異変認知時間）'!$D$8:$J$27,3,FALSE)),IF(J$13=\"対策1\",IF(ISERROR(VLOOKUP(J$9,'ステップ6（異変認知時間）'!$D$8:$J$27,4,FALSE)),\"\",VLOOKUP(J$9,'ステップ6（異変認知時間）'!$D$8:$J$27,4,FALSE)),IF(J$13=\"対策2\",IF(ISERROR(VLOOKUP(J$9,'ステップ6（異変認知時間）'!$D$8:$J$27,5,FALSE)),\"\",VLOOKUP(J$9,'ステップ6（異変認知時間）'!$D$8:$J$27,5,FALSE)),IF(ISERROR(VLOOKUP(J$9,'ステップ6（異変認知時間）'!$D$8:$J$27,6,FALSE)),\"\",VLOOKUP(J$9,'ステップ6（異変認知時間）'!$D$8:$J$27,6,FALSE))))))","v":""},{"$f":"IF(K$9=\"\",\"\",IF(OR(K$13=\"\",K$13=\"無対策\"),IF(ISERROR(VLOOKUP(K$9,'ステップ6（異変認知時間）'!$D$8:$J$27,3,FALSE)),\"\",VLOOKUP(K$9,'ステップ6（異変認知時間）'!$D$8:$J$27,3,FALSE)),IF(K$13=\"対策1\",IF(ISERROR(VLOOKUP(K$9,'ステップ6（異変認知時間）'!$D$8:$J$27,4,FALSE)),\"\",VLOOKUP(K$9,'ステップ6（異変認知時間）'!$D$8:$J$27,4,FALSE)),IF(K$13=\"対策2\",IF(ISERROR(VLOOKUP(K$9,'ステップ6（異変認知時間）'!$D$8:$J$27,5,FALSE)),\"\",VLOOKUP(K$9,'ステップ6（異変認知時間）'!$D$8:$J$27,5,FALSE)),IF(ISERROR(VLOOKUP(K$9,'ステップ6（異変認知時間）'!$D$8:$J$27,6,FALSE)),\"\",VLOOKUP(K$9,'ステップ6（異変認知時間）'!$D$8:$J$27,6,FALSE))))))","v":""},{"$f":"IF(L$9=\"\",\"\",IF(OR(L$13=\"\",L$13=\"無対策\"),IF(ISERROR(VLOOKUP(L$9,'ステップ6（異変認知時間）'!$D$8:$J$27,3,FALSE)),\"\",VLOOKUP(L$9,'ステップ6（異変認知時間）'!$D$8:$J$27,3,FALSE)),IF(L$13=\"対策1\",IF(ISERROR(VLOOKUP(L$9,'ステップ6（異変認知時間）'!$D$8:$J$27,4,FALSE)),\"\",VLOOKUP(L$9,'ステップ6（異変認知時間）'!$D$8:$J$27,4,FALSE)),IF(L$13=\"対策2\",IF(ISERROR(VLOOKUP(L$9,'ステップ6（異変認知時間）'!$D$8:$J$27,5,FALSE)),\"\",VLOOKUP(L$9,'ステップ6（異変認知時間）'!$D$8:$J$27,5,FALSE)),IF(ISERROR(VLOOKUP(L$9,'ステップ6（異変認知時間）'!$D$8:$J$27,6,FALSE)),\"\",VLOOKUP(L$9,'ステップ6（異変認知時間）'!$D$8:$J$27,6,FALSE))))))","v":""},{"$f":"IF(M$9=\"\",\"\",IF(OR(M$13=\"\",M$13=\"無対策\"),IF(ISERROR(VLOOKUP(M$9,'ステップ6（異変認知時間）'!$D$8:$J$27,3,FALSE)),\"\",VLOOKUP(M$9,'ステップ6（異変認知時間）'!$D$8:$J$27,3,FALSE)),IF(M$13=\"対策1\",IF(ISERROR(VLOOKUP(M$9,'ステップ6（異変認知時間）'!$D$8:$J$27,4,FALSE)),\"\",VLOOKUP(M$9,'ステップ6（異変認知時間）'!$D$8:$J$27,4,FALSE)),IF(M$13=\"対策2\",IF(ISERROR(VLOOKUP(M$9,'ステップ6（異変認知時間）'!$D$8:$J$27,5,FALSE)),\"\",VLOOKUP(M$9,'ステップ6（異変認知時間）'!$D$8:$J$27,5,FALSE)),IF(ISERROR(VLOOKUP(M$9,'ステップ6（異変認知時間）'!$D$8:$J$27,6,FALSE)),\"\",VLOOKUP(M$9,'ステップ6（異変認知時間）'!$D$8:$J$27,6,FALSE))))))","v":""},{"$f":"IF(N$9=\"\",\"\",IF(OR(N$13=\"\",N$13=\"無対策\"),IF(ISERROR(VLOOKUP(N$9,'ステップ6（異変認知時間）'!$D$8:$J$27,3,FALSE)),\"\",VLOOKUP(N$9,'ステップ6（異変認知時間）'!$D$8:$J$27,3,FALSE)),IF(N$13=\"対策1\",IF(ISERROR(VLOOKUP(N$9,'ステップ6（異変認知時間）'!$D$8:$J$27,4,FALSE)),\"\",VLOOKUP(N$9,'ステップ6（異変認知時間）'!$D$8:$J$27,4,FALSE)),IF(N$13=\"対策2\",IF(ISERROR(VLOOKUP(N$9,'ステップ6（異変認知時間）'!$D$8:$J$27,5,FALSE)),\"\",VLOOKUP(N$9,'ステップ6（異変認知時間）'!$D$8:$J$27,5,FALSE)),IF(ISERROR(VLOOKUP(N$9,'ステップ6（異変認知時間）'!$D$8:$J$27,6,FALSE)),\"\",VLOOKUP(N$9,'ステップ6（異変認知時間）'!$D$8:$J$27,6,FALSE))))))","v":""},{"$f":"IF(O$9=\"\",\"\",IF(OR(O$13=\"\",O$13=\"無対策\"),IF(ISERROR(VLOOKUP(O$9,'ステップ6（異変認知時間）'!$D$8:$J$27,3,FALSE)),\"\",VLOOKUP(O$9,'ステップ6（異変認知時間）'!$D$8:$J$27,3,FALSE)),IF(O$13=\"対策1\",IF(ISERROR(VLOOKUP(O$9,'ステップ6（異変認知時間）'!$D$8:$J$27,4,FALSE)),\"\",VLOOKUP(O$9,'ステップ6（異変認知時間）'!$D$8:$J$27,4,FALSE)),IF(O$13=\"対策2\",IF(ISERROR(VLOOKUP(O$9,'ステップ6（異変認知時間）'!$D$8:$J$27,5,FALSE)),\"\",VLOOKUP(O$9,'ステップ6（異変認知時間）'!$D$8:$J$27,5,FALSE)),IF(ISERROR(VLOOKUP(O$9,'ステップ6（異変認知時間）'!$D$8:$J$27,6,FALSE)),\"\",VLOOKUP(O$9,'ステップ6（異変認知時間）'!$D$8:$J$27,6,FALSE))))))","v":""},{"$f":"IF(P$9=\"\",\"\",IF(OR(P$13=\"\",P$13=\"無対策\"),IF(ISERROR(VLOOKUP(P$9,'ステップ6（異変認知時間）'!$D$8:$J$27,3,FALSE)),\"\",VLOOKUP(P$9,'ステップ6（異変認知時間）'!$D$8:$J$27,3,FALSE)),IF(P$13=\"対策1\",IF(ISERROR(VLOOKUP(P$9,'ステップ6（異変認知時間）'!$D$8:$J$27,4,FALSE)),\"\",VLOOKUP(P$9,'ステップ6（異変認知時間）'!$D$8:$J$27,4,FALSE)),IF(P$13=\"対策2\",IF(ISERROR(VLOOKUP(P$9,'ステップ6（異変認知時間）'!$D$8:$J$27,5,FALSE)),\"\",VLOOKUP(P$9,'ステップ6（異変認知時間）'!$D$8:$J$27,5,FALSE)),IF(ISERROR(VLOOKUP(P$9,'ステップ6（異変認知時間）'!$D$8:$J$27,6,FALSE)),\"\",VLOOKUP(P$9,'ステップ6（異変認知時間）'!$D$8:$J$27,6,FALSE))))))","v":""},{"$f":"IF(Q$9=\"\",\"\",IF(OR(Q$13=\"\",Q$13=\"無対策\"),IF(ISERROR(VLOOKUP(Q$9,'ステップ6（異変認知時間）'!$D$8:$J$27,3,FALSE)),\"\",VLOOKUP(Q$9,'ステップ6（異変認知時間）'!$D$8:$J$27,3,FALSE)),IF(Q$13=\"対策1\",IF(ISERROR(VLOOKUP(Q$9,'ステップ6（異変認知時間）'!$D$8:$J$27,4,FALSE)),\"\",VLOOKUP(Q$9,'ステップ6（異変認知時間）'!$D$8:$J$27,4,FALSE)),IF(Q$13=\"対策2\",IF(ISERROR(VLOOKUP(Q$9,'ステップ6（異変認知時間）'!$D$8:$J$27,5,FALSE)),\"\",VLOOKUP(Q$9,'ステップ6（異変認知時間）'!$D$8:$J$27,5,FALSE)),IF(ISERROR(VLOOKUP(Q$9,'ステップ6（異変認知時間）'!$D$8:$J$27,6,FALSE)),\"\",VLOOKUP(Q$9,'ステップ6（異変認知時間）'!$D$8:$J$27,6,FALSE))))))","v":""},{"$f":"IF(R$9=\"\",\"\",IF(OR(R$13=\"\",R$13=\"無対策\"),IF(ISERROR(VLOOKUP(R$9,'ステップ6（異変認知時間）'!$D$8:$J$27,3,FALSE)),\"\",VLOOKUP(R$9,'ステップ6（異変認知時間）'!$D$8:$J$27,3,FALSE)),IF(R$13=\"対策1\",IF(ISERROR(VLOOKUP(R$9,'ステップ6（異変認知時間）'!$D$8:$J$27,4,FALSE)),\"\",VLOOKUP(R$9,'ステップ6（異変認知時間）'!$D$8:$J$27,4,FALSE)),IF(R$13=\"対策2\",IF(ISERROR(VLOOKUP(R$9,'ステップ6（異変認知時間）'!$D$8:$J$27,5,FALSE)),\"\",VLOOKUP(R$9,'ステップ6（異変認知時間）'!$D$8:$J$27,5,FALSE)),IF(ISERROR(VLOOKUP(R$9,'ステップ6（異変認知時間）'!$D$8:$J$27,6,FALSE)),\"\",VLOOKUP(R$9,'ステップ6（異変認知時間）'!$D$8:$J$27,6,FALSE))))))","v":""},{"$f":"IF(S$9=\"\",\"\",IF(OR(S$13=\"\",S$13=\"無対策\"),IF(ISERROR(VLOOKUP(S$9,'ステップ6（異変認知時間）'!$D$8:$J$27,3,FALSE)),\"\",VLOOKUP(S$9,'ステップ6（異変認知時間）'!$D$8:$J$27,3,FALSE)),IF(S$13=\"対策1\",IF(ISERROR(VLOOKUP(S$9,'ステップ6（異変認知時間）'!$D$8:$J$27,4,FALSE)),\"\",VLOOKUP(S$9,'ステップ6（異変認知時間）'!$D$8:$J$27,4,FALSE)),IF(S$13=\"対策2\",IF(ISERROR(VLOOKUP(S$9,'ステップ6（異変認知時間）'!$D$8:$J$27,5,FALSE)),\"\",VLOOKUP(S$9,'ステップ6（異変認知時間）'!$D$8:$J$27,5,FALSE)),IF(ISERROR(VLOOKUP(S$9,'ステップ6（異変認知時間）'!$D$8:$J$27,6,FALSE)),\"\",VLOOKUP(S$9,'ステップ6（異変認知時間）'!$D$8:$J$27,6,FALSE))))))","v":""},{"$f":"IF(T$9=\"\",\"\",IF(OR(T$13=\"\",T$13=\"無対策\"),IF(ISERROR(VLOOKUP(T$9,'ステップ6（異変認知時間）'!$D$8:$J$27,3,FALSE)),\"\",VLOOKUP(T$9,'ステップ6（異変認知時間）'!$D$8:$J$27,3,FALSE)),IF(T$13=\"対策1\",IF(ISERROR(VLOOKUP(T$9,'ステップ6（異変認知時間）'!$D$8:$J$27,4,FALSE)),\"\",VLOOKUP(T$9,'ステップ6（異変認知時間）'!$D$8:$J$27,4,FALSE)),IF(T$13=\"対策2\",IF(ISERROR(VLOOKUP(T$9,'ステップ6（異変認知時間）'!$D$8:$J$27,5,FALSE)),\"\",VLOOKUP(T$9,'ステップ6（異変認知時間）'!$D$8:$J$27,5,FALSE)),IF(ISERROR(VLOOKUP(T$9,'ステップ6（異変認知時間）'!$D$8:$J$27,6,FALSE)),\"\",VLOOKUP(T$9,'ステップ6（異変認知時間）'!$D$8:$J$27,6,FALSE))))))","v":""},{"$f":"IF(U$9=\"\",\"\",IF(OR(U$13=\"\",U$13=\"無対策\"),IF(ISERROR(VLOOKUP(U$9,'ステップ6（異変認知時間）'!$D$8:$J$27,3,FALSE)),\"\",VLOOKUP(U$9,'ステップ6（異変認知時間）'!$D$8:$J$27,3,FALSE)),IF(U$13=\"対策1\",IF(ISERROR(VLOOKUP(U$9,'ステップ6（異変認知時間）'!$D$8:$J$27,4,FALSE)),\"\",VLOOKUP(U$9,'ステップ6（異変認知時間）'!$D$8:$J$27,4,FALSE)),IF(U$13=\"対策2\",IF(ISERROR(VLOOKUP(U$9,'ステップ6（異変認知時間）'!$D$8:$J$27,5,FALSE)),\"\",VLOOKUP(U$9,'ステップ6（異変認知時間）'!$D$8:$J$27,5,FALSE)),IF(ISERROR(VLOOKUP(U$9,'ステップ6（異変認知時間）'!$D$8:$J$27,6,FALSE)),\"\",VLOOKUP(U$9,'ステップ6（異変認知時間）'!$D$8:$J$27,6,FALSE))))))","v":""},{"$f":"IF(V$9=\"\",\"\",IF(OR(V$13=\"\",V$13=\"無対策\"),IF(ISERROR(VLOOKUP(V$9,'ステップ6（異変認知時間）'!$D$8:$J$27,3,FALSE)),\"\",VLOOKUP(V$9,'ステップ6（異変認知時間）'!$D$8:$J$27,3,FALSE)),IF(V$13=\"対策1\",IF(ISERROR(VLOOKUP(V$9,'ステップ6（異変認知時間）'!$D$8:$J$27,4,FALSE)),\"\",VLOOKUP(V$9,'ステップ6（異変認知時間）'!$D$8:$J$27,4,FALSE)),IF(V$13=\"対策2\",IF(ISERROR(VLOOKUP(V$9,'ステップ6（異変認知時間）'!$D$8:$J$27,5,FALSE)),\"\",VLOOKUP(V$9,'ステップ6（異変認知時間）'!$D$8:$J$27,5,FALSE)),IF(ISERROR(VLOOKUP(V$9,'ステップ6（異変認知時間）'!$D$8:$J$27,6,FALSE)),\"\",VLOOKUP(V$9,'ステップ6（異変認知時間）'!$D$8:$J$27,6,FALSE))))))","v":""},{"$f":"IF(W$9=\"\",\"\",IF(OR(W$13=\"\",W$13=\"無対策\"),IF(ISERROR(VLOOKUP(W$9,'ステップ6（異変認知時間）'!$D$8:$J$27,3,FALSE)),\"\",VLOOKUP(W$9,'ステップ6（異変認知時間）'!$D$8:$J$27,3,FALSE)),IF(W$13=\"対策1\",IF(ISERROR(VLOOKUP(W$9,'ステップ6（異変認知時間）'!$D$8:$J$27,4,FALSE)),\"\",VLOOKUP(W$9,'ステップ6（異変認知時間）'!$D$8:$J$27,4,FALSE)),IF(W$13=\"対策2\",IF(ISERROR(VLOOKUP(W$9,'ステップ6（異変認知時間）'!$D$8:$J$27,5,FALSE)),\"\",VLOOKUP(W$9,'ステップ6（異変認知時間）'!$D$8:$J$27,5,FALSE)),IF(ISERROR(VLOOKUP(W$9,'ステップ6（異変認知時間）'!$D$8:$J$27,6,FALSE)),\"\",VLOOKUP(W$9,'ステップ6（異変認知時間）'!$D$8:$J$27,6,FALSE))))))","v":""},{"$f":"IF(X$9=\"\",\"\",IF(OR(X$13=\"\",X$13=\"無対策\"),IF(ISERROR(VLOOKUP(X$9,'ステップ6（異変認知時間）'!$D$8:$J$27,3,FALSE)),\"\",VLOOKUP(X$9,'ステップ6（異変認知時間）'!$D$8:$J$27,3,FALSE)),IF(X$13=\"対策1\",IF(ISERROR(VLOOKUP(X$9,'ステップ6（異変認知時間）'!$D$8:$J$27,4,FALSE)),\"\",VLOOKUP(X$9,'ステップ6（異変認知時間）'!$D$8:$J$27,4,FALSE)),IF(X$13=\"対策2\",IF(ISERROR(VLOOKUP(X$9,'ステップ6（異変認知時間）'!$D$8:$J$27,5,FALSE)),\"\",VLOOKUP(X$9,'ステップ6（異変認知時間）'!$D$8:$J$27,5,FALSE)),IF(ISERROR(VLOOKUP(X$9,'ステップ6（異変認知時間）'!$D$8:$J$27,6,FALSE)),\"\",VLOOKUP(X$9,'ステップ6（異変認知時間）'!$D$8:$J$27,6,FALSE))))))","v":""},{"$f":"IF(Y$9=\"\",\"\",IF(OR(Y$13=\"\",Y$13=\"無対策\"),IF(ISERROR(VLOOKUP(Y$9,'ステップ6（異変認知時間）'!$D$8:$J$27,3,FALSE)),\"\",VLOOKUP(Y$9,'ステップ6（異変認知時間）'!$D$8:$J$27,3,FALSE)),IF(Y$13=\"対策1\",IF(ISERROR(VLOOKUP(Y$9,'ステップ6（異変認知時間）'!$D$8:$J$27,4,FALSE)),\"\",VLOOKUP(Y$9,'ステップ6（異変認知時間）'!$D$8:$J$27,4,FALSE)),IF(Y$13=\"対策2\",IF(ISERROR(VLOOKUP(Y$9,'ステップ6（異変認知時間）'!$D$8:$J$27,5,FALSE)),\"\",VLOOKUP(Y$9,'ステップ6（異変認知時間）'!$D$8:$J$27,5,FALSE)),IF(ISERROR(VLOOKUP(Y$9,'ステップ6（異変認知時間）'!$D$8:$J$27,6,FALSE)),\"\",VLOOKUP(Y$9,'ステップ6（異変認知時間）'!$D$8:$J$27,6,FALSE))))))","v":""},{"$f":"IF(Z$9=\"\",\"\",IF(OR(Z$13=\"\",Z$13=\"無対策\"),IF(ISERROR(VLOOKUP(Z$9,'ステップ6（異変認知時間）'!$D$8:$J$27,3,FALSE)),\"\",VLOOKUP(Z$9,'ステップ6（異変認知時間）'!$D$8:$J$27,3,FALSE)),IF(Z$13=\"対策1\",IF(ISERROR(VLOOKUP(Z$9,'ステップ6（異変認知時間）'!$D$8:$J$27,4,FALSE)),\"\",VLOOKUP(Z$9,'ステップ6（異変認知時間）'!$D$8:$J$27,4,FALSE)),IF(Z$13=\"対策2\",IF(ISERROR(VLOOKUP(Z$9,'ステップ6（異変認知時間）'!$D$8:$J$27,5,FALSE)),\"\",VLOOKUP(Z$9,'ステップ6（異変認知時間）'!$D$8:$J$27,5,FALSE)),IF(ISERROR(VLOOKUP(Z$9,'ステップ6（異変認知時間）'!$D$8:$J$27,6,FALSE)),\"\",VLOOKUP(Z$9,'ステップ6（異変認知時間）'!$D$8:$J$27,6,FALSE))))))","v":""}]
[null,null,"t2：意思決定時間(分)",null,null,null,{"$f":"IF(G$9=\"\",\"\",IF(OR(G$13=\"\",G$13=\"無対策\"),IF(ISERROR(VLOOKUP(G$9,'ステップ7（避難意思決定時間）'!$D$8:$J$27,4,FALSE)),\"\",VLOOKUP(G$9,'ステップ7（避難意思決定時間）'!$D$8:$J$27,4,FALSE)),IF(G$13=\"対策1\",IF(ISERROR(VLOOKUP(G$9,'ステップ7（避難意思決定時間）'!$D$8:$J$27,5,FALSE)),\"\",VLOOKUP(G$9,'ステップ7（避難意思決定時間）'!$D$8:$J$27,5,FALSE)),IF(G$13=\"対策2\",IF(ISERROR(VLOOKUP(G$9,'ステップ7（避難意思決定時間）'!$D$8:$J$27,6,FALSE)),\"\",VLOOKUP(G$9,'ステップ7（避難意思決定時間）'!$D$8:$J$27,6,FALSE)),IF(ISERROR(VLOOKUP(G$9,'ステップ7（避難意思決定時間）'!$D$8:$J$27,7,FALSE)),\"\",VLOOKUP(G$9,'ステップ7（避難意思決定時間）'!$D$8:$J$27,7,FALSE))))))","v":""},{"$f":"IF(H$9=\"\",\"\",IF(OR(H$13=\"\",H$13=\"無対策\"),IF(ISERROR(VLOOKUP(H$9,'ステップ7（避難意思決定時間）'!$D$8:$J$27,4,FALSE)),\"\",VLOOKUP(H$9,'ステップ7（避難意思決定時間）'!$D$8:$J$27,4,FALSE)),IF(H$13=\"対策1\",IF(ISERROR(VLOOKUP(H$9,'ステップ7（避難意思決定時間）'!$D$8:$J$27,5,FALSE)),\"\",VLOOKUP(H$9,'ステップ7（避難意思決定時間）'!$D$8:$J$27,5,FALSE)),IF(H$13=\"対策2\",IF(ISERROR(VLOOKUP(H$9,'ステップ7（避難意思決定時間）'!$D$8:$J$27,6,FALSE)),\"\",VLOOKUP(H$9,'ステップ7（避難意思決定時間）'!$D$8:$J$27,6,FALSE)),IF(ISERROR(VLOOKUP(H$9,'ステップ7（避難意思決定時間）'!$D$8:$J$27,7,FALSE)),\"\",VLOOKUP(H$9,'ステップ7（避難意思決定時間）'!$D$8:$J$27,7,FALSE))))))","v":""},{"$f":"IF(I$9=\"\",\"\",IF(OR(I$13=\"\",I$13=\"無対策\"),IF(ISERROR(VLOOKUP(I$9,'ステップ7（避難意思決定時間）'!$D$8:$J$27,4,FALSE)),\"\",VLOOKUP(I$9,'ステップ7（避難意思決定時間）'!$D$8:$J$27,4,FALSE)),IF(I$13=\"対策1\",IF(ISERROR(VLOOKUP(I$9,'ステップ7（避難意思決定時間）'!$D$8:$J$27,5,FALSE)),\"\",VLOOKUP(I$9,'ステップ7（避難意思決定時間）'!$D$8:$J$27,5,FALSE)),IF(I$13=\"対策2\",IF(ISERROR(VLOOKUP(I$9,'ステップ7（避難意思決定時間）'!$D$8:$J$27,6,FALSE)),\"\",VLOOKUP(I$9,'ステップ7（避難意思決定時間）'!$D$8:$J$27,6,FALSE)),IF(ISERROR(VLOOKUP(I$9,'ステップ7（避難意思決定時間）'!$D$8:$J$27,7,FALSE)),\"\",VLOOKUP(I$9,'ステップ7（避難意思決定時間）'!$D$8:$J$27,7,FALSE))))))","v":""},{"$f":"IF(J$9=\"\",\"\",IF(OR(J$13=\"\",J$13=\"無対策\"),IF(ISERROR(VLOOKUP(J$9,'ステップ7（避難意思決定時間）'!$D$8:$J$27,4,FALSE)),\"\",VLOOKUP(J$9,'ステップ7（避難意思決定時間）'!$D$8:$J$27,4,FALSE)),IF(J$13=\"対策1\",IF(ISERROR(VLOOKUP(J$9,'ステップ7（避難意思決定時間）'!$D$8:$J$27,5,FALSE)),\"\",VLOOKUP(J$9,'ステップ7（避難意思決定時間）'!$D$8:$J$27,5,FALSE)),IF(J$13=\"対策2\",IF(ISERROR(VLOOKUP(J$9,'ステップ7（避難意思決定時間）'!$D$8:$J$27,6,FALSE)),\"\",VLOOKUP(J$9,'ステップ7（避難意思決定時間）'!$D$8:$J$27,6,FALSE)),IF(ISERROR(VLOOKUP(J$9,'ステップ7（避難意思決定時間）'!$D$8:$J$27,7,FALSE)),\"\",VLOOKUP(J$9,'ステップ7（避難意思決定時間）'!$D$8:$J$27,7,FALSE))))))","v":""},{"$f":"IF(K$9=\"\",\"\",IF(OR(K$13=\"\",K$13=\"無対策\"),IF(ISERROR(VLOOKUP(K$9,'ステップ7（避難意思決定時間）'!$D$8:$J$27,4,FALSE)),\"\",VLOOKUP(K$9,'ステップ7（避難意思決定時間）'!$D$8:$J$27,4,FALSE)),IF(K$13=\"対策1\",IF(ISERROR(VLOOKUP(K$9,'ステップ7（避難意思決定時間）'!$D$8:$J$27,5,FALSE)),\"\",VLOOKUP(K$9,'ステップ7（避難意思決定時間）'!$D$8:$J$27,5,FALSE)),IF(K$13=\"対策2\",IF(ISERROR(VLOOKUP(K$9,'ステップ7（避難意思決定時間）'!$D$8:$J$27,6,FALSE)),\"\",VLOOKUP(K$9,'ステップ7（避難意思決定時間）'!$D$8:$J$27,6,FALSE)),IF(ISERROR(VLOOKUP(K$9,'ステップ7（避難意思決定時間）'!$D$8:$J$27,7,FALSE)),\"\",VLOOKUP(K$9,'ステップ7（避難意思決定時間）'!$D$8:$J$27,7,FALSE))))))","v":""},{"$f":"IF(L$9=\"\",\"\",IF(OR(L$13=\"\",L$13=\"無対策\"),IF(ISERROR(VLOOKUP(L$9,'ステップ7（避難意思決定時間）'!$D$8:$J$27,4,FALSE)),\"\",VLOOKUP(L$9,'ステップ7（避難意思決定時間）'!$D$8:$J$27,4,FALSE)),IF(L$13=\"対策1\",IF(ISERROR(VLOOKUP(L$9,'ステップ7（避難意思決定時間）'!$D$8:$J$27,5,FALSE)),\"\",VLOOKUP(L$9,'ステップ7（避難意思決定時間）'!$D$8:$J$27,5,FALSE)),IF(L$13=\"対策2\",IF(ISERROR(VLOOKUP(L$9,'ステップ7（避難意思決定時間）'!$D$8:$J$27,6,FALSE)),\"\",VLOOKUP(L$9,'ステップ7（避難意思決定時間）'!$D$8:$J$27,6,FALSE)),IF(ISERROR(VLOOKUP(L$9,'ステップ7（避難意思決定時間）'!$D$8:$J$27,7,FALSE)),\"\",VLOOKUP(L$9,'ステップ7（避難意思決定時間）'!$D$8:$J$27,7,FALSE))))))","v":""},{"$f":"IF(M$9=\"\",\"\",IF(OR(M$13=\"\",M$13=\"無対策\"),IF(ISERROR(VLOOKUP(M$9,'ステップ7（避難意思決定時間）'!$D$8:$J$27,4,FALSE)),\"\",VLOOKUP(M$9,'ステップ7（避難意思決定時間）'!$D$8:$J$27,4,FALSE)),IF(M$13=\"対策1\",IF(ISERROR(VLOOKUP(M$9,'ステップ7（避難意思決定時間）'!$D$8:$J$27,5,FALSE)),\"\",VLOOKUP(M$9,'ステップ7（避難意思決定時間）'!$D$8:$J$27,5,FALSE)),IF(M$13=\"対策2\",IF(ISERROR(VLOOKUP(M$9,'ステップ7（避難意思決定時間）'!$D$8:$J$27,6,FALSE)),\"\",VLOOKUP(M$9,'ステップ7（避難意思決定時間）'!$D$8:$J$27,6,FALSE)),IF(ISERROR(VLOOKUP(M$9,'ステップ7（避難意思決定時間）'!$D$8:$J$27,7,FALSE)),\"\",VLOOKUP(M$9,'ステップ7（避難意思決定時間）'!$D$8:$J$27,7,FALSE))))))","v":""},{"$f":"IF(N$9=\"\",\"\",IF(OR(N$13=\"\",N$13=\"無対策\"),IF(ISERROR(VLOOKUP(N$9,'ステップ7（避難意思決定時間）'!$D$8:$J$27,4,FALSE)),\"\",VLOOKUP(N$9,'ステップ7（避難意思決定時間）'!$D$8:$J$27,4,FALSE)),IF(N$13=\"対策1\",IF(ISERROR(VLOOKUP(N$9,'ステップ7（避難意思決定時間）'!$D$8:$J$27,5,FALSE)),\"\",VLOOKUP(N$9,'ステップ7（避難意思決定時間）'!$D$8:$J$27,5,FALSE)),IF(N$13=\"対策2\",IF(ISERROR(VLOOKUP(N$9,'ステップ7（避難意思決定時間）'!$D$8:$J$27,6,FALSE)),\"\",VLOOKUP(N$9,'ステップ7（避難意思決定時間）'!$D$8:$J$27,6,FALSE)),IF(ISERROR(VLOOKUP(N$9,'ステップ7（避難意思決定時間）'!$D$8:$J$27,7,FALSE)),\"\",VLOOKUP(N$9,'ステップ7（避難意思決定時間）'!$D$8:$J$27,7,FALSE))))))","v":""},{"$f":"IF(O$9=\"\",\"\",IF(OR(O$13=\"\",O$13=\"無対策\"),IF(ISERROR(VLOOKUP(O$9,'ステップ7（避難意思決定時間）'!$D$8:$J$27,4,FALSE)),\"\",VLOOKUP(O$9,'ステップ7（避難意思決定時間）'!$D$8:$J$27,4,FALSE)),IF(O$13=\"対策1\",IF(ISERROR(VLOOKUP(O$9,'ステップ7（避難意思決定時間）'!$D$8:$J$27,5,FALSE)),\"\",VLOOKUP(O$9,'ステップ7（避難意思決定時間）'!$D$8:$J$27,5,FALSE)),IF(O$13=\"対策2\",IF(ISERROR(VLOOKUP(O$9,'ステップ7（避難意思決定時間）'!$D$8:$J$27,6,FALSE)),\"\",VLOOKUP(O$9,'ステップ7（避難意思決定時間）'!$D$8:$J$27,6,FALSE)),IF(ISERROR(VLOOKUP(O$9,'ステップ7（避難意思決定時間）'!$D$8:$J$27,7,FALSE)),\"\",VLOOKUP(O$9,'ステップ7（避難意思決定時間）'!$D$8:$J$27,7,FALSE))))))","v":""},{"$f":"IF(P$9=\"\",\"\",IF(OR(P$13=\"\",P$13=\"無対策\"),IF(ISERROR(VLOOKUP(P$9,'ステップ7（避難意思決定時間）'!$D$8:$J$27,4,FALSE)),\"\",VLOOKUP(P$9,'ステップ7（避難意思決定時間）'!$D$8:$J$27,4,FALSE)),IF(P$13=\"対策1\",IF(ISERROR(VLOOKUP(P$9,'ステップ7（避難意思決定時間）'!$D$8:$J$27,5,FALSE)),\"\",VLOOKUP(P$9,'ステップ7（避難意思決定時間）'!$D$8:$J$27,5,FALSE)),IF(P$13=\"対策2\",IF(ISERROR(VLOOKUP(P$9,'ステップ7（避難意思決定時間）'!$D$8:$J$27,6,FALSE)),\"\",VLOOKUP(P$9,'ステップ7（避難意思決定時間）'!$D$8:$J$27,6,FALSE)),IF(ISERROR(VLOOKUP(P$9,'ステップ7（避難意思決定時間）'!$D$8:$J$27,7,FALSE)),\"\",VLOOKUP(P$9,'ステップ7（避難意思決定時間）'!$D$8:$J$27,7,FALSE))))))","v":""},{"$f":"IF(Q$9=\"\",\"\",IF(OR(Q$13=\"\",Q$13=\"無対策\"),IF(ISERROR(VLOOKUP(Q$9,'ステップ7（避難意思決定時間）'!$D$8:$J$27,4,FALSE)),\"\",VLOOKUP(Q$9,'ステップ7（避難意思決定時間）'!$D$8:$J$27,4,FALSE)),IF(Q$13=\"対策1\",IF(ISERROR(VLOOKUP(Q$9,'ステップ7（避難意思決定時間）'!$D$8:$J$27,5,FALSE)),\"\",VLOOKUP(Q$9,'ステップ7（避難意思決定時間）'!$D$8:$J$27,5,FALSE)),IF(Q$13=\"対策2\",IF(ISERROR(VLOOKUP(Q$9,'ステップ7（避難意思決定時間）'!$D$8:$J$27,6,FALSE)),\"\",VLOOKUP(Q$9,'ステップ7（避難意思決定時間）'!$D$8:$J$27,6,FALSE)),IF(ISERROR(VLOOKUP(Q$9,'ステップ7（避難意思決定時間）'!$D$8:$J$27,7,FALSE)),\"\",VLOOKUP(Q$9,'ステップ7（避難意思決定時間）'!$D$8:$J$27,7,FALSE))))))","v":""},{"$f":"IF(R$9=\"\",\"\",IF(OR(R$13=\"\",R$13=\"無対策\"),IF(ISERROR(VLOOKUP(R$9,'ステップ7（避難意思決定時間）'!$D$8:$J$27,4,FALSE)),\"\",VLOOKUP(R$9,'ステップ7（避難意思決定時間）'!$D$8:$J$27,4,FALSE)),IF(R$13=\"対策1\",IF(ISERROR(VLOOKUP(R$9,'ステップ7（避難意思決定時間）'!$D$8:$J$27,5,FALSE)),\"\",VLOOKUP(R$9,'ステップ7（避難意思決定時間）'!$D$8:$J$27,5,FALSE)),IF(R$13=\"対策2\",IF(ISERROR(VLOOKUP(R$9,'ステップ7（避難意思決定時間）'!$D$8:$J$27,6,FALSE)),\"\",VLOOKUP(R$9,'ステップ7（避難意思決定時間）'!$D$8:$J$27,6,FALSE)),IF(ISERROR(VLOOKUP(R$9,'ステップ7（避難意思決定時間）'!$D$8:$J$27,7,FALSE)),\"\",VLOOKUP(R$9,'ステップ7（避難意思決定時間）'!$D$8:$J$27,7,FALSE))))))","v":""},{"$f":"IF(S$9=\"\",\"\",IF(OR(S$13=\"\",S$13=\"無対策\"),IF(ISERROR(VLOOKUP(S$9,'ステップ7（避難意思決定時間）'!$D$8:$J$27,4,FALSE)),\"\",VLOOKUP(S$9,'ステップ7（避難意思決定時間）'!$D$8:$J$27,4,FALSE)),IF(S$13=\"対策1\",IF(ISERROR(VLOOKUP(S$9,'ステップ7（避難意思決定時間）'!$D$8:$J$27,5,FALSE)),\"\",VLOOKUP(S$9,'ステップ7（避難意思決定時間）'!$D$8:$J$27,5,FALSE)),IF(S$13=\"対策2\",IF(ISERROR(VLOOKUP(S$9,'ステップ7（避難意思決定時間）'!$D$8:$J$27,6,FALSE)),\"\",VLOOKUP(S$9,'ステップ7（避難意思決定時間）'!$D$8:$J$27,6,FALSE)),IF(ISERROR(VLOOKUP(S$9,'ステップ7（避難意思決定時間）'!$D$8:$J$27,7,FALSE)),\"\",VLOOKUP(S$9,'ステップ7（避難意思決定時間）'!$D$8:$J$27,7,FALSE))))))","v":""},{"$f":"IF(T$9=\"\",\"\",IF(OR(T$13=\"\",T$13=\"無対策\"),IF(ISERROR(VLOOKUP(T$9,'ステップ7（避難意思決定時間）'!$D$8:$J$27,4,FALSE)),\"\",VLOOKUP(T$9,'ステップ7（避難意思決定時間）'!$D$8:$J$27,4,FALSE)),IF(T$13=\"対策1\",IF(ISERROR(VLOOKUP(T$9,'ステップ7（避難意思決定時間）'!$D$8:$J$27,5,FALSE)),\"\",VLOOKUP(T$9,'ステップ7（避難意思決定時間）'!$D$8:$J$27,5,FALSE)),IF(T$13=\"対策2\",IF(ISERROR(VLOOKUP(T$9,'ステップ7（避難意思決定時間）'!$D$8:$J$27,6,FALSE)),\"\",VLOOKUP(T$9,'ステップ7（避難意思決定時間）'!$D$8:$J$27,6,FALSE)),IF(ISERROR(VLOOKUP(T$9,'ステップ7（避難意思決定時間）'!$D$8:$J$27,7,FALSE)),\"\",VLOOKUP(T$9,'ステップ7（避難意思決定時間）'!$D$8:$J$27,7,FALSE))))))","v":""},{"$f":"IF(U$9=\"\",\"\",IF(OR(U$13=\"\",U$13=\"無対策\"),IF(ISERROR(VLOOKUP(U$9,'ステップ7（避難意思決定時間）'!$D$8:$J$27,4,FALSE)),\"\",VLOOKUP(U$9,'ステップ7（避難意思決定時間）'!$D$8:$J$27,4,FALSE)),IF(U$13=\"対策1\",IF(ISERROR(VLOOKUP(U$9,'ステップ7（避難意思決定時間）'!$D$8:$J$27,5,FALSE)),\"\",VLOOKUP(U$9,'ステップ7（避難意思決定時間）'!$D$8:$J$27,5,FALSE)),IF(U$13=\"対策2\",IF(ISERROR(VLOOKUP(U$9,'ステップ7（避難意思決定時間）'!$D$8:$J$27,6,FALSE)),\"\",VLOOKUP(U$9,'ステップ7（避難意思決定時間）'!$D$8:$J$27,6,FALSE)),IF(ISERROR(VLOOKUP(U$9,'ステップ7（避難意思決定時間）'!$D$8:$J$27,7,FALSE)),\"\",VLOOKUP(U$9,'ステップ7（避難意思決定時間）'!$D$8:$J$27,7,FALSE))))))","v":""},{"$f":"IF(V$9=\"\",\"\",IF(OR(V$13=\"\",V$13=\"無対策\"),IF(ISERROR(VLOOKUP(V$9,'ステップ7（避難意思決定時間）'!$D$8:$J$27,4,FALSE)),\"\",VLOOKUP(V$9,'ステップ7（避難意思決定時間）'!$D$8:$J$27,4,FALSE)),IF(V$13=\"対策1\",IF(ISERROR(VLOOKUP(V$9,'ステップ7（避難意思決定時間）'!$D$8:$J$27,5,FALSE)),\"\",VLOOKUP(V$9,'ステップ7（避難意思決定時間）'!$D$8:$J$27,5,FALSE)),IF(V$13=\"対策2\",IF(ISERROR(VLOOKUP(V$9,'ステップ7（避難意思決定時間）'!$D$8:$J$27,6,FALSE)),\"\",VLOOKUP(V$9,'ステップ7（避難意思決定時間）'!$D$8:$J$27,6,FALSE)),IF(ISERROR(VLOOKUP(V$9,'ステップ7（避難意思決定時間）'!$D$8:$J$27,7,FALSE)),\"\",VLOOKUP(V$9,'ステップ7（避難意思決定時間）'!$D$8:$J$27,7,FALSE))))))","v":""},{"$f":"IF(W$9=\"\",\"\",IF(OR(W$13=\"\",W$13=\"無対策\"),IF(ISERROR(VLOOKUP(W$9,'ステップ7（避難意思決定時間）'!$D$8:$J$27,4,FALSE)),\"\",VLOOKUP(W$9,'ステップ7（避難意思決定時間）'!$D$8:$J$27,4,FALSE)),IF(W$13=\"対策1\",IF(ISERROR(VLOOKUP(W$9,'ステップ7（避難意思決定時間）'!$D$8:$J$27,5,FALSE)),\"\",VLOOKUP(W$9,'ステップ7（避難意思決定時間）'!$D$8:$J$27,5,FALSE)),IF(W$13=\"対策2\",IF(ISERROR(VLOOKUP(W$9,'ステップ7（避難意思決定時間）'!$D$8:$J$27,6,FALSE)),\"\",VLOOKUP(W$9,'ステップ7（避難意思決定時間）'!$D$8:$J$27,6,FALSE)),IF(ISERROR(VLOOKUP(W$9,'ステップ7（避難意思決定時間）'!$D$8:$J$27,7,FALSE)),\"\",VLOOKUP(W$9,'ステップ7（避難意思決定時間）'!$D$8:$J$27,7,FALSE))))))","v":""},{"$f":"IF(X$9=\"\",\"\",IF(OR(X$13=\"\",X$13=\"無対策\"),IF(ISERROR(VLOOKUP(X$9,'ステップ7（避難意思決定時間）'!$D$8:$J$27,4,FALSE)),\"\",VLOOKUP(X$9,'ステップ7（避難意思決定時間）'!$D$8:$J$27,4,FALSE)),IF(X$13=\"対策1\",IF(ISERROR(VLOOKUP(X$9,'ステップ7（避難意思決定時間）'!$D$8:$J$27,5,FALSE)),\"\",VLOOKUP(X$9,'ステップ7（避難意思決定時間）'!$D$8:$J$27,5,FALSE)),IF(X$13=\"対策2\",IF(ISERROR(VLOOKUP(X$9,'ステップ7（避難意思決定時間）'!$D$8:$J$27,6,FALSE)),\"\",VLOOKUP(X$9,'ステップ7（避難意思決定時間）'!$D$8:$J$27,6,FALSE)),IF(ISERROR(VLOOKUP(X$9,'ステップ7（避難意思決定時間）'!$D$8:$J$27,7,FALSE)),\"\",VLOOKUP(X$9,'ステップ7（避難意思決定時間）'!$D$8:$J$27,7,FALSE))))))","v":""},{"$f":"IF(Y$9=\"\",\"\",IF(OR(Y$13=\"\",Y$13=\"無対策\"),IF(ISERROR(VLOOKUP(Y$9,'ステップ7（避難意思決定時間）'!$D$8:$J$27,4,FALSE)),\"\",VLOOKUP(Y$9,'ステップ7（避難意思決定時間）'!$D$8:$J$27,4,FALSE)),IF(Y$13=\"対策1\",IF(ISERROR(VLOOKUP(Y$9,'ステップ7（避難意思決定時間）'!$D$8:$J$27,5,FALSE)),\"\",VLOOKUP(Y$9,'ステップ7（避難意思決定時間）'!$D$8:$J$27,5,FALSE)),IF(Y$13=\"対策2\",IF(ISERROR(VLOOKUP(Y$9,'ステップ7（避難意思決定時間）'!$D$8:$J$27,6,FALSE)),\"\",VLOOKUP(Y$9,'ステップ7（避難意思決定時間）'!$D$8:$J$27,6,FALSE)),IF(ISERROR(VLOOKUP(Y$9,'ステップ7（避難意思決定時間）'!$D$8:$J$27,7,FALSE)),\"\",VLOOKUP(Y$9,'ステップ7（避難意思決定時間）'!$D$8:$J$27,7,FALSE))))))","v":""},{"$f":"IF(Z$9=\"\",\"\",IF(OR(Z$13=\"\",Z$13=\"無対策\"),IF(ISERROR(VLOOKUP(Z$9,'ステップ7（避難意思決定時間）'!$D$8:$J$27,4,FALSE)),\"\",VLOOKUP(Z$9,'ステップ7（避難意思決定時間）'!$D$8:$J$27,4,FALSE)),IF(Z$13=\"対策1\",IF(ISERROR(VLOOKUP(Z$9,'ステップ7（避難意思決定時間）'!$D$8:$J$27,5,FALSE)),\"\",VLOOKUP(Z$9,'ステップ7（避難意思決定時間）'!$D$8:$J$27,5,FALSE)),IF(Z$13=\"対策2\",IF(ISERROR(VLOOKUP(Z$9,'ステップ7（避難意思決定時間）'!$D$8:$J$27,6,FALSE)),\"\",VLOOKUP(Z$9,'ステップ7（避難意思決定時間）'!$D$8:$J$27,6,FALSE)),IF(ISERROR(VLOOKUP(Z$9,'ステップ7（避難意思決定時間）'!$D$8:$J$27,7,FALSE)),\"\",VLOOKUP(Z$9,'ステップ7（避難意思決定時間）'!$D$8:$J$27,7,FALSE))))))","v":""}]
[null,null,"t3、t4、t5：\n　移動時間(分)",null,null,"区画・部屋番号",{"$f":"IF(G14<>\"\",G14,\"\")","v":""},"","","","","","","","","","","","","","","","","","",""]
[null,null,null,null,"地上","t3:階段下までの移動時間",{"$f":"IF(ISERROR(HLOOKUP(G51,'ステップ8（移動時間の算定）'!$F$104:$Y$110,3,FALSE)),\"\",HLOOKUP(G51,'ステップ8（移動時間の算定）'!$F$104:$Y$110,3,FALSE))","v":0},{"$f":"IF(ISERROR(HLOOKUP(H51,'ステップ8（移動時間の算定）'!$F$104:$Y$110,3,FALSE)),\"\",HLOOKUP(H51,'ステップ8（移動時間の算定）'!$F$104:$Y$110,3,FALSE))","v":0},{"$f":"IF(ISERROR(HLOOKUP(I51,'ステップ8（移動時間の算定）'!$F$104:$Y$110,3,FALSE)),\"\",HLOOKUP(I51,'ステップ8（移動時間の算定）'!$F$104:$Y$110,3,FALSE))","v":0},{"$f":"IF(ISERROR(HLOOKUP(J51,'ステップ8（移動時間の算定）'!$F$104:$Y$110,3,FALSE)),\"\",HLOOKUP(J51,'ステップ8（移動時間の算定）'!$F$104:$Y$110,3,FALSE))","v":0},{"$f":"IF(ISERROR(HLOOKUP(K51,'ステップ8（移動時間の算定）'!$F$104:$Y$110,3,FALSE)),\"\",HLOOKUP(K51,'ステップ8（移動時間の算定）'!$F$104:$Y$110,3,FALSE))","v":0},{"$f":"IF(ISERROR(HLOOKUP(L51,'ステップ8（移動時間の算定）'!$F$104:$Y$110,3,FALSE)),\"\",HLOOKUP(L51,'ステップ8（移動時間の算定）'!$F$104:$Y$110,3,FALSE))","v":0},{"$f":"IF(ISERROR(HLOOKUP(M51,'ステップ8（移動時間の算定）'!$F$104:$Y$110,3,FALSE)),\"\",HLOOKUP(M51,'ステップ8（移動時間の算定）'!$F$104:$Y$110,3,FALSE))","v":0},{"$f":"IF(ISERROR(HLOOKUP(N51,'ステップ8（移動時間の算定）'!$F$104:$Y$110,3,FALSE)),\"\",HLOOKUP(N51,'ステップ8（移動時間の算定）'!$F$104:$Y$110,3,FALSE))","v":0},{"$f":"IF(ISERROR(HLOOKUP(O51,'ステップ8（移動時間の算定）'!$F$104:$Y$110,3,FALSE)),\"\",HLOOKUP(O51,'ステップ8（移動時間の算定）'!$F$104:$Y$110,3,FALSE))","v":0},{"$f":"IF(ISERROR(HLOOKUP(P51,'ステップ8（移動時間の算定）'!$F$104:$Y$110,3,FALSE)),\"\",HLOOKUP(P51,'ステップ8（移動時間の算定）'!$F$104:$Y$110,3,FALSE))","v":0},{"$f":"IF(ISERROR(HLOOKUP(Q51,'ステップ8（移動時間の算定）'!$F$104:$Y$110,3,FALSE)),\"\",HLOOKUP(Q51,'ステップ8（移動時間の算定）'!$F$104:$Y$110,3,FALSE))","v":0},{"$f":"IF(ISERROR(HLOOKUP(R51,'ステップ8（移動時間の算定）'!$F$104:$Y$110,3,FALSE)),\"\",HLOOKUP(R51,'ステップ8（移動時間の算定）'!$F$104:$Y$110,3,FALSE))","v":0},{"$f":"IF(ISERROR(HLOOKUP(S51,'ステップ8（移動時間の算定）'!$F$104:$Y$110,3,FALSE)),\"\",HLOOKUP(S51,'ステップ8（移動時間の算定）'!$F$104:$Y$110,3,FALSE))","v":0},{"$f":"IF(ISERROR(HLOOKUP(T51,'ステップ8（移動時間の算定）'!$F$104:$Y$110,3,FALSE)),\"\",HLOOKUP(T51,'ステップ8（移動時間の算定）'!$F$104:$Y$110,3,FALSE))","v":0},{"$f":"IF(ISERROR(HLOOKUP(U51,'ステップ8（移動時間の算定）'!$F$104:$Y$110,3,FALSE)),\"\",HLOOKUP(U51,'ステップ8（移動時間の算定）'!$F$104:$Y$110,3,FALSE))","v":0},{"$f":"IF(ISERROR(HLOOKUP(V51,'ステップ8（移動時間の算定）'!$F$104:$Y$110,3,FALSE)),\"\",HLOOKUP(V51,'ステップ8（移動時間の算定）'!$F$104:$Y$110,3,FALSE))","v":0},{"$f":"IF(ISERROR(HLOOKUP(W51,'ステップ8（移動時間の算定）'!$F$104:$Y$110,3,FALSE)),\"\",HLOOKUP(W51,'ステップ8（移動時間の算定）'!$F$104:$Y$110,3,FALSE))","v":0},{"$f":"IF(ISERROR(HLOOKUP(X51,'ステップ8（移動時間の算定）'!$F$104:$Y$110,3,FALSE)),\"\",HLOOKUP(X51,'ステップ8（移動時間の算定）'!$F$104:$Y$110,3,FALSE))","v":0},{"$f":"IF(ISERROR(HLOOKUP(Y51,'ステップ8（移動時間の算定）'!$F$104:$Y$110,3,FALSE)),\"\",HLOOKUP(Y51,'ステップ8（移動時間の算定）'!$F$104:$Y$110,3,FALSE))","v":0},{"$f":"IF(ISERROR(HLOOKUP(Z51,'ステップ8（移動時間の算定）'!$F$104:$Y$110,3,FALSE)),\"\",HLOOKUP(Z51,'ステップ8（移動時間の算定）'!$F$104:$Y$110,3,FALSE))","v":0}]
[null,null,null,null,"↑","t4(a):階段下の通過時間",{"$f":"IF(ISERROR(HLOOKUP(G51,'ステップ8（移動時間の算定）'!$F$104:$Y$110,4,FALSE)),\"\",HLOOKUP(G51,'ステップ8（移動時間の算定）'!$F$104:$Y$110,4,FALSE))","v":0},{"$f":"IF(ISERROR(HLOOKUP(H51,'ステップ8（移動時間の算定）'!$F$104:$Y$110,4,FALSE)),\"\",HLOOKUP(H51,'ステップ8（移動時間の算定）'!$F$104:$Y$110,4,FALSE))","v":0},{"$f":"IF(ISERROR(HLOOKUP(I51,'ステップ8（移動時間の算定）'!$F$104:$Y$110,4,FALSE)),\"\",HLOOKUP(I51,'ステップ8（移動時間の算定）'!$F$104:$Y$110,4,FALSE))","v":0},{"$f":"IF(ISERROR(HLOOKUP(J51,'ステップ8（移動時間の算定）'!$F$104:$Y$110,4,FALSE)),\"\",HLOOKUP(J51,'ステップ8（移動時間の算定）'!$F$104:$Y$110,4,FALSE))","v":0},{"$f":"IF(ISERROR(HLOOKUP(K51,'ステップ8（移動時間の算定）'!$F$104:$Y$110,4,FALSE)),\"\",HLOOKUP(K51,'ステップ8（移動時間の算定）'!$F$104:$Y$110,4,FALSE))","v":0},{"$f":"IF(ISERROR(HLOOKUP(L51,'ステップ8（移動時間の算定）'!$F$104:$Y$110,4,FALSE)),\"\",HLOOKUP(L51,'ステップ8（移動時間の算定）'!$F$104:$Y$110,4,FALSE))","v":0},{"$f":"IF(ISERROR(HLOOKUP(M51,'ステップ8（移動時間の算定）'!$F$104:$Y$110,4,FALSE)),\"\",HLOOKUP(M51,'ステップ8（移動時間の算定）'!$F$104:$Y$110,4,FALSE))","v":0},{"$f":"IF(ISERROR(HLOOKUP(N51,'ステップ8（移動時間の算定）'!$F$104:$Y$110,4,FALSE)),\"\",HLOOKUP(N51,'ステップ8（移動時間の算定）'!$F$104:$Y$110,4,FALSE))","v":0},{"$f":"IF(ISERROR(HLOOKUP(O51,'ステップ8（移動時間の算定）'!$F$104:$Y$110,4,FALSE)),\"\",HLOOKUP(O51,'ステップ8（移動時間の算定）'!$F$104:$Y$110,4,FALSE))","v":0},{"$f":"IF(ISERROR(HLOOKUP(P51,'ステップ8（移動時間の算定）'!$F$104:$Y$110,4,FALSE)),\"\",HLOOKUP(P51,'ステップ8（移動時間の算定）'!$F$104:$Y$110,4,FALSE))","v":0},{"$f":"IF(ISERROR(HLOOKUP(Q51,'ステップ8（移動時間の算定）'!$F$104:$Y$110,4,FALSE)),\"\",HLOOKUP(Q51,'ステップ8（移動時間の算定）'!$F$104:$Y$110,4,FALSE))","v":0},{"$f":"IF(ISERROR(HLOOKUP(R51,'ステップ8（移動時間の算定）'!$F$104:$Y$110,4,FALSE)),\"\",HLOOKUP(R51,'ステップ8（移動時間の算定）'!$F$104:$Y$110,4,FALSE))","v":0},{"$f":"IF(ISERROR(HLOOKUP(S51,'ステップ8（移動時間の算定）'!$F$104:$Y$110,4,FALSE)),\"\",HLOOKUP(S51,'ステップ8（移動時間の算定）'!$F$104:$Y$110,4,FALSE))","v":0},{"$f":"IF(ISERROR(HLOOKUP(T51,'ステップ8（移動時間の算定）'!$F$104:$Y$110,4,FALSE)),\"\",HLOOKUP(T51,'ステップ8（移動時間の算定）'!$F$104:$Y$110,4,FALSE))","v":0},{"$f":"IF(ISERROR(HLOOKUP(U51,'ステップ8（移動時間の算定）'!$F$104:$Y$110,4,FALSE)),\"\",HLOOKUP(U51,'ステップ8（移動時間の算定）'!$F$104:$Y$110,4,FALSE))","v":0},{"$f":"IF(ISERROR(HLOOKUP(V51,'ステップ8（移動時間の算定）'!$F$104:$Y$110,4,FALSE)),\"\",HLOOKUP(V51,'ステップ8（移動時間の算定）'!$F$104:$Y$110,4,FALSE))","v":0},{"$f":"IF(ISERROR(HLOOKUP(W51,'ステップ8（移動時間の算定）'!$F$104:$Y$110,4,FALSE)),\"\",HLOOKUP(W51,'ステップ8（移動時間の算定）'!$F$104:$Y$110,4,FALSE))","v":0},{"$f":"IF(ISERROR(HLOOKUP(X51,'ステップ8（移動時間の算定）'!$F$104:$Y$110,4,FALSE)),\"\",HLOOKUP(X51,'ステップ8（移動時間の算定）'!$F$104:$Y$110,4,FALSE))","v":0},{"$f":"IF(ISERROR(HLOOKUP(Y51,'ステップ8（移動時間の算定）'!$F$104:$Y$110,4,FALSE)),\"\",HLOOKUP(Y51,'ステップ8（移動時間の算定）'!$F$104:$Y$110,4,FALSE))","v":0},{"$f":"IF(ISERROR(HLOOKUP(Z51,'ステップ8（移動時間の算定）'!$F$104:$Y$110,4,FALSE)),\"\",HLOOKUP(Z51,'ステップ8（移動時間の算定）'!$F$104:$Y$110,4,FALSE))","v":0}]
[null,null,null,null,"B1","t4(b):居室出口通過時間",{"$f":"IF(G62<>0,0,IF(ISERROR(HLOOKUP(G51,'ステップ8（移動時間の算定）'!$F$104:$Y$110,5,FALSE)),\"\",HLOOKUP(G51,'ステップ8（移動時間の算定）'!$F$104:$Y$110,5,FALSE)))","v":0},{"$f":"IF(H62<>0,0,IF(ISERROR(HLOOKUP(H51,'ステップ8（移動時間の算定）'!$F$104:$Y$110,5,FALSE)),\"\",HLOOKUP(H51,'ステップ8（移動時間の算定）'!$F$104:$Y$110,5,FALSE)))","v":0},{"$f":"IF(I62<>0,0,IF(ISERROR(HLOOKUP(I51,'ステップ8（移動時間の算定）'!$F$104:$Y$110,5,FALSE)),\"\",HLOOKUP(I51,'ステップ8（移動時間の算定）'!$F$104:$Y$110,5,FALSE)))","v":0},{"$f":"IF(J62<>0,0,IF(ISERROR(HLOOKUP(J51,'ステップ8（移動時間の算定）'!$F$104:$Y$110,5,FALSE)),\"\",HLOOKUP(J51,'ステップ8（移動時間の算定）'!$F$104:$Y$110,5,FALSE)))","v":0},{"$f":"IF(K62<>0,0,IF(ISERROR(HLOOKUP(K51,'ステップ8（移動時間の算定）'!$F$104:$Y$110,5,FALSE)),\"\",HLOOKUP(K51,'ステップ8（移動時間の算定）'!$F$104:$Y$110,5,FALSE)))","v":0},{"$f":"IF(L62<>0,0,IF(ISERROR(HLOOKUP(L51,'ステップ8（移動時間の算定）'!$F$104:$Y$110,5,FALSE)),\"\",HLOOKUP(L51,'ステップ8（移動時間の算定）'!$F$104:$Y$110,5,FALSE)))","v":0},{"$f":"IF(M62<>0,0,IF(ISERROR(HLOOKUP(M51,'ステップ8（移動時間の算定）'!$F$104:$Y$110,5,FALSE)),\"\",HLOOKUP(M51,'ステップ8（移動時間の算定）'!$F$104:$Y$110,5,FALSE)))","v":0},{"$f":"IF(N62<>0,0,IF(ISERROR(HLOOKUP(N51,'ステップ8（移動時間の算定）'!$F$104:$Y$110,5,FALSE)),\"\",HLOOKUP(N51,'ステップ8（移動時間の算定）'!$F$104:$Y$110,5,FALSE)))","v":0},{"$f":"IF(O62<>0,0,IF(ISERROR(HLOOKUP(O51,'ステップ8（移動時間の算定）'!$F$104:$Y$110,5,FALSE)),\"\",HLOOKUP(O51,'ステップ8（移動時間の算定）'!$F$104:$Y$110,5,FALSE)))","v":0},{"$f":"IF(P62<>0,0,IF(ISERROR(HLOOKUP(P51,'ステップ8（移動時間の算定）'!$F$104:$Y$110,5,FALSE)),\"\",HLOOKUP(P51,'ステップ8（移動時間の算定）'!$F$104:$Y$110,5,FALSE)))","v":0},{"$f":"IF(Q62<>0,0,IF(ISERROR(HLOOKUP(Q51,'ステップ8（移動時間の算定）'!$F$104:$Y$110,5,FALSE)),\"\",HLOOKUP(Q51,'ステップ8（移動時間の算定）'!$F$104:$Y$110,5,FALSE)))","v":0},{"$f":"IF(R62<>0,0,IF(ISERROR(HLOOKUP(R51,'ステップ8（移動時間の算定）'!$F$104:$Y$110,5,FALSE)),\"\",HLOOKUP(R51,'ステップ8（移動時間の算定）'!$F$104:$Y$110,5,FALSE)))","v":0},{"$f":"IF(S62<>0,0,IF(ISERROR(HLOOKUP(S51,'ステップ8（移動時間の算定）'!$F$104:$Y$110,5,FALSE)),\"\",HLOOKUP(S51,'ステップ8（移動時間の算定）'!$F$104:$Y$110,5,FALSE)))","v":0},{"$f":"IF(T62<>0,0,IF(ISERROR(HLOOKUP(T51,'ステップ8（移動時間の算定）'!$F$104:$Y$110,5,FALSE)),\"\",HLOOKUP(T51,'ステップ8（移動時間の算定）'!$F$104:$Y$110,5,FALSE)))","v":0},{"$f":"IF(U62<>0,0,IF(ISERROR(HLOOKUP(U51,'ステップ8（移動時間の算定）'!$F$104:$Y$110,5,FALSE)),\"\",HLOOKUP(U51,'ステップ8（移動時間の算定）'!$F$104:$Y$110,5,FALSE)))","v":0},{"$f":"IF(V62<>0,0,IF(ISERROR(HLOOKUP(V51,'ステップ8（移動時間の算定）'!$F$104:$Y$110,5,FALSE)),\"\",HLOOKUP(V51,'ステップ8（移動時間の算定）'!$F$104:$Y$110,5,FALSE)))","v":0},{"$f":"IF(W62<>0,0,IF(ISERROR(HLOOKUP(W51,'ステップ8（移動時間の算定）'!$F$104:$Y$110,5,FALSE)),\"\",HLOOKUP(W51,'ステップ8（移動時間の算定）'!$F$104:$Y$110,5,FALSE)))","v":0},{"$f":"IF(X62<>0,0,IF(ISERROR(HLOOKUP(X51,'ステップ8（移動時間の算定）'!$F$104:$Y$110,5,FALSE)),\"\",HLOOKUP(X51,'ステップ8（移動時間の算定）'!$F$104:$Y$110,5,FALSE)))","v":0},{"$f":"IF(Y62<>0,0,IF(ISERROR(HLOOKUP(Y51,'ステップ8（移動時間の算定）'!$F$104:$Y$110,5,FALSE)),\"\",HLOOKUP(Y51,'ステップ8（移動時間の算定）'!$F$104:$Y$110,5,FALSE)))","v":0},{"$f":"IF(Z62<>0,0,IF(ISERROR(HLOOKUP(Z51,'ステップ8（移動時間の算定）'!$F$104:$Y$110,5,FALSE)),\"\",HLOOKUP(Z51,'ステップ8（移動時間の算定）'!$F$104:$Y$110,5,FALSE)))","v":0}]
[null,null,null,null,null,"t5:階段上階への移動時間",{"$f":"IF(ISERROR(HLOOKUP(G51,'ステップ8（移動時間の算定）'!$F$104:$Y$110,6,FALSE)),\"\",HLOOKUP(G51,'ステップ8（移動時間の算定）'!$F$104:$Y$110,6,FALSE))","v":0},{"$f":"IF(ISERROR(HLOOKUP(H51,'ステップ8（移動時間の算定）'!$F$104:$Y$110,6,FALSE)),\"\",HLOOKUP(H51,'ステップ8（移動時間の算定）'!$F$104:$Y$110,6,FALSE))","v":0},{"$f":"IF(ISERROR(HLOOKUP(I51,'ステップ8（移動時間の算定）'!$F$104:$Y$110,6,FALSE)),\"\",HLOOKUP(I51,'ステップ8（移動時間の算定）'!$F$104:$Y$110,6,FALSE))","v":0},{"$f":"IF(ISERROR(HLOOKUP(J51,'ステップ8（移動時間の算定）'!$F$104:$Y$110,6,FALSE)),\"\",HLOOKUP(J51,'ステップ8（移動時間の算定）'!$F$104:$Y$110,6,FALSE))","v":0},{"$f":"IF(ISERROR(HLOOKUP(K51,'ステップ8（移動時間の算定）'!$F$104:$Y$110,6,FALSE)),\"\",HLOOKUP(K51,'ステップ8（移動時間の算定）'!$F$104:$Y$110,6,FALSE))","v":0},{"$f":"IF(ISERROR(HLOOKUP(L51,'ステップ8（移動時間の算定）'!$F$104:$Y$110,6,FALSE)),\"\",HLOOKUP(L51,'ステップ8（移動時間の算定）'!$F$104:$Y$110,6,FALSE))","v":0},{"$f":"IF(ISERROR(HLOOKUP(M51,'ステップ8（移動時間の算定）'!$F$104:$Y$110,6,FALSE)),\"\",HLOOKUP(M51,'ステップ8（移動時間の算定）'!$F$104:$Y$110,6,FALSE))","v":0},{"$f":"IF(ISERROR(HLOOKUP(N51,'ステップ8（移動時間の算定）'!$F$104:$Y$110,6,FALSE)),\"\",HLOOKUP(N51,'ステップ8（移動時間の算定）'!$F$104:$Y$110,6,FALSE))","v":0},{"$f":"IF(ISERROR(HLOOKUP(O51,'ステップ8（移動時間の算定）'!$F$104:$Y$110,6,FALSE)),\"\",HLOOKUP(O51,'ステップ8（移動時間の算定）'!$F$104:$Y$110,6,FALSE))","v":0},{"$f":"IF(ISERROR(HLOOKUP(P51,'ステップ8（移動時間の算定）'!$F$104:$Y$110,6,FALSE)),\"\",HLOOKUP(P51,'ステップ8（移動時間の算定）'!$F$104:$Y$110,6,FALSE))","v":0},{"$f":"IF(ISERROR(HLOOKUP(Q51,'ステップ8（移動時間の算定）'!$F$104:$Y$110,6,FALSE)),\"\",HLOOKUP(Q51,'ステップ8（移動時間の算定）'!$F$104:$Y$110,6,FALSE))","v":0},{"$f":"IF(ISERROR(HLOOKUP(R51,'ステップ8（移動時間の算定）'!$F$104:$Y$110,6,FALSE)),\"\",HLOOKUP(R51,'ステップ8（移動時間の算定）'!$F$104:$Y$110,6,FALSE))","v":0},{"$f":"IF(ISERROR(HLOOKUP(S51,'ステップ8（移動時間の算定）'!$F$104:$Y$110,6,FALSE)),\"\",HLOOKUP(S51,'ステップ8（移動時間の算定）'!$F$104:$Y$110,6,FALSE))","v":0},{"$f":"IF(ISERROR(HLOOKUP(T51,'ステップ8（移動時間の算定）'!$F$104:$Y$110,6,FALSE)),\"\",HLOOKUP(T51,'ステップ8（移動時間の算定）'!$F$104:$Y$110,6,FALSE))","v":0},{"$f":"IF(ISERROR(HLOOKUP(U51,'ステップ8（移動時間の算定）'!$F$104:$Y$110,6,FALSE)),\"\",HLOOKUP(U51,'ステップ8（移動時間の算定）'!$F$104:$Y$110,6,FALSE))","v":0},{"$f":"IF(ISERROR(HLOOKUP(V51,'ステップ8（移動時間の算定）'!$F$104:$Y$110,6,FALSE)),\"\",HLOOKUP(V51,'ステップ8（移動時間の算定）'!$F$104:$Y$110,6,FALSE))","v":0},{"$f":"IF(ISERROR(HLOOKUP(W51,'ステップ8（移動時間の算定）'!$F$104:$Y$110,6,FALSE)),\"\",HLOOKUP(W51,'ステップ8（移動時間の算定）'!$F$104:$Y$110,6,FALSE))","v":0},{"$f":"IF(ISERROR(HLOOKUP(X51,'ステップ8（移動時間の算定）'!$F$104:$Y$110,6,FALSE)),\"\",HLOOKUP(X51,'ステップ8（移動時間の算定）'!$F$104:$Y$110,6,FALSE))","v":0},{"$f":"IF(ISERROR(HLOOKUP(Y51,'ステップ8（移動時間の算定）'!$F$104:$Y$110,6,FALSE)),\"\",HLOOKUP(Y51,'ステップ8（移動時間の算定）'!$F$104:$Y$110,6,FALSE))","v":0},{"$f":"IF(ISERROR(HLOOKUP(Z51,'ステップ8（移動時間の算定）'!$F$104:$Y$110,6,FALSE)),\"\",HLOOKUP(Z51,'ステップ8（移動時間の算定）'!$F$104:$Y$110,6,FALSE))","v":0}]
[null,null,null,null,null,"移動時間小計",{"$f":"SUBTOTAL(9,G51:G55)","v":0},0,0,0,0,0,0,0,0,0,0,0,0,0,0,0,0,0,0,0]
[null,null,null,null,null,"区画・部屋番号",{"$f":"IF(G15<>\"\",G15,\"\")","v":""},"","","","","","","","","","","","","","","","","","",""]
[null,null,null,null,"B1","t3:階段下までの移動時間",{"$f":"IF(ISERROR(HLOOKUP(G57,'ステップ8（移動時間の算定）'!$F$104:$Y$110,3,FALSE)),\"\",HLOOKUP(G57,'ステップ8（移動時間の算定）'!$F$104:$Y$110,3,FALSE))","v":0},{"$f":"IF(ISERROR(HLOOKUP(H57,'ステップ8（移動時間の算定）'!$F$104:$Y$110,3,FALSE)),\"\",HLOOKUP(H57,'ステップ8（移動時間の算定）'!$F$104:$Y$110,3,FALSE))","v":0},{"$f":"IF(ISERROR(HLOOKUP(I57,'ステップ8（移動時間の算定）'!$F$104:$Y$110,3,FALSE)),\"\",HLOOKUP(I57,'ステップ8（移動時間の算定）'!$F$104:$Y$110,3,FALSE))","v":0},{"$f":"IF(ISERROR(HLOOKUP(J57,'ステップ8（移動時間の算定）'!$F$104:$Y$110,3,FALSE)),\"\",HLOOKUP(J57,'ステップ8（移動時間の算定）'!$F$104:$Y$110,3,FALSE))","v":0},{"$f":"IF(ISERROR(HLOOKUP(K57,'ステップ8（移動時間の算定）'!$F$104:$Y$110,3,FALSE)),\"\",HLOOKUP(K57,'ステップ8（移動時間の算定）'!$F$104:$Y$110,3,FALSE))","v":0},{"$f":"IF(ISERROR(HLOOKUP(L57,'ステップ8（移動時間の算定）'!$F$104:$Y$110,3,FALSE)),\"\",HLOOKUP(L57,'ステップ8（移動時間の算定）'!$F$104:$Y$110,3,FALSE))","v":0},{"$f":"IF(ISERROR(HLOOKUP(M57,'ステップ8（移動時間の算定）'!$F$104:$Y$110,3,FALSE)),\"\",HLOOKUP(M57,'ステップ8（移動時間の算定）'!$F$104:$Y$110,3,FALSE))","v":0},{"$f":"IF(ISERROR(HLOOKUP(N57,'ステップ8（移動時間の算定）'!$F$104:$Y$110,3,FALSE)),\"\",HLOOKUP(N57,'ステップ8（移動時間の算定）'!$F$104:$Y$110,3,FALSE))","v":0},{"$f":"IF(ISERROR(HLOOKUP(O57,'ステップ8（移動時間の算定）'!$F$104:$Y$110,3,FALSE)),\"\",HLOOKUP(O57,'ステップ8（移動時間の算定）'!$F$104:$Y$110,3,FALSE))","v":0},{"$f":"IF(ISERROR(HLOOKUP(P57,'ステップ8（移動時間の算定）'!$F$104:$Y$110,3,FALSE)),\"\",HLOOKUP(P57,'ステップ8（移動時間の算定）'!$F$104:$Y$110,3,FALSE))","v":0},{"$f":"IF(ISERROR(HLOOKUP(Q57,'ステップ8（移動時間の算定）'!$F$104:$Y$110,3,FALSE)),\"\",HLOOKUP(Q57,'ステップ8（移動時間の算定）'!$F$104:$Y$110,3,FALSE))","v":0},{"$f":"IF(ISERROR(HLOOKUP(R57,'ステップ8（移動時間の算定）'!$F$104:$Y$110,3,FALSE)),\"\",HLOOKUP(R57,'ステップ8（移動時間の算定）'!$F$104:$Y$110,3,FALSE))","v":0},{"$f":"IF(ISERROR(HLOOKUP(S57,'ステップ8（移動時間の算定）'!$F$104:$Y$110,3,FALSE)),\"\",HLOOKUP(S57,'ステップ8（移動時間の算定）'!$F$104:$Y$110,3,FALSE))","v":0},{"$f":"IF(ISERROR(HLOOKUP(T57,'ステップ8（移動時間の算定）'!$F$104:$Y$110,3,FALSE)),\"\",HLOOKUP(T57,'ステップ8（移動時間の算定）'!$F$104:$Y$110,3,FALSE))","v":0},{"$f":"IF(ISERROR(HLOOKUP(U57,'ステップ8（移動時間の算定）'!$F$104:$Y$110,3,FALSE)),\"\",HLOOKUP(U57,'ステップ8（移動時間の算定）'!$F$104:$Y$110,3,FALSE))","v":0},{"$f":"IF(ISERROR(HLOOKUP(V57,'ステップ8（移動時間の算定）'!$F$104:$Y$110,3,FALSE)),\"\",HLOOKUP(V57,'ステップ8（移動時間の算定）'!$F$104:$Y$110,3,FALSE))","v":0},{"$f":"IF(ISERROR(HLOOKUP(W57,'ステップ8（移動時間の算定）'!$F$104:$Y$110,3,FALSE)),\"\",HLOOKUP(W57,'ステップ8（移動時間の算定）'!$F$104:$Y$110,3,FALSE))","v":0},{"$f":"IF(ISERROR(HLOOKUP(X57,'ステップ8（移動時間の算定）'!$F$104:$Y$110,3,FALSE)),\"\",HLOOKUP(X57,'ステップ8（移動時間の算定）'!$F$104:$Y$110,3,FALSE))","v":0},{"$f":"IF(ISERROR(HLOOKUP(Y57,'ステップ8（移動時間の算定）'!$F$104:$Y$110,3,FALSE)),\"\",HLOOKUP(Y57,'ステップ8（移動時間の算定）'!$F$104:$Y$110,3,FALSE))","v":0},{"$f":"IF(ISERROR(HLOOKUP(Z57,'ステップ8（移動時間の算定）'!$F$104:$Y$110,3,FALSE)),\"\",HLOOKUP(Z57,'ステップ8（移動時間の算定）'!$F$104:$Y$110,3,FALSE))","v":0}]
[null,null,null,null,"↑","t4(a):階段下の通過時間",{"$f":"IF(ISERROR(HLOOKUP(G57,'ステップ8（移動時間の算定）'!$F$104:$Y$110,4,FALSE)),\"\",HLOOKUP(G57,'ステップ8（移動時間の算定）'!$F$104:$Y$110,4,FALSE))","v":0},{"$f":"IF(ISERROR(HLOOKUP(H57,'ステップ8（移動時間の算定）'!$F$104:$Y$110,4,FALSE)),\"\",HLOOKUP(H57,'ステップ8（移動時間の算定）'!$F$104:$Y$110,4,FALSE))","v":0},{"$f":"IF(ISERROR(HLOOKUP(I57,'ステップ8（移動時間の算定）'!$F$104:$Y$110,4,FALSE)),\"\",HLOOKUP(I57,'ステップ8（移動時間の算定）'!$F$104:$Y$110,4,FALSE))","v":0},{"$f":"IF(ISERROR(HLOOKUP(J57,'ステップ8（移動時間の算定）'!$F$104:$Y$110,4,FALSE)),\"\",HLOOKUP(J57,'ステップ8（移動時間の算定）'!$F$104:$Y$110,4,FALSE))","v":0},{"$f":"IF(ISERROR(HLOOKUP(K57,'ステップ8（移動時間の算定）'!$F$104:$Y$110,4,FALSE)),\"\",HLOOKUP(K57,'ステップ8（移動時間の算定）'!$F$104:$Y$110,4,FALSE))","v":0},{"$f":"IF(ISERROR(HLOOKUP(L57,'ステップ8（移動時間の算定）'!$F$104:$Y$110,4,FALSE)),\"\",HLOOKUP(L57,'ステップ8（移動時間の算定）'!$F$104:$Y$110,4,FALSE))","v":0},{"$f":"IF(ISERROR(HLOOKUP(M57,'ステップ8（移動時間の算定）'!$F$104:$Y$110,4,FALSE)),\"\",HLOOKUP(M57,'ステップ8（移動時間の算定）'!$F$104:$Y$110,4,FALSE))","v":0},{"$f":"IF(ISERROR(HLOOKUP(N57,'ステップ8（移動時間の算定）'!$F$104:$Y$110,4,FALSE)),\"\",HLOOKUP(N57,'ステップ8（移動時間の算定）'!$F$104:$Y$110,4,FALSE))","v":0},{"$f":"IF(ISERROR(HLOOKUP(O57,'ステップ8（移動時間の算定）'!$F$104:$Y$110,4,FALSE)),\"\",HLOOKUP(O57,'ステップ8（移動時間の算定）'!$F$104:$Y$110,4,FALSE))","v":0},{"$f":"IF(ISERROR(HLOOKUP(P57,'ステップ8（移動時間の算定）'!$F$104:$Y$110,4,FALSE)),\"\",HLOOKUP(P57,'ステップ8（移動時間の算定）'!$F$104:$Y$110,4,FALSE))","v":0},{"$f":"IF(ISERROR(HLOOKUP(Q57,'ステップ8（移動時間の算定）'!$F$104:$Y$110,4,FALSE)),\"\",HLOOKUP(Q57,'ステップ8（移動時間の算定）'!$F$104:$Y$110,4,FALSE))","v":0},{"$f":"IF(ISERROR(HLOOKUP(R57,'ステップ8（移動時間の算定）'!$F$104:$Y$110,4,FALSE)),\"\",HLOOKUP(R57,'ステップ8（移動時間の算定）'!$F$104:$Y$110,4,FALSE))","v":0},{"$f":"IF(ISERROR(HLOOKUP(S57,'ステップ8（移動時間の算定）'!$F$104:$Y$110,4,FALSE)),\"\",HLOOKUP(S57,'ステップ8（移動時間の算定）'!$F$104:$Y$110,4,FALSE))","v":0},{"$f":"IF(ISERROR(HLOOKUP(T57,'ステップ8（移動時間の算定）'!$F$104:$Y$110,4,FALSE)),\"\",HLOOKUP(T57,'ステップ8（移動時間の算定）'!$F$104:$Y$110,4,FALSE))","v":0},{"$f":"IF(ISERROR(HLOOKUP(U57,'ステップ8（移動時間の算定）'!$F$104:$Y$110,4,FALSE)),\"\",HLOOKUP(U57,'ステップ8（移動時間の算定）'!$F$104:$Y$110,4,FALSE))","v":0},{"$f":"IF(ISERROR(HLOOKUP(V57,'ステップ8（移動時間の算定）'!$F$104:$Y$110,4,FALSE)),\"\",HLOOKUP(V57,'ステップ8（移動時間の算定）'!$F$104:$Y$110,4,FALSE))","v":0},{"$f":"IF(ISERROR(HLOOKUP(W57,'ステップ8（移動時間の算定）'!$F$104:$Y$110,4,FALSE)),\"\",HLOOKUP(W57,'ステップ8（移動時間の算定）'!$F$104:$Y$110,4,FALSE))","v":0},{"$f":"IF(ISERROR(HLOOKUP(X57,'ステップ8（移動時間の算定）'!$F$104:$Y$110,4,FALSE)),\"\",HLOOKUP(X57,'ステップ8（移動時間の算定）'!$F$104:$Y$110,4,FALSE))","v":0},{"$f":"IF(ISERROR(HLOOKUP(Y57,'ステップ8（移動時間の算定）'!$F$104:$Y$110,4,FALSE)),\"\",HLOOKUP(Y57,'ステップ8（移動時間の算定）'!$F$104:$Y$110,4,FALSE))","v":0},{"$f":"IF(ISERROR(HLOOKUP(Z57,'ステップ8（移動時間の算定）'!$F$104:$Y$110,4,FALSE)),\"\",HLOOKUP(Z57,'ステップ8（移動時間の算定）'!$F$104:$Y$110,4,FALSE))","v":0}]
[null,null,null,null,"B2","t4(b):居室出口通過時間",{"$f":"IF(G68<>0,0,IF(ISERROR(HLOOKUP(G57,'ステップ8（移動時間の算定）'!$F$104:$Y$110,5,FALSE)),\"\",HLOOKUP(G57,'ステップ8（移動時間の算定）'!$F$104:$Y$110,5,FALSE)))","v":0},{"$f":"IF(H68<>0,0,IF(ISERROR(HLOOKUP(H57,'ステップ8（移動時間の算定）'!$F$104:$Y$110,5,FALSE)),\"\",HLOOKUP(H57,'ステップ8（移動時間の算定）'!$F$104:$Y$110,5,FALSE)))","v":0},{"$f":"IF(I68<>0,0,IF(ISERROR(HLOOKUP(I57,'ステップ8（移動時間の算定）'!$F$104:$Y$110,5,FALSE)),\"\",HLOOKUP(I57,'ステップ8（移動時間の算定）'!$F$104:$Y$110,5,FALSE)))","v":0},{"$f":"IF(J68<>0,0,IF(ISERROR(HLOOKUP(J57,'ステップ8（移動時間の算定）'!$F$104:$Y$110,5,FALSE)),\"\",HLOOKUP(J57,'ステップ8（移動時間の算定）'!$F$104:$Y$110,5,FALSE)))","v":0},{"$f":"IF(K68<>0,0,IF(ISERROR(HLOOKUP(K57,'ステップ8（移動時間の算定）'!$F$104:$Y$110,5,FALSE)),\"\",HLOOKUP(K57,'ステップ8（移動時間の算定）'!$F$104:$Y$110,5,FALSE)))","v":0},{"$f":"IF(L68<>0,0,IF(ISERROR(HLOOKUP(L57,'ステップ8（移動時間の算定）'!$F$104:$Y$110,5,FALSE)),\"\",HLOOKUP(L57,'ステップ8（移動時間の算定）'!$F$104:$Y$110,5,FALSE)))","v":0},{"$f":"IF(M68<>0,0,IF(ISERROR(HLOOKUP(M57,'ステップ8（移動時間の算定）'!$F$104:$Y$110,5,FALSE)),\"\",HLOOKUP(M57,'ステップ8（移動時間の算定）'!$F$104:$Y$110,5,FALSE)))","v":0},{"$f":"IF(N68<>0,0,IF(ISERROR(HLOOKUP(N57,'ステップ8（移動時間の算定）'!$F$104:$Y$110,5,FALSE)),\"\",HLOOKUP(N57,'ステップ8（移動時間の算定）'!$F$104:$Y$110,5,FALSE)))","v":0},{"$f":"IF(O68<>0,0,IF(ISERROR(HLOOKUP(O57,'ステップ8（移動時間の算定）'!$F$104:$Y$110,5,FALSE)),\"\",HLOOKUP(O57,'ステップ8（移動時間の算定）'!$F$104:$Y$110,5,FALSE)))","v":0},{"$f":"IF(P68<>0,0,IF(ISERROR(HLOOKUP(P57,'ステップ8（移動時間の算定）'!$F$104:$Y$110,5,FALSE)),\"\",HLOOKUP(P57,'ステップ8（移動時間の算定）'!$F$104:$Y$110,5,FALSE)))","v":0},{"$f":"IF(Q68<>0,0,IF(ISERROR(HLOOKUP(Q57,'ステップ8（移動時間の算定）'!$F$104:$Y$110,5,FALSE)),\"\",HLOOKUP(Q57,'ステップ8（移動時間の算定）'!$F$104:$Y$110,5,FALSE)))","v":0},{"$f":"IF(R68<>0,0,IF(ISERROR(HLOOKUP(R57,'ステップ8（移動時間の算定）'!$F$104:$Y$110,5,FALSE)),\"\",HLOOKUP(R57,'ステップ8（移動時間の算定）'!$F$104:$Y$110,5,FALSE)))","v":0},{"$f":"IF(S68<>0,0,IF(ISERROR(HLOOKUP(S57,'ステップ8（移動時間の算定）'!$F$104:$Y$110,5,FALSE)),\"\",HLOOKUP(S57,'ステップ8（移動時間の算定）'!$F$104:$Y$110,5,FALSE)))","v":0},{"$f":"IF(T68<>0,0,IF(ISERROR(HLOOKUP(T57,'ステップ8（移動時間の算定）'!$F$104:$Y$110,5,FALSE)),\"\",HLOOKUP(T57,'ステップ8（移動時間の算定）'!$F$104:$Y$110,5,FALSE)))","v":0},{"$f":"IF(U68<>0,0,IF(ISERROR(HLOOKUP(U57,'ステップ8（移動時間の算定）'!$F$104:$Y$110,5,FALSE)),\"\",HLOOKUP(U57,'ステップ8（移動時間の算定）'!$F$104:$Y$110,5,FALSE)))","v":0},{"$f":"IF(V68<>0,0,IF(ISERROR(HLOOKUP(V57,'ステップ8（移動時間の算定）'!$F$104:$Y$110,5,FALSE)),\"\",HLOOKUP(V57,'ステップ8（移動時間の算定）'!$F$104:$Y$110,5,FALSE)))","v":0},{"$f":"IF(W68<>0,0,IF(ISERROR(HLOOKUP(W57,'ステップ8（移動時間の算定）'!$F$104:$Y$110,5,FALSE)),\"\",HLOOKUP(W57,'ステップ8（移動時間の算定）'!$F$104:$Y$110,5,FALSE)))","v":0},{"$f":"IF(X68<>0,0,IF(ISERROR(HLOOKUP(X57,'ステップ8（移動時間の算定）'!$F$104:$Y$110,5,FALSE)),\"\",HLOOKUP(X57,'ステップ8（移動時間の算定）'!$F$104:$Y$110,5,FALSE)))","v":0},{"$f":"IF(Y68<>0,0,IF(ISERROR(HLOOKUP(Y57,'ステップ8（移動時間の算定）'!$F$104:$Y$110,5,FALSE)),\"\",HLOOKUP(Y57,'ステップ8（移動時間の算定）'!$F$104:$Y$110,5,FALSE)))","v":0},{"$f":"IF(Z68<>0,0,IF(ISERROR(HLOOKUP(Z57,'ステップ8（移動時間の算定）'!$F$104:$Y$110,5,FALSE)),\"\",HLOOKUP(Z57,'ステップ8（移動時間の算定）'!$F$104:$Y$110,5,FALSE)))","v":0}]
[null,null,null,null,null,"t5:階段上階への移動時間",{"$f":"IF(ISERROR(HLOOKUP(G57,'ステップ8（移動時間の算定）'!$F$104:$Y$110,6,FALSE)),\"\",HLOOKUP(G57,'ステップ8（移動時間の算定）'!$F$104:$Y$110,6,FALSE))","v":0},{"$f":"IF(ISERROR(HLOOKUP(H57,'ステップ8（移動時間の算定）'!$F$104:$Y$110,6,FALSE)),\"\",HLOOKUP(H57,'ステップ8（移動時間の算定）'!$F$104:$Y$110,6,FALSE))","v":0},{"$f":"IF(ISERROR(HLOOKUP(I57,'ステップ8（移動時間の算定）'!$F$104:$Y$110,6,FALSE)),\"\",HLOOKUP(I57,'ステップ8（移動時間の算定）'!$F$104:$Y$110,6,FALSE))","v":0},{"$f":"IF(ISERROR(HLOOKUP(J57,'ステップ8（移動時間の算定）'!$F$104:$Y$110,6,FALSE)),\"\",HLOOKUP(J57,'ステップ8（移動時間の算定）'!$F$104:$Y$110,6,FALSE))","v":0},{"$f":"IF(ISERROR(HLOOKUP(K57,'ステップ8（移動時間の算定）'!$F$104:$Y$110,6,FALSE)),\"\",HLOOKUP(K57,'ステップ8（移動時間の算定）'!$F$104:$Y$110,6,FALSE))","v":0},{"$f":"IF(ISERROR(HLOOKUP(L57,'ステップ8（移動時間の算定）'!$F$104:$Y$110,6,FALSE)),\"\",HLOOKUP(L57,'ステップ8（移動時間の算定）'!$F$104:$Y$110,6,FALSE))","v":0},{"$f":"IF(ISERROR(HLOOKUP(M57,'ステップ8（移動時間の算定）'!$F$104:$Y$110,6,FALSE)),\"\",HLOOKUP(M57,'ステップ8（移動時間の算定）'!$F$104:$Y$110,6,FALSE))","v":0},{"$f":"IF(ISERROR(HLOOKUP(N57,'ステップ8（移動時間の算定）'!$F$104:$Y$110,6,FALSE)),\"\",HLOOKUP(N57,'ステップ8（移動時間の算定）'!$F$104:$Y$110,6,FALSE))","v":0},{"$f":"IF(ISERROR(HLOOKUP(O57,'ステップ8（移動時間の算定）'!$F$104:$Y$110,6,FALSE)),\"\",HLOOKUP(O57,'ステップ8（移動時間の算定）'!$F$104:$Y$110,6,FALSE))","v":0},{"$f":"IF(ISERROR(HLOOKUP(P57,'ステップ8（移動時間の算定）'!$F$104:$Y$110,6,FALSE)),\"\",HLOOKUP(P57,'ステップ8（移動時間の算定）'!$F$104:$Y$110,6,FALSE))","v":0},{"$f":"IF(ISERROR(HLOOKUP(Q57,'ステップ8（移動時間の算定）'!$F$104:$Y$110,6,FALSE)),\"\",HLOOKUP(Q57,'ステップ8（移動時間の算定）'!$F$104:$Y$110,6,FALSE))","v":0},{"$f":"IF(ISERROR(HLOOKUP(R57,'ステップ8（移動時間の算定）'!$F$104:$Y$110,6,FALSE)),\"\",HLOOKUP(R57,'ステップ8（移動時間の算定）'!$F$104:$Y$110,6,FALSE))","v":0},{"$f":"IF(ISERROR(HLOOKUP(S57,'ステップ8（移動時間の算定）'!$F$104:$Y$110,6,FALSE)),\"\",HLOOKUP(S57,'ステップ8（移動時間の算定）'!$F$104:$Y$110,6,FALSE))","v":0},{"$f":"IF(ISERROR(HLOOKUP(T57,'ステップ8（移動時間の算定）'!$F$104:$Y$110,6,FALSE)),\"\",HLOOKUP(T57,'ステップ8（移動時間の算定）'!$F$104:$Y$110,6,FALSE))","v":0},{"$f":"IF(ISERROR(HLOOKUP(U57,'ステップ8（移動時間の算定）'!$F$104:$Y$110,6,FALSE)),\"\",HLOOKUP(U57,'ステップ8（移動時間の算定）'!$F$104:$Y$110,6,FALSE))","v":0},{"$f":"IF(ISERROR(HLOOKUP(V57,'ステップ8（移動時間の算定）'!$F$104:$Y$110,6,FALSE)),\"\",HLOOKUP(V57,'ステップ8（移動時間の算定）'!$F$104:$Y$110,6,FALSE))","v":0},{"$f":"IF(ISERROR(HLOOKUP(W57,'ステップ8（移動時間の算定）'!$F$104:$Y$110,6,FALSE)),\"\",HLOOKUP(W57,'ステップ8（移動時間の算定）'!$F$104:$Y$110,6,FALSE))","v":0},{"$f":"IF(ISERROR(HLOOKUP(X57,'ステップ8（移動時間の算定）'!$F$104:$Y$110,6,FALSE)),\"\",HLOOKUP(X57,'ステップ8（移動時間の算定）'!$F$104:$Y$110,6,FALSE))","v":0},{"$f":"IF(ISERROR(HLOOKUP(Y57,'ステップ8（移動時間の算定）'!$F$104:$Y$110,6,FALSE)),\"\",HLOOKUP(Y57,'ステップ8（移動時間の算定）'!$F$104:$Y$110,6,FALSE))","v":0},{"$f":"IF(ISERROR(HLOOKUP(Z57,'ステップ8（移動時間の算定）'!$F$104:$Y$110,6,FALSE)),\"\",HLOOKUP(Z57,'ステップ8（移動時間の算定）'!$F$104:$Y$110,6,FALSE))","v":0}]
[null,null,null,null,null,"移動時間小計",{"$f":"SUBTOTAL(9,G57:G61)","v":0},0,0,0,0,0,0,0,0,0,0,0,0,0,0,0,0,0,0,0]
[null,null,null,null,null,"区画・部屋番号",{"$f":"IF(G16<>\"\",G16,\"\")","v":""},"","","","","","","","","","","","","","","","","","",""]
[null,null,null,null,"B2","t3:階段下までの移動時間",{"$f":"IF(ISERROR(HLOOKUP(G63,'ステップ8（移動時間の算定）'!$F$104:$Y$110,3,FALSE)),\"\",HLOOKUP(G63,'ステップ8（移動時間の算定）'!$F$104:$Y$110,3,FALSE))","v":0},{"$f":"IF(ISERROR(HLOOKUP(H63,'ステップ8（移動時間の算定）'!$F$104:$Y$110,3,FALSE)),\"\",HLOOKUP(H63,'ステップ8（移動時間の算定）'!$F$104:$Y$110,3,FALSE))","v":0},{"$f":"IF(ISERROR(HLOOKUP(I63,'ステップ8（移動時間の算定）'!$F$104:$Y$110,3,FALSE)),\"\",HLOOKUP(I63,'ステップ8（移動時間の算定）'!$F$104:$Y$110,3,FALSE))","v":0},{"$f":"IF(ISERROR(HLOOKUP(J63,'ステップ8（移動時間の算定）'!$F$104:$Y$110,3,FALSE)),\"\",HLOOKUP(J63,'ステップ8（移動時間の算定）'!$F$104:$Y$110,3,FALSE))","v":0},{"$f":"IF(ISERROR(HLOOKUP(K63,'ステップ8（移動時間の算定）'!$F$104:$Y$110,3,FALSE)),\"\",HLOOKUP(K63,'ステップ8（移動時間の算定）'!$F$104:$Y$110,3,FALSE))","v":0},{"$f":"IF(ISERROR(HLOOKUP(L63,'ステップ8（移動時間の算定）'!$F$104:$Y$110,3,FALSE)),\"\",HLOOKUP(L63,'ステップ8（移動時間の算定）'!$F$104:$Y$110,3,FALSE))","v":0},{"$f":"IF(ISERROR(HLOOKUP(M63,'ステップ8（移動時間の算定）'!$F$104:$Y$110,3,FALSE)),\"\",HLOOKUP(M63,'ステップ8（移動時間の算定）'!$F$104:$Y$110,3,FALSE))","v":0},{"$f":"IF(ISERROR(HLOOKUP(N63,'ステップ8（移動時間の算定）'!$F$104:$Y$110,3,FALSE)),\"\",HLOOKUP(N63,'ステップ8（移動時間の算定）'!$F$104:$Y$110,3,FALSE))","v":0},{"$f":"IF(ISERROR(HLOOKUP(O63,'ステップ8（移動時間の算定）'!$F$104:$Y$110,3,FALSE)),\"\",HLOOKUP(O63,'ステップ8（移動時間の算定）'!$F$104:$Y$110,3,FALSE))","v":0},{"$f":"IF(ISERROR(HLOOKUP(P63,'ステップ8（移動時間の算定）'!$F$104:$Y$110,3,FALSE)),\"\",HLOOKUP(P63,'ステップ8（移動時間の算定）'!$F$104:$Y$110,3,FALSE))","v":0},{"$f":"IF(ISERROR(HLOOKUP(Q63,'ステップ8（移動時間の算定）'!$F$104:$Y$110,3,FALSE)),\"\",HLOOKUP(Q63,'ステップ8（移動時間の算定）'!$F$104:$Y$110,3,FALSE))","v":0},{"$f":"IF(ISERROR(HLOOKUP(R63,'ステップ8（移動時間の算定）'!$F$104:$Y$110,3,FALSE)),\"\",HLOOKUP(R63,'ステップ8（移動時間の算定）'!$F$104:$Y$110,3,FALSE))","v":0},{"$f":"IF(ISERROR(HLOOKUP(S63,'ステップ8（移動時間の算定）'!$F$104:$Y$110,3,FALSE)),\"\",HLOOKUP(S63,'ステップ8（移動時間の算定）'!$F$104:$Y$110,3,FALSE))","v":0},{"$f":"IF(ISERROR(HLOOKUP(T63,'ステップ8（移動時間の算定）'!$F$104:$Y$110,3,FALSE)),\"\",HLOOKUP(T63,'ステップ8（移動時間の算定）'!$F$104:$Y$110,3,FALSE))","v":0},{"$f":"IF(ISERROR(HLOOKUP(U63,'ステップ8（移動時間の算定）'!$F$104:$Y$110,3,FALSE)),\"\",HLOOKUP(U63,'ステップ8（移動時間の算定）'!$F$104:$Y$110,3,FALSE))","v":0},{"$f":"IF(ISERROR(HLOOKUP(V63,'ステップ8（移動時間の算定）'!$F$104:$Y$110,3,FALSE)),\"\",HLOOKUP(V63,'ステップ8（移動時間の算定）'!$F$104:$Y$110,3,FALSE))","v":0},{"$f":"IF(ISERROR(HLOOKUP(W63,'ステップ8（移動時間の算定）'!$F$104:$Y$110,3,FALSE)),\"\",HLOOKUP(W63,'ステップ8（移動時間の算定）'!$F$104:$Y$110,3,FALSE))","v":0},{"$f":"IF(ISERROR(HLOOKUP(X63,'ステップ8（移動時間の算定）'!$F$104:$Y$110,3,FALSE)),\"\",HLOOKUP(X63,'ステップ8（移動時間の算定）'!$F$104:$Y$110,3,FALSE))","v":0},{"$f":"IF(ISERROR(HLOOKUP(Y63,'ステップ8（移動時間の算定）'!$F$104:$Y$110,3,FALSE)),\"\",HLOOKUP(Y63,'ステップ8（移動時間の算定）'!$F$104:$Y$110,3,FALSE))","v":0},{"$f":"IF(ISERROR(HLOOKUP(Z63,'ステップ8（移動時間の算定）'!$F$104:$Y$110,3,FALSE)),\"\",HLOOKUP(Z63,'ステップ8（移動時間の算定）'!$F$104:$Y$110,3,FALSE))","v":0}]
[null,null,null,null,"↑","t4(a):階段下の通過時間",{"$f":"IF(ISERROR(HLOOKUP(G63,'ステップ8（移動時間の算定）'!$F$104:$Y$110,4,FALSE)),\"\",HLOOKUP(G63,'ステップ8（移動時間の算定）'!$F$104:$Y$110,4,FALSE))","v":0},{"$f":"IF(ISERROR(HLOOKUP(H63,'ステップ8（移動時間の算定）'!$F$104:$Y$110,4,FALSE)),\"\",HLOOKUP(H63,'ステップ8（移動時間の算定）'!$F$104:$Y$110,4,FALSE))","v":0},{"$f":"IF(ISERROR(HLOOKUP(I63,'ステップ8（移動時間の算定）'!$F$104:$Y$110,4,FALSE)),\"\",HLOOKUP(I63,'ステップ8（移動時間の算定）'!$F$104:$Y$110,4,FALSE))","v":0},{"$f":"IF(ISERROR(HLOOKUP(J63,'ステップ8（移動時間の算定）'!$F$104:$Y$110,4,FALSE)),\"\",HLOOKUP(J63,'ステップ8（移動時間の算定）'!$F$104:$Y$110,4,FALSE))","v":0},{"$f":"IF(ISERROR(HLOOKUP(K63,'ステップ8（移動時間の算定）'!$F$104:$Y$110,4,FALSE)),\"\",HLOOKUP(K63,'ステップ8（移動時間の算定）'!$F$104:$Y$110,4,FALSE))","v":0},{"$f":"IF(ISERROR(HLOOKUP(L63,'ステップ8（移動時間の算定）'!$F$104:$Y$110,4,FALSE)),\"\",HLOOKUP(L63,'ステップ8（移動時間の算定）'!$F$104:$Y$110,4,FALSE))","v":0},{"$f":"IF(ISERROR(HLOOKUP(M63,'ステップ8（移動時間の算定）'!$F$104:$Y$110,4,FALSE)),\"\",HLOOKUP(M63,'ステップ8（移動時間の算定）'!$F$104:$Y$110,4,FALSE))","v":0},{"$f":"IF(ISERROR(HLOOKUP(N63,'ステップ8（移動時間の算定）'!$F$104:$Y$110,4,FALSE)),\"\",HLOOKUP(N63,'ステップ8（移動時間の算定）'!$F$104:$Y$110,4,FALSE))","v":0},{"$f":"IF(ISERROR(HLOOKUP(O63,'ステップ8（移動時間の算定）'!$F$104:$Y$110,4,FALSE)),\"\",HLOOKUP(O63,'ステップ8（移動時間の算定）'!$F$104:$Y$110,4,FALSE))","v":0},{"$f":"IF(ISERROR(HLOOKUP(P63,'ステップ8（移動時間の算定）'!$F$104:$Y$110,4,FALSE)),\"\",HLOOKUP(P63,'ステップ8（移動時間の算定）'!$F$104:$Y$110,4,FALSE))","v":0},{"$f":"IF(ISERROR(HLOOKUP(Q63,'ステップ8（移動時間の算定）'!$F$104:$Y$110,4,FALSE)),\"\",HLOOKUP(Q63,'ステップ8（移動時間の算定）'!$F$104:$Y$110,4,FALSE))","v":0},{"$f":"IF(ISERROR(HLOOKUP(R63,'ステップ8（移動時間の算定）'!$F$104:$Y$110,4,FALSE)),\"\",HLOOKUP(R63,'ステップ8（移動時間の算定）'!$F$104:$Y$110,4,FALSE))","v":0},{"$f":"IF(ISERROR(HLOOKUP(S63,'ステップ8（移動時間の算定）'!$F$104:$Y$110,4,FALSE)),\"\",HLOOKUP(S63,'ステップ8（移動時間の算定）'!$F$104:$Y$110,4,FALSE))","v":0},{"$f":"IF(ISERROR(HLOOKUP(T63,'ステップ8（移動時間の算定）'!$F$104:$Y$110,4,FALSE)),\"\",HLOOKUP(T63,'ステップ8（移動時間の算定）'!$F$104:$Y$110,4,FALSE))","v":0},{"$f":"IF(ISERROR(HLOOKUP(U63,'ステップ8（移動時間の算定）'!$F$104:$Y$110,4,FALSE)),\"\",HLOOKUP(U63,'ステップ8（移動時間の算定）'!$F$104:$Y$110,4,FALSE))","v":0},{"$f":"IF(ISERROR(HLOOKUP(V63,'ステップ8（移動時間の算定）'!$F$104:$Y$110,4,FALSE)),\"\",HLOOKUP(V63,'ステップ8（移動時間の算定）'!$F$104:$Y$110,4,FALSE))","v":0},{"$f":"IF(ISERROR(HLOOKUP(W63,'ステップ8（移動時間の算定）'!$F$104:$Y$110,4,FALSE)),\"\",HLOOKUP(W63,'ステップ8（移動時間の算定）'!$F$104:$Y$110,4,FALSE))","v":0},{"$f":"IF(ISERROR(HLOOKUP(X63,'ステップ8（移動時間の算定）'!$F$104:$Y$110,4,FALSE)),\"\",HLOOKUP(X63,'ステップ8（移動時間の算定）'!$F$104:$Y$110,4,FALSE))","v":0},{"$f":"IF(ISERROR(HLOOKUP(Y63,'ステップ8（移動時間の算定）'!$F$104:$Y$110,4,FALSE)),\"\",HLOOKUP(Y63,'ステップ8（移動時間の算定）'!$F$104:$Y$110,4,FALSE))","v":0},{"$f":"IF(ISERROR(HLOOKUP(Z63,'ステップ8（移動時間の算定）'!$F$104:$Y$110,4,FALSE)),\"\",HLOOKUP(Z63,'ステップ8（移動時間の算定）'!$F$104:$Y$110,4,FALSE))","v":0}]
[null,null,null,null,"B3","t4(b):居室出口通過時間",{"$f":"IF(G74<>0,0,IF(ISERROR(HLOOKUP(G63,'ステップ8（移動時間の算定）'!$F$104:$Y$110,5,FALSE)),\"\",HLOOKUP(G63,'ステップ8（移動時間の算定）'!$F$104:$Y$110,5,FALSE)))","v":0},{"$f":"IF(H74<>0,0,IF(ISERROR(HLOOKUP(H63,'ステップ8（移動時間の算定）'!$F$104:$Y$110,5,FALSE)),\"\",HLOOKUP(H63,'ステップ8（移動時間の算定）'!$F$104:$Y$110,5,FALSE)))","v":0},{"$f":"IF(I74<>0,0,IF(ISERROR(HLOOKUP(I63,'ステップ8（移動時間の算定）'!$F$104:$Y$110,5,FALSE)),\"\",HLOOKUP(I63,'ステップ8（移動時間の算定）'!$F$104:$Y$110,5,FALSE)))","v":0},{"$f":"IF(J74<>0,0,IF(ISERROR(HLOOKUP(J63,'ステップ8（移動時間の算定）'!$F$104:$Y$110,5,FALSE)),\"\",HLOOKUP(J63,'ステップ8（移動時間の算定）'!$F$104:$Y$110,5,FALSE)))","v":0},{"$f":"IF(K74<>0,0,IF(ISERROR(HLOOKUP(K63,'ステップ8（移動時間の算定）'!$F$104:$Y$110,5,FALSE)),\"\",HLOOKUP(K63,'ステップ8（移動時間の算定）'!$F$104:$Y$110,5,FALSE)))","v":0},{"$f":"IF(L74<>0,0,IF(ISERROR(HLOOKUP(L63,'ステップ8（移動時間の算定）'!$F$104:$Y$110,5,FALSE)),\"\",HLOOKUP(L63,'ステップ8（移動時間の算定）'!$F$104:$Y$110,5,FALSE)))","v":0},{"$f":"IF(M74<>0,0,IF(ISERROR(HLOOKUP(M63,'ステップ8（移動時間の算定）'!$F$104:$Y$110,5,FALSE)),\"\",HLOOKUP(M63,'ステップ8（移動時間の算定）'!$F$104:$Y$110,5,FALSE)))","v":0},{"$f":"IF(N74<>0,0,IF(ISERROR(HLOOKUP(N63,'ステップ8（移動時間の算定）'!$F$104:$Y$110,5,FALSE)),\"\",HLOOKUP(N63,'ステップ8（移動時間の算定）'!$F$104:$Y$110,5,FALSE)))","v":0},{"$f":"IF(O74<>0,0,IF(ISERROR(HLOOKUP(O63,'ステップ8（移動時間の算定）'!$F$104:$Y$110,5,FALSE)),\"\",HLOOKUP(O63,'ステップ8（移動時間の算定）'!$F$104:$Y$110,5,FALSE)))","v":0},{"$f":"IF(P74<>0,0,IF(ISERROR(HLOOKUP(P63,'ステップ8（移動時間の算定）'!$F$104:$Y$110,5,FALSE)),\"\",HLOOKUP(P63,'ステップ8（移動時間の算定）'!$F$104:$Y$110,5,FALSE)))","v":0},{"$f":"IF(Q74<>0,0,IF(ISERROR(HLOOKUP(Q63,'ステップ8（移動時間の算定）'!$F$104:$Y$110,5,FALSE)),\"\",HLOOKUP(Q63,'ステップ8（移動時間の算定）'!$F$104:$Y$110,5,FALSE)))","v":0},{"$f":"IF(R74<>0,0,IF(ISERROR(HLOOKUP(R63,'ステップ8（移動時間の算定）'!$F$104:$Y$110,5,FALSE)),\"\",HLOOKUP(R63,'ステップ8（移動時間の算定）'!$F$104:$Y$110,5,FALSE)))","v":0},{"$f":"IF(S74<>0,0,IF(ISERROR(HLOOKUP(S63,'ステップ8（移動時間の算定）'!$F$104:$Y$110,5,FALSE)),\"\",HLOOKUP(S63,'ステップ8（移動時間の算定）'!$F$104:$Y$110,5,FALSE)))","v":0},{"$f":"IF(T74<>0,0,IF(ISERROR(HLOOKUP(T63,'ステップ8（移動時間の算定）'!$F$104:$Y$110,5,FALSE)),\"\",HLOOKUP(T63,'ステップ8（移動時間の算定）'!$F$104:$Y$110,5,FALSE)))","v":0},{"$f":"IF(U74<>0,0,IF(ISERROR(HLOOKUP(U63,'ステップ8（移動時間の算定）'!$F$104:$Y$110,5,FALSE)),\"\",HLOOKUP(U63,'ステップ8（移動時間の算定）'!$F$104:$Y$110,5,FALSE)))","v":0},{"$f":"IF(V74<>0,0,IF(ISERROR(HLOOKUP(V63,'ステップ8（移動時間の算定）'!$F$104:$Y$110,5,FALSE)),\"\",HLOOKUP(V63,'ステップ8（移動時間の算定）'!$F$104:$Y$110,5,FALSE)))","v":0},{"$f":"IF(W74<>0,0,IF(ISERROR(HLOOKUP(W63,'ステップ8（移動時間の算定）'!$F$104:$Y$110,5,FALSE)),\"\",HLOOKUP(W63,'ステップ8（移動時間の算定）'!$F$104:$Y$110,5,FALSE)))","v":0},{"$f":"IF(X74<>0,0,IF(ISERROR(HLOOKUP(X63,'ステップ8（移動時間の算定）'!$F$104:$Y$110,5,FALSE)),\"\",HLOOKUP(X63,'ステップ8（移動時間の算定）'!$F$104:$Y$110,5,FALSE)))","v":0},{"$f":"IF(Y74<>0,0,IF(ISERROR(HLOOKUP(Y63,'ステップ8（移動時間の算定）'!$F$104:$Y$110,5,FALSE)),\"\",HLOOKUP(Y63,'ステップ8（移動時間の算定）'!$F$104:$Y$110,5,FALSE)))","v":0},{"$f":"IF(Z74<>0,0,IF(ISERROR(HLOOKUP(Z63,'ステップ8（移動時間の算定）'!$F$104:$Y$110,5,FALSE)),\"\",HLOOKUP(Z63,'ステップ8（移動時間の算定）'!$F$104:$Y$110,5,FALSE)))","v":0}]
[null,null,null,null,null,"t5:階段上階への移動時間",{"$f":"IF(ISERROR(HLOOKUP(G63,'ステップ8（移動時間の算定）'!$F$104:$Y$110,6,FALSE)),\"\",HLOOKUP(G63,'ステップ8（移動時間の算定）'!$F$104:$Y$110,6,FALSE))","v":0},{"$f":"IF(ISERROR(HLOOKUP(H63,'ステップ8（移動時間の算定）'!$F$104:$Y$110,6,FALSE)),\"\",HLOOKUP(H63,'ステップ8（移動時間の算定）'!$F$104:$Y$110,6,FALSE))","v":0},{"$f":"IF(ISERROR(HLOOKUP(I63,'ステップ8（移動時間の算定）'!$F$104:$Y$110,6,FALSE)),\"\",HLOOKUP(I63,'ステップ8（移動時間の算定）'!$F$104:$Y$110,6,FALSE))","v":0},{"$f":"IF(ISERROR(HLOOKUP(J63,'ステップ8（移動時間の算定）'!$F$104:$Y$110,6,FALSE)),\"\",HLOOKUP(J63,'ステップ8（移動時間の算定）'!$F$104:$Y$110,6,FALSE))","v":0},{"$f":"IF(ISERROR(HLOOKUP(K63,'ステップ8（移動時間の算定）'!$F$104:$Y$110,6,FALSE)),\"\",HLOOKUP(K63,'ステップ8（移動時間の算定）'!$F$104:$Y$110,6,FALSE))","v":0},{"$f":"IF(ISERROR(HLOOKUP(L63,'ステップ8（移動時間の算定）'!$F$104:$Y$110,6,FALSE)),\"\",HLOOKUP(L63,'ステップ8（移動時間の算定）'!$F$104:$Y$110,6,FALSE))","v":0},{"$f":"IF(ISERROR(HLOOKUP(M63,'ステップ8（移動時間の算定）'!$F$104:$Y$110,6,FALSE)),\"\",HLOOKUP(M63,'ステップ8（移動時間の算定）'!$F$104:$Y$110,6,FALSE))","v":0},{"$f":"IF(ISERROR(HLOOKUP(N63,'ステップ8（移動時間の算定）'!$F$104:$Y$110,6,FALSE)),\"\",HLOOKUP(N63,'ステップ8（移動時間の算定）'!$F$104:$Y$110,6,FALSE))","v":0},{"$f":"IF(ISERROR(HLOOKUP(O63,'ステップ8（移動時間の算定）'!$F$104:$Y$110,6,FALSE)),\"\",HLOOKUP(O63,'ステップ8（移動時間の算定）'!$F$104:$Y$110,6,FALSE))","v":0},{"$f":"IF(ISERROR(HLOOKUP(P63,'ステップ8（移動時間の算定）'!$F$104:$Y$110,6,FALSE)),\"\",HLOOKUP(P63,'ステップ8（移動時間の算定）'!$F$104:$Y$110,6,FALSE))","v":0},{"$f":"IF(ISERROR(HLOOKUP(Q63,'ステップ8（移動時間の算定）'!$F$104:$Y$110,6,FALSE)),\"\",HLOOKUP(Q63,'ステップ8（移動時間の算定）'!$F$104:$Y$110,6,FALSE))","v":0},{"$f":"IF(ISERROR(HLOOKUP(R63,'ステップ8（移動時間の算定）'!$F$104:$Y$110,6,FALSE)),\"\",HLOOKUP(R63,'ステップ8（移動時間の算定）'!$F$104:$Y$110,6,FALSE))","v":0},{"$f":"IF(ISERROR(HLOOKUP(S63,'ステップ8（移動時間の算定）'!$F$104:$Y$110,6,FALSE)),\"\",HLOOKUP(S63,'ステップ8（移動時間の算定）'!$F$104:$Y$110,6,FALSE))","v":0},{"$f":"IF(ISERROR(HLOOKUP(T63,'ステップ8（移動時間の算定）'!$F$104:$Y$110,6,FALSE)),\"\",HLOOKUP(T63,'ステップ8（移動時間の算定）'!$F$104:$Y$110,6,FALSE))","v":0},{"$f":"IF(ISERROR(HLOOKUP(U63,'ステップ8（移動時間の算定）'!$F$104:$Y$110,6,FALSE)),\"\",HLOOKUP(U63,'ステップ8（移動時間の算定）'!$F$104:$Y$110,6,FALSE))","v":0},{"$f":"IF(ISERROR(HLOOKUP(V63,'ステップ8（移動時間の算定）'!$F$104:$Y$110,6,FALSE)),\"\",HLOOKUP(V63,'ステップ8（移動時間の算定）'!$F$104:$Y$110,6,FALSE))","v":0},{"$f":"IF(ISERROR(HLOOKUP(W63,'ステップ8（移動時間の算定）'!$F$104:$Y$110,6,FALSE)),\"\",HLOOKUP(W63,'ステップ8（移動時間の算定）'!$F$104:$Y$110,6,FALSE))","v":0},{"$f":"IF(ISERROR(HLOOKUP(X63,'ステップ8（移動時間の算定）'!$F$104:$Y$110,6,FALSE)),\"\",HLOOKUP(X63,'ステップ8（移動時間の算定）'!$F$104:$Y$110,6,FALSE))","v":0},{"$f":"IF(ISERROR(HLOOKUP(Y63,'ステップ8（移動時間の算定）'!$F$104:$Y$110,6,FALSE)),\"\",HLOOKUP(Y63,'ステップ8（移動時間の算定）'!$F$104:$Y$110,6,FALSE))","v":0},{"$f":"IF(ISERROR(HLOOKUP(Z63,'ステップ8（移動時間の算定）'!$F$104:$Y$110,6,FALSE)),\"\",HLOOKUP(Z63,'ステップ8（移動時間の算定）'!$F$104:$Y$110,6,FALSE))","v":0}]
[null,null,null,null,null,"移動時間小計",{"$f":"SUBTOTAL(9,G63:G67)","v":0},0,0,0,0,0,0,0,0,0,0,0,0,0,0,0,0,0,0,0]
[null,null,null,null,null,"区画・部屋番号",{"$f":"IF(G17<>\"\",G17,\"\")","v":""},"","","","","","","","","","","","","","","","","","",""]
[null,null,null,null,"B3","t3:階段下までの移動時間",{"$f":"IF(ISERROR(HLOOKUP(G69,'ステップ8（移動時間の算定）'!$F$104:$Y$110,3,FALSE)),\"\",HLOOKUP(G69,'ステップ8（移動時間の算定）'!$F$104:$Y$110,3,FALSE))","v":0},{"$f":"IF(ISERROR(HLOOKUP(H69,'ステップ8（移動時間の算定）'!$F$104:$Y$110,3,FALSE)),\"\",HLOOKUP(H69,'ステップ8（移動時間の算定）'!$F$104:$Y$110,3,FALSE))","v":0},{"$f":"IF(ISERROR(HLOOKUP(I69,'ステップ8（移動時間の算定）'!$F$104:$Y$110,3,FALSE)),\"\",HLOOKUP(I69,'ステップ8（移動時間の算定）'!$F$104:$Y$110,3,FALSE))","v":0},{"$f":"IF(ISERROR(HLOOKUP(J69,'ステップ8（移動時間の算定）'!$F$104:$Y$110,3,FALSE)),\"\",HLOOKUP(J69,'ステップ8（移動時間の算定）'!$F$104:$Y$110,3,FALSE))","v":0},{"$f":"IF(ISERROR(HLOOKUP(K69,'ステップ8（移動時間の算定）'!$F$104:$Y$110,3,FALSE)),\"\",HLOOKUP(K69,'ステップ8（移動時間の算定）'!$F$104:$Y$110,3,FALSE))","v":0},{"$f":"IF(ISERROR(HLOOKUP(L69,'ステップ8（移動時間の算定）'!$F$104:$Y$110,3,FALSE)),\"\",HLOOKUP(L69,'ステップ8（移動時間の算定）'!$F$104:$Y$110,3,FALSE))","v":0},{"$f":"IF(ISERROR(HLOOKUP(M69,'ステップ8（移動時間の算定）'!$F$104:$Y$110,3,FALSE)),\"\",HLOOKUP(M69,'ステップ8（移動時間の算定）'!$F$104:$Y$110,3,FALSE))","v":0},{"$f":"IF(ISERROR(HLOOKUP(N69,'ステップ8（移動時間の算定）'!$F$104:$Y$110,3,FALSE)),\"\",HLOOKUP(N69,'ステップ8（移動時間の算定）'!$F$104:$Y$110,3,FALSE))","v":0},{"$f":"IF(ISERROR(HLOOKUP(O69,'ステップ8（移動時間の算定）'!$F$104:$Y$110,3,FALSE)),\"\",HLOOKUP(O69,'ステップ8（移動時間の算定）'!$F$104:$Y$110,3,FALSE))","v":0},{"$f":"IF(ISERROR(HLOOKUP(P69,'ステップ8（移動時間の算定）'!$F$104:$Y$110,3,FALSE)),\"\",HLOOKUP(P69,'ステップ8（移動時間の算定）'!$F$104:$Y$110,3,FALSE))","v":0},{"$f":"IF(ISERROR(HLOOKUP(Q69,'ステップ8（移動時間の算定）'!$F$104:$Y$110,3,FALSE)),\"\",HLOOKUP(Q69,'ステップ8（移動時間の算定）'!$F$104:$Y$110,3,FALSE))","v":0},{"$f":"IF(ISERROR(HLOOKUP(R69,'ステップ8（移動時間の算定）'!$F$104:$Y$110,3,FALSE)),\"\",HLOOKUP(R69,'ステップ8（移動時間の算定）'!$F$104:$Y$110,3,FALSE))","v":0},{"$f":"IF(ISERROR(HLOOKUP(S69,'ステップ8（移動時間の算定）'!$F$104:$Y$110,3,FALSE)),\"\",HLOOKUP(S69,'ステップ8（移動時間の算定）'!$F$104:$Y$110,3,FALSE))","v":0},{"$f":"IF(ISERROR(HLOOKUP(T69,'ステップ8（移動時間の算定）'!$F$104:$Y$110,3,FALSE)),\"\",HLOOKUP(T69,'ステップ8（移動時間の算定）'!$F$104:$Y$110,3,FALSE))","v":0},{"$f":"IF(ISERROR(HLOOKUP(U69,'ステップ8（移動時間の算定）'!$F$104:$Y$110,3,FALSE)),\"\",HLOOKUP(U69,'ステップ8（移動時間の算定）'!$F$104:$Y$110,3,FALSE))","v":0},{"$f":"IF(ISERROR(HLOOKUP(V69,'ステップ8（移動時間の算定）'!$F$104:$Y$110,3,FALSE)),\"\",HLOOKUP(V69,'ステップ8（移動時間の算定）'!$F$104:$Y$110,3,FALSE))","v":0},{"$f":"IF(ISERROR(HLOOKUP(W69,'ステップ8（移動時間の算定）'!$F$104:$Y$110,3,FALSE)),\"\",HLOOKUP(W69,'ステップ8（移動時間の算定）'!$F$104:$Y$110,3,FALSE))","v":0},{"$f":"IF(ISERROR(HLOOKUP(X69,'ステップ8（移動時間の算定）'!$F$104:$Y$110,3,FALSE)),\"\",HLOOKUP(X69,'ステップ8（移動時間の算定）'!$F$104:$Y$110,3,FALSE))","v":0},{"$f":"IF(ISERROR(HLOOKUP(Y69,'ステップ8（移動時間の算定）'!$F$104:$Y$110,3,FALSE)),\"\",HLOOKUP(Y69,'ステップ8（移動時間の算定）'!$F$104:$Y$110,3,FALSE))","v":0},{"$f":"IF(ISERROR(HLOOKUP(Z69,'ステップ8（移動時間の算定）'!$F$104:$Y$110,3,FALSE)),\"\",HLOOKUP(Z69,'ステップ8（移動時間の算定）'!$F$104:$Y$110,3,FALSE))","v":0}]
[null,null,null,null,"↑","t4(a):階段下の通過時間",{"$f":"IF(ISERROR(HLOOKUP(G69,'ステップ8（移動時間の算定）'!$F$104:$Y$110,4,FALSE)),\"\",HLOOKUP(G69,'ステップ8（移動時間の算定）'!$F$104:$Y$110,4,FALSE))","v":0},{"$f":"IF(ISERROR(HLOOKUP(H69,'ステップ8（移動時間の算定）'!$F$104:$Y$110,4,FALSE)),\"\",HLOOKUP(H69,'ステップ8（移動時間の算定）'!$F$104:$Y$110,4,FALSE))","v":0},{"$f":"IF(ISERROR(HLOOKUP(I69,'ステップ8（移動時間の算定）'!$F$104:$Y$110,4,FALSE)),\"\",HLOOKUP(I69,'ステップ8（移動時間の算定）'!$F$104:$Y$110,4,FALSE))","v":0},{"$f":"IF(ISERROR(HLOOKUP(J69,'ステップ8（移動時間の算定）'!$F$104:$Y$110,4,FALSE)),\"\",HLOOKUP(J69,'ステップ8（移動時間の算定）'!$F$104:$Y$110,4,FALSE))","v":0},{"$f":"IF(ISERROR(HLOOKUP(K69,'ステップ8（移動時間の算定）'!$F$104:$Y$110,4,FALSE)),\"\",HLOOKUP(K69,'ステップ8（移動時間の算定）'!$F$104:$Y$110,4,FALSE))","v":0},{"$f":"IF(ISERROR(HLOOKUP(L69,'ステップ8（移動時間の算定）'!$F$104:$Y$110,4,FALSE)),\"\",HLOOKUP(L69,'ステップ8（移動時間の算定）'!$F$104:$Y$110,4,FALSE))","v":0},{"$f":"IF(ISERROR(HLOOKUP(M69,'ステップ8（移動時間の算定）'!$F$104:$Y$110,4,FALSE)),\"\",HLOOKUP(M69,'ステップ8（移動時間の算定）'!$F$104:$Y$110,4,FALSE))","v":0},{"$f":"IF(ISERROR(HLOOKUP(N69,'ステップ8（移動時間の算定）'!$F$104:$Y$110,4,FALSE)),\"\",HLOOKUP(N69,'ステップ8（移動時間の算定）'!$F$104:$Y$110,4,FALSE))","v":0},{"$f":"IF(ISERROR(HLOOKUP(O69,'ステップ8（移動時間の算定）'!$F$104:$Y$110,4,FALSE)),\"\",HLOOKUP(O69,'ステップ8（移動時間の算定）'!$F$104:$Y$110,4,FALSE))","v":0},{"$f":"IF(ISERROR(HLOOKUP(P69,'ステップ8（移動時間の算定）'!$F$104:$Y$110,4,FALSE)),\"\",HLOOKUP(P69,'ステップ8（移動時間の算定）'!$F$104:$Y$110,4,FALSE))","v":0},{"$f":"IF(ISERROR(HLOOKUP(Q69,'ステップ8（移動時間の算定）'!$F$104:$Y$110,4,FALSE)),\"\",HLOOKUP(Q69,'ステップ8（移動時間の算定）'!$F$104:$Y$110,4,FALSE))","v":0},{"$f":"IF(ISERROR(HLOOKUP(R69,'ステップ8（移動時間の算定）'!$F$104:$Y$110,4,FALSE)),\"\",HLOOKUP(R69,'ステップ8（移動時間の算定）'!$F$104:$Y$110,4,FALSE))","v":0},{"$f":"IF(ISERROR(HLOOKUP(S69,'ステップ8（移動時間の算定）'!$F$104:$Y$110,4,FALSE)),\"\",HLOOKUP(S69,'ステップ8（移動時間の算定）'!$F$104:$Y$110,4,FALSE))","v":0},{"$f":"IF(ISERROR(HLOOKUP(T69,'ステップ8（移動時間の算定）'!$F$104:$Y$110,4,FALSE)),\"\",HLOOKUP(T69,'ステップ8（移動時間の算定）'!$F$104:$Y$110,4,FALSE))","v":0},{"$f":"IF(ISERROR(HLOOKUP(U69,'ステップ8（移動時間の算定）'!$F$104:$Y$110,4,FALSE)),\"\",HLOOKUP(U69,'ステップ8（移動時間の算定）'!$F$104:$Y$110,4,FALSE))","v":0},{"$f":"IF(ISERROR(HLOOKUP(V69,'ステップ8（移動時間の算定）'!$F$104:$Y$110,4,FALSE)),\"\",HLOOKUP(V69,'ステップ8（移動時間の算定）'!$F$104:$Y$110,4,FALSE))","v":0},{"$f":"IF(ISERROR(HLOOKUP(W69,'ステップ8（移動時間の算定）'!$F$104:$Y$110,4,FALSE)),\"\",HLOOKUP(W69,'ステップ8（移動時間の算定）'!$F$104:$Y$110,4,FALSE))","v":0},{"$f":"IF(ISERROR(HLOOKUP(X69,'ステップ8（移動時間の算定）'!$F$104:$Y$110,4,FALSE)),\"\",HLOOKUP(X69,'ステップ8（移動時間の算定）'!$F$104:$Y$110,4,FALSE))","v":0},{"$f":"IF(ISERROR(HLOOKUP(Y69,'ステップ8（移動時間の算定）'!$F$104:$Y$110,4,FALSE)),\"\",HLOOKUP(Y69,'ステップ8（移動時間の算定）'!$F$104:$Y$110,4,FALSE))","v":0},{"$f":"IF(ISERROR(HLOOKUP(Z69,'ステップ8（移動時間の算定）'!$F$104:$Y$110,4,FALSE)),\"\",HLOOKUP(Z69,'ステップ8（移動時間の算定）'!$F$104:$Y$110,4,FALSE))","v":0}]
[null,null,null,null,"B4","t4(b):居室出口通過時間",{"$f":"IF(G80<>0,0,IF(ISERROR(HLOOKUP(G69,'ステップ8（移動時間の算定）'!$F$104:$Y$110,5,FALSE)),\"\",HLOOKUP(G69,'ステップ8（移動時間の算定）'!$F$104:$Y$110,5,FALSE)))","v":0},{"$f":"IF(H80<>0,0,IF(ISERROR(HLOOKUP(H69,'ステップ8（移動時間の算定）'!$F$104:$Y$110,5,FALSE)),\"\",HLOOKUP(H69,'ステップ8（移動時間の算定）'!$F$104:$Y$110,5,FALSE)))","v":0},{"$f":"IF(I80<>0,0,IF(ISERROR(HLOOKUP(I69,'ステップ8（移動時間の算定）'!$F$104:$Y$110,5,FALSE)),\"\",HLOOKUP(I69,'ステップ8（移動時間の算定）'!$F$104:$Y$110,5,FALSE)))","v":0},{"$f":"IF(J80<>0,0,IF(ISERROR(HLOOKUP(J69,'ステップ8（移動時間の算定）'!$F$104:$Y$110,5,FALSE)),\"\",HLOOKUP(J69,'ステップ8（移動時間の算定）'!$F$104:$Y$110,5,FALSE)))","v":0},{"$f":"IF(K80<>0,0,IF(ISERROR(HLOOKUP(K69,'ステップ8（移動時間の算定）'!$F$104:$Y$110,5,FALSE)),\"\",HLOOKUP(K69,'ステップ8（移動時間の算定）'!$F$104:$Y$110,5,FALSE)))","v":0},{"$f":"IF(L80<>0,0,IF(ISERROR(HLOOKUP(L69,'ステップ8（移動時間の算定）'!$F$104:$Y$110,5,FALSE)),\"\",HLOOKUP(L69,'ステップ8（移動時間の算定）'!$F$104:$Y$110,5,FALSE)))","v":0},{"$f":"IF(M80<>0,0,IF(ISERROR(HLOOKUP(M69,'ステップ8（移動時間の算定）'!$F$104:$Y$110,5,FALSE)),\"\",HLOOKUP(M69,'ステップ8（移動時間の算定）'!$F$104:$Y$110,5,FALSE)))","v":0},{"$f":"IF(N80<>0,0,IF(ISERROR(HLOOKUP(N69,'ステップ8（移動時間の算定）'!$F$104:$Y$110,5,FALSE)),\"\",HLOOKUP(N69,'ステップ8（移動時間の算定）'!$F$104:$Y$110,5,FALSE)))","v":0},{"$f":"IF(O80<>0,0,IF(ISERROR(HLOOKUP(O69,'ステップ8（移動時間の算定）'!$F$104:$Y$110,5,FALSE)),\"\",HLOOKUP(O69,'ステップ8（移動時間の算定）'!$F$104:$Y$110,5,FALSE)))","v":0},{"$f":"IF(P80<>0,0,IF(ISERROR(HLOOKUP(P69,'ステップ8（移動時間の算定）'!$F$104:$Y$110,5,FALSE)),\"\",HLOOKUP(P69,'ステップ8（移動時間の算定）'!$F$104:$Y$110,5,FALSE)))","v":0},{"$f":"IF(Q80<>0,0,IF(ISERROR(HLOOKUP(Q69,'ステップ8（移動時間の算定）'!$F$104:$Y$110,5,FALSE)),\"\",HLOOKUP(Q69,'ステップ8（移動時間の算定）'!$F$104:$Y$110,5,FALSE)))","v":0},{"$f":"IF(R80<>0,0,IF(ISERROR(HLOOKUP(R69,'ステップ8（移動時間の算定）'!$F$104:$Y$110,5,FALSE)),\"\",HLOOKUP(R69,'ステップ8（移動時間の算定）'!$F$104:$Y$110,5,FALSE)))","v":0},{"$f":"IF(S80<>0,0,IF(ISERROR(HLOOKUP(S69,'ステップ8（移動時間の算定）'!$F$104:$Y$110,5,FALSE)),\"\",HLOOKUP(S69,'ステップ8（移動時間の算定）'!$F$104:$Y$110,5,FALSE)))","v":0},{"$f":"IF(T80<>0,0,IF(ISERROR(HLOOKUP(T69,'ステップ8（移動時間の算定）'!$F$104:$Y$110,5,FALSE)),\"\",HLOOKUP(T69,'ステップ8（移動時間の算定）'!$F$104:$Y$110,5,FALSE)))","v":0},{"$f":"IF(U80<>0,0,IF(ISERROR(HLOOKUP(U69,'ステップ8（移動時間の算定）'!$F$104:$Y$110,5,FALSE)),\"\",HLOOKUP(U69,'ステップ8（移動時間の算定）'!$F$104:$Y$110,5,FALSE)))","v":0},{"$f":"IF(V80<>0,0,IF(ISERROR(HLOOKUP(V69,'ステップ8（移動時間の算定）'!$F$104:$Y$110,5,FALSE)),\"\",HLOOKUP(V69,'ステップ8（移動時間の算定）'!$F$104:$Y$110,5,FALSE)))","v":0},{"$f":"IF(W80<>0,0,IF(ISERROR(HLOOKUP(W69,'ステップ8（移動時間の算定）'!$F$104:$Y$110,5,FALSE)),\"\",HLOOKUP(W69,'ステップ8（移動時間の算定）'!$F$104:$Y$110,5,FALSE)))","v":0},{"$f":"IF(X80<>0,0,IF(ISERROR(HLOOKUP(X69,'ステップ8（移動時間の算定）'!$F$104:$Y$110,5,FALSE)),\"\",HLOOKUP(X69,'ステップ8（移動時間の算定）'!$F$104:$Y$110,5,FALSE)))","v":0},{"$f":"IF(Y80<>0,0,IF(ISERROR(HLOOKUP(Y69,'ステップ8（移動時間の算定）'!$F$104:$Y$110,5,FALSE)),\"\",HLOOKUP(Y69,'ステップ8（移動時間の算定）'!$F$104:$Y$110,5,FALSE)))","v":0},{"$f":"IF(Z80<>0,0,IF(ISERROR(HLOOKUP(Z69,'ステップ8（移動時間の算定）'!$F$104:$Y$110,5,FALSE)),\"\",HLOOKUP(Z69,'ステップ8（移動時間の算定）'!$F$104:$Y$110,5,FALSE)))","v":0}]
[null,null,null,null,null,"t5:階段上階への移動時間",{"$f":"IF(ISERROR(HLOOKUP(G69,'ステップ8（移動時間の算定）'!$F$104:$Y$110,6,FALSE)),\"\",HLOOKUP(G69,'ステップ8（移動時間の算定）'!$F$104:$Y$110,6,FALSE))","v":0},{"$f":"IF(ISERROR(HLOOKUP(H69,'ステップ8（移動時間の算定）'!$F$104:$Y$110,6,FALSE)),\"\",HLOOKUP(H69,'ステップ8（移動時間の算定）'!$F$104:$Y$110,6,FALSE))","v":0},{"$f":"IF(ISERROR(HLOOKUP(I69,'ステップ8（移動時間の算定）'!$F$104:$Y$110,6,FALSE)),\"\",HLOOKUP(I69,'ステップ8（移動時間の算定）'!$F$104:$Y$110,6,FALSE))","v":0},{"$f":"IF(ISERROR(HLOOKUP(J69,'ステップ8（移動時間の算定）'!$F$104:$Y$110,6,FALSE)),\"\",HLOOKUP(J69,'ステップ8（移動時間の算定）'!$F$104:$Y$110,6,FALSE))","v":0},{"$f":"IF(ISERROR(HLOOKUP(K69,'ステップ8（移動時間の算定）'!$F$104:$Y$110,6,FALSE)),\"\",HLOOKUP(K69,'ステップ8（移動時間の算定）'!$F$104:$Y$110,6,FALSE))","v":0},{"$f":"IF(ISERROR(HLOOKUP(L69,'ステップ8（移動時間の算定）'!$F$104:$Y$110,6,FALSE)),\"\",HLOOKUP(L69,'ステップ8（移動時間の算定）'!$F$104:$Y$110,6,FALSE))","v":0},{"$f":"IF(ISERROR(HLOOKUP(M69,'ステップ8（移動時間の算定）'!$F$104:$Y$110,6,FALSE)),\"\",HLOOKUP(M69,'ステップ8（移動時間の算定）'!$F$104:$Y$110,6,FALSE))","v":0},{"$f":"IF(ISERROR(HLOOKUP(N69,'ステップ8（移動時間の算定）'!$F$104:$Y$110,6,FALSE)),\"\",HLOOKUP(N69,'ステップ8（移動時間の算定）'!$F$104:$Y$110,6,FALSE))","v":0},{"$f":"IF(ISERROR(HLOOKUP(O69,'ステップ8（移動時間の算定）'!$F$104:$Y$110,6,FALSE)),\"\",HLOOKUP(O69,'ステップ8（移動時間の算定）'!$F$104:$Y$110,6,FALSE))","v":0},{"$f":"IF(ISERROR(HLOOKUP(P69,'ステップ8（移動時間の算定）'!$F$104:$Y$110,6,FALSE)),\"\",HLOOKUP(P69,'ステップ8（移動時間の算定）'!$F$104:$Y$110,6,FALSE))","v":0},{"$f":"IF(ISERROR(HLOOKUP(Q69,'ステップ8（移動時間の算定）'!$F$104:$Y$110,6,FALSE)),\"\",HLOOKUP(Q69,'ステップ8（移動時間の算定）'!$F$104:$Y$110,6,FALSE))","v":0},{"$f":"IF(ISERROR(HLOOKUP(R69,'ステップ8（移動時間の算定）'!$F$104:$Y$110,6,FALSE)),\"\",HLOOKUP(R69,'ステップ8（移動時間の算定）'!$F$104:$Y$110,6,FALSE))","v":0},{"$f":"IF(ISERROR(HLOOKUP(S69,'ステップ8（移動時間の算定）'!$F$104:$Y$110,6,FALSE)),\"\",HLOOKUP(S69,'ステップ8（移動時間の算定）'!$F$104:$Y$110,6,FALSE))","v":0},{"$f":"IF(ISERROR(HLOOKUP(T69,'ステップ8（移動時間の算定）'!$F$104:$Y$110,6,FALSE)),\"\",HLOOKUP(T69,'ステップ8（移動時間の算定）'!$F$104:$Y$110,6,FALSE))","v":0},{"$f":"IF(ISERROR(HLOOKUP(U69,'ステップ8（移動時間の算定）'!$F$104:$Y$110,6,FALSE)),\"\",HLOOKUP(U69,'ステップ8（移動時間の算定）'!$F$104:$Y$110,6,FALSE))","v":0},{"$f":"IF(ISERROR(HLOOKUP(V69,'ステップ8（移動時間の算定）'!$F$104:$Y$110,6,FALSE)),\"\",HLOOKUP(V69,'ステップ8（移動時間の算定）'!$F$104:$Y$110,6,FALSE))","v":0},{"$f":"IF(ISERROR(HLOOKUP(W69,'ステップ8（移動時間の算定）'!$F$104:$Y$110,6,FALSE)),\"\",HLOOKUP(W69,'ステップ8（移動時間の算定）'!$F$104:$Y$110,6,FALSE))","v":0},{"$f":"IF(ISERROR(HLOOKUP(X69,'ステップ8（移動時間の算定）'!$F$104:$Y$110,6,FALSE)),\"\",HLOOKUP(X69,'ステップ8（移動時間の算定）'!$F$104:$Y$110,6,FALSE))","v":0},{"$f":"IF(ISERROR(HLOOKUP(Y69,'ステップ8（移動時間の算定）'!$F$104:$Y$110,6,FALSE)),\"\",HLOOKUP(Y69,'ステップ8（移動時間の算定）'!$F$104:$Y$110,6,FALSE))","v":0},{"$f":"IF(ISERROR(HLOOKUP(Z69,'ステップ8（移動時間の算定）'!$F$104:$Y$110,6,FALSE)),\"\",HLOOKUP(Z69,'ステップ8（移動時間の算定）'!$F$104:$Y$110,6,FALSE))","v":0}]
[null,null,null,null,null,"移動時間小計",{"$f":"SUBTOTAL(9,G69:G73)","v":0},0,0,0,0,0,0,0,0,0,0,0,0,0,0,0,0,0,0,0]
[null,null,null,null,null,"区画・部屋番号",{"$f":"IF(G18<>\"\",G18,\"\")","v":""},"","","","","","","","","","","","","","","","","","",""]
[null,null,null,null,"B4","t3:階段下までの移動時間",{"$f":"IF(ISERROR(HLOOKUP(G75,'ステップ8（移動時間の算定）'!$F$104:$Y$110,3,FALSE)),\"\",HLOOKUP(G75,'ステップ8（移動時間の算定）'!$F$104:$Y$110,3,FALSE))","v":0},{"$f":"IF(ISERROR(HLOOKUP(H75,'ステップ8（移動時間の算定）'!$F$104:$Y$110,3,FALSE)),\"\",HLOOKUP(H75,'ステップ8（移動時間の算定）'!$F$104:$Y$110,3,FALSE))","v":0},{"$f":"IF(ISERROR(HLOOKUP(I75,'ステップ8（移動時間の算定）'!$F$104:$Y$110,3,FALSE)),\"\",HLOOKUP(I75,'ステップ8（移動時間の算定）'!$F$104:$Y$110,3,FALSE))","v":0},{"$f":"IF(ISERROR(HLOOKUP(J75,'ステップ8（移動時間の算定）'!$F$104:$Y$110,3,FALSE)),\"\",HLOOKUP(J75,'ステップ8（移動時間の算定）'!$F$104:$Y$110,3,FALSE))","v":0},{"$f":"IF(ISERROR(HLOOKUP(K75,'ステップ8（移動時間の算定）'!$F$104:$Y$110,3,FALSE)),\"\",HLOOKUP(K75,'ステップ8（移動時間の算定）'!$F$104:$Y$110,3,FALSE))","v":0},{"$f":"IF(ISERROR(HLOOKUP(L75,'ステップ8（移動時間の算定）'!$F$104:$Y$110,3,FALSE)),\"\",HLOOKUP(L75,'ステップ8（移動時間の算定）'!$F$104:$Y$110,3,FALSE))","v":0},{"$f":"IF(ISERROR(HLOOKUP(M75,'ステップ8（移動時間の算定）'!$F$104:$Y$110,3,FALSE)),\"\",HLOOKUP(M75,'ステップ8（移動時間の算定）'!$F$104:$Y$110,3,FALSE))","v":0},{"$f":"IF(ISERROR(HLOOKUP(N75,'ステップ8（移動時間の算定）'!$F$104:$Y$110,3,FALSE)),\"\",HLOOKUP(N75,'ステップ8（移動時間の算定）'!$F$104:$Y$110,3,FALSE))","v":0},{"$f":"IF(ISERROR(HLOOKUP(O75,'ステップ8（移動時間の算定）'!$F$104:$Y$110,3,FALSE)),\"\",HLOOKUP(O75,'ステップ8（移動時間の算定）'!$F$104:$Y$110,3,FALSE))","v":0},{"$f":"IF(ISERROR(HLOOKUP(P75,'ステップ8（移動時間の算定）'!$F$104:$Y$110,3,FALSE)),\"\",HLOOKUP(P75,'ステップ8（移動時間の算定）'!$F$104:$Y$110,3,FALSE))","v":0},{"$f":"IF(ISERROR(HLOOKUP(Q75,'ステップ8（移動時間の算定）'!$F$104:$Y$110,3,FALSE)),\"\",HLOOKUP(Q75,'ステップ8（移動時間の算定）'!$F$104:$Y$110,3,FALSE))","v":0},{"$f":"IF(ISERROR(HLOOKUP(R75,'ステップ8（移動時間の算定）'!$F$104:$Y$110,3,FALSE)),\"\",HLOOKUP(R75,'ステップ8（移動時間の算定）'!$F$104:$Y$110,3,FALSE))","v":0},{"$f":"IF(ISERROR(HLOOKUP(S75,'ステップ8（移動時間の算定）'!$F$104:$Y$110,3,FALSE)),\"\",HLOOKUP(S75,'ステップ8（移動時間の算定）'!$F$104:$Y$110,3,FALSE))","v":0},{"$f":"IF(ISERROR(HLOOKUP(T75,'ステップ8（移動時間の算定）'!$F$104:$Y$110,3,FALSE)),\"\",HLOOKUP(T75,'ステップ8（移動時間の算定）'!$F$104:$Y$110,3,FALSE))","v":0},{"$f":"IF(ISERROR(HLOOKUP(U75,'ステップ8（移動時間の算定）'!$F$104:$Y$110,3,FALSE)),\"\",HLOOKUP(U75,'ステップ8（移動時間の算定）'!$F$104:$Y$110,3,FALSE))","v":0},{"$f":"IF(ISERROR(HLOOKUP(V75,'ステップ8（移動時間の算定）'!$F$104:$Y$110,3,FALSE)),\"\",HLOOKUP(V75,'ステップ8（移動時間の算定）'!$F$104:$Y$110,3,FALSE))","v":0},{"$f":"IF(ISERROR(HLOOKUP(W75,'ステップ8（移動時間の算定）'!$F$104:$Y$110,3,FALSE)),\"\",HLOOKUP(W75,'ステップ8（移動時間の算定）'!$F$104:$Y$110,3,FALSE))","v":0},{"$f":"IF(ISERROR(HLOOKUP(X75,'ステップ8（移動時間の算定）'!$F$104:$Y$110,3,FALSE)),\"\",HLOOKUP(X75,'ステップ8（移動時間の算定）'!$F$104:$Y$110,3,FALSE))","v":0},{"$f":"IF(ISERROR(HLOOKUP(Y75,'ステップ8（移動時間の算定）'!$F$104:$Y$110,3,FALSE)),\"\",HLOOKUP(Y75,'ステップ8（移動時間の算定）'!$F$104:$Y$110,3,FALSE))","v":0},{"$f":"IF(ISERROR(HLOOKUP(Z75,'ステップ8（移動時間の算定）'!$F$104:$Y$110,3,FALSE)),\"\",HLOOKUP(Z75,'ステップ8（移動時間の算定）'!$F$104:$Y$110,3,FALSE))","v":0}]
[null,null,null,null,"↑","t4(a):階段下の通過時間",{"$f":"IF(ISERROR(HLOOKUP(G75,'ステップ8（移動時間の算定）'!$F$104:$Y$110,4,FALSE)),\"\",HLOOKUP(G75,'ステップ8（移動時間の算定）'!$F$104:$Y$110,4,FALSE))","v":0},{"$f":"IF(ISERROR(HLOOKUP(H75,'ステップ8（移動時間の算定）'!$F$104:$Y$110,4,FALSE)),\"\",HLOOKUP(H75,'ステップ8（移動時間の算定）'!$F$104:$Y$110,4,FALSE))","v":0},{"$f":"IF(ISERROR(HLOOKUP(I75,'ステップ8（移動時間の算定）'!$F$104:$Y$110,4,FALSE)),\"\",HLOOKUP(I75,'ステップ8（移動時間の算定）'!$F$104:$Y$110,4,FALSE))","v":0},{"$f":"IF(ISERROR(HLOOKUP(J75,'ステップ8（移動時間の算定）'!$F$104:$Y$110,4,FALSE)),\"\",HLOOKUP(J75,'ステップ8（移動時間の算定）'!$F$104:$Y$110,4,FALSE))","v":0},{"$f":"IF(ISERROR(HLOOKUP(K75,'ステップ8（移動時間の算定）'!$F$104:$Y$110,4,FALSE)),\"\",HLOOKUP(K75,'ステップ8（移動時間の算定）'!$F$104:$Y$110,4,FALSE))","v":0},{"$f":"IF(ISERROR(HLOOKUP(L75,'ステップ8（移動時間の算定）'!$F$104:$Y$110,4,FALSE)),\"\",HLOOKUP(L75,'ステップ8（移動時間の算定）'!$F$104:$Y$110,4,FALSE))","v":0},{"$f":"IF(ISERROR(HLOOKUP(M75,'ステップ8（移動時間の算定）'!$F$104:$Y$110,4,FALSE)),\"\",HLOOKUP(M75,'ステップ8（移動時間の算定）'!$F$104:$Y$110,4,FALSE))","v":0},{"$f":"IF(ISERROR(HLOOKUP(N75,'ステップ8（移動時間の算定）'!$F$104:$Y$110,4,FALSE)),\"\",HLOOKUP(N75,'ステップ8（移動時間の算定）'!$F$104:$Y$110,4,FALSE))","v":0},{"$f":"IF(ISERROR(HLOOKUP(O75,'ステップ8（移動時間の算定）'!$F$104:$Y$110,4,FALSE)),\"\",HLOOKUP(O75,'ステップ8（移動時間の算定）'!$F$104:$Y$110,4,FALSE))","v":0},{"$f":"IF(ISERROR(HLOOKUP(P75,'ステップ8（移動時間の算定）'!$F$104:$Y$110,4,FALSE)),\"\",HLOOKUP(P75,'ステップ8（移動時間の算定）'!$F$104:$Y$110,4,FALSE))","v":0},{"$f":"IF(ISERROR(HLOOKUP(Q75,'ステップ8（移動時間の算定）'!$F$104:$Y$110,4,FALSE)),\"\",HLOOKUP(Q75,'ステップ8（移動時間の算定）'!$F$104:$Y$110,4,FALSE))","v":0},{"$f":"IF(ISERROR(HLOOKUP(R75,'ステップ8（移動時間の算定）'!$F$104:$Y$110,4,FALSE)),\"\",HLOOKUP(R75,'ステップ8（移動時間の算定）'!$F$104:$Y$110,4,FALSE))","v":0},{"$f":"IF(ISERROR(HLOOKUP(S75,'ステップ8（移動時間の算定）'!$F$104:$Y$110,4,FALSE)),\"\",HLOOKUP(S75,'ステップ8（移動時間の算定）'!$F$104:$Y$110,4,FALSE))","v":0},{"$f":"IF(ISERROR(HLOOKUP(T75,'ステップ8（移動時間の算定）'!$F$104:$Y$110,4,FALSE)),\"\",HLOOKUP(T75,'ステップ8（移動時間の算定）'!$F$104:$Y$110,4,FALSE))","v":0},{"$f":"IF(ISERROR(HLOOKUP(U75,'ステップ8（移動時間の算定）'!$F$104:$Y$110,4,FALSE)),\"\",HLOOKUP(U75,'ステップ8（移動時間の算定）'!$F$104:$Y$110,4,FALSE))","v":0},{"$f":"IF(ISERROR(HLOOKUP(V75,'ステップ8（移動時間の算定）'!$F$104:$Y$110,4,FALSE)),\"\",HLOOKUP(V75,'ステップ8（移動時間の算定）'!$F$104:$Y$110,4,FALSE))","v":0},{"$f":"IF(ISERROR(HLOOKUP(W75,'ステップ8（移動時間の算定）'!$F$104:$Y$110,4,FALSE)),\"\",HLOOKUP(W75,'ステップ8（移動時間の算定）'!$F$104:$Y$110,4,FALSE))","v":0},{"$f":"IF(ISERROR(HLOOKUP(X75,'ステップ8（移動時間の算定）'!$F$104:$Y$110,4,FALSE)),\"\",HLOOKUP(X75,'ステップ8（移動時間の算定）'!$F$104:$Y$110,4,FALSE))","v":0},{"$f":"IF(ISERROR(HLOOKUP(Y75,'ステップ8（移動時間の算定）'!$F$104:$Y$110,4,FALSE)),\"\",HLOOKUP(Y75,'ステップ8（移動時間の算定）'!$F$104:$Y$110,4,FALSE))","v":0},{"$f":"IF(ISERROR(HLOOKUP(Z75,'ステップ8（移動時間の算定）'!$F$104:$Y$110,4,FALSE)),\"\",HLOOKUP(Z75,'ステップ8（移動時間の算定）'!$F$104:$Y$110,4,FALSE))","v":0}]
[null,null,null,null,"B5","t4(b):居室出口通過時間",{"$f":"IF(ISERROR(HLOOKUP(G75,'ステップ8（移動時間の算定）'!$F$104:$Y$110,5,FALSE)),\"\",HLOOKUP(G75,'ステップ8（移動時間の算定）'!$F$104:$Y$110,5,FALSE))","v":0},{"$f":"IF(ISERROR(HLOOKUP(H75,'ステップ8（移動時間の算定）'!$F$104:$Y$110,5,FALSE)),\"\",HLOOKUP(H75,'ステップ8（移動時間の算定）'!$F$104:$Y$110,5,FALSE))","v":0},{"$f":"IF(ISERROR(HLOOKUP(I75,'ステップ8（移動時間の算定）'!$F$104:$Y$110,5,FALSE)),\"\",HLOOKUP(I75,'ステップ8（移動時間の算定）'!$F$104:$Y$110,5,FALSE))","v":0},{"$f":"IF(ISERROR(HLOOKUP(J75,'ステップ8（移動時間の算定）'!$F$104:$Y$110,5,FALSE)),\"\",HLOOKUP(J75,'ステップ8（移動時間の算定）'!$F$104:$Y$110,5,FALSE))","v":0},{"$f":"IF(ISERROR(HLOOKUP(K75,'ステップ8（移動時間の算定）'!$F$104:$Y$110,5,FALSE)),\"\",HLOOKUP(K75,'ステップ8（移動時間の算定）'!$F$104:$Y$110,5,FALSE))","v":0},{"$f":"IF(ISERROR(HLOOKUP(L75,'ステップ8（移動時間の算定）'!$F$104:$Y$110,5,FALSE)),\"\",HLOOKUP(L75,'ステップ8（移動時間の算定）'!$F$104:$Y$110,5,FALSE))","v":0},{"$f":"IF(ISERROR(HLOOKUP(M75,'ステップ8（移動時間の算定）'!$F$104:$Y$110,5,FALSE)),\"\",HLOOKUP(M75,'ステップ8（移動時間の算定）'!$F$104:$Y$110,5,FALSE))","v":0},{"$f":"IF(ISERROR(HLOOKUP(N75,'ステップ8（移動時間の算定）'!$F$104:$Y$110,5,FALSE)),\"\",HLOOKUP(N75,'ステップ8（移動時間の算定）'!$F$104:$Y$110,5,FALSE))","v":0},{"$f":"IF(ISERROR(HLOOKUP(O75,'ステップ8（移動時間の算定）'!$F$104:$Y$110,5,FALSE)),\"\",HLOOKUP(O75,'ステップ8（移動時間の算定）'!$F$104:$Y$110,5,FALSE))","v":0},{"$f":"IF(ISERROR(HLOOKUP(P75,'ステップ8（移動時間の算定）'!$F$104:$Y$110,5,FALSE)),\"\",HLOOKUP(P75,'ステップ8（移動時間の算定）'!$F$104:$Y$110,5,FALSE))","v":0},{"$f":"IF(ISERROR(HLOOKUP(Q75,'ステップ8（移動時間の算定）'!$F$104:$Y$110,5,FALSE)),\"\",HLOOKUP(Q75,'ステップ8（移動時間の算定）'!$F$104:$Y$110,5,FALSE))","v":0},{"$f":"IF(ISERROR(HLOOKUP(R75,'ステップ8（移動時間の算定）'!$F$104:$Y$110,5,FALSE)),\"\",HLOOKUP(R75,'ステップ8（移動時間の算定）'!$F$104:$Y$110,5,FALSE))","v":0},{"$f":"IF(ISERROR(HLOOKUP(S75,'ステップ8（移動時間の算定）'!$F$104:$Y$110,5,FALSE)),\"\",HLOOKUP(S75,'ステップ8（移動時間の算定）'!$F$104:$Y$110,5,FALSE))","v":0},{"$f":"IF(ISERROR(HLOOKUP(T75,'ステップ8（移動時間の算定）'!$F$104:$Y$110,5,FALSE)),\"\",HLOOKUP(T75,'ステップ8（移動時間の算定）'!$F$104:$Y$110,5,FALSE))","v":0},{"$f":"IF(ISERROR(HLOOKUP(U75,'ステップ8（移動時間の算定）'!$F$104:$Y$110,5,FALSE)),\"\",HLOOKUP(U75,'ステップ8（移動時間の算定）'!$F$104:$Y$110,5,FALSE))","v":0},{"$f":"IF(ISERROR(HLOOKUP(V75,'ステップ8（移動時間の算定）'!$F$104:$Y$110,5,FALSE)),\"\",HLOOKUP(V75,'ステップ8（移動時間の算定）'!$F$104:$Y$110,5,FALSE))","v":0},{"$f":"IF(ISERROR(HLOOKUP(W75,'ステップ8（移動時間の算定）'!$F$104:$Y$110,5,FALSE)),\"\",HLOOKUP(W75,'ステップ8（移動時間の算定）'!$F$104:$Y$110,5,FALSE))","v":0},{"$f":"IF(ISERROR(HLOOKUP(X75,'ステップ8（移動時間の算定）'!$F$104:$Y$110,5,FALSE)),\"\",HLOOKUP(X75,'ステップ8（移動時間の算定）'!$F$104:$Y$110,5,FALSE))","v":0},{"$f":"IF(ISERROR(HLOOKUP(Y75,'ステップ8（移動時間の算定）'!$F$104:$Y$110,5,FALSE)),\"\",HLOOKUP(Y75,'ステップ8（移動時間の算定）'!$F$104:$Y$110,5,FALSE))","v":0},{"$f":"IF(ISERROR(HLOOKUP(Z75,'ステップ8（移動時間の算定）'!$F$104:$Y$110,5,FALSE)),\"\",HLOOKUP(Z75,'ステップ8（移動時間の算定）'!$F$104:$Y$110,5,FALSE))","v":0}]
[null,null,null,null,null,"t5:階段上階への移動時間",{"$f":"IF(ISERROR(HLOOKUP(G75,'ステップ8（移動時間の算定）'!$F$104:$Y$110,6,FALSE)),\"\",HLOOKUP(G75,'ステップ8（移動時間の算定）'!$F$104:$Y$110,6,FALSE))","v":0},{"$f":"IF(ISERROR(HLOOKUP(H75,'ステップ8（移動時間の算定）'!$F$104:$Y$110,6,FALSE)),\"\",HLOOKUP(H75,'ステップ8（移動時間の算定）'!$F$104:$Y$110,6,FALSE))","v":0},{"$f":"IF(ISERROR(HLOOKUP(I75,'ステップ8（移動時間の算定）'!$F$104:$Y$110,6,FALSE)),\"\",HLOOKUP(I75,'ステップ8（移動時間の算定）'!$F$104:$Y$110,6,FALSE))","v":0},{"$f":"IF(ISERROR(HLOOKUP(J75,'ステップ8（移動時間の算定）'!$F$104:$Y$110,6,FALSE)),\"\",HLOOKUP(J75,'ステップ8（移動時間の算定）'!$F$104:$Y$110,6,FALSE))","v":0},{"$f":"IF(ISERROR(HLOOKUP(K75,'ステップ8（移動時間の算定）'!$F$104:$Y$110,6,FALSE)),\"\",HLOOKUP(K75,'ステップ8（移動時間の算定）'!$F$104:$Y$110,6,FALSE))","v":0},{"$f":"IF(ISERROR(HLOOKUP(L75,'ステップ8（移動時間の算定）'!$F$104:$Y$110,6,FALSE)),\"\",HLOOKUP(L75,'ステップ8（移動時間の算定）'!$F$104:$Y$110,6,FALSE))","v":0},{"$f":"IF(ISERROR(HLOOKUP(M75,'ステップ8（移動時間の算定）'!$F$104:$Y$110,6,FALSE)),\"\",HLOOKUP(M75,'ステップ8（移動時間の算定）'!$F$104:$Y$110,6,FALSE))","v":0},{"$f":"IF(ISERROR(HLOOKUP(N75,'ステップ8（移動時間の算定）'!$F$104:$Y$110,6,FALSE)),\"\",HLOOKUP(N75,'ステップ8（移動時間の算定）'!$F$104:$Y$110,6,FALSE))","v":0},{"$f":"IF(ISERROR(HLOOKUP(O75,'ステップ8（移動時間の算定）'!$F$104:$Y$110,6,FALSE)),\"\",HLOOKUP(O75,'ステップ8（移動時間の算定）'!$F$104:$Y$110,6,FALSE))","v":0},{"$f":"IF(ISERROR(HLOOKUP(P75,'ステップ8（移動時間の算定）'!$F$104:$Y$110,6,FALSE)),\"\",HLOOKUP(P75,'ステップ8（移動時間の算定）'!$F$104:$Y$110,6,FALSE))","v":0},{"$f":"IF(ISERROR(HLOOKUP(Q75,'ステップ8（移動時間の算定）'!$F$104:$Y$110,6,FALSE)),\"\",HLOOKUP(Q75,'ステップ8（移動時間の算定）'!$F$104:$Y$110,6,FALSE))","v":0},{"$f":"IF(ISERROR(HLOOKUP(R75,'ステップ8（移動時間の算定）'!$F$104:$Y$110,6,FALSE)),\"\",HLOOKUP(R75,'ステップ8（移動時間の算定）'!$F$104:$Y$110,6,FALSE))","v":0},{"$f":"IF(ISERROR(HLOOKUP(S75,'ステップ8（移動時間の算定）'!$F$104:$Y$110,6,FALSE)),\"\",HLOOKUP(S75,'ステップ8（移動時間の算定）'!$F$104:$Y$110,6,FALSE))","v":0},{"$f":"IF(ISERROR(HLOOKUP(T75,'ステップ8（移動時間の算定）'!$F$104:$Y$110,6,FALSE)),\"\",HLOOKUP(T75,'ステップ8（移動時間の算定）'!$F$104:$Y$110,6,FALSE))","v":0},{"$f":"IF(ISERROR(HLOOKUP(U75,'ステップ8（移動時間の算定）'!$F$104:$Y$110,6,FALSE)),\"\",HLOOKUP(U75,'ステップ8（移動時間の算定）'!$F$104:$Y$110,6,FALSE))","v":0},{"$f":"IF(ISERROR(HLOOKUP(V75,'ステップ8（移動時間の算定）'!$F$104:$Y$110,6,FALSE)),\"\",HLOOKUP(V75,'ステップ8（移動時間の算定）'!$F$104:$Y$110,6,FALSE))","v":0},{"$f":"IF(ISERROR(HLOOKUP(W75,'ステップ8（移動時間の算定）'!$F$104:$Y$110,6,FALSE)),\"\",HLOOKUP(W75,'ステップ8（移動時間の算定）'!$F$104:$Y$110,6,FALSE))","v":0},{"$f":"IF(ISERROR(HLOOKUP(X75,'ステップ8（移動時間の算定）'!$F$104:$Y$110,6,FALSE)),\"\",HLOOKUP(X75,'ステップ8（移動時間の算定）'!$F$104:$Y$110,6,FALSE))","v":0},{"$f":"IF(ISERROR(HLOOKUP(Y75,'ステップ8（移動時間の算定）'!$F$104:$Y$110,6,FALSE)),\"\",HLOOKUP(Y75,'ステップ8（移動時間の算定）'!$F$104:$Y$110,6,FALSE))","v":0},{"$f":"IF(ISERROR(HLOOKUP(Z75,'ステップ8（移動時間の算定）'!$F$104:$Y$110,6,FALSE)),\"\",HLOOKUP(Z75,'ステップ8（移動時間の算定）'!$F$104:$Y$110,6,FALSE))","v":0}]
[null,null,null,null,null,"移動時間小計",{"$f":"SUBTOTAL(9,G75:G79)","v":0},0,0,0,0,0,0,0,0,0,0,0,0,0,0,0,0,0,0,0]
[null,null,"※t4(b):居室出口通過時間は、そのフロアから避難を開始する場合のみ算定し、下のフロアから上がってくる場合は算定しません。"]
["←左の　　をクリックすると内訳が開きます"]
["←左の　　をクリックすると内訳を閉じます",null,"◆避難行動所要時間(Th)の算定"]
[null,null,null,null,null,"避難開始区画・部屋番号",{"$f":"IF('ステップ2（地下フロア構造）'!$D$20<>\"\",'ステップ2（地下フロア構造）'!$D$20,\"\")","v":""},{"$f":"IF('ステップ2（地下フロア構造）'!$D$21<>\"\",'ステップ2（地下フロア構造）'!$D$21,\"\")","v":""},{"$f":"IF('ステップ2（地下フロア構造）'!$D$22<>\"\",'ステップ2（地下フロア構造）'!$D$22,\"\")","v":""},{"$f":"IF('ステップ2（地下フロア構造）'!$D$23<>\"\",'ステップ2（地下フロア構造）'!$D$23,\"\")","v":""},{"$f":"IF('ステップ2（地下フロア構造）'!$D$24<>\"\",'ステップ2（地下フロア構造）'!$D$24,\"\")","v":""},{"$f":"IF('ステップ2（地下フロア構造）'!$D$25<>\"\",'ステップ2（地下フロア構造）'!$D$25,\"\")","v":""},{"$f":"IF('ステップ2（地下フロア構造）'!$D$26<>\"\",'ステップ2（地下フロア構造）'!$D$26,\"\")","v":""},{"$f":"IF('ステップ2（地下フロア構造）'!$D$27<>\"\",'ステップ2（地下フロア構造）'!$D$27,\"\")","v":""},{"$f":"IF('ステップ2（地下フロア構造）'!$D$28<>\"\",'ステップ2（地下フロア構造）'!$D$28,\"\")","v":""},{"$f":"IF('ステップ2（地下フロア構造）'!$D$29<>\"\",'ステップ2（地下フロア構造）'!$D$29,\"\")","v":""},{"$f":"IF('ステップ2（地下フロア構造）'!$D$30<>\"\",'ステップ2（地下フロア構造）'!$D$30,\"\")","v":""},{"$f":"IF('ステップ2（地下フロア構造）'!$D$31<>\"\",'ステップ2（地下フロア構造）'!$D$31,\"\")","v":""},{"$f":"IF('ステップ2（地下フロア構造）'!$D$32<>\"\",'ステップ2（地下フロア構造）'!$D$32,\"\")","v":""},{"$f":"IF('ステップ2（地下フロア構造）'!$D$33<>\"\",'ステップ2（地下フロア構造）'!$D$33,\"\")","v":""},{"$f":"IF('ステップ2（地下フロア構造）'!$D$34<>\"\",'ステップ2（地下フロア構造）'!$D$34,\"\")","v":""},{"$f":"IF('ステップ2（地下フロア構造）'!$D$35<>\"\",'ステップ2（地下フロア構造）'!$D$35,\"\")","v":""},{"$f":"IF('ステップ2（地下フロア構造）'!$D$36<>\"\",'ステップ2（地下フロア構造）'!$D$36,\"\")","v":""},{"$f":"IF('ステップ2（地下フロア構造）'!$D$37<>\"\",'ステップ2（地下フロア構造）'!$D$37,\"\")","v":""},{"$f":"IF('ステップ2（地下フロア構造）'!$D$38<>\"\",'ステップ2（地下フロア構造）'!$D$38,\"\")","v":""},{"$f":"IF('ステップ2（地下フロア構造）'!$D$39<>\"\",'ステップ2（地下フロア構造）'!$D$39,\"\")","v":""}]
[null,null,null,null,null,null,"避難行動所要時間(Th)（分）"]
[null,null,null,null,null,null,"　　[各区画・部屋から１つ上の階までの移動時間を算定]"]
[null,null,null,null,null,null,"算定結果","算定結果","算定結果","算定結果","算定結果","算定結果","算定結果","算定結果","算定結果","算定結果","算定結果","算定結果","算定結果","算定結果","算定結果","算定結果","算定結果","算定結果","算定結果","算定結果"]
[null,null,"避難行動所要時間(分)\n\n\n（１つ上の階まで）",null,null,"地下1階→地上",{"$f":"IF(G14<>\"\",G14,\"\")","v":""},"","","","","","","","","","","","","","","","","","",""]
[null,null,null,null,null,null,{"$f":"IF(G14=\"\",\"\",G56)","v":""},"","","","","","","","","","","","","","","","","","",""]
[null,null,null,null,null,"地下2階→地下1階",{"$f":"IF(G15<>\"\",G15,\"\")","v":""},{"$f":"IF(H15<>\"\",H15,\"\")","v":""},"","","","","","","","","","","","","","","","","",""]
[null,null,null,null,null,null,{"$f":"IF(G15=\"\",\"\",G62)","v":""},"","","","","","","","","","","","","","","","","","",""]
[null,null,null,null,null,"地下3階→地下2階",{"$f":"IF(G16<>\"\",G16,\"\")","v":""},{"$f":"IF(H16<>\"\",H16,\"\")","v":""},"","","","","","","","","","","","","","","","","",""]
[null,null,null,null,null,null,{"$f":"IF(G16=\"\",\"\",G68)","v":""},"","","","","","","","","","","","","","","","","","",""]
[null,null,null,null,null,"地下4階→地下3階",{"$f":"IF(G17<>\"\",G17,\"\")","v":""},{"$f":"IF(H17<>\"\",H17,\"\")","v":""},"","","","","","","","","","","","","","","","","",""]
[null,null,null,null,null,null,{"$f":"IF(G17=\"\",\"\",G74)","v":""},"","","","","","","","","","","","","","","","","","",""]
[null,null,null,null,null,"地下5階→地下4階",{"$f":"IF(G18<>\"\",G18,\"\")","v":""},{"$f":"IF(H18<>\"\",H18,\"\")","v":""},"","","","","","","","","","","","","","","","","",""]
[null,null,null,null,null,null,{"$f":"IF(G18=\"\",\"\",G80)","v":""},"","","","","","","","","","","","","","","","","","",""]
[null,null,null,null,null,null,"避難対策、異変認知時間、意思決定時間（分）"]
[null,null,null,null,null,null,"　　[選択した避難対策に応じた時間をステップ６と７から参照]"]
[null,null,null,null,null,null,"算定結果","算定結果","算定結果","算定結果","算定結果","算定結果","算定結果","算定結果","算定結果","算定結果","算定結果","算定結果","算定結果","算定結果","算定結果","算定結果","算定結果","算定結果","算定結果","算定結果"]
[null,null,"避難対策",null,null,null,{"$f":"IF(G$13=\"\",\"\",IF(G$13=\"無対策\",\"無対策\",IF(G$13=\"対策1\",\"管理者あり\",\"浸水センサー\")))","v":""},{"$f":"IF(H$13=\"\",\"\",IF(H$13=\"無対策\",\"無対策\",IF(H$13=\"対策1\",\"管理者あり\",\"浸水センサー\")))","v":""},{"$f":"IF(I$13=\"\",\"\",IF(I$13=\"無対策\",\"無対策\",IF(I$13=\"対策1\",\"管理者あり\",\"浸水センサー\")))","v":""},"","","","","","","","","","","",{"$f":"IF(U$13=\"\",\"\",IF(U$13=\"無対策\",\"無対策\",IF(U$13=\"対策1\",\"管理者あり\",\"浸水センサー\")))","v":""},{"$f":"IF(V$13=\"\",\"\",IF(V$13=\"無対策\",\"無対策\",IF(V$13=\"対策1\",\"管理者あり\",\"浸水センサー\")))","v":""},{"$f":"IF(W$13=\"\",\"\",IF(W$13=\"無対策\",\"無対策\",IF(W$13=\"対策1\",\"管理者あり\",\"浸水センサー\")))","v":""},"","",""]
[null,null,"異変認知時間(分)",null,null,null,{"$f":"IF(G$9=\"\",\"\",IF(OR(G$13=\"\",G$13=\"無対策\"),IF(ISERROR(VLOOKUP(G$9,'ステップ6（異変認知時間）'!$D$8:$J$27,3,FALSE)),\"\",VLOOKUP(G$9,'ステップ6（異変認知時間）'!$D$8:$J$27,3,FALSE)),IF(G$13=\"対策1\",IF(ISERROR(VLOOKUP(G$9,'ステップ6（異変認知時間）'!$D$8:$J$27,4,FALSE)),\"\",VLOOKUP(G$9,'ステップ6（異変認知時間）'!$D$8:$J$27,4,FALSE)),IF(G$13=\"対策2\",IF(ISERROR(VLOOKUP(G$9,'ステップ6（異変認知時間）'!$D$8:$J$27,5,FALSE)),\"\",VLOOKUP(G$9,'ステップ6（異変認知時間）'!$D$8:$J$27,5,FALSE)),IF(ISERROR(VLOOKUP(G$9,'ステップ6（異変認知時間）'!$D$8:$J$27,6,FALSE)),\"\",VLOOKUP(G$9,'ステップ6（異変認知時間）'!$D$8:$J$27,6,FALSE))))))","v":""},{"$f":"IF(H$9=\"\",\"\",IF(OR(H$13=\"\",H$13=\"無対策\"),IF(ISERROR(VLOOKUP(H$9,'ステップ6（異変認知時間）'!$D$8:$J$27,3,FALSE)),\"\",VLOOKUP(H$9,'ステップ6（異変認知時間）'!$D$8:$J$27,3,FALSE)),IF(H$13=\"対策1\",IF(ISERROR(VLOOKUP(H$9,'ステップ6（異変認知時間）'!$D$8:$J$27,4,FALSE)),\"\",VLOOKUP(H$9,'ステップ6（異変認知時間）'!$D$8:$J$27,4,FALSE)),IF(H$13=\"対策2\",IF(ISERROR(VLOOKUP(H$9,'ステップ6（異変認知時間）'!$D$8:$J$27,5,FALSE)),\"\",VLOOKUP(H$9,'ステップ6（異変認知時間）'!$D$8:$J$27,5,FALSE)),IF(ISERROR(VLOOKUP(H$9,'ステップ6（異変認知時間）'!$D$8:$J$27,6,FALSE)),\"\",VLOOKUP(H$9,'ステップ6（異変認知時間）'!$D$8:$J$27,6,FALSE))))))","v":""},{"$f":"IF(I$9=\"\",\"\",IF(OR(I$13=\"\",I$13=\"無対策\"),IF(ISERROR(VLOOKUP(I$9,'ステップ6（異変認知時間）'!$D$8:$J$27,3,FALSE)),\"\",VLOOKUP(I$9,'ステップ6（異変認知時間）'!$D$8:$J$27,3,FALSE)),IF(I$13=\"対策1\",IF(ISERROR(VLOOKUP(I$9,'ステップ6（異変認知時間）'!$D$8:$J$27,4,FALSE)),\"\",VLOOKUP(I$9,'ステップ6（異変認知時間）'!$D$8:$J$27,4,FALSE)),IF(I$13=\"対策2\",IF(ISERROR(VLOOKUP(I$9,'ステップ6（異変認知時間）'!$D$8:$J$27,5,FALSE)),\"\",VLOOKUP(I$9,'ステップ6（異変認知時間）'!$D$8:$J$27,5,FALSE)),IF(ISERROR(VLOOKUP(I$9,'ステップ6（異変認知時間）'!$D$8:$J$27,6,FALSE)),\"\",VLOOKUP(I$9,'ステップ6（異変認知時間）'!$D$8:$J$27,6,FALSE))))))","v":""},{"$f":"IF(J$9=\"\",\"\",IF(OR(J$13=\"\",J$13=\"無対策\"),IF(ISERROR(VLOOKUP(J$9,'ステップ6（異変認知時間）'!$D$8:$J$27,3,FALSE)),\"\",VLOOKUP(J$9,'ステップ6（異変認知時間）'!$D$8:$J$27,3,FALSE)),IF(J$13=\"対策1\",IF(ISERROR(VLOOKUP(J$9,'ステップ6（異変認知時間）'!$D$8:$J$27,4,FALSE)),\"\",VLOOKUP(J$9,'ステップ6（異変認知時間）'!$D$8:$J$27,4,FALSE)),IF(J$13=\"対策2\",IF(ISERROR(VLOOKUP(J$9,'ステップ6（異変認知時間）'!$D$8:$J$27,5,FALSE)),\"\",VLOOKUP(J$9,'ステップ6（異変認知時間）'!$D$8:$J$27,5,FALSE)),IF(ISERROR(VLOOKUP(J$9,'ステップ6（異変認知時間）'!$D$8:$J$27,6,FALSE)),\"\",VLOOKUP(J$9,'ステップ6（異変認知時間）'!$D$8:$J$27,6,FALSE))))))","v":""},{"$f":"IF(K$9=\"\",\"\",IF(OR(K$13=\"\",K$13=\"無対策\"),IF(ISERROR(VLOOKUP(K$9,'ステップ6（異変認知時間）'!$D$8:$J$27,3,FALSE)),\"\",VLOOKUP(K$9,'ステップ6（異変認知時間）'!$D$8:$J$27,3,FALSE)),IF(K$13=\"対策1\",IF(ISERROR(VLOOKUP(K$9,'ステップ6（異変認知時間）'!$D$8:$J$27,4,FALSE)),\"\",VLOOKUP(K$9,'ステップ6（異変認知時間）'!$D$8:$J$27,4,FALSE)),IF(K$13=\"対策2\",IF(ISERROR(VLOOKUP(K$9,'ステップ6（異変認知時間）'!$D$8:$J$27,5,FALSE)),\"\",VLOOKUP(K$9,'ステップ6（異変認知時間）'!$D$8:$J$27,5,FALSE)),IF(ISERROR(VLOOKUP(K$9,'ステップ6（異変認知時間）'!$D$8:$J$27,6,FALSE)),\"\",VLOOKUP(K$9,'ステップ6（異変認知時間）'!$D$8:$J$27,6,FALSE))))))","v":""},{"$f":"IF(L$9=\"\",\"\",IF(OR(L$13=\"\",L$13=\"無対策\"),IF(ISERROR(VLOOKUP(L$9,'ステップ6（異変認知時間）'!$D$8:$J$27,3,FALSE)),\"\",VLOOKUP(L$9,'ステップ6（異変認知時間）'!$D$8:$J$27,3,FALSE)),IF(L$13=\"対策1\",IF(ISERROR(VLOOKUP(L$9,'ステップ6（異変認知時間）'!$D$8:$J$27,4,FALSE)),\"\",VLOOKUP(L$9,'ステップ6（異変認知時間）'!$D$8:$J$27,4,FALSE)),IF(L$13=\"対策2\",IF(ISERROR(VLOOKUP(L$9,'ステップ6（異変認知時間）'!$D$8:$J$27,5,FALSE)),\"\",VLOOKUP(L$9,'ステップ6（異変認知時間）'!$D$8:$J$27,5,FALSE)),IF(ISERROR(VLOOKUP(L$9,'ステップ6（異変認知時間）'!$D$8:$J$27,6,FALSE)),\"\",VLOOKUP(L$9,'ステップ6（異変認知時間）'!$D$8:$J$27,6,FALSE))))))","v":""},{"$f":"IF(M$9=\"\",\"\",IF(OR(M$13=\"\",M$13=\"無対策\"),IF(ISERROR(VLOOKUP(M$9,'ステップ6（異変認知時間）'!$D$8:$J$27,3,FALSE)),\"\",VLOOKUP(M$9,'ステップ6（異変認知時間）'!$D$8:$J$27,3,FALSE)),IF(M$13=\"対策1\",IF(ISERROR(VLOOKUP(M$9,'ステップ6（異変認知時間）'!$D$8:$J$27,4,FALSE)),\"\",VLOOKUP(M$9,'ステップ6（異変認知時間）'!$D$8:$J$27,4,FALSE)),IF(M$13=\"対策2\",IF(ISERROR(VLOOKUP(M$9,'ステップ6（異変認知時間）'!$D$8:$J$27,5,FALSE)),\"\",VLOOKUP(M$9,'ステップ6（異変認知時間）'!$D$8:$J$27,5,FALSE)),IF(ISERROR(VLOOKUP(M$9,'ステップ6（異変認知時間）'!$D$8:$J$27,6,FALSE)),\"\",VLOOKUP(M$9,'ステップ6（異変認知時間）'!$D$8:$J$27,6,FALSE))))))","v":""},{"$f":"IF(N$9=\"\",\"\",IF(OR(N$13=\"\",N$13=\"無対策\"),IF(ISERROR(VLOOKUP(N$9,'ステップ6（異変認知時間）'!$D$8:$J$27,3,FALSE)),\"\",VLOOKUP(N$9,'ステップ6（異変認知時間）'!$D$8:$J$27,3,FALSE)),IF(N$13=\"対策1\",IF(ISERROR(VLOOKUP(N$9,'ステップ6（異変認知時間）'!$D$8:$J$27,4,FALSE)),\"\",VLOOKUP(N$9,'ステップ6（異変認知時間）'!$D$8:$J$27,4,FALSE)),IF(N$13=\"対策2\",IF(ISERROR(VLOOKUP(N$9,'ステップ6（異変認知時間）'!$D$8:$J$27,5,FALSE)),\"\",VLOOKUP(N$9,'ステップ6（異変認知時間）'!$D$8:$J$27,5,FALSE)),IF(ISERROR(VLOOKUP(N$9,'ステップ6（異変認知時間）'!$D$8:$J$27,6,FALSE)),\"\",VLOOKUP(N$9,'ステップ6（異変認知時間）'!$D$8:$J$27,6,FALSE))))))","v":""},{"$f":"IF(O$9=\"\",\"\",IF(OR(O$13=\"\",O$13=\"無対策\"),IF(ISERROR(VLOOKUP(O$9,'ステップ6（異変認知時間）'!$D$8:$J$27,3,FALSE)),\"\",VLOOKUP(O$9,'ステップ6（異変認知時間）'!$D$8:$J$27,3,FALSE)),IF(O$13=\"対策1\",IF(ISERROR(VLOOKUP(O$9,'ステップ6（異変認知時間）'!$D$8:$J$27,4,FALSE)),\"\",VLOOKUP(O$9,'ステップ6（異変認知時間）'!$D$8:$J$27,4,FALSE)),IF(O$13=\"対策2\",IF(ISERROR(VLOOKUP(O$9,'ステップ6（異変認知時間）'!$D$8:$J$27,5,FALSE)),\"\",VLOOKUP(O$9,'ステップ6（異変認知時間）'!$D$8:$J$27,5,FALSE)),IF(ISERROR(VLOOKUP(O$9,'ステップ6（異変認知時間）'!$D$8:$J$27,6,FALSE)),\"\",VLOOKUP(O$9,'ステップ6（異変認知時間）'!$D$8:$J$27,6,FALSE))))))","v":""},{"$f":"IF(P$9=\"\",\"\",IF(OR(P$13=\"\",P$13=\"無対策\"),IF(ISERROR(VLOOKUP(P$9,'ステップ6（異変認知時間）'!$D$8:$J$27,3,FALSE)),\"\",VLOOKUP(P$9,'ステップ6（異変認知時間）'!$D$8:$J$27,3,FALSE)),IF(P$13=\"対策1\",IF(ISERROR(VLOOKUP(P$9,'ステップ6（異変認知時間）'!$D$8:$J$27,4,FALSE)),\"\",VLOOKUP(P$9,'ステップ6（異変認知時間）'!$D$8:$J$27,4,FALSE)),IF(P$13=\"対策2\",IF(ISERROR(VLOOKUP(P$9,'ステップ6（異変認知時間）'!$D$8:$J$27,5,FALSE)),\"\",VLOOKUP(P$9,'ステップ6（異変認知時間）'!$D$8:$J$27,5,FALSE)),IF(ISERROR(VLOOKUP(P$9,'ステップ6（異変認知時間）'!$D$8:$J$27,6,FALSE)),\"\",VLOOKUP(P$9,'ステップ6（異変認知時間）'!$D$8:$J$27,6,FALSE))))))","v":""},{"$f":"IF(Q$9=\"\",\"\",IF(OR(Q$13=\"\",Q$13=\"無対策\"),IF(ISERROR(VLOOKUP(Q$9,'ステップ6（異変認知時間）'!$D$8:$J$27,3,FALSE)),\"\",VLOOKUP(Q$9,'ステップ6（異変認知時間）'!$D$8:$J$27,3,FALSE)),IF(Q$13=\"対策1\",IF(ISERROR(VLOOKUP(Q$9,'ステップ6（異変認知時間）'!$D$8:$J$27,4,FALSE)),\"\",VLOOKUP(Q$9,'ステップ6（異変認知時間）'!$D$8:$J$27,4,FALSE)),IF(Q$13=\"対策2\",IF(ISERROR(VLOOKUP(Q$9,'ステップ6（異変認知時間）'!$D$8:$J$27,5,FALSE)),\"\",VLOOKUP(Q$9,'ステップ6（異変認知時間）'!$D$8:$J$27,5,FALSE)),IF(ISERROR(VLOOKUP(Q$9,'ステップ6（異変認知時間）'!$D$8:$J$27,6,FALSE)),\"\",VLOOKUP(Q$9,'ステップ6（異変認知時間）'!$D$8:$J$27,6,FALSE))))))","v":""},{"$f":"IF(R$9=\"\",\"\",IF(OR(R$13=\"\",R$13=\"無対策\"),IF(ISERROR(VLOOKUP(R$9,'ステップ6（異変認知時間）'!$D$8:$J$27,3,FALSE)),\"\",VLOOKUP(R$9,'ステップ6（異変認知時間）'!$D$8:$J$27,3,FALSE)),IF(R$13=\"対策1\",IF(ISERROR(VLOOKUP(R$9,'ステップ6（異変認知時間）'!$D$8:$J$27,4,FALSE)),\"\",VLOOKUP(R$9,'ステップ6（異変認知時間）'!$D$8:$J$27,4,FALSE)),IF(R$13=\"対策2\",IF(ISERROR(VLOOKUP(R$9,'ステップ6（異変認知時間）'!$D$8:$J$27,5,FALSE)),\"\",VLOOKUP(R$9,'ステップ6（異変認知時間）'!$D$8:$J$27,5,FALSE)),IF(ISERROR(VLOOKUP(R$9,'ステップ6（異変認知時間）'!$D$8:$J$27,6,FALSE)),\"\",VLOOKUP(R$9,'ステップ6（異変認知時間）'!$D$8:$J$27,6,FALSE))))))","v":""},{"$f":"IF(S$9=\"\",\"\",IF(OR(S$13=\"\",S$13=\"無対策\"),IF(ISERROR(VLOOKUP(S$9,'ステップ6（異変認知時間）'!$D$8:$J$27,3,FALSE)),\"\",VLOOKUP(S$9,'ステップ6（異変認知時間）'!$D$8:$J$27,3,FALSE)),IF(S$13=\"対策1\",IF(ISERROR(VLOOKUP(S$9,'ステップ6（異変認知時間）'!$D$8:$J$27,4,FALSE)),\"\",VLOOKUP(S$9,'ステップ6（異変認知時間）'!$D$8:$J$27,4,FALSE)),IF(S$13=\"対策2\",IF(ISERROR(VLOOKUP(S$9,'ステップ6（異変認知時間）'!$D$8:$J$27,5,FALSE)),\"\",VLOOKUP(S$9,'ステップ6（異変認知時間）'!$D$8:$J$27,5,FALSE)),IF(ISERROR(VLOOKUP(S$9,'ステップ6（異変認知時間）'!$D$8:$J$27,6,FALSE)),\"\",VLOOKUP(S$9,'ステップ6（異変認知時間）'!$D$8:$J$27,6,FALSE))))))","v":""},{"$f":"IF(T$9=\"\",\"\",IF(OR(T$13=\"\",T$13=\"無対策\"),IF(ISERROR(VLOOKUP(T$9,'ステップ6（異変認知時間）'!$D$8:$J$27,3,FALSE)),\"\",VLOOKUP(T$9,'ステップ6（異変認知時間）'!$D$8:$J$27,3,FALSE)),IF(T$13=\"対策1\",IF(ISERROR(VLOOKUP(T$9,'ステップ6（異変認知時間）'!$D$8:$J$27,4,FALSE)),\"\",VLOOKUP(T$9,'ステップ6（異変認知時間）'!$D$8:$J$27,4,FALSE)),IF(T$13=\"対策2\",IF(ISERROR(VLOOKUP(T$9,'ステップ6（異変認知時間）'!$D$8:$J$27,5,FALSE)),\"\",VLOOKUP(T$9,'ステップ6（異変認知時間）'!$D$8:$J$27,5,FALSE)),IF(ISERROR(VLOOKUP(T$9,'ステップ6（異変認知時間）'!$D$8:$J$27,6,FALSE)),\"\",VLOOKUP(T$9,'ステップ6（異変認知時間）'!$D$8:$J$27,6,FALSE))))))","v":""},{"$f":"IF(U$9=\"\",\"\",IF(OR(U$13=\"\",U$13=\"無対策\"),IF(ISERROR(VLOOKUP(U$9,'ステップ6（異変認知時間）'!$D$8:$J$27,3,FALSE)),\"\",VLOOKUP(U$9,'ステップ6（異変認知時間）'!$D$8:$J$27,3,FALSE)),IF(U$13=\"対策1\",IF(ISERROR(VLOOKUP(U$9,'ステップ6（異変認知時間）'!$D$8:$J$27,4,FALSE)),\"\",VLOOKUP(U$9,'ステップ6（異変認知時間）'!$D$8:$J$27,4,FALSE)),IF(U$13=\"対策2\",IF(ISERROR(VLOOKUP(U$9,'ステップ6（異変認知時間）'!$D$8:$J$27,5,FALSE)),\"\",VLOOKUP(U$9,'ステップ6（異変認知時間）'!$D$8:$J$27,5,FALSE)),IF(ISERROR(VLOOKUP(U$9,'ステップ6（異変認知時間）'!$D$8:$J$27,6,FALSE)),\"\",VLOOKUP(U$9,'ステップ6（異変認知時間）'!$D$8:$J$27,6,FALSE))))))","v":""},{"$f":"IF(V$9=\"\",\"\",IF(OR(V$13=\"\",V$13=\"無対策\"),IF(ISERROR(VLOOKUP(V$9,'ステップ6（異変認知時間）'!$D$8:$J$27,3,FALSE)),\"\",VLOOKUP(V$9,'ステップ6（異変認知時間）'!$D$8:$J$27,3,FALSE)),IF(V$13=\"対策1\",IF(ISERROR(VLOOKUP(V$9,'ステップ6（異変認知時間）'!$D$8:$J$27,4,FALSE)),\"\",VLOOKUP(V$9,'ステップ6（異変認知時間）'!$D$8:$J$27,4,FALSE)),IF(V$13=\"対策2\",IF(ISERROR(VLOOKUP(V$9,'ステップ6（異変認知時間）'!$D$8:$J$27,5,FALSE)),\"\",VLOOKUP(V$9,'ステップ6（異変認知時間）'!$D$8:$J$27,5,FALSE)),IF(ISERROR(VLOOKUP(V$9,'ステップ6（異変認知時間）'!$D$8:$J$27,6,FALSE)),\"\",VLOOKUP(V$9,'ステップ6（異変認知時間）'!$D$8:$J$27,6,FALSE))))))","v":""},{"$f":"IF(W$9=\"\",\"\",IF(OR(W$13=\"\",W$13=\"無対策\"),IF(ISERROR(VLOOKUP(W$9,'ステップ6（異変認知時間）'!$D$8:$J$27,3,FALSE)),\"\",VLOOKUP(W$9,'ステップ6（異変認知時間）'!$D$8:$J$27,3,FALSE)),IF(W$13=\"対策1\",IF(ISERROR(VLOOKUP(W$9,'ステップ6（異変認知時間）'!$D$8:$J$27,4,FALSE)),\"\",VLOOKUP(W$9,'ステップ6（異変認知時間）'!$D$8:$J$27,4,FALSE)),IF(W$13=\"対策2\",IF(ISERROR(VLOOKUP(W$9,'ステップ6（異変認知時間）'!$D$8:$J$27,5,FALSE)),\"\",VLOOKUP(W$9,'ステップ6（異変認知時間）'!$D$8:$J$27,5,FALSE)),IF(ISERROR(VLOOKUP(W$9,'ステップ6（異変認知時間）'!$D$8:$J$27,6,FALSE)),\"\",VLOOKUP(W$9,'ステップ6（異変認知時間）'!$D$8:$J$27,6,FALSE))))))","v":""},{"$f":"IF(X$9=\"\",\"\",IF(OR(X$13=\"\",X$13=\"無対策\"),IF(ISERROR(VLOOKUP(X$9,'ステップ6（異変認知時間）'!$D$8:$J$27,3,FALSE)),\"\",VLOOKUP(X$9,'ステップ6（異変認知時間）'!$D$8:$J$27,3,FALSE)),IF(X$13=\"対策1\",IF(ISERROR(VLOOKUP(X$9,'ステップ6（異変認知時間）'!$D$8:$J$27,4,FALSE)),\"\",VLOOKUP(X$9,'ステップ6（異変認知時間）'!$D$8:$J$27,4,FALSE)),IF(X$13=\"対策2\",IF(ISERROR(VLOOKUP(X$9,'ステップ6（異変認知時間）'!$D$8:$J$27,5,FALSE)),\"\",VLOOKUP(X$9,'ステップ6（異変認知時間）'!$D$8:$J$27,5,FALSE)),IF(ISERROR(VLOOKUP(X$9,'ステップ6（異変認知時間）'!$D$8:$J$27,6,FALSE)),\"\",VLOOKUP(X$9,'ステップ6（異変認知時間）'!$D$8:$J$27,6,FALSE))))))","v":""},{"$f":"IF(Y$9=\"\",\"\",IF(OR(Y$13=\"\",Y$13=\"無対策\"),IF(ISERROR(VLOOKUP(Y$9,'ステップ6（異変認知時間）'!$D$8:$J$27,3,FALSE)),\"\",VLOOKUP(Y$9,'ステップ6（異変認知時間）'!$D$8:$J$27,3,FALSE)),IF(Y$13=\"対策1\",IF(ISERROR(VLOOKUP(Y$9,'ステップ6（異変認知時間）'!$D$8:$J$27,4,FALSE)),\"\",VLOOKUP(Y$9,'ステップ6（異変認知時間）'!$D$8:$J$27,4,FALSE)),IF(Y$13=\"対策2\",IF(ISERROR(VLOOKUP(Y$9,'ステップ6（異変認知時間）'!$D$8:$J$27,5,FALSE)),\"\",VLOOKUP(Y$9,'ステップ6（異変認知時間）'!$D$8:$J$27,5,FALSE)),IF(ISERROR(VLOOKUP(Y$9,'ステップ6（異変認知時間）'!$D$8:$J$27,6,FALSE)),\"\",VLOOKUP(Y$9,'ステップ6（異変認知時間）'!$D$8:$J$27,6,FALSE))))))","v":""},{"$f":"IF(Z$9=\"\",\"\",IF(OR(Z$13=\"\",Z$13=\"無対策\"),IF(ISERROR(VLOOKUP(Z$9,'ステップ6（異変認知時間）'!$D$8:$J$27,3,FALSE)),\"\",VLOOKUP(Z$9,'ステップ6（異変認知時間）'!$D$8:$J$27,3,FALSE)),IF(Z$13=\"対策1\",IF(ISERROR(VLOOKUP(Z$9,'ステップ6（異変認知時間）'!$D$8:$J$27,4,FALSE)),\"\",VLOOKUP(Z$9,'ステップ6（異変認知時間）'!$D$8:$J$27,4,FALSE)),IF(Z$13=\"対策2\",IF(ISERROR(VLOOKUP(Z$9,'ステップ6（異変認知時間）'!$D$8:$J$27,5,FALSE)),\"\",VLOOKUP(Z$9,'ステップ6（異変認知時間）'!$D$8:$J$27,5,FALSE)),IF(ISERROR(VLOOKUP(Z$9,'ステップ6（異変認知時間）'!$D$8:$J$27,6,FALSE)),\"\",VLOOKUP(Z$9,'ステップ6（異変認知時間）'!$D$8:$J$27,6,FALSE))))))","v":""}]
[null,null,"意思決定時間(分)",null,null,null,{"$f":"IF(G$9=\"\",\"\",IF(OR(G$13=\"\",G$13=\"無対策\"),IF(ISERROR(VLOOKUP(G$9,'ステップ7（避難意思決定時間）'!$D$8:$J$27,4,FALSE)),\"\",VLOOKUP(G$9,'ステップ7（避難意思決定時間）'!$D$8:$J$27,4,FALSE)),IF(G$13=\"対策1\",IF(ISERROR(VLOOKUP(G$9,'ステップ7（避難意思決定時間）'!$D$8:$J$27,5,FALSE)),\"\",VLOOKUP(G$9,'ステップ7（避難意思決定時間）'!$D$8:$J$27,5,FALSE)),IF(G$13=\"対策2\",IF(ISERROR(VLOOKUP(G$9,'ステップ7（避難意思決定時間）'!$D$8:$J$27,6,FALSE)),\"\",VLOOKUP(G$9,'ステップ7（避難意思決定時間）'!$D$8:$J$27,6,FALSE)),IF(ISERROR(VLOOKUP(G$9,'ステップ7（避難意思決定時間）'!$D$8:$J$27,7,FALSE)),\"\",VLOOKUP(G$9,'ステップ7（避難意思決定時間）'!$D$8:$J$27,7,FALSE))))))","v":""},{"$f":"IF(H$9=\"\",\"\",IF(OR(H$13=\"\",H$13=\"無対策\"),IF(ISERROR(VLOOKUP(H$9,'ステップ7（避難意思決定時間）'!$D$8:$J$27,4,FALSE)),\"\",VLOOKUP(H$9,'ステップ7（避難意思決定時間）'!$D$8:$J$27,4,FALSE)),IF(H$13=\"対策1\",IF(ISERROR(VLOOKUP(H$9,'ステップ7（避難意思決定時間）'!$D$8:$J$27,5,FALSE)),\"\",VLOOKUP(H$9,'ステップ7（避難意思決定時間）'!$D$8:$J$27,5,FALSE)),IF(H$13=\"対策2\",IF(ISERROR(VLOOKUP(H$9,'ステップ7（避難意思決定時間）'!$D$8:$J$27,6,FALSE)),\"\",VLOOKUP(H$9,'ステップ7（避難意思決定時間）'!$D$8:$J$27,6,FALSE)),IF(ISERROR(VLOOKUP(H$9,'ステップ7（避難意思決定時間）'!$D$8:$J$27,7,FALSE)),\"\",VLOOKUP(H$9,'ステップ7（避難意思決定時間）'!$D$8:$J$27,7,FALSE))))))","v":""},{"$f":"IF(I$9=\"\",\"\",IF(OR(I$13=\"\",I$13=\"無対策\"),IF(ISERROR(VLOOKUP(I$9,'ステップ7（避難意思決定時間）'!$D$8:$J$27,4,FALSE)),\"\",VLOOKUP(I$9,'ステップ7（避難意思決定時間）'!$D$8:$J$27,4,FALSE)),IF(I$13=\"対策1\",IF(ISERROR(VLOOKUP(I$9,'ステップ7（避難意思決定時間）'!$D$8:$J$27,5,FALSE)),\"\",VLOOKUP(I$9,'ステップ7（避難意思決定時間）'!$D$8:$J$27,5,FALSE)),IF(I$13=\"対策2\",IF(ISERROR(VLOOKUP(I$9,'ステップ7（避難意思決定時間）'!$D$8:$J$27,6,FALSE)),\"\",VLOOKUP(I$9,'ステップ7（避難意思決定時間）'!$D$8:$J$27,6,FALSE)),IF(ISERROR(VLOOKUP(I$9,'ステップ7（避難意思決定時間）'!$D$8:$J$27,7,FALSE)),\"\",VLOOKUP(I$9,'ステップ7（避難意思決定時間）'!$D$8:$J$27,7,FALSE))))))","v":""},{"$f":"IF(J$9=\"\",\"\",IF(OR(J$13=\"\",J$13=\"無対策\"),IF(ISERROR(VLOOKUP(J$9,'ステップ7（避難意思決定時間）'!$D$8:$J$27,4,FALSE)),\"\",VLOOKUP(J$9,'ステップ7（避難意思決定時間）'!$D$8:$J$27,4,FALSE)),IF(J$13=\"対策1\",IF(ISERROR(VLOOKUP(J$9,'ステップ7（避難意思決定時間）'!$D$8:$J$27,5,FALSE)),\"\",VLOOKUP(J$9,'ステップ7（避難意思決定時間）'!$D$8:$J$27,5,FALSE)),IF(J$13=\"対策2\",IF(ISERROR(VLOOKUP(J$9,'ステップ7（避難意思決定時間）'!$D$8:$J$27,6,FALSE)),\"\",VLOOKUP(J$9,'ステップ7（避難意思決定時間）'!$D$8:$J$27,6,FALSE)),IF(ISERROR(VLOOKUP(J$9,'ステップ7（避難意思決定時間）'!$D$8:$J$27,7,FALSE)),\"\",VLOOKUP(J$9,'ステップ7（避難意思決定時間）'!$D$8:$J$27,7,FALSE))))))","v":""},{"$f":"IF(K$9=\"\",\"\",IF(OR(K$13=\"\",K$13=\"無対策\"),IF(ISERROR(VLOOKUP(K$9,'ステップ7（避難意思決定時間）'!$D$8:$J$27,4,FALSE)),\"\",VLOOKUP(K$9,'ステップ7（避難意思決定時間）'!$D$8:$J$27,4,FALSE)),IF(K$13=\"対策1\",IF(ISERROR(VLOOKUP(K$9,'ステップ7（避難意思決定時間）'!$D$8:$J$27,5,FALSE)),\"\",VLOOKUP(K$9,'ステップ7（避難意思決定時間）'!$D$8:$J$27,5,FALSE)),IF(K$13=\"対策2\",IF(ISERROR(VLOOKUP(K$9,'ステップ7（避難意思決定時間）'!$D$8:$J$27,6,FALSE)),\"\",VLOOKUP(K$9,'ステップ7（避難意思決定時間）'!$D$8:$J$27,6,FALSE)),IF(ISERROR(VLOOKUP(K$9,'ステップ7（避難意思決定時間）'!$D$8:$J$27,7,FALSE)),\"\",VLOOKUP(K$9,'ステップ7（避難意思決定時間）'!$D$8:$J$27,7,FALSE))))))","v":""},{"$f":"IF(L$9=\"\",\"\",IF(OR(L$13=\"\",L$13=\"無対策\"),IF(ISERROR(VLOOKUP(L$9,'ステップ7（避難意思決定時間）'!$D$8:$J$27,4,FALSE)),\"\",VLOOKUP(L$9,'ステップ7（避難意思決定時間）'!$D$8:$J$27,4,FALSE)),IF(L$13=\"対策1\",IF(ISERROR(VLOOKUP(L$9,'ステップ7（避難意思決定時間）'!$D$8:$J$27,5,FALSE)),\"\",VLOOKUP(L$9,'ステップ7（避難意思決定時間）'!$D$8:$J$27,5,FALSE)),IF(L$13=\"対策2\",IF(ISERROR(VLOOKUP(L$9,'ステップ7（避難意思決定時間）'!$D$8:$J$27,6,FALSE)),\"\",VLOOKUP(L$9,'ステップ7（避難意思決定時間）'!$D$8:$J$27,6,FALSE)),IF(ISERROR(VLOOKUP(L$9,'ステップ7（避難意思決定時間）'!$D$8:$J$27,7,FALSE)),\"\",VLOOKUP(L$9,'ステップ7（避難意思決定時間）'!$D$8:$J$27,7,FALSE))))))","v":""},{"$f":"IF(M$9=\"\",\"\",IF(OR(M$13=\"\",M$13=\"無対策\"),IF(ISERROR(VLOOKUP(M$9,'ステップ7（避難意思決定時間）'!$D$8:$J$27,4,FALSE)),\"\",VLOOKUP(M$9,'ステップ7（避難意思決定時間）'!$D$8:$J$27,4,FALSE)),IF(M$13=\"対策1\",IF(ISERROR(VLOOKUP(M$9,'ステップ7（避難意思決定時間）'!$D$8:$J$27,5,FALSE)),\"\",VLOOKUP(M$9,'ステップ7（避難意思決定時間）'!$D$8:$J$27,5,FALSE)),IF(M$13=\"対策2\",IF(ISERROR(VLOOKUP(M$9,'ステップ7（避難意思決定時間）'!$D$8:$J$27,6,FALSE)),\"\",VLOOKUP(M$9,'ステップ7（避難意思決定時間）'!$D$8:$J$27,6,FALSE)),IF(ISERROR(VLOOKUP(M$9,'ステップ7（避難意思決定時間）'!$D$8:$J$27,7,FALSE)),\"\",VLOOKUP(M$9,'ステップ7（避難意思決定時間）'!$D$8:$J$27,7,FALSE))))))","v":""},{"$f":"IF(N$9=\"\",\"\",IF(OR(N$13=\"\",N$13=\"無対策\"),IF(ISERROR(VLOOKUP(N$9,'ステップ7（避難意思決定時間）'!$D$8:$J$27,4,FALSE)),\"\",VLOOKUP(N$9,'ステップ7（避難意思決定時間）'!$D$8:$J$27,4,FALSE)),IF(N$13=\"対策1\",IF(ISERROR(VLOOKUP(N$9,'ステップ7（避難意思決定時間）'!$D$8:$J$27,5,FALSE)),\"\",VLOOKUP(N$9,'ステップ7（避難意思決定時間）'!$D$8:$J$27,5,FALSE)),IF(N$13=\"対策2\",IF(ISERROR(VLOOKUP(N$9,'ステップ7（避難意思決定時間）'!$D$8:$J$27,6,FALSE)),\"\",VLOOKUP(N$9,'ステップ7（避難意思決定時間）'!$D$8:$J$27,6,FALSE)),IF(ISERROR(VLOOKUP(N$9,'ステップ7（避難意思決定時間）'!$D$8:$J$27,7,FALSE)),\"\",VLOOKUP(N$9,'ステップ7（避難意思決定時間）'!$D$8:$J$27,7,FALSE))))))","v":""},{"$f":"IF(O$9=\"\",\"\",IF(OR(O$13=\"\",O$13=\"無対策\"),IF(ISERROR(VLOOKUP(O$9,'ステップ7（避難意思決定時間）'!$D$8:$J$27,4,FALSE)),\"\",VLOOKUP(O$9,'ステップ7（避難意思決定時間）'!$D$8:$J$27,4,FALSE)),IF(O$13=\"対策1\",IF(ISERROR(VLOOKUP(O$9,'ステップ7（避難意思決定時間）'!$D$8:$J$27,5,FALSE)),\"\",VLOOKUP(O$9,'ステップ7（避難意思決定時間）'!$D$8:$J$27,5,FALSE)),IF(O$13=\"対策2\",IF(ISERROR(VLOOKUP(O$9,'ステップ7（避難意思決定時間）'!$D$8:$J$27,6,FALSE)),\"\",VLOOKUP(O$9,'ステップ7（避難意思決定時間）'!$D$8:$J$27,6,FALSE)),IF(ISERROR(VLOOKUP(O$9,'ステップ7（避難意思決定時間）'!$D$8:$J$27,7,FALSE)),\"\",VLOOKUP(O$9,'ステップ7（避難意思決定時間）'!$D$8:$J$27,7,FALSE))))))","v":""},{"$f":"IF(P$9=\"\",\"\",IF(OR(P$13=\"\",P$13=\"無対策\"),IF(ISERROR(VLOOKUP(P$9,'ステップ7（避難意思決定時間）'!$D$8:$J$27,4,FALSE)),\"\",VLOOKUP(P$9,'ステップ7（避難意思決定時間）'!$D$8:$J$27,4,FALSE)),IF(P$13=\"対策1\",IF(ISERROR(VLOOKUP(P$9,'ステップ7（避難意思決定時間）'!$D$8:$J$27,5,FALSE)),\"\",VLOOKUP(P$9,'ステップ7（避難意思決定時間）'!$D$8:$J$27,5,FALSE)),IF(P$13=\"対策2\",IF(ISERROR(VLOOKUP(P$9,'ステップ7（避難意思決定時間）'!$D$8:$J$27,6,FALSE)),\"\",VLOOKUP(P$9,'ステップ7（避難意思決定時間）'!$D$8:$J$27,6,FALSE)),IF(ISERROR(VLOOKUP(P$9,'ステップ7（避難意思決定時間）'!$D$8:$J$27,7,FALSE)),\"\",VLOOKUP(P$9,'ステップ7（避難意思決定時間）'!$D$8:$J$27,7,FALSE))))))","v":""},{"$f":"IF(Q$9=\"\",\"\",IF(OR(Q$13=\"\",Q$13=\"無対策\"),IF(ISERROR(VLOOKUP(Q$9,'ステップ7（避難意思決定時間）'!$D$8:$J$27,4,FALSE)),\"\",VLOOKUP(Q$9,'ステップ7（避難意思決定時間）'!$D$8:$J$27,4,FALSE)),IF(Q$13=\"対策1\",IF(ISERROR(VLOOKUP(Q$9,'ステップ7（避難意思決定時間）'!$D$8:$J$27,5,FALSE)),\"\",VLOOKUP(Q$9,'ステップ7（避難意思決定時間）'!$D$8:$J$27,5,FALSE)),IF(Q$13=\"対策2\",IF(ISERROR(VLOOKUP(Q$9,'ステップ7（避難意思決定時間）'!$D$8:$J$27,6,FALSE)),\"\",VLOOKUP(Q$9,'ステップ7（避難意思決定時間）'!$D$8:$J$27,6,FALSE)),IF(ISERROR(VLOOKUP(Q$9,'ステップ7（避難意思決定時間）'!$D$8:$J$27,7,FALSE)),\"\",VLOOKUP(Q$9,'ステップ7（避難意思決定時間）'!$D$8:$J$27,7,FALSE))))))","v":""},{"$f":"IF(R$9=\"\",\"\",IF(OR(R$13=\"\",R$13=\"無対策\"),IF(ISERROR(VLOOKUP(R$9,'ステップ7（避難意思決定時間）'!$D$8:$J$27,4,FALSE)),\"\",VLOOKUP(R$9,'ステップ7（避難意思決定時間）'!$D$8:$J$27,4,FALSE)),IF(R$13=\"対策1\",IF(ISERROR(VLOOKUP(R$9,'ステップ7（避難意思決定時間）'!$D$8:$J$27,5,FALSE)),\"\",VLOOKUP(R$9,'ステップ7（避難意思決定時間）'!$D$8:$J$27,5,FALSE)),IF(R$13=\"対策2\",IF(ISERROR(VLOOKUP(R$9,'ステップ7（避難意思決定時間）'!$D$8:$J$27,6,FALSE)),\"\",VLOOKUP(R$9,'ステップ7（避難意思決定時間）'!$D$8:$J$27,6,FALSE)),IF(ISERROR(VLOOKUP(R$9,'ステップ7（避難意思決定時間）'!$D$8:$J$27,7,FALSE)),\"\",VLOOKUP(R$9,'ステップ7（避難意思決定時間）'!$D$8:$J$27,7,FALSE))))))","v":""},{"$f":"IF(S$9=\"\",\"\",IF(OR(S$13=\"\",S$13=\"無対策\"),IF(ISERROR(VLOOKUP(S$9,'ステップ7（避難意思決定時間）'!$D$8:$J$27,4,FALSE)),\"\",VLOOKUP(S$9,'ステップ7（避難意思決定時間）'!$D$8:$J$27,4,FALSE)),IF(S$13=\"対策1\",IF(ISERROR(VLOOKUP(S$9,'ステップ7（避難意思決定時間）'!$D$8:$J$27,5,FALSE)),\"\",VLOOKUP(S$9,'ステップ7（避難意思決定時間）'!$D$8:$J$27,5,FALSE)),IF(S$13=\"対策2\",IF(ISERROR(VLOOKUP(S$9,'ステップ7（避難意思決定時間）'!$D$8:$J$27,6,FALSE)),\"\",VLOOKUP(S$9,'ステップ7（避難意思決定時間）'!$D$8:$J$27,6,FALSE)),IF(ISERROR(VLOOKUP(S$9,'ステップ7（避難意思決定時間）'!$D$8:$J$27,7,FALSE)),\"\",VLOOKUP(S$9,'ステップ7（避難意思決定時間）'!$D$8:$J$27,7,FALSE))))))","v":""},{"$f":"IF(T$9=\"\",\"\",IF(OR(T$13=\"\",T$13=\"無対策\"),IF(ISERROR(VLOOKUP(T$9,'ステップ7（避難意思決定時間）'!$D$8:$J$27,4,FALSE)),\"\",VLOOKUP(T$9,'ステップ7（避難意思決定時間）'!$D$8:$J$27,4,FALSE)),IF(T$13=\"対策1\",IF(ISERROR(VLOOKUP(T$9,'ステップ7（避難意思決定時間）'!$D$8:$J$27,5,FALSE)),\"\",VLOOKUP(T$9,'ステップ7（避難意思決定時間）'!$D$8:$J$27,5,FALSE)),IF(T$13=\"対策2\",IF(ISERROR(VLOOKUP(T$9,'ステップ7（避難意思決定時間）'!$D$8:$J$27,6,FALSE)),\"\",VLOOKUP(T$9,'ステップ7（避難意思決定時間）'!$D$8:$J$27,6,FALSE)),IF(ISERROR(VLOOKUP(T$9,'ステップ7（避難意思決定時間）'!$D$8:$J$27,7,FALSE)),\"\",VLOOKUP(T$9,'ステップ7（避難意思決定時間）'!$D$8:$J$27,7,FALSE))))))","v":""},{"$f":"IF(U$9=\"\",\"\",IF(OR(U$13=\"\",U$13=\"無対策\"),IF(ISERROR(VLOOKUP(U$9,'ステップ7（避難意思決定時間）'!$D$8:$J$27,4,FALSE)),\"\",VLOOKUP(U$9,'ステップ7（避難意思決定時間）'!$D$8:$J$27,4,FALSE)),IF(U$13=\"対策1\",IF(ISERROR(VLOOKUP(U$9,'ステップ7（避難意思決定時間）'!$D$8:$J$27,5,FALSE)),\"\",VLOOKUP(U$9,'ステップ7（避難意思決定時間）'!$D$8:$J$27,5,FALSE)),IF(U$13=\"対策2\",IF(ISERROR(VLOOKUP(U$9,'ステップ7（避難意思決定時間）'!$D$8:$J$27,6,FALSE)),\"\",VLOOKUP(U$9,'ステップ7（避難意思決定時間）'!$D$8:$J$27,6,FALSE)),IF(ISERROR(VLOOKUP(U$9,'ステップ7（避難意思決定時間）'!$D$8:$J$27,7,FALSE)),\"\",VLOOKUP(U$9,'ステップ7（避難意思決定時間）'!$D$8:$J$27,7,FALSE))))))","v":""},{"$f":"IF(V$9=\"\",\"\",IF(OR(V$13=\"\",V$13=\"無対策\"),IF(ISERROR(VLOOKUP(V$9,'ステップ7（避難意思決定時間）'!$D$8:$J$27,4,FALSE)),\"\",VLOOKUP(V$9,'ステップ7（避難意思決定時間）'!$D$8:$J$27,4,FALSE)),IF(V$13=\"対策1\",IF(ISERROR(VLOOKUP(V$9,'ステップ7（避難意思決定時間）'!$D$8:$J$27,5,FALSE)),\"\",VLOOKUP(V$9,'ステップ7（避難意思決定時間）'!$D$8:$J$27,5,FALSE)),IF(V$13=\"対策2\",IF(ISERROR(VLOOKUP(V$9,'ステップ7（避難意思決定時間）'!$D$8:$J$27,6,FALSE)),\"\",VLOOKUP(V$9,'ステップ7（避難意思決定時間）'!$D$8:$J$27,6,FALSE)),IF(ISERROR(VLOOKUP(V$9,'ステップ7（避難意思決定時間）'!$D$8:$J$27,7,FALSE)),\"\",VLOOKUP(V$9,'ステップ7（避難意思決定時間）'!$D$8:$J$27,7,FALSE))))))","v":""},{"$f":"IF(W$9=\"\",\"\",IF(OR(W$13=\"\",W$13=\"無対策\"),IF(ISERROR(VLOOKUP(W$9,'ステップ7（避難意思決定時間）'!$D$8:$J$27,4,FALSE)),\"\",VLOOKUP(W$9,'ステップ7（避難意思決定時間）'!$D$8:$J$27,4,FALSE)),IF(W$13=\"対策1\",IF(ISERROR(VLOOKUP(W$9,'ステップ7（避難意思決定時間）'!$D$8:$J$27,5,FALSE)),\"\",VLOOKUP(W$9,'ステップ7（避難意思決定時間）'!$D$8:$J$27,5,FALSE)),IF(W$13=\"対策2\",IF(ISERROR(VLOOKUP(W$9,'ステップ7（避難意思決定時間）'!$D$8:$J$27,6,FALSE)),\"\",VLOOKUP(W$9,'ステップ7（避難意思決定時間）'!$D$8:$J$27,6,FALSE)),IF(ISERROR(VLOOKUP(W$9,'ステップ7（避難意思決定時間）'!$D$8:$J$27,7,FALSE)),\"\",VLOOKUP(W$9,'ステップ7（避難意思決定時間）'!$D$8:$J$27,7,FALSE))))))","v":""},{"$f":"IF(X$9=\"\",\"\",IF(OR(X$13=\"\",X$13=\"無対策\"),IF(ISERROR(VLOOKUP(X$9,'ステップ7（避難意思決定時間）'!$D$8:$J$27,4,FALSE)),\"\",VLOOKUP(X$9,'ステップ7（避難意思決定時間）'!$D$8:$J$27,4,FALSE)),IF(X$13=\"対策1\",IF(ISERROR(VLOOKUP(X$9,'ステップ7（避難意思決定時間）'!$D$8:$J$27,5,FALSE)),\"\",VLOOKUP(X$9,'ステップ7（避難意思決定時間）'!$D$8:$J$27,5,FALSE)),IF(X$13=\"対策2\",IF(ISERROR(VLOOKUP(X$9,'ステップ7（避難意思決定時間）'!$D$8:$J$27,6,FALSE)),\"\",VLOOKUP(X$9,'ステップ7（避難意思決定時間）'!$D$8:$J$27,6,FALSE)),IF(ISERROR(VLOOKUP(X$9,'ステップ7（避難意思決定時間）'!$D$8:$J$27,7,FALSE)),\"\",VLOOKUP(X$9,'ステップ7（避難意思決定時間）'!$D$8:$J$27,7,FALSE))))))","v":""},{"$f":"IF(Y$9=\"\",\"\",IF(OR(Y$13=\"\",Y$13=\"無対策\"),IF(ISERROR(VLOOKUP(Y$9,'ステップ7（避難意思決定時間）'!$D$8:$J$27,4,FALSE)),\"\",VLOOKUP(Y$9,'ステップ7（避難意思決定時間）'!$D$8:$J$27,4,FALSE)),IF(Y$13=\"対策1\",IF(ISERROR(VLOOKUP(Y$9,'ステップ7（避難意思決定時間）'!$D$8:$J$27,5,FALSE)),\"\",VLOOKUP(Y$9,'ステップ7（避難意思決定時間）'!$D$8:$J$27,5,FALSE)),IF(Y$13=\"対策2\",IF(ISERROR(VLOOKUP(Y$9,'ステップ7（避難意思決定時間）'!$D$8:$J$27,6,FALSE)),\"\",VLOOKUP(Y$9,'ステップ7（避難意思決定時間）'!$D$8:$J$27,6,FALSE)),IF(ISERROR(VLOOKUP(Y$9,'ステップ7（避難意思決定時間）'!$D$8:$J$27,7,FALSE)),\"\",VLOOKUP(Y$9,'ステップ7（避難意思決定時間）'!$D$8:$J$27,7,FALSE))))))","v":""},{"$f":"IF(Z$9=\"\",\"\",IF(OR(Z$13=\"\",Z$13=\"無対策\"),IF(ISERROR(VLOOKUP(Z$9,'ステップ7（避難意思決定時間）'!$D$8:$J$27,4,FALSE)),\"\",VLOOKUP(Z$9,'ステップ7（避難意思決定時間）'!$D$8:$J$27,4,FALSE)),IF(Z$13=\"対策1\",IF(ISERROR(VLOOKUP(Z$9,'ステップ7（避難意思決定時間）'!$D$8:$J$27,5,FALSE)),\"\",VLOOKUP(Z$9,'ステップ7（避難意思決定時間）'!$D$8:$J$27,5,FALSE)),IF(Z$13=\"対策2\",IF(ISERROR(VLOOKUP(Z$9,'ステップ7（避難意思決定時間）'!$D$8:$J$27,6,FALSE)),\"\",VLOOKUP(Z$9,'ステップ7（避難意思決定時間）'!$D$8:$J$27,6,FALSE)),IF(ISERROR(VLOOKUP(Z$9,'ステップ7（避難意思決定時間）'!$D$8:$J$27,7,FALSE)),\"\",VLOOKUP(Z$9,'ステップ7（避難意思決定時間）'!$D$8:$J$27,7,FALSE))))))","v":""}]
[null,null,null,null,null,null,"避難行動所要時間(Th)（分）"]
[null,null,null,null,null,null,"　　[避難開始区画・部屋から上階及び地上までの移動時間を算定]"]
[null,null,null,null,null,null,"算定結果","算定結果","算定結果","算定結果","算定結果","算定結果","算定結果","算定結果","算定結果","算定結果","算定結果","算定結果","算定結果","算定結果","算定結果","算定結果","算定結果","算定結果","算定結果","算定結果"]
[null,null,"避難行動所要時間(分)\n\n\n（避難開始から\n＋異変認知時間\n＋意思決定時間）",null,null,"避難開始→地上",{"$f":"IF(G14<>\"\",G$9 & \"→\" & \"地上\",\"\")","v":""},{"$f":"IF(H14<>\"\",H$9 & \"→\" & \"地上\",\"\")","v":""},"","","","","","","","","","","","","","","","","",""]
[null,null,null,null,null,null,{"$f":"IF(G14=\"\",\"\",SUBTOTAL(9,G$52:G$80)+SUM(G$102:G$103))","v":""},"","","","","","","","","","","","","","","","","","",""]
[null,null,null,null,null,"避難開始→地下1階",{"$f":"IF(G15<>\"\",G$9 & \"→\" & G14,\"\")","v":""},{"$f":"IF(H15<>\"\",H$9 & \"→\" & H14,\"\")","v":""},{"$f":"IF(I15<>\"\",I$9 & \"→\" & I14,\"\")","v":""},"","","","","","","","","","","","","","","","",""]
[null,null,null,null,null,null,{"$f":"IF(G15=\"\",\"\",SUBTOTAL(9,G$58:G$80)+SUM(G$102:G$103))","v":""},"","","","","","","","","","","","","","","","","","",""]
[null,null,null,null,null,"避難開始→地下2階",{"$f":"IF(G16<>\"\",G$9 & \"→\" & G15,\"\")","v":""},{"$f":"IF(H16<>\"\",H$9 & \"→\" & H15,\"\")","v":""},"","","","","","","","","","","","","","","","","",""]
[null,null,null,null,null,null,{"$f":"IF(G16=\"\",\"\",SUBTOTAL(9,G$64:G$80)+SUM(G$102:G$103))","v":""},"","","","","","","","","","","","","","","","","","",""]
[null,null,null,null,null,"避難開始→地下3階",{"$f":"IF(G17<>\"\",G$9 & \"→\" & G16,\"\")","v":""},{"$f":"IF(H17<>\"\",H$9 & \"→\" & H16,\"\")","v":""},"","","","",{"$f":"IF(M17<>\"\",M$9 & \"→\" & M16,\"\")","v":""},"","","","","","","","","","","","",""]
[null,null,null,null,null,null,{"$f":"IF(G17=\"\",\"\",SUBTOTAL(9,G$70:G$80)+SUM(G$102:G$103))","v":""},"","","","","","","","","","","","","","","","","","",""]
[null,null,null,null,null,"避難開始→地下4階",{"$f":"IF(G18<>\"\",G$9 & \"→\" & G17,\"\")","v":""},{"$f":"IF(H18<>\"\",H$9 & \"→\" & H17,\"\")","v":""},"","","","","","","","","","","","","","","","","",""]
[null,null,null,null,null,null,{"$f":"IF(G18=\"\",\"\",SUBTOTAL(9,G$76:G$80)+SUM(G$102:G$103))","v":""},"","","","","","","","","","","","","","","","","","",""]
[]
[]
[null,null,"４．避難行動余裕時間と避難安全性評価"]
[]
[null,null,"※避難行動余裕時間（分） ＝ 避難困難水深になる時間(Ts) － 避難行動所要時間(Th)"]
[null,null,null,null,null,"避難開始区画・部屋番号",{"$f":"IF('ステップ2（地下フロア構造）'!$D$20<>\"\",'ステップ2（地下フロア構造）'!$D$20,\"\")","v":""},{"$f":"IF('ステップ2（地下フロア構造）'!$D$21<>\"\",'ステップ2（地下フロア構造）'!$D$21,\"\")","v":""},{"$f":"IF('ステップ2（地下フロア構造）'!$D$22<>\"\",'ステップ2（地下フロア構造）'!$D$22,\"\")","v":""},{"$f":"IF('ステップ2（地下フロア構造）'!$D$23<>\"\",'ステップ2（地下フロア構造）'!$D$23,\"\")","v":""},{"$f":"IF('ステップ2（地下フロア構造）'!$D$24<>\"\",'ステップ2（地下フロア構造）'!$D$24,\"\")","v":""},{"$f":"IF('ステップ2（地下フロア構造）'!$D$25<>\"\",'ステップ2（地下フロア構造）'!$D$25,\"\")","v":""},{"$f":"IF('ステップ2（地下フロア構造）'!$D$26<>\"\",'ステップ2（地下フロア構造）'!$D$26,\"\")","v":""},{"$f":"IF('ステップ2（地下フロア構造）'!$D$27<>\"\",'ステップ2（地下フロア構造）'!$D$27,\"\")","v":""},{"$f":"IF('ステップ2（地下フロア構造）'!$D$28<>\"\",'ステップ2（地下フロア構造）'!$D$28,\"\")","v":""},{"$f":"IF('ステップ2（地下フロア構造）'!$D$29<>\"\",'ステップ2（地下フロア構造）'!$D$29,\"\")","v":""},{"$f":"IF('ステップ2（地下フロア構造）'!$D$30<>\"\",'ステップ2（地下フロア構造）'!$D$30,\"\")","v":""},{"$f":"IF('ステップ2（地下フロア構造）'!$D$31<>\"\",'ステップ2（地下フロア構造）'!$D$31,\"\")","v":""},{"$f":"IF('ステップ2（地下フロア構造）'!$D$32<>\"\",'ステップ2（地下フロア構造）'!$D$32,\"\")","v":""},{"$f":"IF('ステップ2（地下フロア構造）'!$D$33<>\"\",'ステップ2（地下フロア構造）'!$D$33,\"\")","v":""},{"$f":"IF('ステップ2（地下フロア構造）'!$D$34<>\"\",'ステップ2（地下フロア構造）'!$D$34,\"\")","v":""},{"$f":"IF('ステップ2（地下フロア構造）'!$D$35<>\"\",'ステップ2（地下フロア構造）'!$D$35,\"\")","v":""},{"$f":"IF('ステップ2（地下フロア構造）'!$D$36<>\"\",'ステップ2（地下フロア構造）'!$D$36,\"\")","v":""},{"$f":"IF('ステップ2（地下フロア構造）'!$D$37<>\"\",'ステップ2（地下フロア構造）'!$D$37,\"\")","v":""},{"$f":"IF('ステップ2（地下フロア構造）'!$D$38<>\"\",'ステップ2（地下フロア構造）'!$D$38,\"\")","v":""},{"$f":"IF('ステップ2（地下フロア構造）'!$D$39<>\"\",'ステップ2（地下フロア構造）'!$D$39,\"\")","v":""}]
[null,null,null,null,null,null,"避難行動余裕時間（分）と避難安全性評価"]
[null,null,null,null,null,null,"　　[避難開始区画・部屋から上階及び地上までの避難行動余裕時間を"]
[null,null,null,null,null,null,"　　　算定し、避難安全性を評価]"]
[null,null,null,null,null,null,"算定結果","算定結果","算定結果","算定結果","算定結果","算定結果","算定結果","算定結果","算定結果","算定結果","算定結果","算定結果","算定結果","算定結果","算定結果","算定結果","算定結果","算定結果","算定結果","算定結果"]
[null,null,"避難行動余裕時間(分)\n\n\n（避難開始から）",null,null,"避難開始→地上",{"$f":"IF(G14<>\"\",G$9 & \"→\" & \"地上\",\"\")","v":""},"","","","","","","","","","","","","","","","","","",""]
[null,null,null,null,null,null,{"$f":"IF(G14=\"\",\"\",G31-G108)","v":""},"","","","","","","","","","","","","","","","","","",""]
[null,null,null,null,null,"避難開始→地下１階",{"$f":"IF(G15<>\"\",G$9 & \"→\" & G14,\"\")","v":""},"","","","","","","","","","","","","","","","","","",""]
[null,null,null,null,null,null,{"$f":"IF(G15=\"\",\"\",G33-G110)","v":""},"","","","","","","","","","","","","","","","","","",""]
[null,null,null,null,null,"避難開始→地下２階",{"$f":"IF(G16<>\"\",G$9 & \"→\" & G15,\"\")","v":""},"","","","","","","","","","","","","","","","","","",""]
[null,null,null,null,null,null,{"$f":"IF(G16=\"\",\"\",G35-G112)","v":""},"","","","","","","","","","","","","","","","","","",""]
[null,null,null,null,null,"避難開始→地下３階",{"$f":"IF(G17<>\"\",G$9 & \"→\" & G16,\"\")","v":""},"","","","","","","","","","","","","","","","","","",""]
[null,null,null,null,null,null,{"$f":"IF(G17=\"\",\"\",G37-G114)","v":""},"","","","","","","","","","","","","","","","","","",""]
[null,null,null,null,null,"避難開始→地下４階",{"$f":"IF(G18<>\"\",G$9 & \"→\" & G17,\"\")","v":""},"","","","","","","","","","","","","","","","","","",""]
[null,null,null,null,null,null,{"$f":"IF(G18=\"\",\"\",G39-G116)","v":""},"","","","","","","","","","","","","","","","","","",""]
[null,null,"避難安全性評価",null,null,null,{"$f":"IF(G127=\"\",\"\",IF(G31=999,\"－\",IF(MIN(G128:G136)>=0,\"○\",\"×\")))","v":""},{"$f":"IF(H127=\"\",\"\",IF(H31=999,\"浸水なし\",IF(MIN(H128:H136)>=0,\"○\",\"×\")))","v":""},"","","","","","","","","","","","","","","","","",""]
[null,null,null,null,null,"※避難行動余裕時間がマイナスだと、避難安全性評価は「×」になります。"]
[null,null,null,null,null,"※地下空間が浸水しない、もしくは避難困難水深に到達しない場合、避難安全性評価は「－」になります。"]
[]
[null,null,"※ここまでが、ステップ１～９までの一連の作業です。"]
[]
[null,null,"◆避難対策及び浸水対策の設定について"]
[]
[null,null,null,null,null,"※避難安全性評価が「×」となった場合、下記の手順で"]
[null,null,null,null,null,"　対策を行い、避難安全性評価を「○」にする必要があります。"]
[null,null,null,null,null,"　対策には、下図に示すように「避難対策」と「浸水対策」があります。"]
[null,null,null,null,null,"　どのような対策を行えば避難安全性評価が「○」になるか実際にやってみましょう。"]
[]
[]
[]
[]
[]
[null,"◆","浸水対策の設定",null,null,null,null,null,null,null,null,"◆避難対策の設定"]
[null,"(1)","ステップ３へ戻り、流入口が「地上」となっている流入口の「対策高」を入力します。",null,null,null,null,null,null,null,null,"このステップ（ステップ9）の"]
[null,null,null,null,null,null,null,null,null,null,null,"「１．避難経路の設定」で"]
[null,null,null,null,null,null,null,null,null,null,null,"避難対策を選択します"]
[null,null,null,null,null,null,null,null,null,null,null,"　対策1：一斉通報1（管理者による地上監視）"]
[null,"(2)","「⑨グルーピング」ボタンをクリックして再度グルーピングを行い、「ステップ４」シートへ移動して、内容を確認します。",null,null,null,null,null,null,null,null,"　対策2：一斉通報2（浸水センサーの設置）"]
[]
[]
[]
[]
[null,"(3)","計算用シートは既存のものを使用しますので、再度作成する必要はありません。\nそのままステップ5へ移動します。"]
[]
[]
[]
[]
[null,"(4)","ステップ5で「①地下空間浸水状況の想定」ボタンをクリックして、再計算を行います。"]
[]
[]
[]
[null,"(5)","ステップ9で再度避難安全性評価を確認します。\n評価が「×」の場合は、(1)に戻ります。\n"]

{"sheet":"流入量グラフ","index":12,"n_rows":93,"n_cols":24,"rows_kept":93,"cut":false,"hidden":false,"merged":[]}
["区画・部屋への流入量のグラフ"]
["※区画・部屋が氾濫水で満杯になると流入量は０になります。"]
[null,null,"※有効なグラフ"]
[]
[null,null,"地下空間流入量",null,{"$f":"\"(\" & 個別流入量!$B$3 & \")\"","v":"()"},{"$f":"IF(個別流入量!$B$7=\"\",\"\",個別流入量!$B$7)","v":""},null,null,"地下空間流入量",null,{"$f":"\"(\" & 個別流入量!$AZ$3 & \")\"","v":"()"},{"$f":"IF(個別流入量!$AZ$7=\"\",\"\",個別流入量!$AZ$7)","v":""},null,null,"地下空間流入量",null,{"$f":"\"(\" & 個別流入量!$CX$3 & \")\"","v":"()"},{"$f":"IF(個別流入量!$CX$7=\"\",\"\",個別流入量!$CX$7)","v":""},null,null,"地下空間流入量",null,{"$f":"\"(\" & 個別流入量!$EV$3 & \")\"","v":"()"},{"$f":"IF(個別流入量!$EV$7=\"\",\"\",個別流入量!$EV$7)","v":""}]
[]
[]
[]
[]
[]
[]
[]
["地下1階"]
[]
[]
[]
[]
[]
[]
[]
[]
[]
[]
[]
[null,null,"地下空間流入量",null,{"$f":"\"(\" & 個別流入量!$L$3 & \")\"","v":"()"},{"$f":"IF(個別流入量!$L$7=\"\",\"\",個別流入量!$L$7)","v":""},null,null,"地下空間流入量",null,{"$f":"\"(\" & 個別流入量!$BJ$3 & \")\"","v":"()"},{"$f":"IF(個別流入量!$BJ$7=\"\",\"\",個別流入量!$BJ$7)","v":""},null,null,"地下空間流入量",null,{"$f":"\"(\" & 個別流入量!$DH$3 & \")\"","v":"()"},{"$f":"IF(個別流入量!$DH$7=\"\",\"\",個別流入量!$DH$7)","v":""},null,null,"地下空間流入量",null,{"$f":"\"(\" & 個別流入量!$FF$3 & \")\"","v":"()"},{"$f":"IF(個別流入量!$FF$7=\"\",\"\",個別流入量!$FF$7)","v":""}]
[]
[]
[]
[]
[]
[]
[]
["地下2階"]
[]
[]
[]
[]
[]
[]
[]
[]
[]
[]
[]
[null,null,"地下空間流入量",null,{"$f":"\"(\" & 個別流入量!$V$3 & \")\"","v":"()"},{"$f":"IF(個別流入量!$V$7=\"\",\"\",個別流入量!$V$7)","v":""},null,null,"地下空間流入量",null,{"$f":"\"(\" & 個別流入量!$BT$3 & \")\"","v":"()"},{"$f":"IF(個別流入量!$BT$7=\"\",\"\",個別流入量!$BT$7)","v":""},null,null,"地下空間流入量",null,{"$f":"\"(\" & 個別流入量!$DR3 & \")\"","v":"()"},{"$f":"IF(個別流入量!$DR$7=\"\",\"\",個別流入量!$DR$7)","v":""},null,null,"地下空間流入量",null,{"$f":"\"(\" & 個別流入量!$FP$3 & \")\"","v":"()"},{"$f":"IF(個別流入量!$FP$7=\"\",\"\",個別流入量!$FP$7)","v":""}]
[]
[]
[]
[]
[]
[]
[]
["地下3階"]
[]
[]
[]
[]
[]
[]
[]
[]
[]
[]
[]
[null,null,"地下空間流入量",null,{"$f":"\"(\" & 個別流入量!$AF$3 & \")\"","v":"()"},{"$f":"IF(個別流入量!$AF$7=\"\",\"\",個別流入量!$AF$7)","v":""},null,null,"地下空間流入量",null,{"$f":"\"(\" & 個別流入量!$CD$3 & \")\"","v":"()"},{"$f":"IF(個別流入量!$CD$7=\"\",\"\",個別流入量!$CD$7)","v":""},null,null,"地下空間流入量",null,{"$f":"\"(\" & 個別流入量!$EB$3 & \")\"","v":"()"},{"$f":"IF(個別流入量!$EB$7=\"\",\"\",個別流入量!$EB$7)","v":""},null,null,"地下空間流入量",null,{"$f":"\"(\" & 個別流入量!$FZ$3 & \")\"","v":"()"},{"$f":"IF(個別流入量!$FZ$7=\"\",\"\",個別流入量!$FZ$7)","v":""}]
[]
[]
[]
[]
[]
[]
[]
["地下4階"]
[]
[]
[]
[]
[]
[]
[]
[]
[]
[]
[]
[null,null,"地下空間流入量",null,{"$f":"\"(\" & 個別流入量!$AP$3 & \")\"","v":"()"},{"$f":"IF(個別流入量!$AP$7=\"\",\"\",個別流入量!$AP$7)","v":""},null,null,"地下空間流入量",null,{"$f":"\"(\" & 個別流入量!$CN$3 & \")\"","v":"()"},{"$f":"IF(個別流入量!$CN$7=\"\",\"\",個別流入量!$CN$7)","v":""},null,null,"地下空間流入量",null,{"$f":"\"(\" & 個別流入量!$EL$3 & \")\"","v":"()"},{"$f":"IF(個別流入量!$EL$7=\"\",\"\",個別流入量!$EL$7)","v":""},null,null,"地下空間流入量",null,{"$f":"\"(\" & 個別流入量!$GJ$3 & \")\"","v":"()"},{"$f":"IF(個別流入量!$GJ$7=\"\",\"\",個別流入量!$GJ$7)","v":""}]
[]
[]
[]
[]
[]
[]
[]
["地下5階"]

{"sheet":"水深グラフ","index":13,"n_rows":109,"n_cols":36,"rows_kept":109,"cut":false,"hidden":false,"merged":[[26,11,27,11],[46,11,47,11],[66,11,67,11],[86,11,87,11],[106,11,107,11],[66,1,67,1],[46,1,47,1],[26,1,27,1],[86,1,87,1],[106,1,107,1],[26,31,27,31],[46,31,47,31],[66,31,67,31],[86,31,87,31],[106,31,107,31],[26,21,27,21],[46,21,47,21],[66,21,67,21],[86,21,87,21],[106,21,107,21]]}
[null,"区画・部屋の浸水深と階段の越流水深のグラフ"]
[null,"※階段が複数の場合は最も早く越流水深が20cmに達する階段"]
[null,"有効なグラフ"]
[]
[]
[null,null,null,0,{"$f":"E7","v":0.255},"流入開始",null,null,null,null,null,null,null,0,{"$f":"O7","v":-99},"流入開始",null,null,null,null,null,null,null,0,{"$f":"Y7","v":-99},"流入開始",null,null,null,null,null,null,null,0,{"$f":"AI7","v":-99},"流入開始"]
[null,null,null,8.5,0.255,null,null,null,null,null,null,null,null,-99,-99,null,null,null,null,null,null,null,null,-99,-99,null,null,null,null,null,null,null,null,-99,-99]
[null,null,null,{"$f":"D7","v":8.5},0,null,null,null,null,null,null,null,null,{"$f":"N7","v":-99},0,null,null,null,null,null,null,null,null,{"$f":"X7","v":-99},0,null,null,null,null,null,null,null,null,{"$f":"AH7","v":-99},0]
[null,"地上の",null,null,null,null,null,null,null,null,null,"地上の",null,null,null,null,null,null,null,null,null,"地上の",null,null,null,null,null,null,null,null,null,"地上の"]
[null,"浸水状況",null,null,null,null,null,null,null,null,null,"浸水状況",null,null,null,null,null,null,null,null,null,"浸水状況",null,null,null,null,null,null,null,null,null,"浸水状況"]
[]
[]
[]
[]
[]
[]
[]
[]
[null,null,null,0,{"$f":"E20","v":0.2},"越流水深",null,null,null,null,null,null,null,0,{"$f":"O20","v":-99},"越流水深",null,null,null,null,null,null,null,0,{"$f":"Y20","v":-99},"越流水深",null,null,null,null,null,null,null,0,{"$f":"AI20","v":-99},"越流水深"]
[null,null,null,15,0.2,null,null,null,null,null,null,null,null,-99,-99,null,null,null,null,null,null,null,null,-99,-99,null,null,null,null,null,null,null,null,-99,-99]
[null,null,null,{"$f":"D20","v":15},0,null,null,null,null,null,null,null,null,{"$f":"N20","v":-99},0,null,null,null,null,null,null,null,null,{"$f":"X20","v":-99},0,null,null,null,null,null,null,null,null,{"$f":"AH20","v":-99},0]
[]
[null,null,null,0,{"$f":"E24","v":0.30095284876193529},"区画水深",null,null,null,null,null,null,null,0,{"$f":"O24","v":-99},"区画水深",null,null,null,null,null,null,null,0,{"$f":"Y24","v":-99},"区画水深",null,null,null,null,null,null,null,0,{"$f":"AI24","v":-99},"区画水深"]
[null,null,null,23.5,0.30095284876193529,null,null,null,null,null,null,null,null,-99,-99,null,null,null,null,null,null,null,null,-99,-99,null,null,null,null,null,null,null,null,-99,-99]
[null,"地下１階",null,{"$f":"D24","v":23.5},0,null,null,null,null,null,null,"地下１階",null,{"$f":"N24","v":-99},0,null,null,null,null,null,null,"地下１階",null,{"$f":"X24","v":-99},0,null,null,null,null,null,null,"地下１階",null,{"$f":"AH24","v":-99},0]
[null,{"$f":"\"(\" & 個別流入量!$B$3 & \")\"","v":"()"},null,null,null,null,null,null,null,null,null,{"$f":"\"(\" & 個別流入量!$AZ$3 & \")\"","v":"()"},null,null,null,null,null,null,null,null,null,{"$f":"\"(\" & 個別流入量!$CX$3 & \")\"","v":"()"},null,null,null,null,null,null,null,null,null,{"$f":"\"(\" & 個別流入量!$EV$3 & \")\"","v":"()"}]
[null,{"$f":"IF(個別流入量!$B$7=\"\",\"\",個別流入量!$B$7)","v":""},null,null,null,null,null,null,null,null,null,{"$f":"IF(個別流入量!$AZ$7=\"\",\"\",個別流入量!$AZ$7)","v":""},null,null,null,null,null,null,null,null,null,{"$f":"IF(個別流入量!$CX$7=\"\",\"\",個別流入量!$CX$7)","v":""},null,null,null,null,null,null,null,null,null,{"$f":"IF(個別流入量!$EV$7=\"\",\"\",個別流入量!$EV$7)","v":""}]
[]
[null,"の浸水状況",null,null,null,null,null,null,null,null,null,"の浸水状況",null,null,null,null,null,null,null,null,null,"の浸水状況",null,null,null,null,null,null,null,null,null,"の浸水状況"]
[]
[]
[]
[]
[]
[]
[]
[]
[]
[null,null,null,0,{"$f":"E40","v":0.20505757614786996},"越流水深",null,null,null,null,null,null,null,0,{"$f":"O40","v":-99},"越流水深",null,null,null,null,null,null,null,0,{"$f":"Y40","v":-99},"越流水深",null,null,null,null,null,null,null,0,{"$f":"AI40","v":-99},"越流水深"]
[null,null,null,21.75,0.20505757614786996,null,null,null,null,null,null,null,null,-99,-99,null,null,null,null,null,null,null,null,-99,-99,null,null,null,null,null,null,null,null,-99,-99]
[null,null,null,{"$f":"D40","v":21.75},0,null,null,null,null,null,null,null,null,{"$f":"N40","v":-99},0,null,null,null,null,null,null,null,null,{"$f":"X40","v":-99},0,null,null,null,null,null,null,null,null,{"$f":"AH40","v":-99},0]
[]
[null,null,null,0,{"$f":"E44","v":0.3027891951958378},"区画水深",null,null,null,null,null,null,null,0,{"$f":"O44","v":-99},"区画水深",null,null,null,null,null,null,null,0,{"$f":"Y44","v":-99},"区画水深",null,null,null,null,null,null,null,0,{"$f":"AI44","v":-99},"区画水深"]
[null,null,null,17.75,0.3027891951958378,null,null,null,null,null,null,null,null,-99,-99,null,null,null,null,null,null,null,null,-99,-99,null,null,null,null,null,null,null,null,-99,-99]
[null,"地下２階",null,{"$f":"D44","v":17.75},0,null,null,null,null,null,null,"地下２階",null,{"$f":"N44","v":-99},0,null,null,null,null,null,null,"地下２階",null,{"$f":"X44","v":-99},0,null,null,null,null,null,null,"地下２階",null,{"$f":"AH44","v":-99},0]
[null,{"$f":"\"(\" & 個別流入量!$L$3 & \")\"","v":"()"},null,null,null,null,null,null,null,null,null,{"$f":"\"(\" & 個別流入量!$BJ$3 & \")\"","v":"()"},null,null,null,null,null,null,null,null,null,{"$f":"\"(\" & 個別流入量!$DH$3 & \")\"","v":"()"},null,null,null,null,null,null,null,null,null,{"$f":"\"(\" & 個別流入量!$FF$3 & \")\"","v":"()"}]
[null,{"$f":"IF(個別流入量!$L$7=\"\",\"\",個別流入量!$L$7)","v":""},null,null,null,null,null,null,null,null,null,{"$f":"IF(個別流入量!$BJ$7=\"\",\"\",個別流入量!$BJ$7)","v":""},null,null,null,null,null,null,null,null,null,{"$f":"IF(個別流入量!$DH$7=\"\",\"\",個別流入量!$DH$7)","v":""},null,null,null,null,null,null,null,null,null,{"$f":"IF(個別流入量!$FF$7=\"\",\"\",個別流入量!$FF$7)","v":""}]
[]
[null,"の浸水状況",null,null,null,null,null,null,null,null,null,"の浸水状況",null,null,null,null,null,null,null,null,null,"の浸水状況",null,null,null,null,null,null,null,null,null,"の浸水状況"]
[]
[]
[]
[]
[]
[]
[]
[]
[]
[null,null,null,0,{"$f":"E60","v":-99},"越流水深",null,null,null,null,null,null,null,0,{"$f":"O60","v":-99},"越流水深",null,null,null,null,null,null,null,0,{"$f":"Y60","v":-99},"越流水深",null,null,null,null,null,null,null,0,{"$f":"AI60","v":-99},"越流水深"]
[null,null,null,-99,-99,null,null,null,null,null,null,null,null,-99,-99,null,null,null,null,null,null,null,null,-99,-99,null,null,null,null,null,null,null,null,-99,-99]
[null,null,null,{"$f":"D60","v":-99},0,null,null,null,null,null,null,null,null,{"$f":"N60","v":-99},0,null,null,null,null,null,null,null,null,{"$f":"X60","v":-99},0,null,null,null,null,null,null,null,null,{"$f":"AH60","v":-99},0]
[]
[null,null,null,0,{"$f":"E64","v":-99},"区画水深",null,null,null,null,null,null,null,0,{"$f":"O64","v":-99},"区画水深",null,null,null,null,null,null,null,0,{"$f":"Y64","v":-99},"区画水深",null,null,null,null,null,null,null,0,{"$f":"AI64","v":-99},"区画水深"]
[null,null,null,-99,-99,null,null,null,null,null,null,null,null,-99,-99,null,null,null,null,null,null,null,null,-99,-99,null,null,null,null,null,null,null,null,-99,-99]
[null,"地下３階",null,{"$f":"D64","v":-99},0,null,null,null,null,null,null,"地下３階",null,{"$f":"N64","v":-99},0,null,null,null,null,null,null,"地下３階",null,{"$f":"X64","v":-99},0,null,null,null,null,null,null,"地下３階",null,{"$f":"AH64","v":-99},0]
[null,{"$f":"\"(\" & 個別流入量!$V$3 & \")\"","v":"()"},null,null,null,null,null,null,null,null,null,{"$f":"\"(\" & 個別流入量!$BT$3 & \")\"","v":"()"},null,null,null,null,null,null,null,null,null,{"$f":"\"(\" & 個別流入量!$DR$3 & \")\"","v":"()"},null,null,null,null,null,null,null,null,null,{"$f":"\"(\" & 個別流入量!$FP$3 & \")\"","v":"()"}]
[null,{"$f":"IF(個別流入量!$V$7=\"\",\"\",個別流入量!$V$7)","v":""},null,null,null,null,null,null,null,null,null,{"$f":"IF(個別流入量!$BT$7=\"\",\"\",個別流入量!$BT$7)","v":""},null,null,null,null,null,null,null,null,null,{"$f":"IF(個別流入量!$DR$7=\"\",\"\",個別流入量!$DR$7)","v":""},null,null,null,null,null,null,null,null,null,{"$f":"IF(個別流入量!$FP$7=\"\",\"\",個別流入量!$FP$7)","v":""}]
[]
[null,"の浸水状況",null,null,null,null,null,null,null,null,null,"の浸水状況",null,null,null,null,null,null,null,null,null,"の浸水状況",null,null,null,null,null,null,null,null,null,"の浸水状況"]
[]
[]
[]
[]
[]
[]
[]
[]
[]
[null,null,null,0,{"$f":"E80","v":-99},"越流水深",null,null,null,null,null,null,null,0,{"$f":"O80","v":-99},"越流水深",null,null,null,null,null,null,null,0,{"$f":"Y80","v":-99},"越流水深",null,null,null,null,null,null,null,0,{"$f":"AI80","v":-99},"越流水深"]
[null,null,null,-99,-99,null,null,null,null,null,null,null,null,-99,-99,null,null,null,null,null,null,null,null,-99,-99,null,null,null,null,null,null,null,null,-99,-99]
[null,null,null,{"$f":"D80","v":-99},0,null,null,null,null,null,null,null,null,{"$f":"N80","v":-99},0,null,null,null,null,null,null,null,null,{"$f":"X80","v":-99},0,null,null,null,null,null,null,null,null,{"$f":"AH80","v":-99},0]
[]
[null,null,null,0,{"$f":"E84","v":-99},"区画水深",null,null,null,null,null,null,null,0,{"$f":"O84","v":-99},"区画水深",null,null,null,null,null,null,null,0,{"$f":"Y84","v":-99},"区画水深",null,null,null,null,null,null,null,0,{"$f":"AI84","v":-99},"区画水深"]
[null,null,null,-99,-99,null,null,null,null,null,null,null,null,-99,-99,null,null,null,null,null,null,null,null,-99,-99,null,null,null,null,null,null,null,null,-99,-99]
[null,"地下４階",null,{"$f":"D84","v":-99},0,null,null,null,null,null,null,"地下４階",null,{"$f":"N84","v":-99},0,null,null,null,null,null,null,"地下４階",null,{"$f":"X84","v":-99},0,null,null,null,null,null,null,"地下４階",null,{"$f":"AH84","v":-99},0]
[null,{"$f":"\"(\" & 個別流入量!$AF$3 & \")\"","v":"()"},null,null,null,null,null,null,null,null,null,{"$f":"\"(\" & 個別流入量!$CD$3 & \")\"","v":"()"},null,null,null,null,null,null,null,null,null,{"$f":"\"(\" & 個別流入量!$EB$3 & \")\"","v":"()"},null,null,null,null,null,null,null,null,null,{"$f":"\"(\" & 個別流入量!$FZ$3 & \")\"","v":"()"}]
[null,{"$f":"IF(個別流入量!$AF$7=\"\",\"\",個別流入量!$AF$7)","v":""},null,null,null,null,null,null,null,null,null,{"$f":"IF(個別流入量!$CD$7=\"\",\"\",個別流入量!$CD$7)","v":""},null,null,null,null,null,null,null,null,null,{"$f":"IF(個別流入量!$EB$7=\"\",\"\",個別流入量!$EB$7)","v":""},null,null,null,null,null,null,null,null,null,{"$f":"IF(個別流入量!$FZ$7=\"\",\"\",個別流入量!$FZ$7)","v":""}]
[]
[null,"の浸水状況",null,null,null,null,null,null,null,null,null,"の浸水状況",null,null,null,null,null,null,null,null,null,"の浸水状況",null,null,null,null,null,null,null,null,null,"の浸水状況"]
[]
[]
[]
[]
[]
[]
[]
[]
[]
[null,null,null,0,{"$f":"E100","v":-99},"越流水深",null,null,null,null,null,null,null,0,{"$f":"O100","v":-99},"越流水深",null,null,null,null,null,null,null,0,{"$f":"Y100","v":-99},"越流水深",null,null,null,null,null,null,null,0,{"$f":"AI100","v":-99},"越流水深"]
[null,null,null,-99,-99,null,null,null,null,null,null,null,null,-99,-99,null,null,null,null,null,null,null,null,-99,-99,null,null,null,null,null,null,null,null,-99,-99]
[null,null,null,{"$f":"D100","v":-99},0,null,null,null,null,null,null,null,null,{"$f":"N100","v":-99},0,null,null,null,null,null,null,null,null,{"$f":"X100","v":-99},0,null,null,null,null,null,null,null,null,{"$f":"AH100","v":-99},0]
[]
[null,null,null,0,{"$f":"E104","v":-99},"区画水深",null,null,null,null,null,null,null,0,{"$f":"O104","v":-99},"区画水深",null,null,null,null,null,null,null,0,{"$f":"Y104","v":-99},"区画水深",null,null,null,null,null,null,null,0,{"$f":"AI104","v":-99},"区画水深"]
[null,null,null,-99,-99,null,null,null,null,null,null,null,null,-99,-99,null,null,null,null,null,null,null,null,-99,-99,null,null,null,null,null,null,null,null,-99,-99]
[null,"地下5階",null,{"$f":"D104","v":-99},0,null,null,null,null,null,null,"地下5階",null,{"$f":"N104","v":-99},0,null,null,null,null,null,null,"地下5階",null,{"$f":"X104","v":-99},0,null,null,null,null,null,null,"地下5階",null,{"$f":"AH104","v":-99},0]
[null,{"$f":"\"(\" & 個別流入量!$AP$3 & \")\"","v":"()"},null,null,null,null,null,null,null,null,null,{"$f":"\"(\" & 個別流入量!$CN$3 & \")\"","v":"()"},null,null,null,null,null,null,null,null,null,{"$f":"\"(\" & 個別流入量!$EL$3 & \")\"","v":"()"},null,null,null,null,null,null,null,null,null,{"$f":"\"(\" & 個別流入量!$GJ$3 & \")\"","v":"()"}]
[null,{"$f":"IF(個別流入量!$AP$7=\"\",\"\",個別流入量!$AP$7)","v":""},null,null,null,null,null,null,null,null,null,{"$f":"IF(個別流入量!$CN$7=\"\",\"\",個別流入量!$CN$7)","v":""},null,null,null,null,null,null,null,null,null,{"$f":"IF(個別流入量!$EL$7=\"\",\"\",個別流入量!$EL$7)","v":""},null,null,null,null,null,null,null,null,null,{"$f":"IF(個別流入量!$GJ$7=\"\",\"\",個別流入量!$GJ$7)","v":""}]
[]
[null,"の浸水状況",null,null,null,null,null,null,null,null,null,"の浸水状況",null,null,null,null,null,null,null,null,null,"の浸水状況",null,null,null,null,null,null,null,null,null,"の浸水状況"]

{"sheet":"個別流入量","index":14,"n_rows":7,"n_cols":201,"rows_kept":7,"cut":false,"hidden":true,"merged":[]}
[null,1,2,3,4,5,6,7,8,9,10,11,12,13,14,15,16,17,18,19,20,21,22,23,24,25,26,27,28,29,30,31,32,33,34,35,36,37,38,39,40,41,42,43,44,45,46,47,48,49,50,51,52,53,54,55,56,57,58,59,60,61,62,63,64,65,66,67,68,69,70,71,72,73,74,75,76,77,78,79,80,81,82,83,84,85,86,87,88,89,90,91,92,93,94,95,96,97,98,99,100,101,102,103,104,105,106,107,108,109,110,111,112,113,114,115,116,117,118,119,120,121,122,123,124,125,126,127,128,129,130,131,132,133,134,135,136,137,138,139,140,141,142,143,144,145,146,147,148,149,150,151,152,153,154,155,156,157,158,159,160,161,162,163,164,165,166,167,168,169,170,171,172,173,174,175,176,177,178,179,180,181,182,183,184,185,186,187,188,189,190,191,192,193,194,195,196,197,198,199,200]
["フロア"]
["流入先"]
["流入口"]
["種別"]
["流入口名称"]
["区画名称"]

{"sheet":"区画水深","index":15,"n_rows":10,"n_cols":22,"rows_kept":10,"cut":false,"hidden":true,"merged":[]}
["データ数→",{"$f":"COUNTA(B11:B1010)","v":0},{"$f":"COUNTA(C11:C1010)","v":0},0,0,0,0,0,0,0,0,0,0,0,0,0,0,0,0,0,0,0]
[]
[]
[]
[]
[]
[]
["区画水深"]
[null,null,1,2,3,4,5,6,7,8,9,10,11,12,13,14,15,16,17,18,19,20]
["時間","地上","B1a","B2a","B3a","B4a","B5a","B1b","B2b","B3b","B4b","B5b","B1c","B2c","B3c","B4c","B5c","B1d","B2d","B3d","B4d","B5d"]

{"sheet":"越流水深","index":16,"n_rows":10,"n_cols":22,"rows_kept":10,"cut":false,"hidden":true,"merged":[]}
["データ数→",{"$f":"COUNTA(B11:B1010)","v":0},{"$f":"COUNTA(C11:C1010)","v":0},0,0,0,0,0,0,0,0,0,0,0,0,0,0,0,0,0,0,0]
[]
[]
[]
[]
["越流水深（階段のみ：複数の場合、最も早く越流水深が20cmに達するところを選ぶ）"]
[null,null,"外部階段（正面）","外部階段（正面）","内部階段（正面）","外階段（正面）","外階段（正面）",6,"内部階段（正面）","内部階段（正面）",9,10,11,12,"内部階段（正面）",14,15,16,17,"内部階段（正面）",19,20]
[]
[null,null,"↓","↓","↓","↓","↓","↓","↓","↓","↓","↓","↓","↓","↓","↓","↓","↓","↓","↓","↓","↓"]
["時間","地上"]

{"sheet":"リスト","index":17,"n_rows":42,"n_cols":14,"rows_kept":42,"cut":false,"hidden":false,"merged":[]}
[null,"NO_01"]
[null,"流入口1","流入口2",null,"流入口種別",null,"居室種別","在館者密度",null,"異変認知対策",null,null,null,"空リスト"]
[]
[null,"地上",{"$f":"IF('ステップ2（地下フロア構造）'!D20<>\"\",'ステップ2（地下フロア構造）'!D20,\"\")","v":""},null,"換気口",null,"住宅の居室",0.06,null,"無対策","無対策"]
[null,{"$f":"IF('ステップ2（地下フロア構造）'!D20<>\"\",'ステップ2（地下フロア構造）'!D20,\"\")","v":""},{"$f":"IF('ステップ2（地下フロア構造）'!D21<>\"\",'ステップ2（地下フロア構造）'!D21,\"\")","v":""},null,"通風口",null,"住宅以外の寝室",0.16,null,"対策1","管理者による地上監視"]
[null,{"$f":"IF('ステップ2（地下フロア構造）'!D21<>\"\",'ステップ2（地下フロア構造）'!D21,\"\")","v":""},{"$f":"IF('ステップ2（地下フロア構造）'!D22<>\"\",'ステップ2（地下フロア構造）'!D22,\"\")","v":""},null,"内部階段（正面）",null,"事務室等",0.125,null,"対策2","浸水センターの設置"]
[null,{"$f":"IF('ステップ2（地下フロア構造）'!D22<>\"\",'ステップ2（地下フロア構造）'!D22,\"\")","v":""},{"$f":"IF('ステップ2（地下フロア構造）'!D23<>\"\",'ステップ2（地下フロア構造）'!D23,\"\")","v":""},null,"内部階段（側壁）",null,"教室",0.7,null,"対策3","地上浸水情報の早期入手"]
[null,{"$f":"IF('ステップ2（地下フロア構造）'!D23<>\"\",'ステップ2（地下フロア構造）'!D23,\"\")","v":""},{"$f":"IF('ステップ2（地下フロア構造）'!D24<>\"\",'ステップ2（地下フロア構造）'!D24,\"\")","v":""},null,"外部階段（正面）",null,"百貨店",0.5]
[null,{"$f":"IF('ステップ2（地下フロア構造）'!D24<>\"\",'ステップ2（地下フロア構造）'!D24,\"\")","v":""},{"$f":"IF('ステップ2（地下フロア構造）'!D25<>\"\",'ステップ2（地下フロア構造）'!D25,\"\")","v":""},null,"外部階段（側壁）",null,"物品販売店舗",0.5]
[null,{"$f":"IF('ステップ2（地下フロア構造）'!D25<>\"\",'ステップ2（地下フロア構造）'!D25,\"\")","v":""},{"$f":"IF('ステップ2（地下フロア構造）'!D26<>\"\",'ステップ2（地下フロア構造）'!D26,\"\")","v":""},null,"エスカレーター（正面）",null,"飲食室",0.7]
[null,{"$f":"IF('ステップ2（地下フロア構造）'!D26<>\"\",'ステップ2（地下フロア構造）'!D26,\"\")","v":""},{"$f":"IF('ステップ2（地下フロア構造）'!D27<>\"\",'ステップ2（地下フロア構造）'!D27,\"\")","v":""},null,"エスカレーター（側壁）",null,"劇場,映画館,集会場",1.5]
[null,{"$f":"IF('ステップ2（地下フロア構造）'!D27<>\"\",'ステップ2（地下フロア構造）'!D27,\"\")","v":""},{"$f":"IF('ステップ2（地下フロア構造）'!D28<>\"\",'ステップ2（地下フロア構造）'!D28,\"\")","v":""},null,"エレベーター",null,"展示室,図書館等",0.5]
[null,{"$f":"IF('ステップ2（地下フロア構造）'!D28<>\"\",'ステップ2（地下フロア構造）'!D28,\"\")","v":""},{"$f":"IF('ステップ2（地下フロア構造）'!D29<>\"\",'ステップ2（地下フロア構造）'!D29,\"\")","v":""},null,"駐車場出入口",null,"駐車場",0.125]
[null,{"$f":"IF('ステップ2（地下フロア構造）'!D29<>\"\",'ステップ2（地下フロア構造）'!D29,\"\")","v":""},{"$f":"IF('ステップ2（地下フロア構造）'!D30<>\"\",'ステップ2（地下フロア構造）'!D30,\"\")","v":""},null,null,null,"倉庫(無人）",0]
[null,{"$f":"IF('ステップ2（地下フロア構造）'!D30<>\"\",'ステップ2（地下フロア構造）'!D30,\"\")","v":""},{"$f":"IF('ステップ2（地下フロア構造）'!D31<>\"\",'ステップ2（地下フロア構造）'!D31,\"\")","v":""},null,null,null,"倉庫(作業員）",0.125]
[null,{"$f":"IF('ステップ2（地下フロア構造）'!D31<>\"\",'ステップ2（地下フロア構造）'!D31,\"\")","v":""},{"$f":"IF('ステップ2（地下フロア構造）'!D32<>\"\",'ステップ2（地下フロア構造）'!D32,\"\")","v":""},null,null,null,"廊下等の居室以外",0]
[null,{"$f":"IF('ステップ2（地下フロア構造）'!D32<>\"\",'ステップ2（地下フロア構造）'!D32,\"\")","v":""},{"$f":"IF('ステップ2（地下フロア構造）'!D33<>\"\",'ステップ2（地下フロア構造）'!D33,\"\")","v":""},null,null,null,"その他（無人）",0]
[null,{"$f":"IF('ステップ2（地下フロア構造）'!D33<>\"\",'ステップ2（地下フロア構造）'!D33,\"\")","v":""},{"$f":"IF('ステップ2（地下フロア構造）'!D34<>\"\",'ステップ2（地下フロア構造）'!D34,\"\")","v":""},null,null,null,"その他（有人）",0.125]
[null,{"$f":"IF('ステップ2（地下フロア構造）'!D34<>\"\",'ステップ2（地下フロア構造）'!D34,\"\")","v":""},{"$f":"IF('ステップ2（地下フロア構造）'!D35<>\"\",'ステップ2（地下フロア構造）'!D35,\"\")","v":""}]
[null,{"$f":"IF('ステップ2（地下フロア構造）'!D35<>\"\",'ステップ2（地下フロア構造）'!D35,\"\")","v":""},{"$f":"IF('ステップ2（地下フロア構造）'!D36<>\"\",'ステップ2（地下フロア構造）'!D36,\"\")","v":""}]
[null,{"$f":"IF('ステップ2（地下フロア構造）'!D36<>\"\",'ステップ2（地下フロア構造）'!D36,\"\")","v":""},{"$f":"IF('ステップ2（地下フロア構造）'!D37<>\"\",'ステップ2（地下フロア構造）'!D37,\"\")","v":""},null,"↑"]
[null,{"$f":"IF('ステップ2（地下フロア構造）'!D37<>\"\",'ステップ2（地下フロア構造）'!D37,\"\")","v":""},{"$f":"IF('ステップ2（地下フロア構造）'!D38<>\"\",'ステップ2（地下フロア構造）'!D38,\"\")","v":""},null,"黄色部分は入力できます"]
[null,{"$f":"IF('ステップ2（地下フロア構造）'!D38<>\"\",'ステップ2（地下フロア構造）'!D38,\"\")","v":""},{"$f":"IF('ステップ2（地下フロア構造）'!D39<>\"\",'ステップ2（地下フロア構造）'!D39,\"\")","v":""},null,"避難に使う階段の場合は、"]
[null,{"$f":"IF('ステップ2（地下フロア構造）'!D39<>\"\",'ステップ2（地下フロア構造）'!D39,\"\")","v":""},{"$f":"IF('ステップ2（地下フロア構造）'!D40<>\"\",'ステップ2（地下フロア構造）'!D40,\"\")","v":""},null,"必ず「階段」（「」は不要）"]
[null,{"$f":"IF('ステップ2（地下フロア構造）'!D40<>\"\",'ステップ2（地下フロア構造）'!D40,\"\")","v":""},{"$f":"IF('ステップ2（地下フロア構造）'!D41<>\"\",'ステップ2（地下フロア構造）'!D41,\"\")","v":""},null,"の文字を含めてください"]
[null,{"$f":"IF('ステップ2（地下フロア構造）'!D41<>\"\",'ステップ2（地下フロア構造）'!D41,\"\")","v":""},{"$f":"IF('ステップ2（地下フロア構造）'!D42<>\"\",'ステップ2（地下フロア構造）'!D42,\"\")","v":""}]
[null,{"$f":"IF('ステップ2（地下フロア構造）'!D42<>\"\",'ステップ2（地下フロア構造）'!D42,\"\")","v":""},{"$f":"IF('ステップ2（地下フロア構造）'!D43<>\"\",'ステップ2（地下フロア構造）'!D43,\"\")","v":""}]
[null,{"$f":"IF('ステップ2（地下フロア構造）'!D43<>\"\",'ステップ2（地下フロア構造）'!D43,\"\")","v":""},{"$f":"IF('ステップ2（地下フロア構造）'!D44<>\"\",'ステップ2（地下フロア構造）'!D44,\"\")","v":""}]
[null,{"$f":"IF('ステップ2（地下フロア構造）'!D44<>\"\",'ステップ2（地下フロア構造）'!D44,\"\")","v":""},{"$f":"IF('ステップ2（地下フロア構造）'!D47<>\"\",'ステップ2（地下フロア構造）'!D47,\"\")","v":""}]
[null,{"$f":"IF('ステップ2（地下フロア構造）'!D47<>\"\",'ステップ2（地下フロア構造）'!D47,\"\")","v":""},{"$f":"IF('ステップ2（地下フロア構造）'!D48<>\"\",'ステップ2（地下フロア構造）'!D48,\"\")","v":""}]
[null,{"$f":"IF('ステップ2（地下フロア構造）'!D48<>\"\",'ステップ2（地下フロア構造）'!D48,\"\")","v":""},{"$f":"IF('ステップ2（地下フロア構造）'!D49<>\"\",'ステップ2（地下フロア構造）'!D49,\"\")","v":""}]
[null,{"$f":"IF('ステップ2（地下フロア構造）'!D49<>\"\",'ステップ2（地下フロア構造）'!D49,\"\")","v":""},{"$f":"IF('ステップ2（地下フロア構造）'!D50<>\"\",'ステップ2（地下フロア構造）'!D50,\"\")","v":""}]
[null,{"$f":"IF('ステップ2（地下フロア構造）'!D50<>\"\",'ステップ2（地下フロア構造）'!D50,\"\")","v":""},{"$f":"IF('ステップ2（地下フロア構造）'!D51<>\"\",'ステップ2（地下フロア構造）'!D51,\"\")","v":""}]
[null,{"$f":"IF('ステップ2（地下フロア構造）'!D51<>\"\",'ステップ2（地下フロア構造）'!D51,\"\")","v":""},{"$f":"IF('ステップ2（地下フロア構造）'!D52<>\"\",'ステップ2（地下フロア構造）'!D52,\"\")","v":""}]
[null,{"$f":"IF('ステップ2（地下フロア構造）'!D52<>\"\",'ステップ2（地下フロア構造）'!D52,\"\")","v":""},{"$f":"IF('ステップ2（地下フロア構造）'!D53<>\"\",'ステップ2（地下フロア構造）'!D53,\"\")","v":""}]
[null,{"$f":"IF('ステップ2（地下フロア構造）'!D53<>\"\",'ステップ2（地下フロア構造）'!D53,\"\")","v":""},{"$f":"IF('ステップ2（地下フロア構造）'!D54<>\"\",'ステップ2（地下フロア構造）'!D54,\"\")","v":""}]
[null,{"$f":"IF('ステップ2（地下フロア構造）'!D54<>\"\",'ステップ2（地下フロア構造）'!D54,\"\")","v":""},{"$f":"IF('ステップ2（地下フロア構造）'!D55<>\"\",'ステップ2（地下フロア構造）'!D55,\"\")","v":""}]
[null,{"$f":"IF('ステップ2（地下フロア構造）'!D55<>\"\",'ステップ2（地下フロア構造）'!D55,\"\")","v":""},{"$f":"IF('ステップ2（地下フロア構造）'!D56<>\"\",'ステップ2（地下フロア構造）'!D56,\"\")","v":""}]
[null,{"$f":"IF('ステップ2（地下フロア構造）'!D56<>\"\",'ステップ2（地下フロア構造）'!D56,\"\")","v":""},{"$f":"IF('ステップ2（地下フロア構造）'!D57<>\"\",'ステップ2（地下フロア構造）'!D57,\"\")","v":""}]
[null,{"$f":"IF('ステップ2（地下フロア構造）'!D57<>\"\",'ステップ2（地下フロア構造）'!D57,\"\")","v":""},{"$f":"IF('ステップ2（地下フロア構造）'!D58<>\"\",'ステップ2（地下フロア構造）'!D58,\"\")","v":""}]
[null,{"$f":"IF('ステップ2（地下フロア構造）'!D58<>\"\",'ステップ2（地下フロア構造）'!D58,\"\")","v":""},{"$f":"IF('ステップ2（地下フロア構造）'!D59<>\"\",'ステップ2（地下フロア構造）'!D59,\"\")","v":""}]
[null,{"$f":"IF('ステップ2（地下フロア構造）'!D59<>\"\",'ステップ2（地下フロア構造）'!D59,\"\")","v":""},{"$f":"IF('ステップ2（地下フロア構造）'!D60<>\"\",'ステップ2（地下フロア構造）'!D60,\"\")","v":""}]

{"sheet":"ステップ3（流入口リスト）backup","index":18,"n_rows":509,"n_cols":21,"rows_kept":509,"cut":false,"hidden":false,"merged":[[66,20,70,20],[82,20,83,20],[119,20,123,20],[124,20,125,20],[34,20,35,20],[40,0,42,0],[48,0,50,0],[54,20,56,20],[55,0,57,0],[59,0,61,0],[28,0,32,0],[4,15,4,16],[4,17,5,17],[4,18,5,18],[4,20,6,20],[6,3,6,5],[6,6,7,6],[6,7,7,7],[6,8,7,8],[6,16,7,16],[7,0,9,0],[10,0,12,0],[14,0,15,0],[17,0,18,0],[20,0,21,0],[2,12,2,15],[3,10,3,18],[4,0,5,0],[4,2,7,2],[4,3,5,5],[4,6,5,6],[4,7,5,7],[4,8,5,8],[4,9,5,9],[4,10,4,14]]}
[null,"↑の","　　をクリックで左の説明を閉じる"]
[null,"↑の","　　をクリックで左の説明を開く",null,null,null,null,null,null,null,null,null,null,null,null,null,"　　　　↓バックアップ機能あり"]
["◆ここでやること",null,"■ステップ３：流入口リストの作成",null,null,null,null,null,"※リスト作成後クリックします→",null,1,null,"a)、b)、c)の内容が同じものを探して\nグループ化します",null,null,null,null,null,null,null,"◆解説"]
["■ステップ３：流入口リストの作成",null,null,null,null,null,null,null,null,null,"※地盤高…地盤高が流入口がある場所で異なる場合、「標高」または「最も低い流入口位置の地盤高との差分」\n　　　　　を入力します。地盤高がどの流入口でも同じ場合や流入口が「地上」ではない場合は、入力不要です。",null,null,null,null,null,null,null,null,null,"＜流入口の例＞"]
["①流入経路の流入口と流入先をプルダウンリストから選択します。",null,"流入口\n番号","①流入経路",null,null,"②流入口の種別","③メモ","④\na)流入口の名称","⑤流入幅\n\nB","⑥流入高1",null,null,null,null,"⑦流入高2",null,"⑧\n流入高\n合　計\n①＋②","⑩\nグループ番号\n",null,"流入口とは、階段、エスカレーター、換気口などが流入経路となって氾濫水が地下へ入り込むときの入口のことです。\n流入量計算に必要なのは下記に示すように流入幅と流入高であり、流入口種別で計算が変わることはありませんが、このあとで防水板や土のうの設置などの対策や、避難に内部階段を使用する等の設定を行う際に流入口種別が必要となります。"]
[null,null,null,null,null,null,null,null,null,null,"地盤高\n※\nH0","歩道高\n\nH1","流入口\n設置高\nH2","流入口\n側壁高\nH3","b)流入高\n小計\nHS","c)対策高\n\nHT","仕様"]
["※ステップ２で自動作成された区画・部屋番号が流入口と流入先のプルダウンリストとして選択できます。",null,null,"必須入力　選択式",null,null,"必須入力　選択式\n（「リスト」シートで\n項目の追加が可能）","任意入力","自動入力","必須\n入力","任意\n入力","任意\n入力","任意\n入力","任意\n入力","自動集計","任意入力\n99入力で\n完全封鎖","任意入力","自動集計","自動入力"]
["②流入口の種別をプルダウンリストから選択します。",null,null,"流入口","→","流入先",null,null,null,"(m)","(m)","(m)","(m)","(m)","(m)","(m)",null,"(m)",null,null,"地下空間への氾濫水の流入状況の模式図（例）"]
[null,null,null,null,null,null,null,null,null,{"$f":"SUM(J10:J600)","v":0}]
[null,null,1,null,"→",null,null,null,{"$f":"G10&\"（\"&D10&E10&F10&\"）\"","v":"（→）"},null,null,null,null,null,{"$f":"IF(D10=\"地上\",K10-MIN(IF(D$10:D$509=\"地上\",K$10:K$509)),0)+SUM(L10:N10)","v":0},null,null,{"$f":"O10+P10","v":0}]
["※リストは「リスト」シートで増やすことができます。\nここのセルで任意記入もできますが、リストには反映されません。",null,2,null,"→",null,null,null,"（→）",null,null,null,null,null,{"$f":"IF(D11=\"地上\",K11-MIN(IF(D$10:D$509=\"地上\",K$10:K$509)),0)+SUM(L11:N11)","v":0},null,null,0]
[null,null,3,null,"→",null,null,null,"（→）",null,null,null,null,null,{"$f":"IF(D12=\"地上\",K12-MIN(IF(D$10:D$509=\"地上\",K$10:K$509)),0)+SUM(L12:N12)","v":0},null,null,0]
[null,null,4,null,"→",null,null,null,"（→）",null,null,null,null,null,{"$f":"IF(D13=\"地上\",K13-MIN(IF(D$10:D$509=\"地上\",K$10:K$509)),0)+SUM(L13:N13)","v":0},null,null,0]
[null,null,5,null,"→",null,null,null,"（→）",null,null,null,null,null,{"$f":"IF(D14=\"地上\",K14-MIN(IF(D$10:D$509=\"地上\",K$10:K$509)),0)+SUM(L14:N14)","v":0},null,null,0]
["③メモは、図面番号や図面上の番号等、地下管理者が理解しやすい項目を入力します。",null,6,null,"→",null,null,null,"（→）",null,null,null,null,null,{"$f":"IF(D15=\"地上\",K15-MIN(IF(D$10:D$509=\"地上\",K$10:K$509)),0)+SUM(L15:N15)","v":0},null,null,0]
[null,null,7,null,"→",null,null,null,"（→）",null,null,null,null,null,{"$f":"IF(D16=\"地上\",K16-MIN(IF(D$10:D$509=\"地上\",K$10:K$509)),0)+SUM(L16:N16)","v":0},null,null,0]
[null,null,8,null,"→",null,null,null,"（→）",null,null,null,null,null,{"$f":"IF(D17=\"地上\",K17-MIN(IF(D$10:D$509=\"地上\",K$10:K$509)),0)+SUM(L17:N17)","v":0},null,null,0]
["④流入口の名称は、流入経路と流入種別を組み合わせて自動的に入力されます",null,9,null,"→",null,null,null,"（→）",null,null,null,null,null,{"$f":"IF(D18=\"地上\",K18-MIN(IF(D$10:D$509=\"地上\",K$10:K$509)),0)+SUM(L18:N18)","v":0},null,null,0]
[null,null,10,null,"→",null,null,null,"（→）",null,null,null,null,null,{"$f":"IF(D19=\"地上\",K19-MIN(IF(D$10:D$509=\"地上\",K$10:K$509)),0)+SUM(L19:N19)","v":0},null,null,0]
[null,null,11,null,"→",null,null,null,"（→）",null,null,null,null,null,{"$f":"IF(D20=\"地上\",K20-MIN(IF(D$10:D$509=\"地上\",K$10:K$509)),0)+SUM(L20:N20)","v":0},null,null,0]
["※自動的に名称を付けるのは、グルーピングに役立ちます。",null,12,null,"→",null,null,null,"（→）",null,null,null,null,null,{"$f":"IF(D21=\"地上\",K21-MIN(IF(D$10:D$509=\"地上\",K$10:K$509)),0)+SUM(L21:N21)","v":0},null,null,0]
[null,null,13,null,"→",null,null,null,"（→）",null,null,null,null,null,{"$f":"IF(D22=\"地上\",K22-MIN(IF(D$10:D$509=\"地上\",K$10:K$509)),0)+SUM(L22:N22)","v":0},null,null,0]
[null,null,14,null,"→",null,null,null,"（→）",null,null,null,null,null,{"$f":"IF(D23=\"地上\",K23-MIN(IF(D$10:D$509=\"地上\",K$10:K$509)),0)+SUM(L23:N23)","v":0},null,null,0]
["⑤流入口の流入幅を入力します。",null,15,null,"→",null,null,null,"（→）",null,null,null,null,null,{"$f":"IF(D24=\"地上\",K24-MIN(IF(D$10:D$509=\"地上\",K$10:K$509)),0)+SUM(L24:N24)","v":0},null,null,0]
[null,null,16,null,"→",null,null,null,"（→）",null,null,null,null,null,{"$f":"IF(D25=\"地上\",K25-MIN(IF(D$10:D$509=\"地上\",K$10:K$509)),0)+SUM(L25:N25)","v":0},null,null,0,null,null,"＜流入口からの流入量の計算＞"]
["⑥-1道路高を入力します。",null,17,null,"→",null,null,null,"（→）",null,null,null,null,null,{"$f":"IF(D26=\"地上\",K26-MIN(IF(D$10:D$509=\"地上\",K$10:K$509)),0)+SUM(L26:N26)","v":0},null,null,0]
["（流入口が地上の場合のみ）",null,18,null,"→",null,null,null,"（→）",null,null,null,null,null,{"$f":"IF(D27=\"地上\",K27-MIN(IF(D$10:D$509=\"地上\",K$10:K$509)),0)+SUM(L27:N27)","v":0},null,null,0]
[null,null,19,null,"→",null,null,null,"（→）",null,null,null,null,null,{"$f":"IF(D28=\"地上\",K28-MIN(IF(D$10:D$509=\"地上\",K$10:K$509)),0)+SUM(L28:N28)","v":0},null,null,0]
["※道路高が流入口の場所によって異なる場合、「標高」または「最も低い道路高との差分」を入力します。\n※この場合、地上の全流入口に道路高を入力する必要があります。\n※道路高がどの流入口でも同じ場合は、入力は不要です。",null,20,null,"→",null,null,null,"（→）",null,null,null,null,null,{"$f":"IF(D29=\"地上\",K29-MIN(IF(D$10:D$509=\"地上\",K$10:K$509)),0)+SUM(L29:N29)","v":0},null,null,0]
[null,null,21,null,"→",null,null,null,"（→）",null,null,null,null,null,{"$f":"IF(D30=\"地上\",K30-MIN(IF(D$10:D$509=\"地上\",K$10:K$509)),0)+SUM(L30:N30)","v":0},null,null,0]
[null,null,22,null,"→",null,null,null,"（→）",null,null,null,null,null,{"$f":"IF(D31=\"地上\",K31-MIN(IF(D$10:D$509=\"地上\",K$10:K$509)),0)+SUM(L31:N31)","v":0},null,null,0]
[null,null,23,null,"→",null,null,null,"（→）",null,null,null,null,null,{"$f":"IF(D32=\"地上\",K32-MIN(IF(D$10:D$509=\"地上\",K$10:K$509)),0)+SUM(L32:N32)","v":0},null,null,0]
[null,null,24,null,"→",null,null,null,"（→）",null,null,null,null,null,{"$f":"IF(D33=\"地上\",K33-MIN(IF(D$10:D$509=\"地上\",K$10:K$509)),0)+SUM(L33:N33)","v":0},null,null,0]
["⑥-2歩道高を入力します。",null,25,null,"→",null,null,null,"（→）",null,null,null,null,null,{"$f":"IF(D34=\"地上\",K34-MIN(IF(D$10:D$509=\"地上\",K$10:K$509)),0)+SUM(L34:N34)","v":0},null,null,0]
["（流入口が地上の場合のみ）",null,26,null,"→",null,null,null,"（→）",null,null,null,null,null,{"$f":"IF(D35=\"地上\",K35-MIN(IF(D$10:D$509=\"地上\",K$10:K$509)),0)+SUM(L35:N35)","v":0},null,null,0,null,null,"流入口からの流入量は、流入口の幅と越流水深（地上水深－流入高）より計算し、その結果から、地下空間や階段が浸水して避難困難になる時間を算定します。"]
[null,null,27,null,"→",null,null,null,"（→）",null,null,null,null,null,{"$f":"IF(D36=\"地上\",K36-MIN(IF(D$10:D$509=\"地上\",K$10:K$509)),0)+SUM(L36:N36)","v":0},null,null,0]
["⑥-3流入口設置高を入力します。",null,28,null,"→",null,null,null,"（→）",null,null,null,null,null,{"$f":"IF(D37=\"地上\",K37-MIN(IF(D$10:D$509=\"地上\",K$10:K$509)),0)+SUM(L37:N37)","v":0},null,null,0]
[null,null,29,null,"→",null,null,null,"（→）",null,null,null,null,null,{"$f":"IF(D38=\"地上\",K38-MIN(IF(D$10:D$509=\"地上\",K$10:K$509)),0)+SUM(L38:N38)","v":0},null,null,0,null,null,"＜流入幅、流入高の考え方(1)＞"]
["⑥-4流入口側壁高を入力します。",null,30,null,"→",null,null,null,"（→）",null,null,null,null,null,{"$f":"IF(D39=\"地上\",K39-MIN(IF(D$10:D$509=\"地上\",K$10:K$509)),0)+SUM(L39:N39)","v":0},null,null,0]
[null,null,31,null,"→",null,null,null,"（→）",null,null,null,null,null,{"$f":"IF(D40=\"地上\",K40-MIN(IF(D$10:D$509=\"地上\",K$10:K$509)),0)+SUM(L40:N40)","v":0},null,null,0]
["※側壁がある階段やエスカレータは、正面と側壁がある側面、対面では流入を開始する高さが変わるため、別々の流入口として設定する必要があります。",null,32,null,"→",null,null,null,"（→）",null,null,null,null,null,{"$f":"IF(D41=\"地上\",K41-MIN(IF(D$10:D$509=\"地上\",K$10:K$509)),0)+SUM(L41:N41)","v":0},null,null,0]
[null,null,33,null,"→",null,null,null,"（→）",null,null,null,null,null,{"$f":"IF(D42=\"地上\",K42-MIN(IF(D$10:D$509=\"地上\",K$10:K$509)),0)+SUM(L42:N42)","v":0},null,null,0]
[null,null,34,null,"→",null,null,null,"（→）",null,null,null,null,null,{"$f":"IF(D43=\"地上\",K43-MIN(IF(D$10:D$509=\"地上\",K$10:K$509)),0)+SUM(L43:N43)","v":0},null,null,0]
[null,null,35,null,"→",null,null,null,"（→）",null,null,null,null,null,{"$f":"IF(D44=\"地上\",K44-MIN(IF(D$10:D$509=\"地上\",K$10:K$509)),0)+SUM(L44:N44)","v":0},null,null,0]
["⑥-5流入高小計が自動的に計算されます。",null,36,null,"→",null,null,null,"（→）",null,null,null,null,null,{"$f":"IF(D45=\"地上\",K45-MIN(IF(D$10:D$509=\"地上\",K$10:K$509)),0)+SUM(L45:N45)","v":0},null,null,0]
[null,null,37,null,"→",null,null,null,"（→）",null,null,null,null,null,{"$f":"IF(D46=\"地上\",K46-MIN(IF(D$10:D$509=\"地上\",K$10:K$509)),0)+SUM(L46:N46)","v":0},null,null,0]
["⑦-1流入口対策高を入力します。",null,38,null,"→",null,null,null,"（→）",null,null,null,null,null,{"$f":"IF(D47=\"地上\",K47-MIN(IF(D$10:D$509=\"地上\",K$10:K$509)),0)+SUM(L47:N47)","v":0},null,null,0]
[null,null,39,null,"→",null,null,null,"（→）",null,null,null,null,null,{"$f":"IF(D48=\"地上\",K48-MIN(IF(D$10:D$509=\"地上\",K$10:K$509)),0)+SUM(L48:N48)","v":0},null,null,0]
["※防水板、土のう等の対策を行っている、または対策の有無で避難困難時間を比較するなどの場合に入力します。",null,40,null,"→",null,null,null,"（→）",null,null,null,null,null,{"$f":"IF(D49=\"地上\",K49-MIN(IF(D$10:D$509=\"地上\",K$10:K$509)),0)+SUM(L49:N49)","v":0},null,null,0]
[null,null,41,null,"→",null,null,null,"（→）",null,null,null,null,null,{"$f":"IF(D50=\"地上\",K50-MIN(IF(D$10:D$509=\"地上\",K$10:K$509)),0)+SUM(L50:N50)","v":0},null,null,0]
[null,null,42,null,"→",null,null,null,"（→）",null,null,null,null,null,{"$f":"IF(D51=\"地上\",K51-MIN(IF(D$10:D$509=\"地上\",K$10:K$509)),0)+SUM(L51:N51)","v":0},null,null,0]
["⑦-2対策の仕様を必要に応じて記入します。",null,43,null,"→",null,null,null,"（→）",null,null,null,null,null,{"$f":"IF(D52=\"地上\",K52-MIN(IF(D$10:D$509=\"地上\",K$10:K$509)),0)+SUM(L52:N52)","v":0},null,null,0]
[null,null,44,null,"→",null,null,null,"（→）",null,null,null,null,null,{"$f":"IF(D53=\"地上\",K53-MIN(IF(D$10:D$509=\"地上\",K$10:K$509)),0)+SUM(L53:N53)","v":0},null,null,0]
["⑧流入高合計が自動的に計算されます。",null,45,null,"→",null,null,null,"（→）",null,null,null,null,null,{"$f":"IF(D54=\"地上\",K54-MIN(IF(D$10:D$509=\"地上\",K$10:K$509)),0)+SUM(L54:N54)","v":0},null,null,0]
[null,null,46,null,"→",null,null,null,"（→）",null,null,null,null,null,{"$f":"IF(D55=\"地上\",K55-MIN(IF(D$10:D$509=\"地上\",K$10:K$509)),0)+SUM(L55:N55)","v":0},null,null,0,null,null,"側壁がある階段やエスカレータは、正面と側壁がある側面、対面では流入を開始する高さが変わるため、別々の流入口として設定する必要があります。"]
["⑨「グルーピング」ボタンをクリックしてグルーピングを行います。",null,47,null,"→",null,null,null,"（→）",null,null,null,null,null,{"$f":"IF(D56=\"地上\",K56-MIN(IF(D$10:D$509=\"地上\",K$10:K$509)),0)+SUM(L56:N56)","v":0},null,null,0]
[null,null,48,null,"→",null,null,null,"（→）",null,null,null,null,null,{"$f":"IF(D57=\"地上\",K57-MIN(IF(D$10:D$509=\"地上\",K$10:K$509)),0)+SUM(L57:N57)","v":0},null,null,0]
[null,null,49,null,"→",null,null,null,"（→）",null,null,null,null,null,{"$f":"IF(D58=\"地上\",K58-MIN(IF(D$10:D$509=\"地上\",K$10:K$509)),0)+SUM(L58:N58)","v":0},null,null,0,null,null,"・外部階段と内部階段"]
[null,null,50,null,"→",null,null,null,"（→）",null,null,null,null,null,{"$f":"IF(D59=\"地上\",K59-MIN(IF(D$10:D$509=\"地上\",K$10:K$509)),0)+SUM(L59:N59)","v":0},null,null,0]
["⑩グルーピングを行った際に、その流入口がどのグループになったかがわかるように、グループ番号が自動的に入力されます。",null,51,null,"→",null,null,null,"（→）",null,null,null,null,null,{"$f":"IF(D60=\"地上\",K60-MIN(IF(D$10:D$509=\"地上\",K$10:K$509)),0)+SUM(L60:N60)","v":0},null,null,0]
[null,null,52,null,"→",null,null,null,"（→）",null,null,null,null,null,{"$f":"IF(D61=\"地上\",K61-MIN(IF(D$10:D$509=\"地上\",K$10:K$509)),0)+SUM(L61:N61)","v":0},null,null,0]
[null,null,53,null,"→",null,null,null,"（→）",null,null,null,null,null,{"$f":"IF(D62=\"地上\",K62-MIN(IF(D$10:D$509=\"地上\",K$10:K$509)),0)+SUM(L62:N62)","v":0},null,null,0]
[null,null,54,null,"→",null,null,null,"（→）",null,null,null,null,null,{"$f":"IF(D63=\"地上\",K63-MIN(IF(D$10:D$509=\"地上\",K$10:K$509)),0)+SUM(L63:N63)","v":0},null,null,0]
[null,null,55,null,"→",null,null,null,"（→）",null,null,null,null,null,{"$f":"IF(D64=\"地上\",K64-MIN(IF(D$10:D$509=\"地上\",K$10:K$509)),0)+SUM(L64:N64)","v":0},null,null,0]
["⑪「ステップ4」へ進みます。",null,56,null,"→",null,null,null,"（→）",null,null,null,null,null,{"$f":"IF(D65=\"地上\",K65-MIN(IF(D$10:D$509=\"地上\",K$10:K$509)),0)+SUM(L65:N65)","v":0},null,null,0]
[null,null,57,null,"→",null,null,null,"（→）",null,null,null,null,null,{"$f":"IF(D66=\"地上\",K66-MIN(IF(D$10:D$509=\"地上\",K$10:K$509)),0)+SUM(L66:N66)","v":0},null,null,0,null,null,"　　　　　　　　　　　　　　　"]
[null,null,58,null,"→",null,null,null,"（→）",null,null,null,null,null,{"$f":"IF(D67=\"地上\",K67-MIN(IF(D$10:D$509=\"地上\",K$10:K$509)),0)+SUM(L67:N67)","v":0},null,null,0,null,null,"　　外部階段…区画・部屋外の階段で地上出入口が建物の外にある階段\n　　　　　　　（地上の浸水深が高い場合は危険なので避難に利用しない。）\n　　内部階段…区画・部屋内の階段、または区画・部屋外の階段で地上出入口が\n　　　　　　　建物内にある階段（避難に利用する。）"]
[null,null,59,null,"→",null,null,null,"（→）",null,null,null,null,null,{"$f":"IF(D68=\"地上\",K68-MIN(IF(D$10:D$509=\"地上\",K$10:K$509)),0)+SUM(L68:N68)","v":0},null,null,0]
[null,null,60,null,"→",null,null,null,"（→）",null,null,null,null,null,{"$f":"IF(D69=\"地上\",K69-MIN(IF(D$10:D$509=\"地上\",K$10:K$509)),0)+SUM(L69:N69)","v":0},null,null,0]
[null,null,61,null,"→",null,null,null,"（→）",null,null,null,null,null,{"$f":"IF(D70=\"地上\",K70-MIN(IF(D$10:D$509=\"地上\",K$10:K$509)),0)+SUM(L70:N70)","v":0},null,null,0]
[null,null,62,null,"→",null,null,null,"（→）",null,null,null,null,null,{"$f":"IF(D71=\"地上\",K71-MIN(IF(D$10:D$509=\"地上\",K$10:K$509)),0)+SUM(L71:N71)","v":0},null,null,0]
[null,null,63,null,"→",null,null,null,"（→）",null,null,null,null,null,{"$f":"IF(D72=\"地上\",K72-MIN(IF(D$10:D$509=\"地上\",K$10:K$509)),0)+SUM(L72:N72)","v":0},null,null,0,null,null,"＜流入幅、流入高の考え方(2)＞"]
[null,null,64,null,"→",null,null,null,"（→）",null,null,null,null,null,{"$f":"IF(D73=\"地上\",K73-MIN(IF(D$10:D$509=\"地上\",K$10:K$509)),0)+SUM(L73:N73)","v":0},null,null,0]
[null,null,65,null,"→",null,null,null,{"$f":"G74&\"（\"&D74&E74&F74&\"）\"","v":"（→）"},null,null,null,null,null,{"$f":"IF(D74=\"地上\",K74-MIN(IF(D$10:D$509=\"地上\",K$10:K$509)),0)+SUM(L74:N74)","v":0},null,null,{"$f":"O74+P74","v":0}]
[null,null,66,null,"→",null,null,null,"（→）",null,null,null,null,null,{"$f":"IF(D75=\"地上\",K75-MIN(IF(D$10:D$509=\"地上\",K$10:K$509)),0)+SUM(L75:N75)","v":0},null,null,0]
[null,null,67,null,"→",null,null,null,"（→）",null,null,null,null,null,{"$f":"IF(D76=\"地上\",K76-MIN(IF(D$10:D$509=\"地上\",K$10:K$509)),0)+SUM(L76:N76)","v":0},null,null,0]
[null,null,68,null,"→",null,null,null,"（→）",null,null,null,null,null,{"$f":"IF(D77=\"地上\",K77-MIN(IF(D$10:D$509=\"地上\",K$10:K$509)),0)+SUM(L77:N77)","v":0},null,null,0]
[null,null,69,null,"→",null,null,null,"（→）",null,null,null,null,null,{"$f":"IF(D78=\"地上\",K78-MIN(IF(D$10:D$509=\"地上\",K$10:K$509)),0)+SUM(L78:N78)","v":0},null,null,0]
[null,null,70,null,"→",null,null,null,"（→）",null,null,null,null,null,{"$f":"IF(D79=\"地上\",K79-MIN(IF(D$10:D$509=\"地上\",K$10:K$509)),0)+SUM(L79:N79)","v":0},null,null,0]
[null,null,71,null,"→",null,null,null,"（→）",null,null,null,null,null,{"$f":"IF(D80=\"地上\",K80-MIN(IF(D$10:D$509=\"地上\",K$10:K$509)),0)+SUM(L80:N80)","v":0},null,null,0]
[null,null,72,null,"→",null,null,null,"（→）",null,null,null,null,null,{"$f":"IF(D81=\"地上\",K81-MIN(IF(D$10:D$509=\"地上\",K$10:K$509)),0)+SUM(L81:N81)","v":0},null,null,0]
[null,null,73,null,"→",null,null,null,"（→）",null,null,null,null,null,{"$f":"IF(D82=\"地上\",K82-MIN(IF(D$10:D$509=\"地上\",K$10:K$509)),0)+SUM(L82:N82)","v":0},null,null,0]
[null,null,74,null,"→",null,null,null,"（→）",null,null,null,null,null,{"$f":"IF(D83=\"地上\",K83-MIN(IF(D$10:D$509=\"地上\",K$10:K$509)),0)+SUM(L83:N83)","v":0},null,null,0,null,null,"※実際の防水板や土のう等は施設の出入口に設置されますが、計算上は施設内の地上１階の全ての階段やエスカレータの正面部分に設置されたと考えます。"]
[null,null,75,null,"→",null,null,null,"（→）",null,null,null,null,null,{"$f":"IF(D84=\"地上\",K84-MIN(IF(D$10:D$509=\"地上\",K$10:K$509)),0)+SUM(L84:N84)","v":0},null,null,0]
[null,null,76,null,"→",null,null,null,"（→）",null,null,null,null,null,{"$f":"IF(D85=\"地上\",K85-MIN(IF(D$10:D$509=\"地上\",K$10:K$509)),0)+SUM(L85:N85)","v":0},null,null,0]
[null,null,77,null,"→",null,null,null,"（→）",null,null,null,null,null,{"$f":"IF(D86=\"地上\",K86-MIN(IF(D$10:D$509=\"地上\",K$10:K$509)),0)+SUM(L86:N86)","v":0},null,null,0]
[null,null,78,null,"→",null,null,null,"（→）",null,null,null,null,null,{"$f":"IF(D87=\"地上\",K87-MIN(IF(D$10:D$509=\"地上\",K$10:K$509)),0)+SUM(L87:N87)","v":0},null,null,0]
[null,null,79,null,"→",null,null,null,"（→）",null,null,null,null,null,{"$f":"IF(D88=\"地上\",K88-MIN(IF(D$10:D$509=\"地上\",K$10:K$509)),0)+SUM(L88:N88)","v":0},null,null,0]
[null,null,80,null,"→",null,null,null,"（→）",null,null,null,null,null,{"$f":"IF(D89=\"地上\",K89-MIN(IF(D$10:D$509=\"地上\",K$10:K$509)),0)+SUM(L89:N89)","v":0},null,null,0]
[null,null,81,null,"→",null,null,null,"（→）",null,null,null,null,null,{"$f":"IF(D90=\"地上\",K90-MIN(IF(D$10:D$509=\"地上\",K$10:K$509)),0)+SUM(L90:N90)","v":0},null,null,0]
[null,null,82,null,"→",null,null,null,"（→）",null,null,null,null,null,{"$f":"IF(D91=\"地上\",K91-MIN(IF(D$10:D$509=\"地上\",K$10:K$509)),0)+SUM(L91:N91)","v":0},null,null,0]
[null,null,83,null,"→",null,null,null,"（→）",null,null,null,null,null,{"$f":"IF(D92=\"地上\",K92-MIN(IF(D$10:D$509=\"地上\",K$10:K$509)),0)+SUM(L92:N92)","v":0},null,null,0]
[null,null,84,null,"→",null,null,null,"（→）",null,null,null,null,null,{"$f":"IF(D93=\"地上\",K93-MIN(IF(D$10:D$509=\"地上\",K$10:K$509)),0)+SUM(L93:N93)","v":0},null,null,0]
[null,null,85,null,"→",null,null,null,"（→）",null,null,null,null,null,{"$f":"IF(D94=\"地上\",K94-MIN(IF(D$10:D$509=\"地上\",K$10:K$509)),0)+SUM(L94:N94)","v":0},null,null,0]
[null,null,86,null,"→",null,null,null,"（→）",null,null,null,null,null,{"$f":"IF(D95=\"地上\",K95-MIN(IF(D$10:D$509=\"地上\",K$10:K$509)),0)+SUM(L95:N95)","v":0},null,null,0]
[null,null,87,null,"→",null,null,null,"（→）",null,null,null,null,null,{"$f":"IF(D96=\"地上\",K96-MIN(IF(D$10:D$509=\"地上\",K$10:K$509)),0)+SUM(L96:N96)","v":0},null,null,0]
[null,null,88,null,"→",null,null,null,"（→）",null,null,null,null,null,{"$f":"IF(D97=\"地上\",K97-MIN(IF(D$10:D$509=\"地上\",K$10:K$509)),0)+SUM(L97:N97)","v":0},null,null,0]
[null,null,89,null,"→",null,null,null,"（→）",null,null,null,null,null,{"$f":"IF(D98=\"地上\",K98-MIN(IF(D$10:D$509=\"地上\",K$10:K$509)),0)+SUM(L98:N98)","v":0},null,null,0]
[null,null,90,null,"→",null,null,null,"（→）",null,null,null,null,null,{"$f":"IF(D99=\"地上\",K99-MIN(IF(D$10:D$509=\"地上\",K$10:K$509)),0)+SUM(L99:N99)","v":0},null,null,0]
[null,null,91,null,"→",null,null,null,"（→）",null,null,null,null,null,{"$f":"IF(D100=\"地上\",K100-MIN(IF(D$10:D$509=\"地上\",K$10:K$509)),0)+SUM(L100:N100)","v":0},null,null,0]
[null,null,92,null,"→",null,null,null,"（→）",null,null,null,null,null,{"$f":"IF(D101=\"地上\",K101-MIN(IF(D$10:D$509=\"地上\",K$10:K$509)),0)+SUM(L101:N101)","v":0},null,null,0]
[null,null,93,null,"→",null,null,null,"（→）",null,null,null,null,null,{"$f":"IF(D102=\"地上\",K102-MIN(IF(D$10:D$509=\"地上\",K$10:K$509)),0)+SUM(L102:N102)","v":0},null,null,0]
[null,null,94,null,"→",null,null,null,"（→）",null,null,null,null,null,{"$f":"IF(D103=\"地上\",K103-MIN(IF(D$10:D$509=\"地上\",K$10:K$509)),0)+SUM(L103:N103)","v":0},null,null,0]
[null,null,95,null,"→",null,null,null,"（→）",null,null,null,null,null,{"$f":"IF(D104=\"地上\",K104-MIN(IF(D$10:D$509=\"地上\",K$10:K$509)),0)+SUM(L104:N104)","v":0},null,null,0]
[null,null,96,null,"→",null,null,null,"（→）",null,null,null,null,null,{"$f":"IF(D105=\"地上\",K105-MIN(IF(D$10:D$509=\"地上\",K$10:K$509)),0)+SUM(L105:N105)","v":0},null,null,0]
[null,null,97,null,"→",null,null,null,"（→）",null,null,null,null,null,{"$f":"IF(D106=\"地上\",K106-MIN(IF(D$10:D$509=\"地上\",K$10:K$509)),0)+SUM(L106:N106)","v":0},null,null,0]
[null,null,98,null,"→",null,null,null,"（→）",null,null,null,null,null,{"$f":"IF(D107=\"地上\",K107-MIN(IF(D$10:D$509=\"地上\",K$10:K$509)),0)+SUM(L107:N107)","v":0},null,null,0,null,null,"＜流入口のある地点の地盤高が異なる場合＞"]
[null,null,99,null,"→",null,null,null,"（→）",null,null,null,null,null,{"$f":"IF(D108=\"地上\",K108-MIN(IF(D$10:D$509=\"地上\",K$10:K$509)),0)+SUM(L108:N108)","v":0},null,null,0]
[null,null,100,null,"→",null,null,null,"（→）",null,null,null,null,null,{"$f":"IF(D109=\"地上\",K109-MIN(IF(D$10:D$509=\"地上\",K$10:K$509)),0)+SUM(L109:N109)","v":0},null,null,0]
[null,null,101,null,"→",null,null,null,"（→）",null,null,null,null,null,{"$f":"IF(D110=\"地上\",K110-MIN(IF(D$10:D$509=\"地上\",K$10:K$509)),0)+SUM(L110:N110)","v":0},null,null,0]
[null,null,102,null,"→",null,null,null,"（→）",null,null,null,null,null,{"$f":"IF(D111=\"地上\",K111-MIN(IF(D$10:D$509=\"地上\",K$10:K$509)),0)+SUM(L111:N111)","v":0},null,null,0]
[null,null,103,null,"→",null,null,null,"（→）",null,null,null,null,null,{"$f":"IF(D112=\"地上\",K112-MIN(IF(D$10:D$509=\"地上\",K$10:K$509)),0)+SUM(L112:N112)","v":0},null,null,0]
[null,null,104,null,"→",null,null,null,"（→）",null,null,null,null,null,{"$f":"IF(D113=\"地上\",K113-MIN(IF(D$10:D$509=\"地上\",K$10:K$509)),0)+SUM(L113:N113)","v":0},null,null,0]
[null,null,105,null,"→",null,null,null,"（→）",null,null,null,null,null,{"$f":"IF(D114=\"地上\",K114-MIN(IF(D$10:D$509=\"地上\",K$10:K$509)),0)+SUM(L114:N114)","v":0},null,null,0]
[null,null,106,null,"→",null,null,null,"（→）",null,null,null,null,null,{"$f":"IF(D115=\"地上\",K115-MIN(IF(D$10:D$509=\"地上\",K$10:K$509)),0)+SUM(L115:N115)","v":0},null,null,0]
[null,null,107,null,"→",null,null,null,"（→）",null,null,null,null,null,{"$f":"IF(D116=\"地上\",K116-MIN(IF(D$10:D$509=\"地上\",K$10:K$509)),0)+SUM(L116:N116)","v":0},null,null,0]
[null,null,108,null,"→",null,null,null,"（→）",null,null,null,null,null,{"$f":"IF(D117=\"地上\",K117-MIN(IF(D$10:D$509=\"地上\",K$10:K$509)),0)+SUM(L117:N117)","v":0},null,null,0]
[null,null,109,null,"→",null,null,null,"（→）",null,null,null,null,null,{"$f":"IF(D118=\"地上\",K118-MIN(IF(D$10:D$509=\"地上\",K$10:K$509)),0)+SUM(L118:N118)","v":0},null,null,0]
[null,null,110,null,"→",null,null,null,"（→）",null,null,null,null,null,{"$f":"IF(D119=\"地上\",K119-MIN(IF(D$10:D$509=\"地上\",K$10:K$509)),0)+SUM(L119:N119)","v":0},null,null,0,null,null,"次のいずれかの数値を地盤高に入力します。（結果は同じになります。）"]
[null,null,111,null,"→",null,null,null,"（→）",null,null,null,null,null,{"$f":"IF(D120=\"地上\",K120-MIN(IF(D$10:D$509=\"地上\",K$10:K$509)),0)+SUM(L120:N120)","v":0},null,null,0,null,null,"(1)地盤高をそのまま入力\n　自動的に最も低い流入口aの地盤高との差分をとって流入高に加えます。\n(2)最も低い位置の地盤高（流入口a）を０として差分を入力\n　自動的にそのまま流入口に加えます。"]
[null,null,112,null,"→",null,null,null,"（→）",null,null,null,null,null,{"$f":"IF(D121=\"地上\",K121-MIN(IF(D$10:D$509=\"地上\",K$10:K$509)),0)+SUM(L121:N121)","v":0},null,null,0]
[null,null,113,null,"→",null,null,null,"（→）",null,null,null,null,null,{"$f":"IF(D122=\"地上\",K122-MIN(IF(D$10:D$509=\"地上\",K$10:K$509)),0)+SUM(L122:N122)","v":0},null,null,0]
[null,null,114,null,"→",null,null,null,"（→）",null,null,null,null,null,{"$f":"IF(D123=\"地上\",K123-MIN(IF(D$10:D$509=\"地上\",K$10:K$509)),0)+SUM(L123:N123)","v":0},null,null,0]
[null,null,115,null,"→",null,null,null,"（→）",null,null,null,null,null,{"$f":"IF(D124=\"地上\",K124-MIN(IF(D$10:D$509=\"地上\",K$10:K$509)),0)+SUM(L124:N124)","v":0},null,null,0]
[null,null,116,null,"→",null,null,null,"（→）",null,null,null,null,null,{"$f":"IF(D125=\"地上\",K125-MIN(IF(D$10:D$509=\"地上\",K$10:K$509)),0)+SUM(L125:N125)","v":0},null,null,0,null,null,"※地盤高を入力する場合は、地上の全流入口に地盤高を入力する必要があります。\n※地盤高がどこも同じ場合は、入力は不要です。"]
[null,null,117,null,"→",null,null,null,"（→）",null,null,null,null,null,{"$f":"IF(D126=\"地上\",K126-MIN(IF(D$10:D$509=\"地上\",K$10:K$509)),0)+SUM(L126:N126)","v":0},null,null,0]
[null,null,118,null,"→",null,null,null,"（→）",null,null,null,null,null,{"$f":"IF(D127=\"地上\",K127-MIN(IF(D$10:D$509=\"地上\",K$10:K$509)),0)+SUM(L127:N127)","v":0},null,null,0]
[null,null,119,null,"→",null,null,null,"（→）",null,null,null,null,null,{"$f":"IF(D128=\"地上\",K128-MIN(IF(D$10:D$509=\"地上\",K$10:K$509)),0)+SUM(L128:N128)","v":0},null,null,0]
[null,null,120,null,"→",null,null,null,"（→）",null,null,null,null,null,{"$f":"IF(D129=\"地上\",K129-MIN(IF(D$10:D$509=\"地上\",K$10:K$509)),0)+SUM(L129:N129)","v":0},null,null,0]
[null,null,121,null,"→",null,null,null,"（→）",null,null,null,null,null,{"$f":"IF(D130=\"地上\",K130-MIN(IF(D$10:D$509=\"地上\",K$10:K$509)),0)+SUM(L130:N130)","v":0},null,null,0]
[null,null,122,null,"→",null,null,null,"（→）",null,null,null,null,null,{"$f":"IF(D131=\"地上\",K131-MIN(IF(D$10:D$509=\"地上\",K$10:K$509)),0)+SUM(L131:N131)","v":0},null,null,0]
[null,null,123,null,"→",null,null,null,"（→）",null,null,null,null,null,{"$f":"IF(D132=\"地上\",K132-MIN(IF(D$10:D$509=\"地上\",K$10:K$509)),0)+SUM(L132:N132)","v":0},null,null,0]
[null,null,124,null,"→",null,null,null,"（→）",null,null,null,null,null,{"$f":"IF(D133=\"地上\",K133-MIN(IF(D$10:D$509=\"地上\",K$10:K$509)),0)+SUM(L133:N133)","v":0},null,null,0]
[null,null,125,null,"→",null,null,null,"（→）",null,null,null,null,null,{"$f":"IF(D134=\"地上\",K134-MIN(IF(D$10:D$509=\"地上\",K$10:K$509)),0)+SUM(L134:N134)","v":0},null,null,0]
[null,null,126,null,"→",null,null,null,"（→）",null,null,null,null,null,{"$f":"IF(D135=\"地上\",K135-MIN(IF(D$10:D$509=\"地上\",K$10:K$509)),0)+SUM(L135:N135)","v":0},null,null,0]
[null,null,127,null,"→",null,null,null,"（→）",null,null,null,null,null,{"$f":"IF(D136=\"地上\",K136-MIN(IF(D$10:D$509=\"地上\",K$10:K$509)),0)+SUM(L136:N136)","v":0},null,null,0]
[null,null,128,null,"→",null,null,null,"（→）",null,null,null,null,null,{"$f":"IF(D137=\"地上\",K137-MIN(IF(D$10:D$509=\"地上\",K$10:K$509)),0)+SUM(L137:N137)","v":0},null,null,0]
[null,null,129,null,"→",null,null,null,{"$f":"G138&\"（\"&D138&E138&F138&\"）\"","v":"（→）"},null,null,null,null,null,{"$f":"IF(D138=\"地上\",K138-MIN(IF(D$10:D$509=\"地上\",K$10:K$509)),0)+SUM(L138:N138)","v":0},null,null,{"$f":"O138+P138","v":0}]
[null,null,130,null,"→",null,null,null,"（→）",null,null,null,null,null,{"$f":"IF(D139=\"地上\",K139-MIN(IF(D$10:D$509=\"地上\",K$10:K$509)),0)+SUM(L139:N139)","v":0},null,null,0]
[null,null,131,null,"→",null,null,null,"（→）",null,null,null,null,null,{"$f":"IF(D140=\"地上\",K140-MIN(IF(D$10:D$509=\"地上\",K$10:K$509)),0)+SUM(L140:N140)","v":0},null,null,0]
[null,null,132,null,"→",null,null,null,"（→）",null,null,null,null,null,{"$f":"IF(D141=\"地上\",K141-MIN(IF(D$10:D$509=\"地上\",K$10:K$509)),0)+SUM(L141:N141)","v":0},null,null,0]
[null,null,133,null,"→",null,null,null,"（→）",null,null,null,null,null,{"$f":"IF(D142=\"地上\",K142-MIN(IF(D$10:D$509=\"地上\",K$10:K$509)),0)+SUM(L142:N142)","v":0},null,null,0]
[null,null,134,null,"→",null,null,null,"（→）",null,null,null,null,null,{"$f":"IF(D143=\"地上\",K143-MIN(IF(D$10:D$509=\"地上\",K$10:K$509)),0)+SUM(L143:N143)","v":0},null,null,0]
[null,null,135,null,"→",null,null,null,"（→）",null,null,null,null,null,{"$f":"IF(D144=\"地上\",K144-MIN(IF(D$10:D$509=\"地上\",K$10:K$509)),0)+SUM(L144:N144)","v":0},null,null,0]
[null,null,136,null,"→",null,null,null,"（→）",null,null,null,null,null,{"$f":"IF(D145=\"地上\",K145-MIN(IF(D$10:D$509=\"地上\",K$10:K$509)),0)+SUM(L145:N145)","v":0},null,null,0]
[null,null,137,null,"→",null,null,null,"（→）",null,null,null,null,null,{"$f":"IF(D146=\"地上\",K146-MIN(IF(D$10:D$509=\"地上\",K$10:K$509)),0)+SUM(L146:N146)","v":0},null,null,0]
[null,null,138,null,"→",null,null,null,"（→）",null,null,null,null,null,{"$f":"IF(D147=\"地上\",K147-MIN(IF(D$10:D$509=\"地上\",K$10:K$509)),0)+SUM(L147:N147)","v":0},null,null,0]
[null,null,139,null,"→",null,null,null,"（→）",null,null,null,null,null,{"$f":"IF(D148=\"地上\",K148-MIN(IF(D$10:D$509=\"地上\",K$10:K$509)),0)+SUM(L148:N148)","v":0},null,null,0]
[null,null,140,null,"→",null,null,null,"（→）",null,null,null,null,null,{"$f":"IF(D149=\"地上\",K149-MIN(IF(D$10:D$509=\"地上\",K$10:K$509)),0)+SUM(L149:N149)","v":0},null,null,0]
[null,null,141,null,"→",null,null,null,"（→）",null,null,null,null,null,{"$f":"IF(D150=\"地上\",K150-MIN(IF(D$10:D$509=\"地上\",K$10:K$509)),0)+SUM(L150:N150)","v":0},null,null,0]
[null,null,142,null,"→",null,null,null,"（→）",null,null,null,null,null,{"$f":"IF(D151=\"地上\",K151-MIN(IF(D$10:D$509=\"地上\",K$10:K$509)),0)+SUM(L151:N151)","v":0},null,null,0]
[null,null,143,null,"→",null,null,null,"（→）",null,null,null,null,null,{"$f":"IF(D152=\"地上\",K152-MIN(IF(D$10:D$509=\"地上\",K$10:K$509)),0)+SUM(L152:N152)","v":0},null,null,0]
[null,null,144,null,"→",null,null,null,"（→）",null,null,null,null,null,{"$f":"IF(D153=\"地上\",K153-MIN(IF(D$10:D$509=\"地上\",K$10:K$509)),0)+SUM(L153:N153)","v":0},null,null,0]
[null,null,145,null,"→",null,null,null,"（→）",null,null,null,null,null,{"$f":"IF(D154=\"地上\",K154-MIN(IF(D$10:D$509=\"地上\",K$10:K$509)),0)+SUM(L154:N154)","v":0},null,null,0]
[null,null,146,null,"→",null,null,null,"（→）",null,null,null,null,null,{"$f":"IF(D155=\"地上\",K155-MIN(IF(D$10:D$509=\"地上\",K$10:K$509)),0)+SUM(L155:N155)","v":0},null,null,0]
[null,null,147,null,"→",null,null,null,"（→）",null,null,null,null,null,{"$f":"IF(D156=\"地上\",K156-MIN(IF(D$10:D$509=\"地上\",K$10:K$509)),0)+SUM(L156:N156)","v":0},null,null,0]
[null,null,148,null,"→",null,null,null,"（→）",null,null,null,null,null,{"$f":"IF(D157=\"地上\",K157-MIN(IF(D$10:D$509=\"地上\",K$10:K$509)),0)+SUM(L157:N157)","v":0},null,null,0]
[null,null,149,null,"→",null,null,null,"（→）",null,null,null,null,null,{"$f":"IF(D158=\"地上\",K158-MIN(IF(D$10:D$509=\"地上\",K$10:K$509)),0)+SUM(L158:N158)","v":0},null,null,0]
[null,null,150,null,"→",null,null,null,"（→）",null,null,null,null,null,{"$f":"IF(D159=\"地上\",K159-MIN(IF(D$10:D$509=\"地上\",K$10:K$509)),0)+SUM(L159:N159)","v":0},null,null,0]
[null,null,151,null,"→",null,null,null,"（→）",null,null,null,null,null,{"$f":"IF(D160=\"地上\",K160-MIN(IF(D$10:D$509=\"地上\",K$10:K$509)),0)+SUM(L160:N160)","v":0},null,null,0]
[null,null,152,null,"→",null,null,null,"（→）",null,null,null,null,null,{"$f":"IF(D161=\"地上\",K161-MIN(IF(D$10:D$509=\"地上\",K$10:K$509)),0)+SUM(L161:N161)","v":0},null,null,0]
[null,null,153,null,"→",null,null,null,"（→）",null,null,null,null,null,{"$f":"IF(D162=\"地上\",K162-MIN(IF(D$10:D$509=\"地上\",K$10:K$509)),0)+SUM(L162:N162)","v":0},null,null,0]
[null,null,154,null,"→",null,null,null,"（→）",null,null,null,null,null,{"$f":"IF(D163=\"地上\",K163-MIN(IF(D$10:D$509=\"地上\",K$10:K$509)),0)+SUM(L163:N163)","v":0},null,null,0]
[null,null,155,null,"→",null,null,null,"（→）",null,null,null,null,null,{"$f":"IF(D164=\"地上\",K164-MIN(IF(D$10:D$509=\"地上\",K$10:K$509)),0)+SUM(L164:N164)","v":0},null,null,0]
[null,null,156,null,"→",null,null,null,"（→）",null,null,null,null,null,{"$f":"IF(D165=\"地上\",K165-MIN(IF(D$10:D$509=\"地上\",K$10:K$509)),0)+SUM(L165:N165)","v":0},null,null,0]
[null,null,157,null,"→",null,null,null,"（→）",null,null,null,null,null,{"$f":"IF(D166=\"地上\",K166-MIN(IF(D$10:D$509=\"地上\",K$10:K$509)),0)+SUM(L166:N166)","v":0},null,null,0]
[null,null,158,null,"→",null,null,null,"（→）",null,null,null,null,null,{"$f":"IF(D167=\"地上\",K167-MIN(IF(D$10:D$509=\"地上\",K$10:K$509)),0)+SUM(L167:N167)","v":0},null,null,0]
[null,null,159,null,"→",null,null,null,"（→）",null,null,null,null,null,{"$f":"IF(D168=\"地上\",K168-MIN(IF(D$10:D$509=\"地上\",K$10:K$509)),0)+SUM(L168:N168)","v":0},null,null,0]
[null,null,160,null,"→",null,null,null,"（→）",null,null,null,null,null,{"$f":"IF(D169=\"地上\",K169-MIN(IF(D$10:D$509=\"地上\",K$10:K$509)),0)+SUM(L169:N169)","v":0},null,null,0]
[null,null,161,null,"→",null,null,null,"（→）",null,null,null,null,null,{"$f":"IF(D170=\"地上\",K170-MIN(IF(D$10:D$509=\"地上\",K$10:K$509)),0)+SUM(L170:N170)","v":0},null,null,0]
[null,null,162,null,"→",null,null,null,"（→）",null,null,null,null,null,{"$f":"IF(D171=\"地上\",K171-MIN(IF(D$10:D$509=\"地上\",K$10:K$509)),0)+SUM(L171:N171)","v":0},null,null,0]
[null,null,163,null,"→",null,null,null,"（→）",null,null,null,null,null,{"$f":"IF(D172=\"地上\",K172-MIN(IF(D$10:D$509=\"地上\",K$10:K$509)),0)+SUM(L172:N172)","v":0},null,null,0]
[null,null,164,null,"→",null,null,null,"（→）",null,null,null,null,null,{"$f":"IF(D173=\"地上\",K173-MIN(IF(D$10:D$509=\"地上\",K$10:K$509)),0)+SUM(L173:N173)","v":0},null,null,0]
[null,null,165,null,"→",null,null,null,"（→）",null,null,null,null,null,{"$f":"IF(D174=\"地上\",K174-MIN(IF(D$10:D$509=\"地上\",K$10:K$509)),0)+SUM(L174:N174)","v":0},null,null,0]
[null,null,166,null,"→",null,null,null,"（→）",null,null,null,null,null,{"$f":"IF(D175=\"地上\",K175-MIN(IF(D$10:D$509=\"地上\",K$10:K$509)),0)+SUM(L175:N175)","v":0},null,null,0]
[null,null,167,null,"→",null,null,null,"（→）",null,null,null,null,null,{"$f":"IF(D176=\"地上\",K176-MIN(IF(D$10:D$509=\"地上\",K$10:K$509)),0)+SUM(L176:N176)","v":0},null,null,0]
[null,null,168,null,"→",null,null,null,"（→）",null,null,null,null,null,{"$f":"IF(D177=\"地上\",K177-MIN(IF(D$10:D$509=\"地上\",K$10:K$509)),0)+SUM(L177:N177)","v":0},null,null,0]
[null,null,169,null,"→",null,null,null,"（→）",null,null,null,null,null,{"$f":"IF(D178=\"地上\",K178-MIN(IF(D$10:D$509=\"地上\",K$10:K$509)),0)+SUM(L178:N178)","v":0},null,null,0]
[null,null,170,null,"→",null,null,null,"（→）",null,null,null,null,null,{"$f":"IF(D179=\"地上\",K179-MIN(IF(D$10:D$509=\"地上\",K$10:K$509)),0)+SUM(L179:N179)","v":0},null,null,0]
[null,null,171,null,"→",null,null,null,"（→）",null,null,null,null,null,{"$f":"IF(D180=\"地上\",K180-MIN(IF(D$10:D$509=\"地上\",K$10:K$509)),0)+SUM(L180:N180)","v":0},null,null,0]
[null,null,172,null,"→",null,null,null,"（→）",null,null,null,null,null,{"$f":"IF(D181=\"地上\",K181-MIN(IF(D$10:D$509=\"地上\",K$10:K$509)),0)+SUM(L181:N181)","v":0},null,null,0]
[null,null,173,null,"→",null,null,null,"（→）",null,null,null,null,null,{"$f":"IF(D182=\"地上\",K182-MIN(IF(D$10:D$509=\"地上\",K$10:K$509)),0)+SUM(L182:N182)","v":0},null,null,0]
[null,null,174,null,"→",null,null,null,"（→）",null,null,null,null,null,{"$f":"IF(D183=\"地上\",K183-MIN(IF(D$10:D$509=\"地上\",K$10:K$509)),0)+SUM(L183:N183)","v":0},null,null,0]
[null,null,175,null,"→",null,null,null,"（→）",null,null,null,null,null,{"$f":"IF(D184=\"地上\",K184-MIN(IF(D$10:D$509=\"地上\",K$10:K$509)),0)+SUM(L184:N184)","v":0},null,null,0]
[null,null,176,null,"→",null,null,null,"（→）",null,null,null,null,null,{"$f":"IF(D185=\"地上\",K185-MIN(IF(D$10:D$509=\"地上\",K$10:K$509)),0)+SUM(L185:N185)","v":0},null,null,0]
[null,null,177,null,"→",null,null,null,"（→）",null,null,null,null,null,{"$f":"IF(D186=\"地上\",K186-MIN(IF(D$10:D$509=\"地上\",K$10:K$509)),0)+SUM(L186:N186)","v":0},null,null,0]
[null,null,178,null,"→",null,null,null,"（→）",null,null,null,null,null,{"$f":"IF(D187=\"地上\",K187-MIN(IF(D$10:D$509=\"地上\",K$10:K$509)),0)+SUM(L187:N187)","v":0},null,null,0]
[null,null,179,null,"→",null,null,null,"（→）",null,null,null,null,null,{"$f":"IF(D188=\"地上\",K188-MIN(IF(D$10:D$509=\"地上\",K$10:K$509)),0)+SUM(L188:N188)","v":0},null,null,0]
[null,null,180,null,"→",null,null,null,"（→）",null,null,null,null,null,{"$f":"IF(D189=\"地上\",K189-MIN(IF(D$10:D$509=\"地上\",K$10:K$509)),0)+SUM(L189:N189)","v":0},null,null,0]
[null,null,181,null,"→",null,null,null,"（→）",null,null,null,null,null,{"$f":"IF(D190=\"地上\",K190-MIN(IF(D$10:D$509=\"地上\",K$10:K$509)),0)+SUM(L190:N190)","v":0},null,null,0]
[null,null,182,null,"→",null,null,null,"（→）",null,null,null,null,null,{"$f":"IF(D191=\"地上\",K191-MIN(IF(D$10:D$509=\"地上\",K$10:K$509)),0)+SUM(L191:N191)","v":0},null,null,0]
[null,null,183,null,"→",null,null,null,"（→）",null,null,null,null,null,{"$f":"IF(D192=\"地上\",K192-MIN(IF(D$10:D$509=\"地上\",K$10:K$509)),0)+SUM(L192:N192)","v":0},null,null,0]
[null,null,184,null,"→",null,null,null,"（→）",null,null,null,null,null,{"$f":"IF(D193=\"地上\",K193-MIN(IF(D$10:D$509=\"地上\",K$10:K$509)),0)+SUM(L193:N193)","v":0},null,null,0]
[null,null,185,null,"→",null,null,null,"（→）",null,null,null,null,null,{"$f":"IF(D194=\"地上\",K194-MIN(IF(D$10:D$509=\"地上\",K$10:K$509)),0)+SUM(L194:N194)","v":0},null,null,0]
[null,null,186,null,"→",null,null,null,"（→）",null,null,null,null,null,{"$f":"IF(D195=\"地上\",K195-MIN(IF(D$10:D$509=\"地上\",K$10:K$509)),0)+SUM(L195:N195)","v":0},null,null,0]
[null,null,187,null,"→",null,null,null,"（→）",null,null,null,null,null,{"$f":"IF(D196=\"地上\",K196-MIN(IF(D$10:D$509=\"地上\",K$10:K$509)),0)+SUM(L196:N196)","v":0},null,null,0]
[null,null,188,null,"→",null,null,null,"（→）",null,null,null,null,null,{"$f":"IF(D197=\"地上\",K197-MIN(IF(D$10:D$509=\"地上\",K$10:K$509)),0)+SUM(L197:N197)","v":0},null,null,0]
[null,null,189,null,"→",null,null,null,"（→）",null,null,null,null,null,{"$f":"IF(D198=\"地上\",K198-MIN(IF(D$10:D$509=\"地上\",K$10:K$509)),0)+SUM(L198:N198)","v":0},null,null,0]
[null,null,190,null,"→",null,null,null,"（→）",null,null,null,null,null,{"$f":"IF(D199=\"地上\",K199-MIN(IF(D$10:D$509=\"地上\",K$10:K$509)),0)+SUM(L199:N199)","v":0},null,null,0]
[null,null,191,null,"→",null,null,null,"（→）",null,null,null,null,null,{"$f":"IF(D200=\"地上\",K200-MIN(IF(D$10:D$509=\"地上\",K$10:K$509)),0)+SUM(L200:N200)","v":0},null,null,0]
[null,null,192,null,"→",null,null,null,"（→）",null,null,null,null,null,{"$f":"IF(D201=\"地上\",K201-MIN(IF(D$10:D$509=\"地上\",K$10:K$509)),0)+SUM(L201:N201)","v":0},null,null,0]
[null,null,193,null,"→",null,null,null,{"$f":"G202&\"（\"&D202&E202&F202&\"）\"","v":"（→）"},null,null,null,null,null,{"$f":"IF(D202=\"地上\",K202-MIN(IF(D$10:D$509=\"地上\",K$10:K$509)),0)+SUM(L202:N202)","v":0},null,null,{"$f":"O202+P202","v":0}]
[null,null,194,null,"→",null,null,null,"（→）",null,null,null,null,null,{"$f":"IF(D203=\"地上\",K203-MIN(IF(D$10:D$509=\"地上\",K$10:K$509)),0)+SUM(L203:N203)","v":0},null,null,0]
[null,null,195,null,"→",null,null,null,"（→）",null,null,null,null,null,{"$f":"IF(D204=\"地上\",K204-MIN(IF(D$10:D$509=\"地上\",K$10:K$509)),0)+SUM(L204:N204)","v":0},null,null,0]
[null,null,196,null,"→",null,null,null,"（→）",null,null,null,null,null,{"$f":"IF(D205=\"地上\",K205-MIN(IF(D$10:D$509=\"地上\",K$10:K$509)),0)+SUM(L205:N205)","v":0},null,null,0]
[null,null,197,null,"→",null,null,null,"（→）",null,null,null,null,null,{"$f":"IF(D206=\"地上\",K206-MIN(IF(D$10:D$509=\"地上\",K$10:K$509)),0)+SUM(L206:N206)","v":0},null,null,0]
[null,null,198,null,"→",null,null,null,"（→）",null,null,null,null,null,{"$f":"IF(D207=\"地上\",K207-MIN(IF(D$10:D$509=\"地上\",K$10:K$509)),0)+SUM(L207:N207)","v":0},null,null,0]
[null,null,199,null,"→",null,null,null,"（→）",null,null,null,null,null,{"$f":"IF(D208=\"地上\",K208-MIN(IF(D$10:D$509=\"地上\",K$10:K$509)),0)+SUM(L208:N208)","v":0},null,null,0]
[null,null,200,null,"→",null,null,null,"（→）",null,null,null,null,null,{"$f":"IF(D209=\"地上\",K209-MIN(IF(D$10:D$509=\"地上\",K$10:K$509)),0)+SUM(L209:N209)","v":0},null,null,0]
[null,null,201,null,"→",null,null,null,"（→）",null,null,null,null,null,{"$f":"IF(D210=\"地上\",K210-MIN(IF(D$10:D$509=\"地上\",K$10:K$509)),0)+SUM(L210:N210)","v":0},null,null,0]
[null,null,202,null,"→",null,null,null,"（→）",null,null,null,null,null,{"$f":"IF(D211=\"地上\",K211-MIN(IF(D$10:D$509=\"地上\",K$10:K$509)),0)+SUM(L211:N211)","v":0},null,null,0]
[null,null,203,null,"→",null,null,null,"（→）",null,null,null,null,null,{"$f":"IF(D212=\"地上\",K212-MIN(IF(D$10:D$509=\"地上\",K$10:K$509)),0)+SUM(L212:N212)","v":0},null,null,0]
[null,null,204,null,"→",null,null,null,"（→）",null,null,null,null,null,{"$f":"IF(D213=\"地上\",K213-MIN(IF(D$10:D$509=\"地上\",K$10:K$509)),0)+SUM(L213:N213)","v":0},null,null,0]
[null,null,205,null,"→",null,null,null,"（→）",null,null,null,null,null,{"$f":"IF(D214=\"地上\",K214-MIN(IF(D$10:D$509=\"地上\",K$10:K$509)),0)+SUM(L214:N214)","v":0},null,null,0]
[null,null,206,null,"→",null,null,null,"（→）",null,null,null,null,null,{"$f":"IF(D215=\"地上\",K215-MIN(IF(D$10:D$509=\"地上\",K$10:K$509)),0)+SUM(L215:N215)","v":0},null,null,0]
[null,null,207,null,"→",null,null,null,"（→）",null,null,null,null,null,{"$f":"IF(D216=\"地上\",K216-MIN(IF(D$10:D$509=\"地上\",K$10:K$509)),0)+SUM(L216:N216)","v":0},null,null,0]
[null,null,208,null,"→",null,null,null,"（→）",null,null,null,null,null,{"$f":"IF(D217=\"地上\",K217-MIN(IF(D$10:D$509=\"地上\",K$10:K$509)),0)+SUM(L217:N217)","v":0},null,null,0]
[null,null,209,null,"→",null,null,null,"（→）",null,null,null,null,null,{"$f":"IF(D218=\"地上\",K218-MIN(IF(D$10:D$509=\"地上\",K$10:K$509)),0)+SUM(L218:N218)","v":0},null,null,0]
[null,null,210,null,"→",null,null,null,"（→）",null,null,null,null,null,{"$f":"IF(D219=\"地上\",K219-MIN(IF(D$10:D$509=\"地上\",K$10:K$509)),0)+SUM(L219:N219)","v":0},null,null,0]
[null,null,211,null,"→",null,null,null,"（→）",null,null,null,null,null,{"$f":"IF(D220=\"地上\",K220-MIN(IF(D$10:D$509=\"地上\",K$10:K$509)),0)+SUM(L220:N220)","v":0},null,null,0]
[null,null,212,null,"→",null,null,null,"（→）",null,null,null,null,null,{"$f":"IF(D221=\"地上\",K221-MIN(IF(D$10:D$509=\"地上\",K$10:K$509)),0)+SUM(L221:N221)","v":0},null,null,0]
[null,null,213,null,"→",null,null,null,"（→）",null,null,null,null,null,{"$f":"IF(D222=\"地上\",K222-MIN(IF(D$10:D$509=\"地上\",K$10:K$509)),0)+SUM(L222:N222)","v":0},null,null,0]
[null,null,214,null,"→",null,null,null,"（→）",null,null,null,null,null,{"$f":"IF(D223=\"地上\",K223-MIN(IF(D$10:D$509=\"地上\",K$10:K$509)),0)+SUM(L223:N223)","v":0},null,null,0]
[null,null,215,null,"→",null,null,null,"（→）",null,null,null,null,null,{"$f":"IF(D224=\"地上\",K224-MIN(IF(D$10:D$509=\"地上\",K$10:K$509)),0)+SUM(L224:N224)","v":0},null,null,0]
[null,null,216,null,"→",null,null,null,"（→）",null,null,null,null,null,{"$f":"IF(D225=\"地上\",K225-MIN(IF(D$10:D$509=\"地上\",K$10:K$509)),0)+SUM(L225:N225)","v":0},null,null,0]
[null,null,217,null,"→",null,null,null,"（→）",null,null,null,null,null,{"$f":"IF(D226=\"地上\",K226-MIN(IF(D$10:D$509=\"地上\",K$10:K$509)),0)+SUM(L226:N226)","v":0},null,null,0]
[null,null,218,null,"→",null,null,null,"（→）",null,null,null,null,null,{"$f":"IF(D227=\"地上\",K227-MIN(IF(D$10:D$509=\"地上\",K$10:K$509)),0)+SUM(L227:N227)","v":0},null,null,0]
[null,null,219,null,"→",null,null,null,"（→）",null,null,null,null,null,{"$f":"IF(D228=\"地上\",K228-MIN(IF(D$10:D$509=\"地上\",K$10:K$509)),0)+SUM(L228:N228)","v":0},null,null,0]
[null,null,220,null,"→",null,null,null,"（→）",null,null,null,null,null,{"$f":"IF(D229=\"地上\",K229-MIN(IF(D$10:D$509=\"地上\",K$10:K$509)),0)+SUM(L229:N229)","v":0},null,null,0]
[null,null,221,null,"→",null,null,null,"（→）",null,null,null,null,null,{"$f":"IF(D230=\"地上\",K230-MIN(IF(D$10:D$509=\"地上\",K$10:K$509)),0)+SUM(L230:N230)","v":0},null,null,0]
[null,null,222,null,"→",null,null,null,"（→）",null,null,null,null,null,{"$f":"IF(D231=\"地上\",K231-MIN(IF(D$10:D$509=\"地上\",K$10:K$509)),0)+SUM(L231:N231)","v":0},null,null,0]
[null,null,223,null,"→",null,null,null,"（→）",null,null,null,null,null,{"$f":"IF(D232=\"地上\",K232-MIN(IF(D$10:D$509=\"地上\",K$10:K$509)),0)+SUM(L232:N232)","v":0},null,null,0]
[null,null,224,null,"→",null,null,null,"（→）",null,null,null,null,null,{"$f":"IF(D233=\"地上\",K233-MIN(IF(D$10:D$509=\"地上\",K$10:K$509)),0)+SUM(L233:N233)","v":0},null,null,0]
[null,null,225,null,"→",null,null,null,"（→）",null,null,null,null,null,{"$f":"IF(D234=\"地上\",K234-MIN(IF(D$10:D$509=\"地上\",K$10:K$509)),0)+SUM(L234:N234)","v":0},null,null,0]
[null,null,226,null,"→",null,null,null,"（→）",null,null,null,null,null,{"$f":"IF(D235=\"地上\",K235-MIN(IF(D$10:D$509=\"地上\",K$10:K$509)),0)+SUM(L235:N235)","v":0},null,null,0]
[null,null,227,null,"→",null,null,null,"（→）",null,null,null,null,null,{"$f":"IF(D236=\"地上\",K236-MIN(IF(D$10:D$509=\"地上\",K$10:K$509)),0)+SUM(L236:N236)","v":0},null,null,0]
[null,null,228,null,"→",null,null,null,"（→）",null,null,null,null,null,{"$f":"IF(D237=\"地上\",K237-MIN(IF(D$10:D$509=\"地上\",K$10:K$509)),0)+SUM(L237:N237)","v":0},null,null,0]
[null,null,229,null,"→",null,null,null,"（→）",null,null,null,null,null,{"$f":"IF(D238=\"地上\",K238-MIN(IF(D$10:D$509=\"地上\",K$10:K$509)),0)+SUM(L238:N238)","v":0},null,null,0]
[null,null,230,null,"→",null,null,null,"（→）",null,null,null,null,null,{"$f":"IF(D239=\"地上\",K239-MIN(IF(D$10:D$509=\"地上\",K$10:K$509)),0)+SUM(L239:N239)","v":0},null,null,0]
[null,null,231,null,"→",null,null,null,"（→）",null,null,null,null,null,{"$f":"IF(D240=\"地上\",K240-MIN(IF(D$10:D$509=\"地上\",K$10:K$509)),0)+SUM(L240:N240)","v":0},null,null,0]
[null,null,232,null,"→",null,null,null,"（→）",null,null,null,null,null,{"$f":"IF(D241=\"地上\",K241-MIN(IF(D$10:D$509=\"地上\",K$10:K$509)),0)+SUM(L241:N241)","v":0},null,null,0]
[null,null,233,null,"→",null,null,null,"（→）",null,null,null,null,null,{"$f":"IF(D242=\"地上\",K242-MIN(IF(D$10:D$509=\"地上\",K$10:K$509)),0)+SUM(L242:N242)","v":0},null,null,0]
[null,null,234,null,"→",null,null,null,"（→）",null,null,null,null,null,{"$f":"IF(D243=\"地上\",K243-MIN(IF(D$10:D$509=\"地上\",K$10:K$509)),0)+SUM(L243:N243)","v":0},null,null,0]
[null,null,235,null,"→",null,null,null,"（→）",null,null,null,null,null,{"$f":"IF(D244=\"地上\",K244-MIN(IF(D$10:D$509=\"地上\",K$10:K$509)),0)+SUM(L244:N244)","v":0},null,null,0]
[null,null,236,null,"→",null,null,null,"（→）",null,null,null,null,null,{"$f":"IF(D245=\"地上\",K245-MIN(IF(D$10:D$509=\"地上\",K$10:K$509)),0)+SUM(L245:N245)","v":0},null,null,0]
[null,null,237,null,"→",null,null,null,"（→）",null,null,null,null,null,{"$f":"IF(D246=\"地上\",K246-MIN(IF(D$10:D$509=\"地上\",K$10:K$509)),0)+SUM(L246:N246)","v":0},null,null,0]
[null,null,238,null,"→",null,null,null,"（→）",null,null,null,null,null,{"$f":"IF(D247=\"地上\",K247-MIN(IF(D$10:D$509=\"地上\",K$10:K$509)),0)+SUM(L247:N247)","v":0},null,null,0]
[null,null,239,null,"→",null,null,null,"（→）",null,null,null,null,null,{"$f":"IF(D248=\"地上\",K248-MIN(IF(D$10:D$509=\"地上\",K$10:K$509)),0)+SUM(L248:N248)","v":0},null,null,0]
[null,null,240,null,"→",null,null,null,"（→）",null,null,null,null,null,{"$f":"IF(D249=\"地上\",K249-MIN(IF(D$10:D$509=\"地上\",K$10:K$509)),0)+SUM(L249:N249)","v":0},null,null,0]
[null,null,241,null,"→",null,null,null,"（→）",null,null,null,null,null,{"$f":"IF(D250=\"地上\",K250-MIN(IF(D$10:D$509=\"地上\",K$10:K$509)),0)+SUM(L250:N250)","v":0},null,null,0]
[null,null,242,null,"→",null,null,null,"（→）",null,null,null,null,null,{"$f":"IF(D251=\"地上\",K251-MIN(IF(D$10:D$509=\"地上\",K$10:K$509)),0)+SUM(L251:N251)","v":0},null,null,0]
[null,null,243,null,"→",null,null,null,"（→）",null,null,null,null,null,{"$f":"IF(D252=\"地上\",K252-MIN(IF(D$10:D$509=\"地上\",K$10:K$509)),0)+SUM(L252:N252)","v":0},null,null,0]
[null,null,244,null,"→",null,null,null,"（→）",null,null,null,null,null,{"$f":"IF(D253=\"地上\",K253-MIN(IF(D$10:D$509=\"地上\",K$10:K$509)),0)+SUM(L253:N253)","v":0},null,null,0]
[null,null,245,null,"→",null,null,null,"（→）",null,null,null,null,null,{"$f":"IF(D254=\"地上\",K254-MIN(IF(D$10:D$509=\"地上\",K$10:K$509)),0)+SUM(L254:N254)","v":0},null,null,0]
[null,null,246,null,"→",null,null,null,"（→）",null,null,null,null,null,{"$f":"IF(D255=\"地上\",K255-MIN(IF(D$10:D$509=\"地上\",K$10:K$509)),0)+SUM(L255:N255)","v":0},null,null,0]
[null,null,247,null,"→",null,null,null,"（→）",null,null,null,null,null,{"$f":"IF(D256=\"地上\",K256-MIN(IF(D$10:D$509=\"地上\",K$10:K$509)),0)+SUM(L256:N256)","v":0},null,null,0]
[null,null,248,null,"→",null,null,null,"（→）",null,null,null,null,null,{"$f":"IF(D257=\"地上\",K257-MIN(IF(D$10:D$509=\"地上\",K$10:K$509)),0)+SUM(L257:N257)","v":0},null,null,0]
[null,null,249,null,"→",null,null,null,"（→）",null,null,null,null,null,{"$f":"IF(D258=\"地上\",K258-MIN(IF(D$10:D$509=\"地上\",K$10:K$509)),0)+SUM(L258:N258)","v":0},null,null,0]
[null,null,250,null,"→",null,null,null,"（→）",null,null,null,null,null,{"$f":"IF(D259=\"地上\",K259-MIN(IF(D$10:D$509=\"地上\",K$10:K$509)),0)+SUM(L259:N259)","v":0},null,null,0]
[null,null,251,null,"→",null,null,null,"（→）",null,null,null,null,null,{"$f":"IF(D260=\"地上\",K260-MIN(IF(D$10:D$509=\"地上\",K$10:K$509)),0)+SUM(L260:N260)","v":0},null,null,0]
[null,null,252,null,"→",null,null,null,"（→）",null,null,null,null,null,{"$f":"IF(D261=\"地上\",K261-MIN(IF(D$10:D$509=\"地上\",K$10:K$509)),0)+SUM(L261:N261)","v":0},null,null,0]
[null,null,253,null,"→",null,null,null,"（→）",null,null,null,null,null,{"$f":"IF(D262=\"地上\",K262-MIN(IF(D$10:D$509=\"地上\",K$10:K$509)),0)+SUM(L262:N262)","v":0},null,null,0]
[null,null,254,null,"→",null,null,null,"（→）",null,null,null,null,null,{"$f":"IF(D263=\"地上\",K263-MIN(IF(D$10:D$509=\"地上\",K$10:K$509)),0)+SUM(L263:N263)","v":0},null,null,0]
[null,null,255,null,"→",null,null,null,"（→）",null,null,null,null,null,{"$f":"IF(D264=\"地上\",K264-MIN(IF(D$10:D$509=\"地上\",K$10:K$509)),0)+SUM(L264:N264)","v":0},null,null,0]
[null,null,256,null,"→",null,null,null,"（→）",null,null,null,null,null,{"$f":"IF(D265=\"地上\",K265-MIN(IF(D$10:D$509=\"地上\",K$10:K$509)),0)+SUM(L265:N265)","v":0},null,null,0]
[null,null,257,null,"→",null,null,null,{"$f":"G266&\"（\"&D266&E266&F266&\"）\"","v":"（→）"},null,null,null,null,null,{"$f":"IF(D266=\"地上\",K266-MIN(IF(D$10:D$509=\"地上\",K$10:K$509)),0)+SUM(L266:N266)","v":0},null,null,{"$f":"O266+P266","v":0}]
[null,null,258,null,"→",null,null,null,"（→）",null,null,null,null,null,{"$f":"IF(D267=\"地上\",K267-MIN(IF(D$10:D$509=\"地上\",K$10:K$509)),0)+SUM(L267:N267)","v":0},null,null,0]
[null,null,259,null,"→",null,null,null,"（→）",null,null,null,null,null,{"$f":"IF(D268=\"地上\",K268-MIN(IF(D$10:D$509=\"地上\",K$10:K$509)),0)+SUM(L268:N268)","v":0},null,null,0]
[null,null,260,null,"→",null,null,null,"（→）",null,null,null,null,null,{"$f":"IF(D269=\"地上\",K269-MIN(IF(D$10:D$509=\"地上\",K$10:K$509)),0)+SUM(L269:N269)","v":0},null,null,0]
[null,null,261,null,"→",null,null,null,"（→）",null,null,null,null,null,{"$f":"IF(D270=\"地上\",K270-MIN(IF(D$10:D$509=\"地上\",K$10:K$509)),0)+SUM(L270:N270)","v":0},null,null,0]
[null,null,262,null,"→",null,null,null,"（→）",null,null,null,null,null,{"$f":"IF(D271=\"地上\",K271-MIN(IF(D$10:D$509=\"地上\",K$10:K$509)),0)+SUM(L271:N271)","v":0},null,null,0]
[null,null,263,null,"→",null,null,null,"（→）",null,null,null,null,null,{"$f":"IF(D272=\"地上\",K272-MIN(IF(D$10:D$509=\"地上\",K$10:K$509)),0)+SUM(L272:N272)","v":0},null,null,0]
[null,null,264,null,"→",null,null,null,"（→）",null,null,null,null,null,{"$f":"IF(D273=\"地上\",K273-MIN(IF(D$10:D$509=\"地上\",K$10:K$509)),0)+SUM(L273:N273)","v":0},null,null,0]
[null,null,265,null,"→",null,null,null,"（→）",null,null,null,null,null,{"$f":"IF(D274=\"地上\",K274-MIN(IF(D$10:D$509=\"地上\",K$10:K$509)),0)+SUM(L274:N274)","v":0},null,null,0]
[null,null,266,null,"→",null,null,null,"（→）",null,null,null,null,null,{"$f":"IF(D275=\"地上\",K275-MIN(IF(D$10:D$509=\"地上\",K$10:K$509)),0)+SUM(L275:N275)","v":0},null,null,0]
[null,null,267,null,"→",null,null,null,"（→）",null,null,null,null,null,{"$f":"IF(D276=\"地上\",K276-MIN(IF(D$10:D$509=\"地上\",K$10:K$509)),0)+SUM(L276:N276)","v":0},null,null,0]
[null,null,268,null,"→",null,null,null,"（→）",null,null,null,null,null,{"$f":"IF(D277=\"地上\",K277-MIN(IF(D$10:D$509=\"地上\",K$10:K$509)),0)+SUM(L277:N277)","v":0},null,null,0]
[null,null,269,null,"→",null,null,null,"（→）",null,null,null,null,null,{"$f":"IF(D278=\"地上\",K278-MIN(IF(D$10:D$509=\"地上\",K$10:K$509)),0)+SUM(L278:N278)","v":0},null,null,0]
[null,null,270,null,"→",null,null,null,"（→）",null,null,null,null,null,{"$f":"IF(D279=\"地上\",K279-MIN(IF(D$10:D$509=\"地上\",K$10:K$509)),0)+SUM(L279:N279)","v":0},null,null,0]
[null,null,271,null,"→",null,null,null,"（→）",null,null,null,null,null,{"$f":"IF(D280=\"地上\",K280-MIN(IF(D$10:D$509=\"地上\",K$10:K$509)),0)+SUM(L280:N280)","v":0},null,null,0]
[null,null,272,null,"→",null,null,null,"（→）",null,null,null,null,null,{"$f":"IF(D281=\"地上\",K281-MIN(IF(D$10:D$509=\"地上\",K$10:K$509)),0)+SUM(L281:N281)","v":0},null,null,0]
[null,null,273,null,"→",null,null,null,"（→）",null,null,null,null,null,{"$f":"IF(D282=\"地上\",K282-MIN(IF(D$10:D$509=\"地上\",K$10:K$509)),0)+SUM(L282:N282)","v":0},null,null,0]
[null,null,274,null,"→",null,null,null,"（→）",null,null,null,null,null,{"$f":"IF(D283=\"地上\",K283-MIN(IF(D$10:D$509=\"地上\",K$10:K$509)),0)+SUM(L283:N283)","v":0},null,null,0]
[null,null,275,null,"→",null,null,null,"（→）",null,null,null,null,null,{"$f":"IF(D284=\"地上\",K284-MIN(IF(D$10:D$509=\"地上\",K$10:K$509)),0)+SUM(L284:N284)","v":0},null,null,0]
[null,null,276,null,"→",null,null,null,"（→）",null,null,null,null,null,{"$f":"IF(D285=\"地上\",K285-MIN(IF(D$10:D$509=\"地上\",K$10:K$509)),0)+SUM(L285:N285)","v":0},null,null,0]
[null,null,277,null,"→",null,null,null,"（→）",null,null,null,null,null,{"$f":"IF(D286=\"地上\",K286-MIN(IF(D$10:D$509=\"地上\",K$10:K$509)),0)+SUM(L286:N286)","v":0},null,null,0]
[null,null,278,null,"→",null,null,null,"（→）",null,null,null,null,null,{"$f":"IF(D287=\"地上\",K287-MIN(IF(D$10:D$509=\"地上\",K$10:K$509)),0)+SUM(L287:N287)","v":0},null,null,0]
[null,null,279,null,"→",null,null,null,"（→）",null,null,null,null,null,{"$f":"IF(D288=\"地上\",K288-MIN(IF(D$10:D$509=\"地上\",K$10:K$509)),0)+SUM(L288:N288)","v":0},null,null,0]
[null,null,280,null,"→",null,null,null,"（→）",null,null,null,null,null,{"$f":"IF(D289=\"地上\",K289-MIN(IF(D$10:D$509=\"地上\",K$10:K$509)),0)+SUM(L289:N289)","v":0},null,null,0]
[null,null,281,null,"→",null,null,null,"（→）",null,null,null,null,null,{"$f":"IF(D290=\"地上\",K290-MIN(IF(D$10:D$509=\"地上\",K$10:K$509)),0)+SUM(L290:N290)","v":0},null,null,0]
[null,null,282,null,"→",null,null,null,"（→）",null,null,null,null,null,{"$f":"IF(D291=\"地上\",K291-MIN(IF(D$10:D$509=\"地上\",K$10:K$509)),0)+SUM(L291:N291)","v":0},null,null,0]
[null,null,283,null,"→",null,null,null,"（→）",null,null,null,null,null,{"$f":"IF(D292=\"地上\",K292-MIN(IF(D$10:D$509=\"地上\",K$10:K$509)),0)+SUM(L292:N292)","v":0},null,null,0]
[null,null,284,null,"→",null,null,null,"（→）",null,null,null,null,null,{"$f":"IF(D293=\"地上\",K293-MIN(IF(D$10:D$509=\"地上\",K$10:K$509)),0)+SUM(L293:N293)","v":0},null,null,0]
[null,null,285,null,"→",null,null,null,"（→）",null,null,null,null,null,{"$f":"IF(D294=\"地上\",K294-MIN(IF(D$10:D$509=\"地上\",K$10:K$509)),0)+SUM(L294:N294)","v":0},null,null,0]
[null,null,286,null,"→",null,null,null,"（→）",null,null,null,null,null,{"$f":"IF(D295=\"地上\",K295-MIN(IF(D$10:D$509=\"地上\",K$10:K$509)),0)+SUM(L295:N295)","v":0},null,null,0]
[null,null,287,null,"→",null,null,null,"（→）",null,null,null,null,null,{"$f":"IF(D296=\"地上\",K296-MIN(IF(D$10:D$509=\"地上\",K$10:K$509)),0)+SUM(L296:N296)","v":0},null,null,0]
[null,null,288,null,"→",null,null,null,"（→）",null,null,null,null,null,{"$f":"IF(D297=\"地上\",K297-MIN(IF(D$10:D$509=\"地上\",K$10:K$509)),0)+SUM(L297:N297)","v":0},null,null,0]
[null,null,289,null,"→",null,null,null,"（→）",null,null,null,null,null,{"$f":"IF(D298=\"地上\",K298-MIN(IF(D$10:D$509=\"地上\",K$10:K$509)),0)+SUM(L298:N298)","v":0},null,null,0]
[null,null,290,null,"→",null,null,null,"（→）",null,null,null,null,null,{"$f":"IF(D299=\"地上\",K299-MIN(IF(D$10:D$509=\"地上\",K$10:K$509)),0)+SUM(L299:N299)","v":0},null,null,0]
[null,null,291,null,"→",null,null,null,"（→）",null,null,null,null,null,{"$f":"IF(D300=\"地上\",K300-MIN(IF(D$10:D$509=\"地上\",K$10:K$509)),0)+SUM(L300:N300)","v":0},null,null,0]
[null,null,292,null,"→",null,null,null,"（→）",null,null,null,null,null,{"$f":"IF(D301=\"地上\",K301-MIN(IF(D$10:D$509=\"地上\",K$10:K$509)),0)+SUM(L301:N301)","v":0},null,null,0]
[null,null,293,null,"→",null,null,null,"（→）",null,null,null,null,null,{"$f":"IF(D302=\"地上\",K302-MIN(IF(D$10:D$509=\"地上\",K$10:K$509)),0)+SUM(L302:N302)","v":0},null,null,0]
[null,null,294,null,"→",null,null,null,"（→）",null,null,null,null,null,{"$f":"IF(D303=\"地上\",K303-MIN(IF(D$10:D$509=\"地上\",K$10:K$509)),0)+SUM(L303:N303)","v":0},null,null,0]
[null,null,295,null,"→",null,null,null,"（→）",null,null,null,null,null,{"$f":"IF(D304=\"地上\",K304-MIN(IF(D$10:D$509=\"地上\",K$10:K$509)),0)+SUM(L304:N304)","v":0},null,null,0]
[null,null,296,null,"→",null,null,null,"（→）",null,null,null,null,null,{"$f":"IF(D305=\"地上\",K305-MIN(IF(D$10:D$509=\"地上\",K$10:K$509)),0)+SUM(L305:N305)","v":0},null,null,0]
[null,null,297,null,"→",null,null,null,"（→）",null,null,null,null,null,{"$f":"IF(D306=\"地上\",K306-MIN(IF(D$10:D$509=\"地上\",K$10:K$509)),0)+SUM(L306:N306)","v":0},null,null,0]
[null,null,298,null,"→",null,null,null,"（→）",null,null,null,null,null,{"$f":"IF(D307=\"地上\",K307-MIN(IF(D$10:D$509=\"地上\",K$10:K$509)),0)+SUM(L307:N307)","v":0},null,null,0]
[null,null,299,null,"→",null,null,null,"（→）",null,null,null,null,null,{"$f":"IF(D308=\"地上\",K308-MIN(IF(D$10:D$509=\"地上\",K$10:K$509)),0)+SUM(L308:N308)","v":0},null,null,0]
[null,null,300,null,"→",null,null,null,"（→）",null,null,null,null,null,{"$f":"IF(D309=\"地上\",K309-MIN(IF(D$10:D$509=\"地上\",K$10:K$509)),0)+SUM(L309:N309)","v":0},null,null,0]
[null,null,301,null,"→",null,null,null,"（→）",null,null,null,null,null,{"$f":"IF(D310=\"地上\",K310-MIN(IF(D$10:D$509=\"地上\",K$10:K$509)),0)+SUM(L310:N310)","v":0},null,null,0]
[null,null,302,null,"→",null,null,null,"（→）",null,null,null,null,null,{"$f":"IF(D311=\"地上\",K311-MIN(IF(D$10:D$509=\"地上\",K$10:K$509)),0)+SUM(L311:N311)","v":0},null,null,0]
[null,null,303,null,"→",null,null,null,"（→）",null,null,null,null,null,{"$f":"IF(D312=\"地上\",K312-MIN(IF(D$10:D$509=\"地上\",K$10:K$509)),0)+SUM(L312:N312)","v":0},null,null,0]
[null,null,304,null,"→",null,null,null,"（→）",null,null,null,null,null,{"$f":"IF(D313=\"地上\",K313-MIN(IF(D$10:D$509=\"地上\",K$10:K$509)),0)+SUM(L313:N313)","v":0},null,null,0]
[null,null,305,null,"→",null,null,null,"（→）",null,null,null,null,null,{"$f":"IF(D314=\"地上\",K314-MIN(IF(D$10:D$509=\"地上\",K$10:K$509)),0)+SUM(L314:N314)","v":0},null,null,0]
[null,null,306,null,"→",null,null,null,"（→）",null,null,null,null,null,{"$f":"IF(D315=\"地上\",K315-MIN(IF(D$10:D$509=\"地上\",K$10:K$509)),0)+SUM(L315:N315)","v":0},null,null,0]
[null,null,307,null,"→",null,null,null,"（→）",null,null,null,null,null,{"$f":"IF(D316=\"地上\",K316-MIN(IF(D$10:D$509=\"地上\",K$10:K$509)),0)+SUM(L316:N316)","v":0},null,null,0]
[null,null,308,null,"→",null,null,null,"（→）",null,null,null,null,null,{"$f":"IF(D317=\"地上\",K317-MIN(IF(D$10:D$509=\"地上\",K$10:K$509)),0)+SUM(L317:N317)","v":0},null,null,0]
[null,null,309,null,"→",null,null,null,"（→）",null,null,null,null,null,{"$f":"IF(D318=\"地上\",K318-MIN(IF(D$10:D$509=\"地上\",K$10:K$509)),0)+SUM(L318:N318)","v":0},null,null,0]
[null,null,310,null,"→",null,null,null,"（→）",null,null,null,null,null,{"$f":"IF(D319=\"地上\",K319-MIN(IF(D$10:D$509=\"地上\",K$10:K$509)),0)+SUM(L319:N319)","v":0},null,null,0]
[null,null,311,null,"→",null,null,null,"（→）",null,null,null,null,null,{"$f":"IF(D320=\"地上\",K320-MIN(IF(D$10:D$509=\"地上\",K$10:K$509)),0)+SUM(L320:N320)","v":0},null,null,0]
[null,null,312,null,"→",null,null,null,"（→）",null,null,null,null,null,{"$f":"IF(D321=\"地上\",K321-MIN(IF(D$10:D$509=\"地上\",K$10:K$509)),0)+SUM(L321:N321)","v":0},null,null,0]
[null,null,313,null,"→",null,null,null,"（→）",null,null,null,null,null,{"$f":"IF(D322=\"地上\",K322-MIN(IF(D$10:D$509=\"地上\",K$10:K$509)),0)+SUM(L322:N322)","v":0},null,null,0]
[null,null,314,null,"→",null,null,null,"（→）",null,null,null,null,null,{"$f":"IF(D323=\"地上\",K323-MIN(IF(D$10:D$509=\"地上\",K$10:K$509)),0)+SUM(L323:N323)","v":0},null,null,0]
[null,null,315,null,"→",null,null,null,"（→）",null,null,null,null,null,{"$f":"IF(D324=\"地上\",K324-MIN(IF(D$10:D$509=\"地上\",K$10:K$509)),0)+SUM(L324:N324)","v":0},null,null,0]
[null,null,316,null,"→",null,null,null,"（→）",null,null,null,null,null,{"$f":"IF(D325=\"地上\",K325-MIN(IF(D$10:D$509=\"地上\",K$10:K$509)),0)+SUM(L325:N325)","v":0},null,null,0]
[null,null,317,null,"→",null,null,null,"（→）",null,null,null,null,null,{"$f":"IF(D326=\"地上\",K326-MIN(IF(D$10:D$509=\"地上\",K$10:K$509)),0)+SUM(L326:N326)","v":0},null,null,0]
[null,null,318,null,"→",null,null,null,"（→）",null,null,null,null,null,{"$f":"IF(D327=\"地上\",K327-MIN(IF(D$10:D$509=\"地上\",K$10:K$509)),0)+SUM(L327:N327)","v":0},null,null,0]
[null,null,319,null,"→",null,null,null,"（→）",null,null,null,null,null,{"$f":"IF(D328=\"地上\",K328-MIN(IF(D$10:D$509=\"地上\",K$10:K$509)),0)+SUM(L328:N328)","v":0},null,null,0]
[null,null,320,null,"→",null,null,null,"（→）",null,null,null,null,null,{"$f":"IF(D329=\"地上\",K329-MIN(IF(D$10:D$509=\"地上\",K$10:K$509)),0)+SUM(L329:N329)","v":0},null,null,0]
[null,null,321,null,"→",null,null,null,{"$f":"G330&\"（\"&D330&E330&F330&\"）\"","v":"（→）"},null,null,null,null,null,{"$f":"IF(D330=\"地上\",K330-MIN(IF(D$10:D$509=\"地上\",K$10:K$509)),0)+SUM(L330:N330)","v":0},null,null,{"$f":"O330+P330","v":0}]
[null,null,322,null,"→",null,null,null,"（→）",null,null,null,null,null,{"$f":"IF(D331=\"地上\",K331-MIN(IF(D$10:D$509=\"地上\",K$10:K$509)),0)+SUM(L331:N331)","v":0},null,null,0]
[null,null,323,null,"→",null,null,null,"（→）",null,null,null,null,null,{"$f":"IF(D332=\"地上\",K332-MIN(IF(D$10:D$509=\"地上\",K$10:K$509)),0)+SUM(L332:N332)","v":0},null,null,0]
[null,null,324,null,"→",null,null,null,"（→）",null,null,null,null,null,{"$f":"IF(D333=\"地上\",K333-MIN(IF(D$10:D$509=\"地上\",K$10:K$509)),0)+SUM(L333:N333)","v":0},null,null,0]
[null,null,325,null,"→",null,null,null,"（→）",null,null,null,null,null,{"$f":"IF(D334=\"地上\",K334-MIN(IF(D$10:D$509=\"地上\",K$10:K$509)),0)+SUM(L334:N334)","v":0},null,null,0]
[null,null,326,null,"→",null,null,null,"（→）",null,null,null,null,null,{"$f":"IF(D335=\"地上\",K335-MIN(IF(D$10:D$509=\"地上\",K$10:K$509)),0)+SUM(L335:N335)","v":0},null,null,0]
[null,null,327,null,"→",null,null,null,"（→）",null,null,null,null,null,{"$f":"IF(D336=\"地上\",K336-MIN(IF(D$10:D$509=\"地上\",K$10:K$509)),0)+SUM(L336:N336)","v":0},null,null,0]
[null,null,328,null,"→",null,null,null,"（→）",null,null,null,null,null,{"$f":"IF(D337=\"地上\",K337-MIN(IF(D$10:D$509=\"地上\",K$10:K$509)),0)+SUM(L337:N337)","v":0},null,null,0]
[null,null,329,null,"→",null,null,null,"（→）",null,null,null,null,null,{"$f":"IF(D338=\"地上\",K338-MIN(IF(D$10:D$509=\"地上\",K$10:K$509)),0)+SUM(L338:N338)","v":0},null,null,0]
[null,null,330,null,"→",null,null,null,"（→）",null,null,null,null,null,{"$f":"IF(D339=\"地上\",K339-MIN(IF(D$10:D$509=\"地上\",K$10:K$509)),0)+SUM(L339:N339)","v":0},null,null,0]
[null,null,331,null,"→",null,null,null,"（→）",null,null,null,null,null,{"$f":"IF(D340=\"地上\",K340-MIN(IF(D$10:D$509=\"地上\",K$10:K$509)),0)+SUM(L340:N340)","v":0},null,null,0]
[null,null,332,null,"→",null,null,null,"（→）",null,null,null,null,null,{"$f":"IF(D341=\"地上\",K341-MIN(IF(D$10:D$509=\"地上\",K$10:K$509)),0)+SUM(L341:N341)","v":0},null,null,0]
[null,null,333,null,"→",null,null,null,"（→）",null,null,null,null,null,{"$f":"IF(D342=\"地上\",K342-MIN(IF(D$10:D$509=\"地上\",K$10:K$509)),0)+SUM(L342:N342)","v":0},null,null,0]
[null,null,334,null,"→",null,null,null,"（→）",null,null,null,null,null,{"$f":"IF(D343=\"地上\",K343-MIN(IF(D$10:D$509=\"地上\",K$10:K$509)),0)+SUM(L343:N343)","v":0},null,null,0]
[null,null,335,null,"→",null,null,null,"（→）",null,null,null,null,null,{"$f":"IF(D344=\"地上\",K344-MIN(IF(D$10:D$509=\"地上\",K$10:K$509)),0)+SUM(L344:N344)","v":0},null,null,0]
[null,null,336,null,"→",null,null,null,"（→）",null,null,null,null,null,{"$f":"IF(D345=\"地上\",K345-MIN(IF(D$10:D$509=\"地上\",K$10:K$509)),0)+SUM(L345:N345)","v":0},null,null,0]
[null,null,337,null,"→",null,null,null,"（→）",null,null,null,null,null,{"$f":"IF(D346=\"地上\",K346-MIN(IF(D$10:D$509=\"地上\",K$10:K$509)),0)+SUM(L346:N346)","v":0},null,null,0]
[null,null,338,null,"→",null,null,null,"（→）",null,null,null,null,null,{"$f":"IF(D347=\"地上\",K347-MIN(IF(D$10:D$509=\"地上\",K$10:K$509)),0)+SUM(L347:N347)","v":0},null,null,0]
[null,null,339,null,"→",null,null,null,"（→）",null,null,null,null,null,{"$f":"IF(D348=\"地上\",K348-MIN(IF(D$10:D$509=\"地上\",K$10:K$509)),0)+SUM(L348:N348)","v":0},null,null,0]
[null,null,340,null,"→",null,null,null,"（→）",null,null,null,null,null,{"$f":"IF(D349=\"地上\",K349-MIN(IF(D$10:D$509=\"地上\",K$10:K$509)),0)+SUM(L349:N349)","v":0},null,null,0]
[null,null,341,null,"→",null,null,null,"（→）",null,null,null,null,null,{"$f":"IF(D350=\"地上\",K350-MIN(IF(D$10:D$509=\"地上\",K$10:K$509)),0)+SUM(L350:N350)","v":0},null,null,0]
[null,null,342,null,"→",null,null,null,"（→）",null,null,null,null,null,{"$f":"IF(D351=\"地上\",K351-MIN(IF(D$10:D$509=\"地上\",K$10:K$509)),0)+SUM(L351:N351)","v":0},null,null,0]
[null,null,343,null,"→",null,null,null,"（→）",null,null,null,null,null,{"$f":"IF(D352=\"地上\",K352-MIN(IF(D$10:D$509=\"地上\",K$10:K$509)),0)+SUM(L352:N352)","v":0},null,null,0]
[null,null,344,null,"→",null,null,null,"（→）",null,null,null,null,null,{"$f":"IF(D353=\"地上\",K353-MIN(IF(D$10:D$509=\"地上\",K$10:K$509)),0)+SUM(L353:N353)","v":0},null,null,0]
[null,null,345,null,"→",null,null,null,"（→）",null,null,null,null,null,{"$f":"IF(D354=\"地上\",K354-MIN(IF(D$10:D$509=\"地上\",K$10:K$509)),0)+SUM(L354:N354)","v":0},null,null,0]
[null,null,346,null,"→",null,null,null,"（→）",null,null,null,null,null,{"$f":"IF(D355=\"地上\",K355-MIN(IF(D$10:D$509=\"地上\",K$10:K$509)),0)+SUM(L355:N355)","v":0},null,null,0]
[null,null,347,null,"→",null,null,null,"（→）",null,null,null,null,null,{"$f":"IF(D356=\"地上\",K356-MIN(IF(D$10:D$509=\"地上\",K$10:K$509)),0)+SUM(L356:N356)","v":0},null,null,0]
[null,null,348,null,"→",null,null,null,"（→）",null,null,null,null,null,{"$f":"IF(D357=\"地上\",K357-MIN(IF(D$10:D$509=\"地上\",K$10:K$509)),0)+SUM(L357:N357)","v":0},null,null,0]
[null,null,349,null,"→",null,null,null,"（→）",null,null,null,null,null,{"$f":"IF(D358=\"地上\",K358-MIN(IF(D$10:D$509=\"地上\",K$10:K$509)),0)+SUM(L358:N358)","v":0},null,null,0]
[null,null,350,null,"→",null,null,null,"（→）",null,null,null,null,null,{"$f":"IF(D359=\"地上\",K359-MIN(IF(D$10:D$509=\"地上\",K$10:K$509)),0)+SUM(L359:N359)","v":0},null,null,0]
[null,null,351,null,"→",null,null,null,"（→）",null,null,null,null,null,{"$f":"IF(D360=\"地上\",K360-MIN(IF(D$10:D$509=\"地上\",K$10:K$509)),0)+SUM(L360:N360)","v":0},null,null,0]
[null,null,352,null,"→",null,null,null,"（→）",null,null,null,null,null,{"$f":"IF(D361=\"地上\",K361-MIN(IF(D$10:D$509=\"地上\",K$10:K$509)),0)+SUM(L361:N361)","v":0},null,null,0]
[null,null,353,null,"→",null,null,null,"（→）",null,null,null,null,null,{"$f":"IF(D362=\"地上\",K362-MIN(IF(D$10:D$509=\"地上\",K$10:K$509)),0)+SUM(L362:N362)","v":0},null,null,0]
[null,null,354,null,"→",null,null,null,"（→）",null,null,null,null,null,{"$f":"IF(D363=\"地上\",K363-MIN(IF(D$10:D$509=\"地上\",K$10:K$509)),0)+SUM(L363:N363)","v":0},null,null,0]
[null,null,355,null,"→",null,null,null,"（→）",null,null,null,null,null,{"$f":"IF(D364=\"地上\",K364-MIN(IF(D$10:D$509=\"地上\",K$10:K$509)),0)+SUM(L364:N364)","v":0},null,null,0]
[null,null,356,null,"→",null,null,null,"（→）",null,null,null,null,null,{"$f":"IF(D365=\"地上\",K365-MIN(IF(D$10:D$509=\"地上\",K$10:K$509)),0)+SUM(L365:N365)","v":0},null,null,0]
[null,null,357,null,"→",null,null,null,"（→）",null,null,null,null,null,{"$f":"IF(D366=\"地上\",K366-MIN(IF(D$10:D$509=\"地上\",K$10:K$509)),0)+SUM(L366:N366)","v":0},null,null,0]
[null,null,358,null,"→",null,null,null,"（→）",null,null,null,null,null,{"$f":"IF(D367=\"地上\",K367-MIN(IF(D$10:D$509=\"地上\",K$10:K$509)),0)+SUM(L367:N367)","v":0},null,null,0]
[null,null,359,null,"→",null,null,null,"（→）",null,null,null,null,null,{"$f":"IF(D368=\"地上\",K368-MIN(IF(D$10:D$509=\"地上\",K$10:K$509)),0)+SUM(L368:N368)","v":0},null,null,0]
[null,null,360,null,"→",null,null,null,"（→）",null,null,null,null,null,{"$f":"IF(D369=\"地上\",K369-MIN(IF(D$10:D$509=\"地上\",K$10:K$509)),0)+SUM(L369:N369)","v":0},null,null,0]
[null,null,361,null,"→",null,null,null,"（→）",null,null,null,null,null,{"$f":"IF(D370=\"地上\",K370-MIN(IF(D$10:D$509=\"地上\",K$10:K$509)),0)+SUM(L370:N370)","v":0},null,null,0]
[null,null,362,null,"→",null,null,null,"（→）",null,null,null,null,null,{"$f":"IF(D371=\"地上\",K371-MIN(IF(D$10:D$509=\"地上\",K$10:K$509)),0)+SUM(L371:N371)","v":0},null,null,0]
[null,null,363,null,"→",null,null,null,"（→）",null,null,null,null,null,{"$f":"IF(D372=\"地上\",K372-MIN(IF(D$10:D$509=\"地上\",K$10:K$509)),0)+SUM(L372:N372)","v":0},null,null,0]
[null,null,364,null,"→",null,null,null,"（→）",null,null,null,null,null,{"$f":"IF(D373=\"地上\",K373-MIN(IF(D$10:D$509=\"地上\",K$10:K$509)),0)+SUM(L373:N373)","v":0},null,null,0]
[null,null,365,null,"→",null,null,null,"（→）",null,null,null,null,null,{"$f":"IF(D374=\"地上\",K374-MIN(IF(D$10:D$509=\"地上\",K$10:K$509)),0)+SUM(L374:N374)","v":0},null,null,0]
[null,null,366,null,"→",null,null,null,"（→）",null,null,null,null,null,{"$f":"IF(D375=\"地上\",K375-MIN(IF(D$10:D$509=\"地上\",K$10:K$509)),0)+SUM(L375:N375)","v":0},null,null,0]
[null,null,367,null,"→",null,null,null,"（→）",null,null,null,null,null,{"$f":"IF(D376=\"地上\",K376-MIN(IF(D$10:D$509=\"地上\",K$10:K$509)),0)+SUM(L376:N376)","v":0},null,null,0]
[null,null,368,null,"→",null,null,null,"（→）",null,null,null,null,null,{"$f":"IF(D377=\"地上\",K377-MIN(IF(D$10:D$509=\"地上\",K$10:K$509)),0)+SUM(L377:N377)","v":0},null,null,0]
[null,null,369,null,"→",null,null,null,"（→）",null,null,null,null,null,{"$f":"IF(D378=\"地上\",K378-MIN(IF(D$10:D$509=\"地上\",K$10:K$509)),0)+SUM(L378:N378)","v":0},null,null,0]
[null,null,370,null,"→",null,null,null,"（→）",null,null,null,null,null,{"$f":"IF(D379=\"地上\",K379-MIN(IF(D$10:D$509=\"地上\",K$10:K$509)),0)+SUM(L379:N379)","v":0},null,null,0]
[null,null,371,null,"→",null,null,null,"（→）",null,null,null,null,null,{"$f":"IF(D380=\"地上\",K380-MIN(IF(D$10:D$509=\"地上\",K$10:K$509)),0)+SUM(L380:N380)","v":0},null,null,0]
[null,null,372,null,"→",null,null,null,"（→）",null,null,null,null,null,{"$f":"IF(D381=\"地上\",K381-MIN(IF(D$10:D$509=\"地上\",K$10:K$509)),0)+SUM(L381:N381)","v":0},null,null,0]
[null,null,373,null,"→",null,null,null,"（→）",null,null,null,null,null,{"$f":"IF(D382=\"地上\",K382-MIN(IF(D$10:D$509=\"地上\",K$10:K$509)),0)+SUM(L382:N382)","v":0},null,null,0]
[null,null,374,null,"→",null,null,null,"（→）",null,null,null,null,null,{"$f":"IF(D383=\"地上\",K383-MIN(IF(D$10:D$509=\"地上\",K$10:K$509)),0)+SUM(L383:N383)","v":0},null,null,0]
[null,null,375,null,"→",null,null,null,"（→）",null,null,null,null,null,{"$f":"IF(D384=\"地上\",K384-MIN(IF(D$10:D$509=\"地上\",K$10:K$509)),0)+SUM(L384:N384)","v":0},null,null,0]
[null,null,376,null,"→",null,null,null,"（→）",null,null,null,null,null,{"$f":"IF(D385=\"地上\",K385-MIN(IF(D$10:D$509=\"地上\",K$10:K$509)),0)+SUM(L385:N385)","v":0},null,null,0]
[null,null,377,null,"→",null,null,null,"（→）",null,null,null,null,null,{"$f":"IF(D386=\"地上\",K386-MIN(IF(D$10:D$509=\"地上\",K$10:K$509)),0)+SUM(L386:N386)","v":0},null,null,0]
[null,null,378,null,"→",null,null,null,"（→）",null,null,null,null,null,{"$f":"IF(D387=\"地上\",K387-MIN(IF(D$10:D$509=\"地上\",K$10:K$509)),0)+SUM(L387:N387)","v":0},null,null,0]
[null,null,379,null,"→",null,null,null,"（→）",null,null,null,null,null,{"$f":"IF(D388=\"地上\",K388-MIN(IF(D$10:D$509=\"地上\",K$10:K$509)),0)+SUM(L388:N388)","v":0},null,null,0]
[null,null,380,null,"→",null,null,null,"（→）",null,null,null,null,null,{"$f":"IF(D389=\"地上\",K389-MIN(IF(D$10:D$509=\"地上\",K$10:K$509)),0)+SUM(L389:N389)","v":0},null,null,0]
[null,null,381,null,"→",null,null,null,"（→）",null,null,null,null,null,{"$f":"IF(D390=\"地上\",K390-MIN(IF(D$10:D$509=\"地上\",K$10:K$509)),0)+SUM(L390:N390)","v":0},null,null,0]
[null,null,382,null,"→",null,null,null,"（→）",null,null,null,null,null,{"$f":"IF(D391=\"地上\",K391-MIN(IF(D$10:D$509=\"地上\",K$10:K$509)),0)+SUM(L391:N391)","v":0},null,null,0]
[null,null,383,null,"→",null,null,null,"（→）",null,null,null,null,null,{"$f":"IF(D392=\"地上\",K392-MIN(IF(D$10:D$509=\"地上\",K$10:K$509)),0)+SUM(L392:N392)","v":0},null,null,0]
[null,null,384,null,"→",null,null,null,"（→）",null,null,null,null,null,{"$f":"IF(D393=\"地上\",K393-MIN(IF(D$10:D$509=\"地上\",K$10:K$509)),0)+SUM(L393:N393)","v":0},null,null,0]
[null,null,385,null,"→",null,null,null,{"$f":"G394&\"（\"&D394&E394&F394&\"）\"","v":"（→）"},null,null,null,null,null,{"$f":"IF(D394=\"地上\",K394-MIN(IF(D$10:D$509=\"地上\",K$10:K$509)),0)+SUM(L394:N394)","v":0},null,null,{"$f":"O394+P394","v":0}]
[null,null,386,null,"→",null,null,null,"（→）",null,null,null,null,null,{"$f":"IF(D395=\"地上\",K395-MIN(IF(D$10:D$509=\"地上\",K$10:K$509)),0)+SUM(L395:N395)","v":0},null,null,0]
[null,null,387,null,"→",null,null,null,"（→）",null,null,null,null,null,{"$f":"IF(D396=\"地上\",K396-MIN(IF(D$10:D$509=\"地上\",K$10:K$509)),0)+SUM(L396:N396)","v":0},null,null,0]
[null,null,388,null,"→",null,null,null,"（→）",null,null,null,null,null,{"$f":"IF(D397=\"地上\",K397-MIN(IF(D$10:D$509=\"地上\",K$10:K$509)),0)+SUM(L397:N397)","v":0},null,null,0]
[null,null,389,null,"→",null,null,null,"（→）",null,null,null,null,null,{"$f":"IF(D398=\"地上\",K398-MIN(IF(D$10:D$509=\"地上\",K$10:K$509)),0)+SUM(L398:N398)","v":0},null,null,0]
[null,null,390,null,"→",null,null,null,"（→）",null,null,null,null,null,{"$f":"IF(D399=\"地上\",K399-MIN(IF(D$10:D$509=\"地上\",K$10:K$509)),0)+SUM(L399:N399)","v":0},null,null,0]
[null,null,391,null,"→",null,null,null,"（→）",null,null,null,null,null,{"$f":"IF(D400=\"地上\",K400-MIN(IF(D$10:D$509=\"地上\",K$10:K$509)),0)+SUM(L400:N400)","v":0},null,null,0]
[null,null,392,null,"→",null,null,null,"（→）",null,null,null,null,null,{"$f":"IF(D401=\"地上\",K401-MIN(IF(D$10:D$509=\"地上\",K$10:K$509)),0)+SUM(L401:N401)","v":0},null,null,0]
[null,null,393,null,"→",null,null,null,"（→）",null,null,null,null,null,{"$f":"IF(D402=\"地上\",K402-MIN(IF(D$10:D$509=\"地上\",K$10:K$509)),0)+SUM(L402:N402)","v":0},null,null,0]
[null,null,394,null,"→",null,null,null,"（→）",null,null,null,null,null,{"$f":"IF(D403=\"地上\",K403-MIN(IF(D$10:D$509=\"地上\",K$10:K$509)),0)+SUM(L403:N403)","v":0},null,null,0]
[null,null,395,null,"→",null,null,null,"（→）",null,null,null,null,null,{"$f":"IF(D404=\"地上\",K404-MIN(IF(D$10:D$509=\"地上\",K$10:K$509)),0)+SUM(L404:N404)","v":0},null,null,0]
[null,null,396,null,"→",null,null,null,"（→）",null,null,null,null,null,{"$f":"IF(D405=\"地上\",K405-MIN(IF(D$10:D$509=\"地上\",K$10:K$509)),0)+SUM(L405:N405)","v":0},null,null,0]
[null,null,397,null,"→",null,null,null,"（→）",null,null,null,null,null,{"$f":"IF(D406=\"地上\",K406-MIN(IF(D$10:D$509=\"地上\",K$10:K$509)),0)+SUM(L406:N406)","v":0},null,null,0]
[null,null,398,null,"→",null,null,null,"（→）",null,null,null,null,null,{"$f":"IF(D407=\"地上\",K407-MIN(IF(D$10:D$509=\"地上\",K$10:K$509)),0)+SUM(L407:N407)","v":0},null,null,0]
[null,null,399,null,"→",null,null,null,"（→）",null,null,null,null,null,{"$f":"IF(D408=\"地上\",K408-MIN(IF(D$10:D$509=\"地上\",K$10:K$509)),0)+SUM(L408:N408)","v":0},null,null,0]
[null,null,400,null,"→",null,null,null,"（→）",null,null,null,null,null,{"$f":"IF(D409=\"地上\",K409-MIN(IF(D$10:D$509=\"地上\",K$10:K$509)),0)+SUM(L409:N409)","v":0},null,null,0]
[null,null,401,null,"→",null,null,null,"（→）",null,null,null,null,null,{"$f":"IF(D410=\"地上\",K410-MIN(IF(D$10:D$509=\"地上\",K$10:K$509)),0)+SUM(L410:N410)","v":0},null,null,0]
[null,null,402,null,"→",null,null,null,"（→）",null,null,null,null,null,{"$f":"IF(D411=\"地上\",K411-MIN(IF(D$10:D$509=\"地上\",K$10:K$509)),0)+SUM(L411:N411)","v":0},null,null,0]
[null,null,403,null,"→",null,null,null,"（→）",null,null,null,null,null,{"$f":"IF(D412=\"地上\",K412-MIN(IF(D$10:D$509=\"地上\",K$10:K$509)),0)+SUM(L412:N412)","v":0},null,null,0]
[null,null,404,null,"→",null,null,null,"（→）",null,null,null,null,null,{"$f":"IF(D413=\"地上\",K413-MIN(IF(D$10:D$509=\"地上\",K$10:K$509)),0)+SUM(L413:N413)","v":0},null,null,0]
[null,null,405,null,"→",null,null,null,"（→）",null,null,null,null,null,{"$f":"IF(D414=\"地上\",K414-MIN(IF(D$10:D$509=\"地上\",K$10:K$509)),0)+SUM(L414:N414)","v":0},null,null,0]
[null,null,406,null,"→",null,null,null,"（→）",null,null,null,null,null,{"$f":"IF(D415=\"地上\",K415-MIN(IF(D$10:D$509=\"地上\",K$10:K$509)),0)+SUM(L415:N415)","v":0},null,null,0]
[null,null,407,null,"→",null,null,null,"（→）",null,null,null,null,null,{"$f":"IF(D416=\"地上\",K416-MIN(IF(D$10:D$509=\"地上\",K$10:K$509)),0)+SUM(L416:N416)","v":0},null,null,0]
[null,null,408,null,"→",null,null,null,"（→）",null,null,null,null,null,{"$f":"IF(D417=\"地上\",K417-MIN(IF(D$10:D$509=\"地上\",K$10:K$509)),0)+SUM(L417:N417)","v":0},null,null,0]
[null,null,409,null,"→",null,null,null,"（→）",null,null,null,null,null,{"$f":"IF(D418=\"地上\",K418-MIN(IF(D$10:D$509=\"地上\",K$10:K$509)),0)+SUM(L418:N418)","v":0},null,null,0]
[null,null,410,null,"→",null,null,null,"（→）",null,null,null,null,null,{"$f":"IF(D419=\"地上\",K419-MIN(IF(D$10:D$509=\"地上\",K$10:K$509)),0)+SUM(L419:N419)","v":0},null,null,0]
[null,null,411,null,"→",null,null,null,"（→）",null,null,null,null,null,{"$f":"IF(D420=\"地上\",K420-MIN(IF(D$10:D$509=\"地上\",K$10:K$509)),0)+SUM(L420:N420)","v":0},null,null,0]
[null,null,412,null,"→",null,null,null,"（→）",null,null,null,null,null,{"$f":"IF(D421=\"地上\",K421-MIN(IF(D$10:D$509=\"地上\",K$10:K$509)),0)+SUM(L421:N421)","v":0},null,null,0]
[null,null,413,null,"→",null,null,null,"（→）",null,null,null,null,null,{"$f":"IF(D422=\"地上\",K422-MIN(IF(D$10:D$509=\"地上\",K$10:K$509)),0)+SUM(L422:N422)","v":0},null,null,0]
[null,null,414,null,"→",null,null,null,"（→）",null,null,null,null,null,{"$f":"IF(D423=\"地上\",K423-MIN(IF(D$10:D$509=\"地上\",K$10:K$509)),0)+SUM(L423:N423)","v":0},null,null,0]
[null,null,415,null,"→",null,null,null,"（→）",null,null,null,null,null,{"$f":"IF(D424=\"地上\",K424-MIN(IF(D$10:D$509=\"地上\",K$10:K$509)),0)+SUM(L424:N424)","v":0},null,null,0]
[null,null,416,null,"→",null,null,null,"（→）",null,null,null,null,null,{"$f":"IF(D425=\"地上\",K425-MIN(IF(D$10:D$509=\"地上\",K$10:K$509)),0)+SUM(L425:N425)","v":0},null,null,0]
[null,null,417,null,"→",null,null,null,"（→）",null,null,null,null,null,{"$f":"IF(D426=\"地上\",K426-MIN(IF(D$10:D$509=\"地上\",K$10:K$509)),0)+SUM(L426:N426)","v":0},null,null,0]
[null,null,418,null,"→",null,null,null,"（→）",null,null,null,null,null,{"$f":"IF(D427=\"地上\",K427-MIN(IF(D$10:D$509=\"地上\",K$10:K$509)),0)+SUM(L427:N427)","v":0},null,null,0]
[null,null,419,null,"→",null,null,null,"（→）",null,null,null,null,null,{"$f":"IF(D428=\"地上\",K428-MIN(IF(D$10:D$509=\"地上\",K$10:K$509)),0)+SUM(L428:N428)","v":0},null,null,0]
[null,null,420,null,"→",null,null,null,"（→）",null,null,null,null,null,{"$f":"IF(D429=\"地上\",K429-MIN(IF(D$10:D$509=\"地上\",K$10:K$509)),0)+SUM(L429:N429)","v":0},null,null,0]
[null,null,421,null,"→",null,null,null,"（→）",null,null,null,null,null,{"$f":"IF(D430=\"地上\",K430-MIN(IF(D$10:D$509=\"地上\",K$10:K$509)),0)+SUM(L430:N430)","v":0},null,null,0]
[null,null,422,null,"→",null,null,null,"（→）",null,null,null,null,null,{"$f":"IF(D431=\"地上\",K431-MIN(IF(D$10:D$509=\"地上\",K$10:K$509)),0)+SUM(L431:N431)","v":0},null,null,0]
[null,null,423,null,"→",null,null,null,"（→）",null,null,null,null,null,{"$f":"IF(D432=\"地上\",K432-MIN(IF(D$10:D$509=\"地上\",K$10:K$509)),0)+SUM(L432:N432)","v":0},null,null,0]
[null,null,424,null,"→",null,null,null,"（→）",null,null,null,null,null,{"$f":"IF(D433=\"地上\",K433-MIN(IF(D$10:D$509=\"地上\",K$10:K$509)),0)+SUM(L433:N433)","v":0},null,null,0]
[null,null,425,null,"→",null,null,null,"（→）",null,null,null,null,null,{"$f":"IF(D434=\"地上\",K434-MIN(IF(D$10:D$509=\"地上\",K$10:K$509)),0)+SUM(L434:N434)","v":0},null,null,0]
[null,null,426,null,"→",null,null,null,"（→）",null,null,null,null,null,{"$f":"IF(D435=\"地上\",K435-MIN(IF(D$10:D$509=\"地上\",K$10:K$509)),0)+SUM(L435:N435)","v":0},null,null,0]
[null,null,427,null,"→",null,null,null,"（→）",null,null,null,null,null,{"$f":"IF(D436=\"地上\",K436-MIN(IF(D$10:D$509=\"地上\",K$10:K$509)),0)+SUM(L436:N436)","v":0},null,null,0]
[null,null,428,null,"→",null,null,null,"（→）",null,null,null,null,null,{"$f":"IF(D437=\"地上\",K437-MIN(IF(D$10:D$509=\"地上\",K$10:K$509)),0)+SUM(L437:N437)","v":0},null,null,0]
[null,null,429,null,"→",null,null,null,"（→）",null,null,null,null,null,{"$f":"IF(D438=\"地上\",K438-MIN(IF(D$10:D$509=\"地上\",K$10:K$509)),0)+SUM(L438:N438)","v":0},null,null,0]
[null,null,430,null,"→",null,null,null,"（→）",null,null,null,null,null,{"$f":"IF(D439=\"地上\",K439-MIN(IF(D$10:D$509=\"地上\",K$10:K$509)),0)+SUM(L439:N439)","v":0},null,null,0]
[null,null,431,null,"→",null,null,null,"（→）",null,null,null,null,null,{"$f":"IF(D440=\"地上\",K440-MIN(IF(D$10:D$509=\"地上\",K$10:K$509)),0)+SUM(L440:N440)","v":0},null,null,0]
[null,null,432,null,"→",null,null,null,"（→）",null,null,null,null,null,{"$f":"IF(D441=\"地上\",K441-MIN(IF(D$10:D$509=\"地上\",K$10:K$509)),0)+SUM(L441:N441)","v":0},null,null,0]
[null,null,433,null,"→",null,null,null,"（→）",null,null,null,null,null,{"$f":"IF(D442=\"地上\",K442-MIN(IF(D$10:D$509=\"地上\",K$10:K$509)),0)+SUM(L442:N442)","v":0},null,null,0]
[null,null,434,null,"→",null,null,null,"（→）",null,null,null,null,null,{"$f":"IF(D443=\"地上\",K443-MIN(IF(D$10:D$509=\"地上\",K$10:K$509)),0)+SUM(L443:N443)","v":0},null,null,0]
[null,null,435,null,"→",null,null,null,"（→）",null,null,null,null,null,{"$f":"IF(D444=\"地上\",K444-MIN(IF(D$10:D$509=\"地上\",K$10:K$509)),0)+SUM(L444:N444)","v":0},null,null,0]
[null,null,436,null,"→",null,null,null,"（→）",null,null,null,null,null,{"$f":"IF(D445=\"地上\",K445-MIN(IF(D$10:D$509=\"地上\",K$10:K$509)),0)+SUM(L445:N445)","v":0},null,null,0]
[null,null,437,null,"→",null,null,null,"（→）",null,null,null,null,null,{"$f":"IF(D446=\"地上\",K446-MIN(IF(D$10:D$509=\"地上\",K$10:K$509)),0)+SUM(L446:N446)","v":0},null,null,0]
[null,null,438,null,"→",null,null,null,"（→）",null,null,null,null,null,{"$f":"IF(D447=\"地上\",K447-MIN(IF(D$10:D$509=\"地上\",K$10:K$509)),0)+SUM(L447:N447)","v":0},null,null,0]
[null,null,439,null,"→",null,null,null,"（→）",null,null,null,null,null,{"$f":"IF(D448=\"地上\",K448-MIN(IF(D$10:D$509=\"地上\",K$10:K$509)),0)+SUM(L448:N448)","v":0},null,null,0]
[null,null,440,null,"→",null,null,null,"（→）",null,null,null,null,null,{"$f":"IF(D449=\"地上\",K449-MIN(IF(D$10:D$509=\"地上\",K$10:K$509)),0)+SUM(L449:N449)","v":0},null,null,0]
[null,null,441,null,"→",null,null,null,"（→）",null,null,null,null,null,{"$f":"IF(D450=\"地上\",K450-MIN(IF(D$10:D$509=\"地上\",K$10:K$509)),0)+SUM(L450:N450)","v":0},null,null,0]
[null,null,442,null,"→",null,null,null,"（→）",null,null,null,null,null,{"$f":"IF(D451=\"地上\",K451-MIN(IF(D$10:D$509=\"地上\",K$10:K$509)),0)+SUM(L451:N451)","v":0},null,null,0]
[null,null,443,null,"→",null,null,null,"（→）",null,null,null,null,null,{"$f":"IF(D452=\"地上\",K452-MIN(IF(D$10:D$509=\"地上\",K$10:K$509)),0)+SUM(L452:N452)","v":0},null,null,0]
[null,null,444,null,"→",null,null,null,"（→）",null,null,null,null,null,{"$f":"IF(D453=\"地上\",K453-MIN(IF(D$10:D$509=\"地上\",K$10:K$509)),0)+SUM(L453:N453)","v":0},null,null,0]
[null,null,445,null,"→",null,null,null,"（→）",null,null,null,null,null,{"$f":"IF(D454=\"地上\",K454-MIN(IF(D$10:D$509=\"地上\",K$10:K$509)),0)+SUM(L454:N454)","v":0},null,null,0]
[null,null,446,null,"→",null,null,null,"（→）",null,null,null,null,null,{"$f":"IF(D455=\"地上\",K455-MIN(IF(D$10:D$509=\"地上\",K$10:K$509)),0)+SUM(L455:N455)","v":0},null,null,0]
[null,null,447,null,"→",null,null,null,"（→）",null,null,null,null,null,{"$f":"IF(D456=\"地上\",K456-MIN(IF(D$10:D$509=\"地上\",K$10:K$509)),0)+SUM(L456:N456)","v":0},null,null,0]
[null,null,448,null,"→",null,null,null,"（→）",null,null,null,null,null,{"$f":"IF(D457=\"地上\",K457-MIN(IF(D$10:D$509=\"地上\",K$10:K$509)),0)+SUM(L457:N457)","v":0},null,null,0]
[null,null,449,null,"→",null,null,null,{"$f":"G458&\"（\"&D458&E458&F458&\"）\"","v":"（→）"},null,null,null,null,null,{"$f":"IF(D458=\"地上\",K458-MIN(IF(D$10:D$509=\"地上\",K$10:K$509)),0)+SUM(L458:N458)","v":0},null,null,{"$f":"O458+P458","v":0}]
[null,null,450,null,"→",null,null,null,"（→）",null,null,null,null,null,{"$f":"IF(D459=\"地上\",K459-MIN(IF(D$10:D$509=\"地上\",K$10:K$509)),0)+SUM(L459:N459)","v":0},null,null,0]
[null,null,451,null,"→",null,null,null,"（→）",null,null,null,null,null,{"$f":"IF(D460=\"地上\",K460-MIN(IF(D$10:D$509=\"地上\",K$10:K$509)),0)+SUM(L460:N460)","v":0},null,null,0]
[null,null,452,null,"→",null,null,null,"（→）",null,null,null,null,null,{"$f":"IF(D461=\"地上\",K461-MIN(IF(D$10:D$509=\"地上\",K$10:K$509)),0)+SUM(L461:N461)","v":0},null,null,0]
[null,null,453,null,"→",null,null,null,"（→）",null,null,null,null,null,{"$f":"IF(D462=\"地上\",K462-MIN(IF(D$10:D$509=\"地上\",K$10:K$509)),0)+SUM(L462:N462)","v":0},null,null,0]
[null,null,454,null,"→",null,null,null,"（→）",null,null,null,null,null,{"$f":"IF(D463=\"地上\",K463-MIN(IF(D$10:D$509=\"地上\",K$10:K$509)),0)+SUM(L463:N463)","v":0},null,null,0]
[null,null,455,null,"→",null,null,null,"（→）",null,null,null,null,null,{"$f":"IF(D464=\"地上\",K464-MIN(IF(D$10:D$509=\"地上\",K$10:K$509)),0)+SUM(L464:N464)","v":0},null,null,0]
[null,null,456,null,"→",null,null,null,"（→）",null,null,null,null,null,{"$f":"IF(D465=\"地上\",K465-MIN(IF(D$10:D$509=\"地上\",K$10:K$509)),0)+SUM(L465:N465)","v":0},null,null,0]
[null,null,457,null,"→",null,null,null,"（→）",null,null,null,null,null,{"$f":"IF(D466=\"地上\",K466-MIN(IF(D$10:D$509=\"地上\",K$10:K$509)),0)+SUM(L466:N466)","v":0},null,null,0]
[null,null,458,null,"→",null,null,null,"（→）",null,null,null,null,null,{"$f":"IF(D467=\"地上\",K467-MIN(IF(D$10:D$509=\"地上\",K$10:K$509)),0)+SUM(L467:N467)","v":0},null,null,0]
[null,null,459,null,"→",null,null,null,"（→）",null,null,null,null,null,{"$f":"IF(D468=\"地上\",K468-MIN(IF(D$10:D$509=\"地上\",K$10:K$509)),0)+SUM(L468:N468)","v":0},null,null,0]
[null,null,460,null,"→",null,null,null,"（→）",null,null,null,null,null,{"$f":"IF(D469=\"地上\",K469-MIN(IF(D$10:D$509=\"地上\",K$10:K$509)),0)+SUM(L469:N469)","v":0},null,null,0]
[null,null,461,null,"→",null,null,null,"（→）",null,null,null,null,null,{"$f":"IF(D470=\"地上\",K470-MIN(IF(D$10:D$509=\"地上\",K$10:K$509)),0)+SUM(L470:N470)","v":0},null,null,0]
[null,null,462,null,"→",null,null,null,"（→）",null,null,null,null,null,{"$f":"IF(D471=\"地上\",K471-MIN(IF(D$10:D$509=\"地上\",K$10:K$509)),0)+SUM(L471:N471)","v":0},null,null,0]
[null,null,463,null,"→",null,null,null,"（→）",null,null,null,null,null,{"$f":"IF(D472=\"地上\",K472-MIN(IF(D$10:D$509=\"地上\",K$10:K$509)),0)+SUM(L472:N472)","v":0},null,null,0]
[null,null,464,null,"→",null,null,null,"（→）",null,null,null,null,null,{"$f":"IF(D473=\"地上\",K473-MIN(IF(D$10:D$509=\"地上\",K$10:K$509)),0)+SUM(L473:N473)","v":0},null,null,0]
[null,null,465,null,"→",null,null,null,"（→）",null,null,null,null,null,{"$f":"IF(D474=\"地上\",K474-MIN(IF(D$10:D$509=\"地上\",K$10:K$509)),0)+SUM(L474:N474)","v":0},null,null,0]
[null,null,466,null,"→",null,null,null,"（→）",null,null,null,null,null,{"$f":"IF(D475=\"地上\",K475-MIN(IF(D$10:D$509=\"地上\",K$10:K$509)),0)+SUM(L475:N475)","v":0},null,null,0]
[null,null,467,null,"→",null,null,null,"（→）",null,null,null,null,null,{"$f":"IF(D476=\"地上\",K476-MIN(IF(D$10:D$509=\"地上\",K$10:K$509)),0)+SUM(L476:N476)","v":0},null,null,0]
[null,null,468,null,"→",null,null,null,"（→）",null,null,null,null,null,{"$f":"IF(D477=\"地上\",K477-MIN(IF(D$10:D$509=\"地上\",K$10:K$509)),0)+SUM(L477:N477)","v":0},null,null,0]
[null,null,469,null,"→",null,null,null,"（→）",null,null,null,null,null,{"$f":"IF(D478=\"地上\",K478-MIN(IF(D$10:D$509=\"地上\",K$10:K$509)),0)+SUM(L478:N478)","v":0},null,null,0]
[null,null,470,null,"→",null,null,null,"（→）",null,null,null,null,null,{"$f":"IF(D479=\"地上\",K479-MIN(IF(D$10:D$509=\"地上\",K$10:K$509)),0)+SUM(L479:N479)","v":0},null,null,0]
[null,null,471,null,"→",null,null,null,"（→）",null,null,null,null,null,{"$f":"IF(D480=\"地上\",K480-MIN(IF(D$10:D$509=\"地上\",K$10:K$509)),0)+SUM(L480:N480)","v":0},null,null,0]
[null,null,472,null,"→",null,null,null,"（→）",null,null,null,null,null,{"$f":"IF(D481=\"地上\",K481-MIN(IF(D$10:D$509=\"地上\",K$10:K$509)),0)+SUM(L481:N481)","v":0},null,null,0]
[null,null,473,null,"→",null,null,null,"（→）",null,null,null,null,null,{"$f":"IF(D482=\"地上\",K482-MIN(IF(D$10:D$509=\"地上\",K$10:K$509)),0)+SUM(L482:N482)","v":0},null,null,0]
[null,null,474,null,"→",null,null,null,"（→）",null,null,null,null,null,{"$f":"IF(D483=\"地上\",K483-MIN(IF(D$10:D$509=\"地上\",K$10:K$509)),0)+SUM(L483:N483)","v":0},null,null,0]
[null,null,475,null,"→",null,null,null,"（→）",null,null,null,null,null,{"$f":"IF(D484=\"地上\",K484-MIN(IF(D$10:D$509=\"地上\",K$10:K$509)),0)+SUM(L484:N484)","v":0},null,null,0]
[null,null,476,null,"→",null,null,null,"（→）",null,null,null,null,null,{"$f":"IF(D485=\"地上\",K485-MIN(IF(D$10:D$509=\"地上\",K$10:K$509)),0)+SUM(L485:N485)","v":0},null,null,0]
[null,null,477,null,"→",null,null,null,"（→）",null,null,null,null,null,{"$f":"IF(D486=\"地上\",K486-MIN(IF(D$10:D$509=\"地上\",K$10:K$509)),0)+SUM(L486:N486)","v":0},null,null,0]
[null,null,478,null,"→",null,null,null,"（→）",null,null,null,null,null,{"$f":"IF(D487=\"地上\",K487-MIN(IF(D$10:D$509=\"地上\",K$10:K$509)),0)+SUM(L487:N487)","v":0},null,null,0]
[null,null,479,null,"→",null,null,null,"（→）",null,null,null,null,null,{"$f":"IF(D488=\"地上\",K488-MIN(IF(D$10:D$509=\"地上\",K$10:K$509)),0)+SUM(L488:N488)","v":0},null,null,0]
[null,null,480,null,"→",null,null,null,"（→）",null,null,null,null,null,{"$f":"IF(D489=\"地上\",K489-MIN(IF(D$10:D$509=\"地上\",K$10:K$509)),0)+SUM(L489:N489)","v":0},null,null,0]
[null,null,481,null,"→",null,null,null,"（→）",null,null,null,null,null,{"$f":"IF(D490=\"地上\",K490-MIN(IF(D$10:D$509=\"地上\",K$10:K$509)),0)+SUM(L490:N490)","v":0},null,null,0]
[null,null,482,null,"→",null,null,null,"（→）",null,null,null,null,null,{"$f":"IF(D491=\"地上\",K491-MIN(IF(D$10:D$509=\"地上\",K$10:K$509)),0)+SUM(L491:N491)","v":0},null,null,0]
[null,null,483,null,"→",null,null,null,"（→）",null,null,null,null,null,{"$f":"IF(D492=\"地上\",K492-MIN(IF(D$10:D$509=\"地上\",K$10:K$509)),0)+SUM(L492:N492)","v":0},null,null,0]
[null,null,484,null,"→",null,null,null,"（→）",null,null,null,null,null,{"$f":"IF(D493=\"地上\",K493-MIN(IF(D$10:D$509=\"地上\",K$10:K$509)),0)+SUM(L493:N493)","v":0},null,null,0]
[null,null,485,null,"→",null,null,null,"（→）",null,null,null,null,null,{"$f":"IF(D494=\"地上\",K494-MIN(IF(D$10:D$509=\"地上\",K$10:K$509)),0)+SUM(L494:N494)","v":0},null,null,0]
[null,null,486,null,"→",null,null,null,"（→）",null,null,null,null,null,{"$f":"IF(D495=\"地上\",K495-MIN(IF(D$10:D$509=\"地上\",K$10:K$509)),0)+SUM(L495:N495)","v":0},null,null,0]
[null,null,487,null,"→",null,null,null,"（→）",null,null,null,null,null,{"$f":"IF(D496=\"地上\",K496-MIN(IF(D$10:D$509=\"地上\",K$10:K$509)),0)+SUM(L496:N496)","v":0},null,null,0]
[null,null,488,null,"→",null,null,null,"（→）",null,null,null,null,null,{"$f":"IF(D497=\"地上\",K497-MIN(IF(D$10:D$509=\"地上\",K$10:K$509)),0)+SUM(L497:N497)","v":0},null,null,0]
[null,null,489,null,"→",null,null,null,"（→）",null,null,null,null,null,{"$f":"IF(D498=\"地上\",K498-MIN(IF(D$10:D$509=\"地上\",K$10:K$509)),0)+SUM(L498:N498)","v":0},null,null,0]
[null,null,490,null,"→",null,null,null,"（→）",null,null,null,null,null,{"$f":"IF(D499=\"地上\",K499-MIN(IF(D$10:D$509=\"地上\",K$10:K$509)),0)+SUM(L499:N499)","v":0},null,null,0]
[null,null,491,null,"→",null,null,null,"（→）",null,null,null,null,null,{"$f":"IF(D500=\"地上\",K500-MIN(IF(D$10:D$509=\"地上\",K$10:K$509)),0)+SUM(L500:N500)","v":0},null,null,0]
[null,null,492,null,"→",null,null,null,"（→）",null,null,null,null,null,{"$f":"IF(D501=\"地上\",K501-MIN(IF(D$10:D$509=\"地上\",K$10:K$509)),0)+SUM(L501:N501)","v":0},null,null,0]
[null,null,493,null,"→",null,null,null,"（→）",null,null,null,null,null,{"$f":"IF(D502=\"地上\",K502-MIN(IF(D$10:D$509=\"地上\",K$10:K$509)),0)+SUM(L502:N502)","v":0},null,null,0]
[null,null,494,null,"→",null,null,null,"（→）",null,null,null,null,null,{"$f":"IF(D503=\"地上\",K503-MIN(IF(D$10:D$509=\"地上\",K$10:K$509)),0)+SUM(L503:N503)","v":0},null,null,0]
[null,null,495,null,"→",null,null,null,"（→）",null,null,null,null,null,{"$f":"IF(D504=\"地上\",K504-MIN(IF(D$10:D$509=\"地上\",K$10:K$509)),0)+SUM(L504:N504)","v":0},null,null,0]
[null,null,496,null,"→",null,null,null,"（→）",null,null,null,null,null,{"$f":"IF(D505=\"地上\",K505-MIN(IF(D$10:D$509=\"地上\",K$10:K$509)),0)+SUM(L505:N505)","v":0},null,null,0]
[null,null,497,null,"→",null,null,null,"（→）",null,null,null,null,null,{"$f":"IF(D506=\"地上\",K506-MIN(IF(D$10:D$509=\"地上\",K$10:K$509)),0)+SUM(L506:N506)","v":0},null,null,0]
[null,null,498,null,"→",null,null,null,"（→）",null,null,null,null,null,{"$f":"IF(D507=\"地上\",K507-MIN(IF(D$10:D$509=\"地上\",K$10:K$509)),0)+SUM(L507:N507)","v":0},null,null,0]
[null,null,499,null,"→",null,null,null,"（→）",null,null,null,null,null,{"$f":"IF(D508=\"地上\",K508-MIN(IF(D$10:D$509=\"地上\",K$10:K$509)),0)+SUM(L508:N508)","v":0},null,null,0]
[null,null,500,null,"→",null,null,null,"（→）",null,null,null,null,null,{"$f":"IF(D509=\"地上\",K509-MIN(IF(D$10:D$509=\"地上\",K$10:K$509)),0)+SUM(L509:N509)","v":0},null,null,0]