{"text_format":"1","workbook":"xlsx","n_sheets":18,"sheets":["流れ","申請入力シート(ここに入力してください)","申請書","計画書1","計画書2","予算書抄本","前年度決算書抄本","変更入力シート(変更ありの場合のみ入力してください)","変更申請書","変更計画書1","変更計画書2","変更予算書抄本","実績報告・請求入力シート(ここに入力してください)","実績報告書","実績計算書1","実績計算書2","決算書抄本","請求書"],"not_rendered":{"charts":0,"images":0,"macros":1,"external_links":0,"defined_names":15,"comments":3,"pivot_tables":0},"unopened":[],"bounds":{"document_bytes":16777216,"sheet_cells":100000,"rows_first":2000,"rows_last":500,"rows_between":2000,"halvings":0,"cell_chars":16384,"cell_head_chars":4096},"cells_cut":0,"cells_raw":0,"read":"whole","date_system":"1900"}

{"sheet":"流れ","index":0,"n_rows":45,"n_cols":10,"rows_kept":45,"cut":false,"hidden":false,"merged":[[42,1,42,2],[44,0,44,10],[0,0,0,10],[2,1,2,2],[39,1,39,2],[4,8,9,10],[11,1,11,2],[14,1,14,2],[19,9,22,10],[24,3,24,4],[27,1,27,2],[30,9,37,10]]}
["結核予防費助成事業の流れ"]
[]
["（申請）","各施設",null,"【申請期限】毎年度１月31日まで"]
[null,null,"下記５点の書類をExcelデータで提出（宛先：hokensho-boeki@city.himeji.lg.jp）"]
[null,null,"　①補助金等交付申請書",null,null,null,null,null,"このExcelファイルの\n「申請入力シート」\nの黄色セルに入力"]
[null,null,"　②結核予防事業計画書（その１）"]
[null,null,"　③結核予防事業計画書（その２）"]
[null,null,"　④今年度歳入歳出予算書抄本"]
[null,null,"　⑤前年度決算書抄本"]
[null,null,"　　（前年度に同補助金の交付を受けていない場合は不要）"]
[]
["（審査・交付決定）","姫路市保健所",null,"毎年度2月初旬頃"]
[null,null,"申請書類審査後、補助金等交付可否決定書を送付"]
[]
["（健診実施）","各施設"]
[null,null,"健康診断の実施、健診機関への費用支払い"]
[]
[null,null,null,null,"申請内容に変更がある場合のみ下記４点の書類をExcelデータで提出"]
[null,null,null,null,"（宛先：hokensho-boeki@city.himeji.lg.jp）"]
[null,null,null,null,"　①補助事業計画変更（廃止（中止））申請書",null,null,null,null,"このExcelファイルの\n「変更入力シート」\nの黄色セルに入力"]
[null,null,null,null,"　②結核予防事業計画書（その１）"]
[null,null,null,null,"　③結核予防事業計画書（その２）"]
[null,null,null,null,"　④今年度歳入歳出予算書抄本"]
[]
[null,null,null,"姫路市保健所"]
[null,null,null,null,"変更申請書類審査後、補助金等変更交付可否決定書を送付"]
[]
["（報告・請求）","各施設",null,"【報告・請求期限】別途定める期日まで（毎年度2月末頃）"]
[null,null,"下記７点の書類をExcelデータ（①～⑤）、PDFファイル（⑥⑦）で提出"]
[null,null,"　①補助事業実績報告書",null,null,null,"（宛先：hokensho-boeki@city.himeji.lg.jp）"]
[null,null,"　②結核予防事業実績計算書（その１）",null,null,null,null,null,null,"このExcelファイルの\n「実績報告・請求\n入力シート」\nの黄色セルに入力"]
[null,null,"　③結核予防事業実績計算書（その２）"]
[null,null,"　④今年度決算書抄本"]
[null,null,"　⑤補助金等交付請求書"]
[null,null,"　⑥健康診断対象者名簿又は受診者名簿の写し"]
[null,null,"　　（氏名及び年齢を含むもの）"]
[null,null,"　⑦領収書、明細書等の写し"]
[null,null,"　　（補助対象費用（胸部Ｘ線撮影等の単価）の記載があるもの）"]
[]
["（審査・補助金交付）","姫路市保健所",null,"毎年度3月末頃"]
[null,null,"報告書類審査後、補助金を交付"]
[]
[null,"各施設"]
[]
["＜提出先＞　姫路市保健所予防課　感染症担当　E-mail：hokensho-boeki@city.himeji.lg.jp"]

{"sheet":"申請入力シート(ここに入力してください)","index":1,"n_rows":31,"n_cols":10,"rows_kept":31,"cut":false,"hidden":false,"merged":[[29,1,29,3],[29,6,29,7],[29,4,29,5],[28,4,28,5],[23,6,23,7],[28,6,28,7],[23,2,23,3],[23,4,23,5],[24,0,28,0],[24,1,28,1],[28,2,28,3],[21,1,23,1],[15,8,20,8],[27,2,27,3],[27,4,27,5],[27,6,27,7],[26,2,26,3],[24,2,24,3],[24,4,24,5],[24,6,24,7],[25,2,25,3],[25,4,25,5],[25,6,25,7],[22,2,22,3],[21,6,21,7],[9,6,9,7],[10,6,10,7],[11,6,11,7],[12,6,12,7],[13,6,13,7],[14,6,14,7],[13,4,13,5],[15,2,20,2],[2,1,11,1],[12,1,20,1],[11,4,11,5],[2,2,2,3],[8,2,8,3],[7,2,7,3],[6,2,6,3],[5,2,5,3],[4,2,4,3],[3,2,3,3],[9,2,9,3],[14,2,14,3],[13,2,13,3],[12,2,12,3],[1,6,1,7],[1,1,1,3],[21,2,21,3],[21,4,21,5],[14,4,14,5],[2,6,2,7],[3,6,3,7],[4,6,4,7],[5,6,5,7],[6,6,6,7],[7,6,7,7],[8,6,8,7],[6,4,6,5],[7,4,7,5],[8,4,8,5],[9,4,9,5],[1,4,1,5],[2,4,2,5],[3,4,3,5],[4,4,4,5],[5,4,5,5],[11,2,11,3],[10,2,10,3],[10,8,11,8],[10,4,10,5],[12,4,12,5]]}
[]
[null,null,null,null,"入力欄",null,"例"]
[null,"申請書","申請日",null,null,null,"2025-10-01"]
[null,null,"申請人（住所）",null,null,null,"姫路市○○町○○-○○-○○"]
[null,null,"申請人（法人名）",null,null,null,"学校法人　○○　○○○○○"]
[null,null,"申請人（代表者名）",null,null,null,"学校長　○○　○○"]
[null,null,"補助年度（令和○年度）",null,null,null,7]
[null,null,"補助事業の目的",null,null,null,"感染症法第53条の２の規定に基づき、今年度入学した学生に対して結核の定期健康診断を実施することで、結核患者の早期発見・治療に繋げ、学校内での結核の感染拡大を防止する。"]
[null,null,"補助事業の内容",null,null,null,"今年度入学した学生に対して胸部エックス線撮影を実施し、結核に罹患していないか確認する。"]
[null,null,"事業効果",null,null,null,"結核患者を早期に発見し治療に繋げることで、学校内での結核の感染拡大を防止することができる。"]
[null,null,"補助事業着手年月日（予定）",null,null,null,"2025-04-01",null,"必ず当該年度内の日付を入力してください（予定でOKです）。"]
[null,null,"補助事業完了年月日（予定）",null,null,null,"2026-03-31"]
[null,"計画書","対象学校数",null,null,null,1,null,"結核健診を実施する学校の数を入力してください。"]
[null,null,"対象者数",null,null,null,51,null,"結核健診の対象者（今年度入学した学生）の人数を入力してください。"]
[null,null,"受診者数",null,null,null,48,null,"対象者（今年度入学した学生）のうち結核健診（胸部X線等）を実際に受診した人数を入力してください。"]
[null,null,"検査方法",null,"受診者数","支出予定額","受診者数","支出予定額","実施した検査方法の欄に受診者数を入力してください。\n（必ず上記の受診者数と一致させてください。）\n実施していない検査方法には「0」を入力してください。"]
[null,null,null,"直接撮影",null,{"$f":"IF(TRIM(E17)=\"0\",\"0 円\",予算書抄本!F16)","v":0},48,112800]
[null,null,null,"間接撮影（100mm）",null,{"$f":"IF(TRIM(E18)=\"0\",\"0 円\",予算書抄本!F16)","v":0},0,"0 円"]
[null,null,null,"間接撮影（70mm）",null,{"$f":"IF(TRIM(E19)=\"0\",\"0 円\",予算書抄本!F16)","v":0},0,"0 円"]
[null,null,null,"ツベルクリン",null,{"$f":"IF(TRIM(E20)=\"0\",\"0 円\",予算書抄本!F16)","v":0},0,"0 円"]
[null,null,null,"IGRA",null,{"$f":"IF(TRIM(E21)=\"0\",\"0 円\",予算書抄本!F16)","v":0},0,"0 円"]
[null,"予算書","科目",null,null,null,"保健衛生費",null,"結核健診に係る費用を支出する科目の名称を入力してください。"]
[null,null,"1人あたりの検査価格（税込）",null,null,null,"直接撮影",2100,"受診した項目を選び、1人あたりの価格（税込）を入力してください。"]
[null,null,"その他に必要な費用",null,null,null,12000,null,"その他に必要な費用を入力してください（結核健診に関する費用のみ）"]
[null,"決算書※","【前年度】交付された補助金額",null,null,null,55366,null,"前年度の交付額を確認し、入力してください。"]
[null,null,"【前年度】科目",null,null,null,"保健衛生費",null,"前年度、結核健診に係る費用を支出した科目の名称を入力してください。"]
[null,null,"【前年度】1人あたりの検査価格（税込）",null,null,null,"直接撮影",2000,"前年度、受診した項目を選び、1人あたりの価格（税込）を入力してください。"]
[null,null,"【前年度】受診者数",null,null,null,47,null,"前年度の受診者数を入力してください。"]
[null,null,"【前年度】その他にかかった費用",null,null,null,12000,null,"前年度、その他にかかった費用を入力してください（結核健診に関する費用のみ）"]
[null,"相手方登録の変更",null,null,null,null,"変更なし",null,"相手方登録内容の変更の有無について選択してください。","変更あり（相手方登録申出書を別途提出）"]
[null,"※決算書については、前年度交付されていない場合は作成不要",null,null,null,null,null,null,null,"変更なし"]

{"sheet":"申請書","index":2,"n_rows":30,"n_cols":10,"rows_kept":30,"cut":false,"hidden":false,"merged":[[24,1,24,5],[23,6,23,11],[24,6,24,11],[26,1,26,11],[2,1,2,11],[4,7,4,9],[5,9,5,11],[13,1,13,11],[16,6,16,11],[15,6,15,11],[15,1,15,5],[8,1,8,3],[9,7,9,11],[11,7,11,11],[6,1,6,3],[16,1,16,2],[18,13,18,22],[20,13,20,22],[22,13,22,22],[10,7,10,11],[30,1,30,11],[19,1,19,5],[19,6,19,11],[20,1,20,11],[18,1,18,11],[21,1,21,11],[22,1,22,11],[17,1,17,5],[17,6,17,11],[28,1,28,11],[27,1,27,11],[23,1,23,5]]}
[null,"様式第１号（第４条関係）"]
[]
[null,"補 助 金 等 交 付 申 請 書"]
[]
[]
[null,null,null,null,null,null,null,null,null,{"$f":"'申請入力シート(ここに入力してください)'!E3","v":"00:00:00"}]
[null,"姫路市長　様"]
[]
[null,null,null,null,null,null,null,"申請人"]
[null,null,null,null,null,null,null,{"$f":"'申請入力シート(ここに入力してください)'!E4","v":0}]
[null,null,null,null,null,null,null,{"$f":"'申請入力シート(ここに入力してください)'!E5","v":0}]
[null,null,null,null,null,null,null,{"$f":"'申請入力シート(ここに入力してください)'!E6","v":0}]
[]
[null,"　姫路市補助金等交付規則第４条の規定により次のとおり申請します。"]
[]
[null,"補助年度",null,null,null,null,"補助金等の名称"]
[null,"令和",null,{"$f":"'申請入力シート(ここに入力してください)'!E7","v":0},"年度",null,"　姫路市結核予防費補助金"]
[null,"補助事業の目的"]
[null,{"$f":"'申請入力シート(ここに入力してください)'!E8","v":0}]
[null,"補助事業の内容"]
[null,{"$f":"'申請入力シート(ここに入力してください)'!E9","v":0}]
[null,"事業効果"]
[null,{"$f":"'申請入力シート(ここに入力してください)'!E10","v":0}]
[null,"補助事業着手年月日",null,null,null,null,"補助事業完了年月日"]
[null,{"$f":"'申請入力シート(ここに入力してください)'!E11","v":"00:00:00"},null,null,null,null,{"$f":"'申請入力シート(ここに入力してください)'!E12","v":"00:00:00"}]
[null,"添付書類"]
[null,"１　事業計画書（その１及びその２）"]
[null,"２　歳入歳出予算書抄本及び前年度決算書抄本"]
[null,"３　その他"]
[null,"担当課所見（申請人において記入しないこと）"]

{"sheet":"計画書1","index":3,"n_rows":31,"n_cols":9,"rows_kept":31,"cut":false,"hidden":false,"merged":[[12,4,12,5],[1,1,1,8],[3,6,3,8],[8,5,8,8],[10,5,10,8],[9,5,9,8]]}
[]
[null,"結 核 予 防 事 業 計 画 書 （ そ の １ ）"]
[]
[null,null,null,null,null,null,{"$f":"'申請入力シート(ここに入力してください)'!E3","v":"00:00:00"}]
[]
[null,"姫路市長　様"]
[]
[null,null,null,null,null,"実施者"]
[null,null,null,null,null,{"$f":"'申請入力シート(ここに入力してください)'!E4","v":0}]
[null,null,null,null,null,{"$f":"'申請入力シート(ここに入力してください)'!E5","v":0}]
[null,null,null,null,null,{"$f":"'申請入力シート(ここに入力してください)'!E6","v":0}]
[]
[null,"１　申請額※1",null,"金",{"$f":"I23","v":0}]
[]
[null,"２　経費の内訳"]
[null,"　⑴　結核予防費補助金経費所要額"]
[null,null,"  総事業※2\n  予定額","収入※3\n予定額","　差引額※4","　補助※5\n　対象支出\n　予定額","　基準※6\n　算定額","補助※7\n基本額","　補助※8\n　算出額"]
[null,"ツベルクリン\n反応検査",{"$f":"F18","v":0},0,{"$f":"C18","v":0},{"$f":"'申請入力シート(ここに入力してください)'!F20","v":0},{"$f":"計画書2!L11","v":0},{"$f":"MIN(F18,G18)","v":0},{"$f":"ROUNDDOWN(H18*2/3,0)","v":0}]
[null,"間接撮影\n（70mm）",{"$f":"F19","v":0},0,{"$f":"C19","v":0},{"$f":"計画書2!N10","v":0},{"$f":"計画書2!N11","v":0},0,{"$f":"ROUNDDOWN(H19*2/3,0)","v":0}]
[null,"間接撮影\n（100mm）",{"$f":"F20","v":0},0,{"$f":"C20","v":0},{"$f":"計画書2!P10","v":0},{"$f":"計画書2!P11","v":0},{"$f":"MIN(F20,G20)","v":0},0]
[null,"直接撮影",{"$f":"F21","v":0},0,{"$f":"C21","v":0},{"$f":"計画書2!R10","v":0},{"$f":"計画書2!R11","v":0},{"$f":"MIN(F21,G21)","v":0},0]
[null,"IGRA検査",{"$f":"F22","v":0},0,{"$f":"C22","v":0},{"$f":"計画書2!T10","v":0},{"$f":"計画書2!T11","v":0},{"$f":"MIN(F22,G22)","v":0},0]
[null,"合計",{"$f":"SUM(C18:C22)","v":0},0,0,0,0,0,{"$f":"SUM(I18:I22)","v":0}]
[null,"※1　申請額＝２経費の内訳⑴結核予防費補助金経費所要額の補助算出額"]
[null,"※2　総事業予定額＝歳入歳出予算書抄本の予算額の合計"]
[null,"※3　収入予定額＝寄附金その他の収入予定額（ない場合は「0」を記入）"]
[null,"※4　差引額＝総事業予定額－収入予定額"]
[null,"※5　補助対象支出予定額＝歳入歳出予算書抄本の当該事業分予算額の合計"]
[null,"※6　基準算定額＝結核予防事業計画書（その２）の基準算定額"]
[null,"※7　補助基本額＝差引額、補助対象支出予定額及び基準算定額のうち、最も少ない額"]
[null,"※8　補助算出額＝補助基本額×2／3（１円未満切捨）"]

{"sheet":"計画書2","index":4,"n_rows":17,"n_cols":21,"rows_kept":17,"cut":false,"hidden":false,"merged":[[10,11,10,12],[10,13,10,14],[10,15,10,16],[10,17,10,18],[10,19,10,20],[9,17,9,18],[9,15,9,16],[9,13,9,14],[9,11,9,12],[9,19,9,20],[8,0,8,2],[0,0,0,20],[3,0,5,2],[3,3,5,4],[3,5,5,6],[3,7,5,8],[3,9,5,10],[3,11,5,12],[3,13,3,16],[3,17,5,18],[3,19,5,20],[4,13,4,16],[5,13,5,14],[5,15,5,16],[6,0,6,1],[7,0,7,1],[10,0,10,2],[10,3,10,4],[10,5,10,6],[10,7,10,8],[10,9,10,10],[9,0,9,2],[9,3,9,4],[9,5,9,6],[9,7,9,8],[9,9,9,10],[11,0,11,2],[11,3,11,4],[11,5,11,6],[11,7,11,8],[11,9,11,10]]}
["結 核 予 防 事 業 計 画 書 （ そ の ２ ）"]
[]
["⑵　受診者数等の内訳"]
["区　　　　　　　　　分",null,null,"結核健診※1\n対象学校数\n又は施設数",null,"結核健診\n対象者数",null,"結核健診\n受診者数",null," 結核健診※2\n 受診率",null,"　ツベルクリン※3\n　反応検査\n　受診者数",null,"間接撮影受診者数※3",null,null,null,"　　直接撮影※3\n　　受診者数",null,"　　IGRA検査※3\n　　受診者数"]
[null,null,null,null,null,null,null,null,null,null,null,null,null,"ミラーカメラ"]
[null,null,null,null,null,null,null,null,null,null,null,null,null,"70ミリ",null,"100ミリ"]
["学校の生徒",null,"入学年度の学生",{"$f":"'申請入力シート(ここに入力してください)'!E13","v":0},"個所",{"$f":"'申請入力シート(ここに入力してください)'!E14","v":0},"人",{"$f":"'申請入力シート(ここに入力してください)'!E15","v":0},"人",{"$f":"H7/F7*100","v":{"$error":"#DIV/0!"}},"％",{"$f":"'申請入力シート(ここに入力してください)'!E20","v":0},"人",{"$f":"'申請入力シート(ここに入力してください)'!E19","v":0},"人",{"$f":"'申請入力シート(ここに入力してください)'!E18","v":0},"人",{"$f":"'申請入力シート(ここに入力してください)'!E17","v":0},"人",{"$f":"'申請入力シート(ここに入力してください)'!E21","v":0},"人"]
["施設入所者",null,"65歳に達する日の\n属する年度以降の者",0,"個所",0,"人",0,"人",0,"％",0,"人",0,"人",0,"人",0,"人",0,"人"]
["合　　　　　　計",null,null,{"$f":"SUM(D7:D8)","v":0},"個所",{"$f":"SUM(F7:F8)","v":0},"人",{"$f":"SUM(H7:H8)","v":0},"人",{"$f":"H9/F9*100","v":{"$error":"#DIV/0!"}},"％",{"$f":"SUM(L7:L8)","v":0},"人",{"$f":"SUM(N7:N8)","v":0},"人",{"$f":"SUM(P7:P8)","v":0},"人",{"$f":"SUM(R7:R8)","v":0},"人",{"$f":"SUM(T7:T8)","v":0},"人"]
["補 助 対 象 支 出 予 定 額※4",null,null,null,null,null,null,null,null,null,null,{"$f":"'申請入力シート(ここに入力してください)'!F20","v":0},null,{"$f":"'申請入力シート(ここに入力してください)'!F19","v":0},null,{"$f":"'申請入力シート(ここに入力してください)'!F18","v":0},null,{"$f":"'申請入力シート(ここに入力してください)'!F17","v":0},null,{"$f":"'申請入力シート(ここに入力してください)'!F21","v":0}]
["基　準　算　定　額※5",null,null,null,null,null,null,null,null,null,null,{"$f":"L12*L9","v":0},null,{"$f":"N12*N9","v":0},null,{"$f":"P12*P9","v":0},null,{"$f":"R12*R9","v":0},null,{"$f":"T12*T9","v":0}]
["補　助　基　準　単　価",null,null,null,null,null,null,null,null,null,null,451,"円",478,"円",506,"円",1821,"円",8547,"円"]
["※1","健康診断の受診対象となる学校数又は施設数"]
["※2","受診率＝(受診者数/対象者数)×100　（四捨五入、整数）"]
["※3","各検査受診者数の合計＝結核健診受診者数の合計"]
["※4","補助対象支出予定額＝結核予防事業計画書（その１）の補助対象支出予定額"]
["※5","基準算定額＝各検査の補助基準単価×各検査の受診者数"]

{"sheet":"予算書抄本","index":5,"n_rows":26,"n_cols":11,"rows_kept":26,"cut":false,"hidden":false,"merged":[[10,2,10,4],[4,2,4,4],[5,2,5,4],[6,2,6,4],[7,2,7,4],[23,6,23,10],[24,6,24,10],[25,6,25,10],[4,6,4,10],[5,6,5,10],[6,6,6,10],[7,6,7,10],[10,6,10,10],[12,12,15,12],[15,2,15,4],[21,1,21,2],[15,6,15,10],[11,1,14,1],[11,2,14,4],[11,5,14,5],[11,6,11,10],[13,6,13,10],[14,6,14,10]]}
[]
[null,null,"令和",{"$f":"'申請入力シート(ここに入力してください)'!E7","v":0},"年度歳入歳出予算書抄本"]
[]
["１　収入の部"]
[null,"科目","予算額※3",null,null,"うち 当該事業分※4","摘要"]
[null,"市補助金※2",{"$f":"F6","v":0},null,null,{"$f":"計画書1!I23","v":0},"姫路市結核予防費補助金"]
[null,"一般財源",{"$f":"F7","v":0},null,null,{"$f":"F8-F6","v":0}]
[null,"合計※1",{"$f":"F8","v":0},null,null,{"$f":"F16","v":0}]
[]
["２　支出の部"]
[null,"科目","予算額※3",null,null,"うち 当該事業分※4","摘要"]
[null,{"$f":"'申請入力シート(ここに入力してください)'!E22","v":0},{"$f":"計画書1!C23","v":0},null,null,{"$f":"K13+G15","v":0},{"$f":"'申請入力シート(ここに入力してください)'!E23","v":0}]
[null,null,null,null,null,null,{"$f":"'申請入力シート(ここに入力してください)'!F23","v":0},"円×",{"$f":"'申請入力シート(ここに入力してください)'!E15","v":0},"名＝",{"$f":"G13*I13","v":0}]
[null,null,null,null,null,null,"その他"]
[null,null,null,null,null,null,{"$f":"'申請入力シート(ここに入力してください)'!E24","v":0}]
[null,"合計※1",{"$f":"SUM(C12:C12)","v":0},null,null,{"$f":"SUM(F12:F12)","v":0}]
[null,"※1　収入の部の合計＝支出の部の合計"]
[null,"※2　市補助金＝結核予防事業計画書（その１）の申請額"]
[null,"※3　健康診断（血液検査、尿検査、胸部X線等）全体に係る予算額"]
[null,"※4　結核の定期健康診断（胸部X線等）に係る予算額"]
[]
[null,{"$f":"'申請入力シート(ここに入力してください)'!E3","v":"00:00:00"}]
[null,null,"この写しは原本と相違ありません。"]
[null,null,null,null,null,null,{"$f":"'申請入力シート(ここに入力してください)'!E4","v":0}]
[null,null,null,null,null,null,{"$f":"'申請入力シート(ここに入力してください)'!E5","v":0}]
[null,null,null,null,null,null,{"$f":"'申請入力シート(ここに入力してください)'!E6","v":0}]

{"sheet":"前年度決算書抄本","index":6,"n_rows":26,"n_cols":12,"rows_kept":26,"cut":false,"hidden":false,"merged":[[23,7,23,11],[24,7,24,11],[25,7,25,11],[12,13,15,13],[13,7,13,11],[14,7,14,11],[15,2,15,4],[15,7,15,11],[21,1,21,2],[15,5,15,6],[7,2,7,4],[7,7,7,11],[10,2,10,4],[10,7,10,11],[11,1,14,1],[11,2,14,4],[11,7,11,11],[11,5,14,6],[7,5,7,6],[10,5,10,6],[4,2,4,4],[4,7,4,11],[5,2,5,4],[5,7,5,11],[6,2,6,4],[6,7,6,11],[5,5,5,6],[4,5,4,6],[6,5,6,6]]}
[]
[null,null,null,null,"令和",{"$f":"'申請入力シート(ここに入力してください)'!E7-1","v":-1},"年度決算書抄本"]
[]
["１　収入の部"]
[null,"科目","決算額※3",null,null,"うち 当該事業分※4",null,"摘要"]
[null,"市補助金※2",{"$f":"F6","v":0},null,null,{"$f":"'申請入力シート(ここに入力してください)'!E25","v":0},null,"姫路市結核予防費補助金"]
[null,"一般財源",{"$f":"F7","v":0},null,null,{"$f":"F8-F6","v":0}]
[null,"合計※1",{"$f":"F8","v":0},null,null,{"$f":"F16","v":0}]
[]
["２　支出の部"]
[null,"科目","決算額※3",null,null,"うち 当該事業分※4",null,"摘要"]
[null,{"$f":"'申請入力シート(ここに入力してください)'!E26","v":0},{"$f":"F12","v":0},null,null,{"$f":"L13+H15","v":0},null,{"$f":"'申請入力シート(ここに入力してください)'!E27","v":0}]
[null,null,null,null,null,null,null,{"$f":"'申請入力シート(ここに入力してください)'!F27","v":0},"円×",{"$f":"'申請入力シート(ここに入力してください)'!E28","v":0},"名＝",{"$f":"H13*J13","v":0}]
[null,null,null,null,null,null,null,"その他"]
[null,null,null,null,null,null,null,{"$f":"'申請入力シート(ここに入力してください)'!E29","v":0}]
[null,"合計※1",{"$f":"F16","v":0},null,null,{"$f":"SUM(F12:F12)","v":0}]
[null,"※1　収入の部の合計＝支出の部の合計"]
[null,"※2　市補助金＝昨年度の結核予防費補助金の交付額"]
[null,"※3　健康診断（血液検査、尿検査、胸部X線等）全体に係る決算額"]
[null,"※4　結核の定期健康診断（胸部X線等）に係る決算額"]
[]
[null,{"$f":"'申請入力シート(ここに入力してください)'!E3","v":"00:00:00"}]
[null,null,"この写しは原本と相違ありません。"]
[null,null,null,null,null,null,null,{"$f":"'申請入力シート(ここに入力してください)'!E4","v":0}]
[null,null,null,null,null,null,null,{"$f":"'申請入力シート(ここに入力してください)'!E5","v":0}]
[null,null,null,null,null,null,null,{"$f":"'申請入力シート(ここに入力してください)'!E6","v":0}]

{"sheet":"変更入力シート(変更ありの場合のみ入力してください)","index":7,"n_rows":24,"n_cols":10,"rows_kept":24,"cut":false,"hidden":false,"merged":[[23,6,23,7],[4,2,4,3],[4,4,4,5],[4,6,4,7],[14,4,14,5],[14,6,14,7],[11,2,11,3],[11,4,11,5],[11,6,11,7],[15,2,20,2],[4,8,6,8],[1,1,1,3],[1,4,1,5],[1,6,1,7],[3,2,3,3],[3,4,3,5],[3,6,3,7],[5,2,5,3],[5,4,5,5],[5,6,5,7],[6,2,6,3],[6,4,6,5],[6,6,6,7],[2,1,11,1],[2,2,2,3],[2,4,2,5],[15,8,20,8],[21,1,23,1],[21,2,21,3],[21,4,21,5],[21,6,21,7],[22,2,22,3],[23,2,23,3],[12,1,20,1],[12,2,12,3],[12,4,12,5],[12,6,12,7],[13,2,13,3],[13,4,13,5],[13,6,13,7],[14,2,14,3],[23,4,23,5],[2,6,2,7],[7,2,7,3],[7,4,7,5],[7,6,7,7],[10,2,10,3],[10,4,10,5],[10,6,10,7],[8,2,8,3],[8,4,8,5],[8,6,8,7],[9,2,9,3],[9,4,9,5],[9,6,9,7]]}
[]
[null,null,null,null,"入力欄",null,"例"]
[null,"変更申請書","計画変更又は廃止（中止）",null,null,null,"計画変更",null,"「計画変更」か「廃止（中止）」を選択してください。","計 画 変 更"]
[null,null,"申請日",null,null,null,"2025-11-25",null,"補助金等交付可否決定書の指令年月日より後の日付を入力してください。","廃 止 (中 止)"]
[null,null,"申請人（住所）",null,{"$f":"'申請入力シート(ここに入力してください)'!E4:F4","v":0},null,"姫路市○○町○○-○○-○○",null,"申請者情報の修正がある場合は、\n姫路市保健所予防課（079-289-1721）までご連絡ください。"]
[null,null,"申請人（法人名）",null,{"$f":"'申請入力シート(ここに入力してください)'!E5:F5","v":0},null,"学校法人　○○　○○○○○"]
[null,null,"申請人（代表者名）",null,{"$f":"'申請入力シート(ここに入力してください)'!E6:F6","v":0},null,"学校長　○○　○○"]
[null,null,"指令年月日",null,null,null,"2025-11-05",null,"補助金等交付可否決定書の右上に記載されている「年月日」を入力してください。"]
[null,null,"指令番号",null,null,null,125,null,"補助金等交付可否決定書の右上に記載されている「姫保指第○○号」の数字を入力してください。"]
[null,null,"変更前の交付金額",null,{"$f":"計画書1!E13","v":0},null,"56,554円",null,"廃止（中止）の場合は記入の必要はありません。"]
[null,null,"変更又は廃止(中止)の理由",null,null,null,"長期休学、退学等により受診者数が減少したため。"]
[null,null,"変更後の効果",null,null,null,"受診者数の変更のみであり、効果は変わらない。\n（結核患者を早期に発見し治療に繋げることで、学校内での結核の感染拡大を防止することができる。）",null,"廃止（中止）の場合は記入の必要はありません。"]
[null,"変更計画書","対象学校数",null,null,null,1,null,"結核健診を実施する学校の数を入力してください。"]
[null,null,"対象者数",null,null,null,51,null,"結核健診の対象者（今年度入学した学生）の人数を入力してください。"]
[null,null,"受診者数",null,null,null,46,null,"対象者（今年度入学した学生）のうち結核健診（胸部X線等）を実際に受診した人数を入力してください。"]
[null,null,"検査方法",null,"受診者数","支出予定額","受診者数","支出予定額","実施した検査方法の欄に受診者数を入力してください。\n（必ず上記の受診者数と一致させてください。）\n実施していない検査方法には「0」を入力してください。"]
[null,null,null,"直接撮影",null,{"$f":"IF(TRIM(E17)=\"0\",\"0 円\",変更予算書抄本!F16)","v":0},46,108600]
[null,null,null,"間接撮影（100mm）",null,{"$f":"IF(TRIM(E18)=\"0\",\"0 円\",変更予算書抄本!F16)","v":0},0,"0 円"]
[null,null,null,"間接撮影（70mm）",null,{"$f":"IF(TRIM(E19)=\"0\",\"0 円\",変更予算書抄本!F16)","v":0},0,"0 円"]
[null,null,null,"ツベルクリン",null,{"$f":"IF(TRIM(E20)=\"0\",\"0 円\",変更予算書抄本!F16)","v":0},0,"0 円"]
[null,null,null,"IGRA",null,{"$f":"IF(TRIM(E21)=\"0\",\"0 円\",変更予算書抄本!F16)","v":0},0,"0 円"]
[null,"予算書","科目",null,null,null,"保健衛生費",null,"結核健診に係る費用を支出する科目の名称を入力してください。"]
[null,null,"1人あたりの検査価格（税込）",null,null,null,"直接撮影",2100,"受診した項目を選び、1人あたりの価格（税込）を入力してください。"]
[null,null,"その他に必要な費用",null,null,null,"12,000円",null,"その他に必要な費用を入力してください（結核健診に関する費用のみ）"]

{"sheet":"変更申請書","index":8,"n_rows":33,"n_cols":10,"rows_kept":33,"cut":false,"hidden":false,"merged":[[2,2,2,4],[2,5,2,7],[16,1,16,5],[16,6,16,7],[4,7,4,9],[5,9,5,11],[6,1,6,3],[8,1,8,3],[9,7,9,11],[10,7,10,11],[11,7,11,11],[13,1,13,11],[15,1,15,5],[15,6,15,11],[17,1,17,5],[17,6,17,11],[18,1,18,11],[18,13,18,22],[19,1,19,5],[19,6,19,11],[20,1,20,11],[20,13,20,22],[24,13,24,22],[22,13,22,22],[25,1,25,11],[21,1,21,4],[22,1,24,4],[21,5,21,11],[23,5,23,11],[22,5,22,6],[24,5,24,6],[22,7,22,8],[24,7,24,8],[28,1,28,11],[29,1,29,11],[30,1,30,11],[32,1,32,11],[26,1,26,11],[27,1,27,11],[31,1,31,11]]}
[null,"様式第3号（第9条関係）"]
[]
[null,null,"補 助 事 業",null,null,{"$f":"'変更入力シート(変更ありの場合のみ入力してください)'!E3","v":0},null,null,"申 請 書"]
[]
[]
[null,null,null,null,null,null,null,null,null,{"$f":"'変更入力シート(変更ありの場合のみ入力してください)'!E4","v":"00:00:00"}]
[null,"姫路市長　様"]
[]
[null,null,null,null,null,null,null,"申請人"]
[null,null,null,null,null,null,null,{"$f":"'変更入力シート(変更ありの場合のみ入力してください)'!E5","v":0}]
[null,null,null,null,null,null,null,{"$f":"'変更入力シート(変更ありの場合のみ入力してください)'!E6","v":0}]
[null,null,null,null,null,null,null,{"$f":"'変更入力シート(変更ありの場合のみ入力してください)'!E7","v":0}]
[]
[null,"　姫路市補助金等交付規則第９条の規定により次のとおり申請します。"]
[]
[null,"指令年月日",null,null,null,null,"指令番号"]
[null,{"$f":"'変更入力シート(変更ありの場合のみ入力してください)'!E8","v":"00:00:00"},null,null,null,null,"姫保指第",null,{"$f":"'変更入力シート(変更ありの場合のみ入力してください)'!E9","v":0},"号"]
[null,"補助金等の名称"]
[null,"　　　姫路市結核予防費補助金"]
[null,"補助事業の名称"]
[null,"　　　結核予防費助成事業"]
[null,"変更の内容",null,null,null,"変更前"]
[null,"　　　 廃止（中止）の場合は\n　　　 記入の必要はありま\n　　　 せん。",null,null,null,"交付金額",null,{"$f":"'変更入力シート(変更ありの場合のみ入力してください)'!E10","v":0},null,"円"]
[null,null,null,null,null,"変更後"]
[null,null,null,null,null,"交付金額",null,{"$f":"変更計画書1!E13","v":0},null,"円"]
[null,"変更又は廃止(中止)の理由"]
[null,{"$f":"'変更入力シート(変更ありの場合のみ入力してください)'!E11","v":0}]
[null,"変更後の効果(廃止(中止)の場合は、記入の必要はありません｡)"]
[null,{"$f":"'変更入力シート(変更ありの場合のみ入力してください)'!E12","v":0}]
[null,"変更又は廃止(中止)予定年月日"]
[null,{"$f":"J6","v":"00:00:00"}]
[null,"添付書類"]
[null,"　　・補助金等交付可否決定通知書\n　　・事業計画書（その１及びその２）\n　　・歳入歳出予算書抄本"]

{"sheet":"変更計画書1","index":9,"n_rows":31,"n_cols":9,"rows_kept":31,"cut":false,"hidden":false,"merged":[[12,4,12,5],[1,1,1,8],[3,6,3,8],[8,5,8,8],[9,5,9,8],[10,5,10,8]]}
[]
[null,"結 核 予 防 事 業 計 画 書 （ そ の １ ）"]
[]
[null,null,null,null,null,null,{"$f":"'変更入力シート(変更ありの場合のみ入力してください)'!E4","v":"00:00:00"}]
[]
[null,"姫路市長　様"]
[]
[null,null,null,null,null,"実施者"]
[null,null,null,null,null,{"$f":"'変更入力シート(変更ありの場合のみ入力してください)'!E5","v":0}]
[null,null,null,null,null,{"$f":"'変更入力シート(変更ありの場合のみ入力してください)'!E6","v":0}]
[null,null,null,null,null,{"$f":"'変更入力シート(変更ありの場合のみ入力してください)'!E7","v":0}]
[]
[null,"１　申請額※1",null,"金",{"$f":"I23","v":0}]
[]
[null,"２　経費の内訳"]
[null,"　⑴　結核予防費補助金経費所要額"]
[null,null,"  総事業※2\n  予定額","収入※3\n予定額","　差引額※4","　補助※5\n　対象支出\n　予定額","　基準※6\n　算定額","補助※7\n基本額","　補助※8\n　算出額"]
[null,"ツベルクリン\n反応検査",{"$f":"F18","v":0},0,{"$f":"C18","v":0},{"$f":"'変更入力シート(変更ありの場合のみ入力してください)'!F20","v":0},{"$f":"変更計画書2!L11","v":0},{"$f":"MIN(F18,G18)","v":0},{"$f":"ROUNDDOWN(H18*2/3,0)","v":0}]
[null,"間接撮影\n（70mm）",{"$f":"F19","v":0},0,{"$f":"C19","v":0},{"$f":"'変更入力シート(変更ありの場合のみ入力してください)'!F19","v":0},{"$f":"変更計画書2!N11","v":0},0,{"$f":"ROUNDDOWN(H19*2/3,0)","v":0}]
[null,"間接撮影\n（100mm）",{"$f":"F20","v":0},0,{"$f":"C20","v":0},{"$f":"'変更入力シート(変更ありの場合のみ入力してください)'!F18","v":0},{"$f":"変更計画書2!P11","v":0},{"$f":"MIN(F20,G20)","v":0},0]
[null,"直接撮影",{"$f":"F21","v":0},0,{"$f":"C21","v":0},{"$f":"'変更入力シート(変更ありの場合のみ入力してください)'!F17","v":0},{"$f":"変更計画書2!R11","v":0},{"$f":"MIN(F21,G21)","v":0},0]
[null,"IGRA検査",{"$f":"F22","v":0},0,{"$f":"C22","v":0},{"$f":"'変更入力シート(変更ありの場合のみ入力してください)'!F21","v":0},{"$f":"変更計画書2!T11","v":0},{"$f":"MIN(F22,G22)","v":0},0]
[null,"合計",{"$f":"SUM(C18:C22)","v":0},0,0,0,0,0,{"$f":"SUM(I18:I22)","v":0}]
[null,"※1　申請額＝２経費の内訳⑴結核予防費補助金経費所要額の補助算出額"]
[null,"※2　総事業予定額＝歳入歳出予算書抄本の予算額の合計"]
[null,"※3　収入予定額＝寄附金その他の収入予定額（ない場合は「0」を記入）"]
[null,"※4　差引額＝総事業予定額－収入予定額"]
[null,"※5　補助対象支出予定額＝歳入歳出予算書抄本の当該事業分予算額の合計"]
[null,"※6　基準算定額＝結核予防事業計画書（その２）の基準算定額"]
[null,"※7　補助基本額＝差引額、補助対象支出予定額及び基準算定額のうち、最も少ない額"]
[null,"※8　補助算出額＝補助基本額×2／3（１円未満切捨）"]

{"sheet":"変更計画書2","index":10,"n_rows":17,"n_cols":21,"rows_kept":17,"cut":false,"hidden":false,"merged":[[10,13,10,14],[10,15,10,16],[10,17,10,18],[10,19,10,20],[11,0,11,2],[11,3,11,4],[11,5,11,6],[11,7,11,8],[11,9,11,10],[9,13,9,14],[9,15,9,16],[9,17,9,18],[9,19,9,20],[10,0,10,2],[10,3,10,4],[10,5,10,6],[10,7,10,8],[10,9,10,10],[10,11,10,12],[9,0,9,2],[9,3,9,4],[9,5,9,6],[9,7,9,8],[9,9,9,10],[9,11,9,12],[8,0,8,2],[0,0,0,20],[3,0,5,2],[3,3,5,4],[3,5,5,6],[3,7,5,8],[3,9,5,10],[3,11,5,12],[3,13,3,16],[3,17,5,18],[3,19,5,20],[4,13,4,16],[5,13,5,14],[5,15,5,16],[6,0,6,1],[7,0,7,1]]}
["結 核 予 防 事 業 計 画 書 （ そ の ２ ）"]
[]
["⑵　受診者数等の内訳"]
["区　　　　　　　　　分",null,null,"結核健診※1\n対象学校数\n又は施設数",null,"結核健診\n対象者数",null,"結核健診\n受診者数",null," 結核健診※2\n 受診率",null,"　ツベルクリン※3\n　反応検査\n　受診者数",null,"間接撮影受診者数※3",null,null,null,"　　直接撮影※3\n　　受診者数",null,"　　IGRA検査※3\n　　受診者数"]
[null,null,null,null,null,null,null,null,null,null,null,null,null,"ミラーカメラ"]
[null,null,null,null,null,null,null,null,null,null,null,null,null,"70ミリ",null,"100ミリ"]
["学校の生徒",null,"入学年度の学生",{"$f":"'変更入力シート(変更ありの場合のみ入力してください)'!E13","v":0},"個所",{"$f":"'変更入力シート(変更ありの場合のみ入力してください)'!E14","v":0},"人",{"$f":"'変更入力シート(変更ありの場合のみ入力してください)'!E15","v":0},"人",{"$f":"H7/F7*100","v":{"$error":"#DIV/0!"}},"％",{"$f":"'変更入力シート(変更ありの場合のみ入力してください)'!E20","v":0},"人",{"$f":"'変更入力シート(変更ありの場合のみ入力してください)'!E19","v":0},"人",{"$f":"'変更入力シート(変更ありの場合のみ入力してください)'!E18","v":0},"人",{"$f":"'変更入力シート(変更ありの場合のみ入力してください)'!E17","v":0},"人",{"$f":"'変更入力シート(変更ありの場合のみ入力してください)'!E21","v":0},"人"]
["施設入所者",null,"65歳に達する日の\n属する年度以降の者",0,"個所",0,"人",0,"人",0,"％",0,"人",0,"人",0,"人",0,"人",0,"人"]
["合　　　　　　計",null,null,{"$f":"SUM(D7:D8)","v":0},"個所",{"$f":"SUM(F7:F8)","v":0},"人",{"$f":"SUM(H7:H8)","v":0},"人",{"$f":"H9/F9*100","v":{"$error":"#DIV/0!"}},"％",{"$f":"SUM(L7:L8)","v":0},"人",{"$f":"SUM(N7:N8)","v":0},"人",{"$f":"SUM(P7:P8)","v":0},"人",{"$f":"SUM(R7:R8)","v":0},"人",{"$f":"SUM(T7:T8)","v":0},"人"]
["補 助 対 象 支 出 予 定 額※4",null,null,null,null,null,null,null,null,null,null,{"$f":"'変更入力シート(変更ありの場合のみ入力してください)'!F20","v":0},null,{"$f":"'変更入力シート(変更ありの場合のみ入力してください)'!F19","v":0},null,{"$f":"'変更入力シート(変更ありの場合のみ入力してください)'!F18","v":0},null,{"$f":"'変更入力シート(変更ありの場合のみ入力してください)'!F17","v":0},null,{"$f":"'変更入力シート(変更ありの場合のみ入力してください)'!F21","v":0}]
["基　準　算　定　額※5",null,null,null,null,null,null,null,null,null,null,{"$f":"L12*L9","v":0},null,{"$f":"N12*N9","v":0},null,{"$f":"P12*P9","v":0},null,{"$f":"R12*R9","v":0},null,{"$f":"T12*T9","v":0}]
["補　助　基　準　単　価",null,null,null,null,null,null,null,null,null,null,451,"円",478,"円",506,"円",1821,"円",8547,"円"]
["※1","健康診断の受診対象となる学校数又は施設数"]
["※2","受診率＝(受診者数/対象者数)×100　（四捨五入、整数）"]
["※3","各検査受診者数の合計＝結核健診受診者数の合計"]
["※4","補助対象支出予定額＝結核予防事業計画書（その１）の補助対象支出予定額"]
["※5","基準算定額＝各検査の補助基準単価×各検査の受診者数"]

{"sheet":"変更予算書抄本","index":11,"n_rows":26,"n_cols":11,"rows_kept":26,"cut":false,"hidden":false,"merged":[[4,2,4,4],[4,6,4,10],[5,2,5,4],[5,6,5,10],[6,2,6,4],[6,6,6,10],[25,6,25,10],[15,2,15,4],[15,6,15,10],[21,1,21,2],[7,2,7,4],[7,6,7,10],[10,2,10,4],[10,6,10,10],[11,1,14,1],[11,2,14,4],[11,5,14,5],[11,6,11,10],[12,12,15,12],[13,6,13,10],[14,6,14,10],[23,6,23,10],[24,6,24,10]]}
[]
[null,null,"令和",{"$f":"'申請入力シート(ここに入力してください)'!E7","v":0},"年度歳入歳出予算書抄本"]
[]
["１　収入の部"]
[null,"科目","予算額※3",null,null,"うち 当該事業分※4","摘要"]
[null,"市補助金※2",{"$f":"F6","v":0},null,null,{"$f":"変更計画書1!I23","v":0},"姫路市結核予防費補助金"]
[null,"一般財源",{"$f":"F7","v":0},null,null,{"$f":"F8-F6","v":0}]
[null,"合計※1",{"$f":"F8","v":0},null,null,{"$f":"F16","v":0}]
[]
["２　支出の部"]
[null,"科目","予算額※3",null,null,"うち 当該事業分※4","摘要"]
[null,{"$f":"'変更入力シート(変更ありの場合のみ入力してください)'!E22","v":0},{"$f":"F12","v":0},null,null,{"$f":"K13+G15","v":0},{"$f":"'変更入力シート(変更ありの場合のみ入力してください)'!E23","v":0}]
[null,null,null,null,null,null,{"$f":"'変更入力シート(変更ありの場合のみ入力してください)'!F23","v":0},"円×",{"$f":"'変更入力シート(変更ありの場合のみ入力してください)'!E15","v":0},"名＝",{"$f":"G13*I13","v":0}]
[null,null,null,null,null,null,"その他"]
[null,null,null,null,null,null,{"$f":"'変更入力シート(変更ありの場合のみ入力してください)'!E24","v":0}]
[null,"合計※1",{"$f":"F16","v":0},null,null,{"$f":"SUM(F12:F12)","v":0}]
[null,"※1　収入の部の合計＝支出の部の合計"]
[null,"※2　市補助金＝結核予防事業計画書（その１）の申請額"]
[null,"※3　健康診断（血液検査、尿検査、胸部X線等）全体に係る予算額"]
[null,"※4　結核の定期健康診断（胸部X線等）に係る予算額"]
[]
[null,{"$f":"'変更入力シート(変更ありの場合のみ入力してください)'!E4","v":"00:00:00"}]
[null,null,"この写しは原本と相違ありません。"]
[null,null,null,null,null,null,{"$f":"'変更入力シート(変更ありの場合のみ入力してください)'!E5","v":0}]
[null,null,null,null,null,null,{"$f":"'変更入力シート(変更ありの場合のみ入力してください)'!E6","v":0}]
[null,null,null,null,null,null,{"$f":"'変更入力シート(変更ありの場合のみ入力してください)'!E7","v":0}]

{"sheet":"実績報告・請求入力シート(ここに入力してください)","index":12,"n_rows":26,"n_cols":9,"rows_kept":26,"cut":false,"hidden":false,"merged":[[25,4,25,5],[25,6,25,7],[17,2,22,2],[13,2,13,3],[13,4,13,5],[13,6,13,7],[16,4,16,5],[16,6,16,7],[11,6,11,7],[12,2,12,3],[12,4,12,5],[12,6,12,7],[10,4,10,5],[10,6,10,7],[11,2,11,3],[11,4,11,5],[7,2,7,3],[7,4,7,5],[7,6,7,7],[17,8,22,8],[23,1,25,1],[23,4,23,5],[23,6,23,7],[14,1,22,1],[14,4,14,5],[14,6,14,7],[15,4,15,5],[15,6,15,7],[8,2,8,3],[8,4,8,5],[8,6,8,7],[10,2,10,3],[3,8,5,8],[4,2,4,3],[4,4,4,5],[4,6,4,7],[5,2,5,3],[5,4,5,5],[5,6,5,7],[1,1,1,3],[1,4,1,5],[1,6,1,7],[2,1,13,1],[2,2,2,3],[2,4,2,5],[2,6,2,7],[3,2,3,3],[3,4,3,5],[3,6,3,7],[9,2,9,3],[9,4,9,5],[9,6,9,7],[6,2,6,3],[6,4,6,5],[6,6,6,7]]}
[]
[null,null,null,null,"入力欄",null,"例"]
[null,"請求書・実績報告書","請求書・報告日",null,null,null,"2026-01-20",null,"この様式を提出する日を入力してください。（補助金等交付可否決定書（変更申請をした場合は、\n補助金等変更交付可否決定書）の指令年月日より後の日付を入力してください。）"]
[null,null,"補助事業者（住所）",null,{"$f":"'申請入力シート(ここに入力してください)'!E4:F4","v":0},null,"姫路市○○町○○-○○-○○"]
[null,null,"補助事業者（法人名）",null,{"$f":"'申請入力シート(ここに入力してください)'!E5:F5","v":0},null,"学校法人　○○　○○○○○"]
[null,null,"補助事業者（代表者名）",null,{"$f":"'申請入力シート(ここに入力してください)'!E6:F6","v":0},null,"学校長　○○　○○"]
[null,null,"指令年月日",null,null,null,"2025-11-05",null,"補助金等交付可否決定書（変更申請をした場合は、補助金等変更交付可否決定書）の右上に記載されている「年月日」を入力してください。"]
[null,null,"指令番号",null,null,null,125,null,"補助金等交付可否決定書（変更申請をした場合は、補助金等変更交付可否決定書）の右上に記載されている「姫保指第○○号」の数字を入力してください。"]
[null,null,"補助年度（令和○年度）",null,{"$f":"'申請入力シート(ここに入力してください)'!E7:F7","v":0},null,7]
[null,null,"補助事業の施行場所",null,null,null,"学校法人　○○　○○○○○",null,"対象施設が2つ以上ある場合は、全て記載してください。"]
[null,null,"補助金等の額",null,{"$f":"実績計算書1!G13","v":0},null,"56,554円"]
[null,null,"着手年月日",null,null,null,"2025-04-01",null,"健診を実施した初日を入力してください（必ず当該年度内の日付を入力してください）。"]
[null,null,"完了年月日",null,null,null,"2026-03-02",null,"健診終了後、健診費用の支払が完了した日（振込日、領収日等）を入力してください。"]
[null,null,"添付書類（その他）",null,null,null,null,null,"その他に添付する書類がある場合は入力してください。\nない場合は入力不要です。\n（受診者名簿及び領収書については既に記載しているので入力不要です。）"]
[null,"実績計算書2","対象学校数",null,null,null,1,null,"結核健診を実施する学校の数を入力してください。"]
[null,null,"対象者数",null,null,null,51,null,"結核健診の対象者（今年度入学した学生）の人数を入力してください。"]
[null,null,"受診者数",null,null,null,46,null,"対象者（今年度入学した学生）のうち結核健診（胸部X線等）を実際に受診した人数を入力してください。"]
[null,null,"検査方法",null,"受診者数","実支出額","受診者数","実支出額","実施した検査方法の欄に受診者数を入力してください。\n（必ず上記の受診者数と一致させてください。）\n実施していない検査方法には「0」を入力してください。"]
[null,null,null,"直接撮影",null,{"$f":"IF(TRIM(E19)=\"0\",\"0 円\",決算書抄本!F16)","v":0},46,108600]
[null,null,null,"間接撮影（100mm）",null,{"$f":"IF(TRIM(E20)=\"0\",\"0 円\",決算書抄本!F16)","v":0},0,"0 円"]
[null,null,null,"間接撮影（70mm）",null,{"$f":"IF(TRIM(E21)=\"0\",\"0 円\",決算書抄本!F16)","v":0},0,"0 円"]
[null,null,null,"ツベルクリン",null,{"$f":"IF(TRIM(E22)=\"0\",\"0 円\",決算書抄本!F16)","v":0},0,"0 円"]
[null,null,null,"IGRA",null,{"$f":"IF(TRIM(E23)=\"0\",\"0 円\",決算書抄本!F16)","v":0},0,"0 円"]
[null,"決算書","科目",null,null,null,"保健衛生費",null,"結核健診に係る費用を支出する科目の名称を入力してください。"]
[null,null,"1人あたりの検査価格（税込）",null,null,null,"直接撮影",2100,"受診した項目を選び、1人あたりの価格（税込）を入力してください。"]
[null,null,"その他に必要な費用",null,null,null,"12,000円",null,"その他に必要な費用を入力してください（結核健診に関する費用のみ）"]

{"sheet":"実績報告書","index":13,"n_rows":37,"n_cols":12,"rows_kept":37,"cut":false,"hidden":false,"merged":[[24,13,24,22],[23,1,23,11],[24,3,24,5],[32,1,32,11],[34,3,34,10],[27,1,27,5],[27,6,27,11],[28,1,28,11],[28,13,28,22],[26,1,26,5],[26,6,26,11],[30,1,30,11],[33,1,33,11],[25,1,25,5],[25,6,25,11],[20,1,20,11],[20,13,20,22],[21,1,21,11],[22,1,22,11],[22,13,22,22],[17,1,17,5],[17,6,17,11],[18,13,18,22],[19,1,19,5],[19,6,19,11],[18,1,18,2],[18,6,18,11],[16,1,16,5],[16,6,16,7],[2,1,2,11],[4,7,4,9],[5,9,5,11],[6,1,6,3],[8,1,8,3],[9,7,9,11],[10,7,10,11],[11,7,11,11],[13,1,13,11],[15,1,15,5],[15,6,15,11]]}
[null,"様式第６号（第12条関係）"]
[]
[null,"補 助 事 業 実 績 報 告 書"]
[]
[]
[null,null,null,null,null,null,null,null,null,{"$f":"'実績報告・請求入力シート(ここに入力してください)'!E3","v":"00:00:00"}]
[null,"姫路市長　様"]
[]
[null,null,null,null,null,null,null,"補助事業者"]
[null,null,null,null,null,null,null,{"$f":"'実績報告・請求入力シート(ここに入力してください)'!E4","v":0}]
[null,null,null,null,null,null,null,{"$f":"'実績報告・請求入力シート(ここに入力してください)'!E5","v":0}]
[null,null,null,null,null,null,null,{"$f":"'実績報告・請求入力シート(ここに入力してください)'!E6","v":0}]
[]
[null,"　姫路市補助金等交付規則第12条の規定により次のとおり報告します。"]
[]
[null,"指令年月日※1",null,null,null,null,"指令番号※1"]
[null,{"$f":"'実績報告・請求入力シート(ここに入力してください)'!E7","v":"00:00:00"},null,null,null,null,"姫保指第",null,{"$f":"'実績報告・請求入力シート(ここに入力してください)'!E8","v":0},"号"]
[null,"補助年度",null,null,null,null,"補助金等の名称"]
[null,"令和",null,{"$f":"'実績報告・請求入力シート(ここに入力してください)'!E9","v":0},"年度",null,"　姫路市結核予防費補助金"]
[null,"補助事業の名称"]
[null,"結核予防費助成事業"]
[null,"補助事業の施行場所"]
[null,{"$f":"'実績報告・請求入力シート(ここに入力してください)'!E10","v":0}]
[null,"補助金等の額※2"]
[null,null,null,{"$f":"実績計算書1!G13","v":0}]
[null,"着手年月日",null,null,null,null,"完了年月日"]
[null,{"$f":"'実績報告・請求入力シート(ここに入力してください)'!E12","v":"00:00:00"},null,null,null,null,{"$f":"'実績報告・請求入力シート(ここに入力してください)'!E13","v":"00:00:00"}]
[null,"経過及び内容"]
[null,"別添　結核予防事業実績計算書（その１及びその２）のとおり"]
[null,"添付書類"]
[null,"　１　結核予防事業実績計算書（その１及びその２）"]
[null,"　２　令和",{"$f":"'実績報告・請求入力シート(ここに入力してください)'!E9","v":0},"年度決算（見込）書抄本"]
[null,"　３　健康診断対象者名簿又は受診者名簿の写し（氏名及び年齢を含むもの）"]
[null,"　４　領収書、明細書等の写し（補助対象費用（胸部Ｘ線撮影等の単価）の記載があるもの）"]
[null,"　５　その他（",null,{"$f":"'実績報告・請求入力シート(ここに入力してください)'!E14","v":0},null,null,null,null,null,null,null,"）"]
[null,"※1　補助金等交付可否決定書の指令年月日及び指令番号"]
[null,"※2　補助金等交付可否決定書の交付金額（申請時の金額から変更がある場合は事前に要連絡）"]

{"sheet":"実績計算書1","index":14,"n_rows":32,"n_cols":12,"rows_kept":32,"cut":false,"hidden":false,"merged":[[1,1,1,11],[3,6,3,11],[12,6,12,7],[8,7,8,11],[9,7,9,11],[10,7,10,11]]}
[]
[null,"結 核 予 防 事 業 実 績 計 算 書 （ そ の １ ）"]
[]
[null,null,null,null,null,null,{"$f":"'実績報告・請求入力シート(ここに入力してください)'!E3","v":"00:00:00"}]
[]
[null,"姫路市長　様"]
[]
[null,null,null,null,null,null,null,"実施者"]
[null,null,null,null,null,null,null,{"$f":"'実績報告・請求入力シート(ここに入力してください)'!E4","v":0}]
[null,null,null,null,null,null,null,{"$f":"'実績報告・請求入力シート(ここに入力してください)'!E5","v":0}]
[null,null,null,null,null,null,null,{"$f":"'実績報告・請求入力シート(ここに入力してください)'!E6","v":0}]
[]
[null,"１　結核予防費補助金精算額※1",null,null,null,"金",{"$f":"L23","v":0}]
[]
[null,"２　実績の内訳"]
[null,"　⑴　結核予防費補助金精算額明細"]
[null,null,"総事業費\n※2","収入\n済額\n※3","差引額\n※4","補助対象実支出額\n※5","基準\n算定額\n※6","補助\n基本額\n※7","補助\n算出額\n※8","補助金\n交付\n決定額\n※9","補助金\n受入\n済額","差引\n過不足額"]
[null,"ツベルクリン\n反応検査",{"$f":"F18","v":0},0,{"$f":"C18","v":0},{"$f":"'実績報告・請求入力シート(ここに入力してください)'!F22","v":0},{"$f":"実績計算書2!L11","v":0},{"$f":"MIN(F18,G18)","v":0},{"$f":"ROUNDDOWN(H18*2/3,0)","v":0},{"$f":"I18","v":0},0,{"$f":"J18-K18","v":0}]
[null,"間接撮影\n（70mm）",{"$f":"F19","v":0},0,{"$f":"C19","v":0},{"$f":"'実績報告・請求入力シート(ここに入力してください)'!F21","v":0},{"$f":"実績計算書2!N11","v":0},{"$f":"MIN(F19,G19)","v":0},{"$f":"ROUNDDOWN(H19*2/3,0)","v":0},{"$f":"I19","v":0},0,{"$f":"J19-K19","v":0}]
[null,"間接撮影\n（100mm）",{"$f":"F20","v":0},0,{"$f":"C20","v":0},{"$f":"'実績報告・請求入力シート(ここに入力してください)'!F20","v":0},{"$f":"実績計算書2!P11","v":0},0,0,0,0,{"$f":"J20-K20","v":0}]
[null,"直接撮影",{"$f":"F21","v":0},0,{"$f":"C21","v":0},{"$f":"'実績報告・請求入力シート(ここに入力してください)'!F19","v":0},{"$f":"実績計算書2!R11","v":0},0,0,0,0,0]
[null,"IGRA検査",{"$f":"F22","v":0},0,{"$f":"C22","v":0},{"$f":"'実績報告・請求入力シート(ここに入力してください)'!F23","v":0},{"$f":"実績計算書2!T11","v":0},0,0,0,0,{"$f":"J22-K22","v":0}]
[null,"合計",{"$f":"SUM(C18:C22)","v":0},0,0,0,0,{"$f":"SUM(H18:H22)","v":0},0,0,0,{"$f":"SUM(L18:L22)","v":0}]
[null,"※1　結核予防費補助金精算額＝２実績の内訳⑴結核予防費補助金精算額明細の補助算出額"]
[null,"※2　総事業費＝決算書抄本の決算額の合計"]
[null,"※3　収入済額＝寄附金その他の収入額（ない場合は「0」を記入）"]
[null,"※4　差引額＝総事業費－収入済額"]
[null,"※5　補助対象実支出額＝決算（見込）書抄本の当該事業分決算額の合計"]
[null,"※6　基準算定額＝結核予防事業実績計算書（その２）の基準算定額"]
[null,"※7　補助基本額＝差引額、補助対象支出予定額及び基準算定額のうち、最も少ない額"]
[null,"※8　補助算出額＝補助基本額×2／3（１円未満切捨）"]
[null,"※9　補助金等交付可否決定書の交付金額"]

{"sheet":"実績計算書2","index":15,"n_rows":17,"n_cols":21,"rows_kept":17,"cut":false,"hidden":false,"merged":[[10,13,10,14],[10,15,10,16],[10,17,10,18],[10,19,10,20],[11,0,11,2],[11,3,11,4],[11,5,11,6],[11,7,11,8],[11,9,11,10],[9,13,9,14],[9,15,9,16],[9,17,9,18],[9,19,9,20],[10,0,10,2],[10,3,10,4],[10,5,10,6],[10,7,10,8],[10,9,10,10],[10,11,10,12],[9,0,9,2],[9,3,9,4],[9,5,9,6],[9,7,9,8],[9,9,9,10],[9,11,9,12],[8,0,8,2],[0,0,0,20],[3,0,5,2],[3,3,5,4],[3,5,5,6],[3,7,5,8],[3,9,5,10],[3,11,5,12],[3,13,3,16],[3,17,5,18],[3,19,5,20],[4,13,4,16],[5,13,5,14],[5,15,5,16],[6,0,6,1],[7,0,7,1]]}
["結 核 予 防 事 業 実 績 計 算 書 （ そ の ２ ）"]
[]
["⑵　受診者数等の内訳"]
["区　　　　　　　　　分",null,null,"結核健診※1\n対象学校数\n又は施設数",null,"結核健診\n対象者数",null,"結核健診\n受診者数",null," 結核健診※2\n 受診率",null,"　ツベルクリン※3\n　反応検査\n　受診者数",null,"間接撮影受診者数※3",null,null,null,"　　直接撮影※3\n　　受診者数",null,"　　IGRA検査※3\n　　受診者数"]
[null,null,null,null,null,null,null,null,null,null,null,null,null,"ミラーカメラ"]
[null,null,null,null,null,null,null,null,null,null,null,null,null,"70ミリ",null,"100ミリ"]
["学校の生徒",null,"入学年度の学生",{"$f":"'実績報告・請求入力シート(ここに入力してください)'!E15","v":0},"個所",{"$f":"'実績報告・請求入力シート(ここに入力してください)'!E16","v":0},"人",{"$f":"'実績報告・請求入力シート(ここに入力してください)'!E17","v":0},"人",{"$f":"H7/F7*100","v":{"$error":"#DIV/0!"}},"％",{"$f":"'実績報告・請求入力シート(ここに入力してください)'!E22","v":0},"人",{"$f":"'実績報告・請求入力シート(ここに入力してください)'!E21","v":0},"人",{"$f":"'実績報告・請求入力シート(ここに入力してください)'!E20","v":0},"人",{"$f":"'実績報告・請求入力シート(ここに入力してください)'!E19","v":0},"人",{"$f":"'実績報告・請求入力シート(ここに入力してください)'!E23","v":0},"人"]
["施設入所者",null,"65歳に達する日の\n属する年度以降の者",0,"個所",0,"人",0,"人",0,"％",0,"人",0,"人",0,"人",0,"人",0,"人"]
["合　　　　　　計",null,null,{"$f":"SUM(D7:D8)","v":0},"個所",{"$f":"SUM(F7:F8)","v":0},"人",{"$f":"SUM(H7:H8)","v":0},"人",{"$f":"H9/F9*100","v":{"$error":"#DIV/0!"}},"％",{"$f":"SUM(L7:L8)","v":0},"人",{"$f":"SUM(N7:N8)","v":0},"人",{"$f":"SUM(P7:P8)","v":0},"人",{"$f":"SUM(R7:R8)","v":0},"人",{"$f":"SUM(T7:T8)","v":0},"人"]
["補 助 対 象 支 出 額※4",null,null,null,null,null,null,null,null,null,null,{"$f":"'実績報告・請求入力シート(ここに入力してください)'!F22","v":0},null,{"$f":"'実績報告・請求入力シート(ここに入力してください)'!F21","v":0},null,{"$f":"'実績報告・請求入力シート(ここに入力してください)'!F20","v":0},null,{"$f":"'実績報告・請求入力シート(ここに入力してください)'!F19","v":0},null,{"$f":"'実績報告・請求入力シート(ここに入力してください)'!F23","v":0}]
["基　準　算　定　額※5",null,null,null,null,null,null,null,null,null,null,{"$f":"L12*L9","v":0},null,{"$f":"N12*N9","v":0},null,{"$f":"P12*P9","v":0},null,{"$f":"R12*R9","v":0},null,{"$f":"T12*T9","v":0}]
["補　助　基　準　単　価",null,null,null,null,null,null,null,null,null,null,451,"円",478,"円",506,"円",1821,"円",8547,"円"]
["※1","健康診断の受診対象となる学校数又は施設数"]
["※2","受診率＝(受診者数/対象者数)×100　（四捨五入、整数）"]
["※3","各検査受診者数の合計＝結核健診受診者数の合計"]
["※4","補助対象支出額＝結核予防事業実績計算書（その１）の補助対象実支出額"]
["※5","基準算定額＝各検査の補助基準単価×各検査の受診者数"]

{"sheet":"決算書抄本","index":16,"n_rows":26,"n_cols":12,"rows_kept":26,"cut":false,"hidden":false,"merged":[[23,7,23,11],[24,7,24,11],[25,7,25,11],[12,13,15,13],[13,7,13,11],[14,7,14,11],[15,2,15,4],[15,7,15,11],[11,5,14,6],[15,5,15,6],[21,1,21,2],[7,2,7,4],[7,7,7,11],[10,2,10,4],[10,7,10,11],[11,1,14,1],[11,2,14,4],[11,7,11,11],[7,5,7,6],[10,5,10,6],[4,2,4,4],[4,7,4,11],[5,2,5,4],[5,7,5,11],[6,2,6,4],[6,7,6,11],[4,5,4,6],[5,5,5,6],[6,5,6,6]]}
[]
[null,null,null,null,"令和",{"$f":"'実績報告・請求入力シート(ここに入力してください)'!E9","v":0},"年度決算書抄本"]
[]
["１　収入の部"]
[null,"科目","決算額※3",null,null,"うち 当該事業分※4",null,"摘要"]
[null,"市補助金※2",{"$f":"F6","v":0},null,null,{"$f":"実績計算書1!J23","v":0},null,"姫路市結核予防費補助金"]
[null,"一般財源",{"$f":"F7","v":0},null,null,{"$f":"F8-F6","v":0}]
[null,"合計※1",{"$f":"F8","v":0},null,null,{"$f":"F16","v":0}]
[]
["２　支出の部"]
[null,"科目","決算額※3",null,null,"うち 当該事業分※4",null,"摘要"]
[null,{"$f":"'実績報告・請求入力シート(ここに入力してください)'!E24","v":0},{"$f":"実績計算書1!C23","v":0},null,null,{"$f":"L13+H15","v":0},null,{"$f":"'実績報告・請求入力シート(ここに入力してください)'!E25","v":0}]
[null,null,null,null,null,null,null,{"$f":"'実績報告・請求入力シート(ここに入力してください)'!F25","v":0},"円×",{"$f":"'実績報告・請求入力シート(ここに入力してください)'!E17","v":0},"名＝",{"$f":"H13*J13","v":0}]
[null,null,null,null,null,null,null,"その他"]
[null,null,null,null,null,null,null,{"$f":"'実績報告・請求入力シート(ここに入力してください)'!E26","v":0}]
[null,"合計※1",{"$f":"SUM(C12:C12)","v":0},null,null,{"$f":"SUM(F12:F12)","v":0}]
[null,"※1　収入の部の合計＝支出の部の合計"]
[null,"※2　市補助金＝結核予防事業実績計算書（その１）の結核予防費補助金精算額"]
[null,"※3　健康診断（血液検査、尿検査、胸部X線等）全体に係る予算額"]
[null,"※4　結核の定期健康診断（胸部X線等）に係る予算額"]
[]
[null,{"$f":"'実績報告・請求入力シート(ここに入力してください)'!E3","v":"00:00:00"}]
[null,null,"この写しは原本と相違ありません。"]
[null,null,null,null,null,null,null,{"$f":"'実績報告・請求入力シート(ここに入力してください)'!E4","v":0}]
[null,null,null,null,null,null,null,{"$f":"'実績報告・請求入力シート(ここに入力してください)'!E5","v":0}]
[null,null,null,null,null,null,null,{"$f":"'実績報告・請求入力シート(ここに入力してください)'!E6","v":0}]

{"sheet":"請求書","index":17,"n_rows":32,"n_cols":10,"rows_kept":32,"cut":false,"hidden":false,"merged":[[23,1,23,5],[23,6,23,11],[24,1,24,5],[24,6,24,11],[29,1,29,11],[28,1,28,11],[24,13,24,22],[25,1,25,5],[25,6,25,11],[26,1,26,5],[26,6,26,11],[18,13,18,22],[20,1,20,11],[20,13,20,22],[21,1,21,11],[22,1,22,11],[22,13,22,22],[19,1,19,5],[19,6,19,11],[10,7,10,11],[11,7,11,11],[13,1,13,11],[15,1,15,5],[15,6,15,11],[16,1,16,5],[16,6,16,7],[17,1,17,5],[17,6,17,11],[18,1,18,2],[18,6,18,11],[9,7,9,11],[2,1,2,11],[4,7,4,9],[5,9,5,11],[6,1,6,3],[8,1,8,3]]}
[null,"様式第５号（第11条関係）"]
[]
[null,"補 助 金 等 交 付 請 求 書"]
[]
[]
[null,null,null,null,null,null,null,null,null,{"$f":"'実績報告・請求入力シート(ここに入力してください)'!E3","v":"00:00:00"}]
[null,"姫路市長　様"]
[]
[null,null,null,null,null,null,null,"請求者"]
[null,null,null,null,null,null,null,{"$f":"'実績報告・請求入力シート(ここに入力してください)'!E4","v":0}]
[null,null,null,null,null,null,null,{"$f":"'実績報告・請求入力シート(ここに入力してください)'!E5","v":0}]
[null,null,null,null,null,null,null,{"$f":"'実績報告・請求入力シート(ここに入力してください)'!E6","v":0}]
[]
[null,"　姫路市補助金等交付規則第11条第2項の規定により、次のとおり請求します。"]
[]
[null,"指令年月日※1",null,null,null,null,"指令番号※1"]
[null,{"$f":"'実績報告・請求入力シート(ここに入力してください)'!E7","v":"00:00:00"},null,null,null,null,"姫保指第",null,{"$f":"'実績報告・請求入力シート(ここに入力してください)'!E8","v":0},"号"]
[null,"補助年度",null,null,null,null,"補助金の名称"]
[null,"令和",null,{"$f":"'実績報告・請求入力シート(ここに入力してください)'!E9","v":0},"年度",null,"　姫路市結核予防費補助金"]
[null,"補助事業の名称"]
[null,"結核予防費助成事業"]
[null,"補助金等交付決定通知額"]
[null,{"$f":"'実績報告・請求入力シート(ここに入力してください)'!E11","v":0}]
[null,"既交付額",null,null,null,null,"交付年月日"]
[null,"０　円",null,null,null,null,"－"]
[null,"今回交付請求額",null,null,null,null,"未交付額"]
[null,{"$f":"'実績報告・請求入力シート(ここに入力してください)'!E11","v":0},null,null,null,null,"０　円"]
[null,"添付書類"]
[null,"　１　補助金等交付可否決定書又は補助金等変更交付可否決定書の写し"]
[]
[null,"※1　補助金等交付可否決定書の指令年月日及び指令番号"]
[null,"※2　補助金等交付可否決定書の交付金額（申請時の金額から変更がある場合は事前に要連絡）"]