{"text_format":"1","workbook":"xlsx","n_sheets":5,"sheets":["正本","副本","許可書 ","委任状","土地使用承諾書"],"not_rendered":{"charts":0,"images":0,"macros":1,"external_links":0,"defined_names":5,"comments":5,"pivot_tables":0},"unopened":[],"bounds":{"document_bytes":16777216,"sheet_cells":100000,"rows_first":2000,"rows_last":500,"rows_between":2000,"halvings":0,"cell_chars":16384,"cell_head_chars":4096},"cells_cut":0,"cells_raw":0,"read":"whole","date_system":"1900"}

{"sheet":"正本","index":0,"n_rows":59,"n_cols":54,"rows_kept":59,"cut":false,"hidden":false,"merged":[[22,20,22,21],[22,22,22,26],[22,9,22,19],[1,23,5,27],[18,9,18,26],[16,20,16,21],[12,25,12,26],[12,22,12,23],[12,19,12,20],[9,5,10,27],[8,6,8,7],[8,9,8,10],[8,15,8,16],[16,9,16,19],[19,7,19,8],[27,24,27,26],[28,24,28,26],[29,24,29,26],[31,5,31,13],[32,5,32,13],[32,21,32,27],[32,14,32,20],[29,19,29,22],[29,12,29,13],[28,19,28,22],[27,15,27,17],[11,31,12,37],[20,9,20,21],[20,23,20,27],[21,9,21,26],[24,16,26,19],[24,22,26,24],[14,0,14,27],[15,9,15,26],[11,0,11,27],[19,20,19,21],[16,22,16,26],[24,5,24,6],[24,20,26,21],[24,25,26,25],[19,22,19,26],[19,9,19,19],[31,0,38,4],[37,21,37,27],[38,21,38,27],[36,5,36,13],[36,14,36,20],[38,5,38,13],[34,21,34,27],[35,5,35,13],[33,5,33,13],[33,14,33,20],[33,21,33,27],[34,5,34,13],[34,14,34,20],[37,5,37,13],[37,14,37,20],[24,0,26,4],[27,5,29,9],[27,10,29,11],[27,12,27,13],[28,12,28,13],[27,0,29,4],[38,14,38,20],[21,7,21,8],[22,7,22,8],[24,7,26,12],[23,11,23,26],[24,14,26,15],[24,26,26,27],[27,19,27,22],[28,15,28,17],[29,15,29,17],[30,5,30,27],[31,21,31,27],[31,14,31,20],[36,21,36,27],[35,14,35,20],[35,21,35,27],[9,0,10,4],[8,3,8,4],[15,7,15,8],[16,7,16,8],[18,7,18,8],[41,0,48,1],[41,23,41,27],[42,23,44,27],[50,0,50,1],[50,23,55,27],[47,17,47,27],[50,2,50,20],[43,2,44,7],[43,8,43,22],[46,10,46,11],[46,13,46,14],[46,7,46,8],[41,2,41,7],[42,2,42,7],[42,8,42,22],[41,8,41,22]]}
[]
[null,null,null,null,null,null,null,null,null,null,null,null,null,null,null,null,null,null,null,null,null,null,null,"受付印"]
[]
[null,null,null,"土地区画整理法第７６条第１項の規定による許可申請書（変更）"]
[]
[]
[]
["　土地区画整理法第７６条第１項の規定により、下記の許可内容に変更が生じたので関係書類を添えて申請します。"]
["　　許可年月日：",null,null,null,null,"年",null,null,"月",null,null,"日","　許可番号：第",null,null,null,null,"号",null,null,null,null,null,null,null,null,null,null,null,"【許可を受けた行為の選択】　"]
["　　許可を受けた行為の種類：",null,null,null,null,{"$f":"CONCATENATE(AY10,AZ10,BA10,BB10,\" 　　 \",AY11,AZ11,BA11,BB11,\"　　\",AY13,\"　　\",AY14,AZ14,BA14)","v":" 　　 　　　　"},null,null,null,null,null,null,null,null,null,null,null,null,null,null,null,null,null,null,null,null,null,null,null,null,null,"建築物の",null,"新築",null,"改築",null,"増築",null,null,null,"建築物の",false,"新築",false,"改築",false,"増築",false,null,{"$f":"IF(AQ10=TRUE,\"建築物の\",\"\")","v":""},{"$f":"IF(AS10=TRUE,\" 新築\",\"\")","v":""},{"$f":"IF(AU10=TRUE,\"　改築\",\"\")","v":""},{"$f":"IF(AW10=TRUE,\"　増築\",\"\")","v":""}]
[null,null,null,null,null,null,null,null,null,null,null,null,null,null,null,null,null,null,null,null,null,null,null,null,null,null,null,null,null,null,null,"工作物の",null,"新築",null,"改築",null,"増築",null,null,null,"工作物の",false,"新築",false,"改築",false,"増築",false,null,{"$f":"IF(AQ11=TRUE,\"工作物の\",\"\")","v":""},{"$f":"IF(AS11=TRUE,\" 新築\",\"\")","v":""},{"$f":"IF(AU11=TRUE,\"　改築\",\"\")","v":""},{"$f":"IF(AW11=TRUE,\"　増築\",\"\")","v":""}]
[null,null,null,null,null,null,null,null,null,null,null,null,null,null,null,null,null,null,null,null,null,null,null,null,null,null,null,null,null,null,null,"土地の区画形質の変更",null,null,null,null,null,null,null,null,null,null,null,null,null,null,null,null,null,null,null,{"$f":"IF(AR12=TRUE,\"工作物の\",\"\")","v":""},{"$f":"IF(AS12=TRUE,\"工作物の\",\"\")","v":""},{"$f":"IF(AT12=TRUE,\"工作物の\",\"\")","v":""}]
[null,null,null,null,null,null,null,null,null,null,null,null,null,null,null,null,null,null,null,null,null,"年",null,null,"月",null,null,"日",null,null,null,null,null,null,null,null,null,null,null,null,null,"土地の区画形質の変更",false,null,null,null,null,null,null,null,{"$f":"IF(AQ13=TRUE,\"土地の区画形質の変更\",\"\")","v":""}]
["　（あて先）姫路市長",null,null,null,null,null,null,null,null,null,null,null,null,null,null,null,null,null,null,null,null,null,null,null,null,null,null,null,null,null,null,"物件の",null,"設置",null,"たい積",null,null,null,null,null,"物件の",false,"設置",false,"たい積",false,null,null,null,{"$f":"IF(AQ14=TRUE,\"物件の\",\"\")","v":""},{"$f":"IF(AS14=TRUE,\" 設置\",\"\")","v":""},{"$f":"IF(AU14=TRUE,\"　たい積\",\"\")","v":""}]
[]
[null,null,null,null,null,"申請人",null,"住所1"]
[null,null,null,null,null,null,null,"氏名1",null,null,null,null,null,null,null,null,null,null,null,null,"（℡）"]
[]
[null,null,null,null,null,null,null,"住所2"]
[null,null,null,null,null,null,null,"氏名2",null,null,null,null,null,null,null,null,null,null,null,null,"（℡）"]
[]
[null,null,null,null,null,"代理人",null,"住所",null,null,null,null,null,null,null,null,null,null,null,null,null,null,null,null,null,null,null,null,null,null,"↑入力データを全削除します"]
[null,null,null,null,null,null,null,"氏名",null,null,null,null,null,null,null,null,null,null,null,null,"（℡）"]
[null,null,null,null,null,null,null,"（担当者連絡先）"]
[" １．位　置\n　（仮換地の底地番）",null,null,null,null,"姫路市",null,null,null,null,null,null,null,null,"用途地域",null,null,null,null,null,"地区",null,null,null,null,"地区計画"]
[]
[null,null,null,null,null,null,null,null,null,null,null,null,null,"番地"]
[" ２．仮換地",null,null,null,null,null,null,null,null,null,"地区",null,null,null,null,null,null,null,"街区",null,null,null,null,"号",null,null,null,"㎡"]
[null,null,null,null,null,null,null,null,null,null,null,null,null,null,null,null,null,null,"街区",null,null,null,null,"号",null,null,null,"㎡"]
[null,null,null,null,null,null,null,null,null,null,null,null,null,null,null,null,null,null,"街区",null,null,null,null,"号",null,null,null,"㎡"]
[" 3．変更理由"]
[" ４．変更内容",null,null,null,null,"項目",null,null,null,null,null,null,null,null,"変更前",null,null,null,null,null,null,"変更後"]
[]
[]
[]
[]
[]
[]
[]
[]
[]
["土地区画整理施行者記載欄",null,"１．許可についての支障の有無\n　(支障ある場合はその具体的理由) ",null,null,null,null,null,null,null,null,null,null,null,null,null,null,null,null,null,null,null,null,"土地区画整理施行者\n受付印"]
[null,null,"２．許可に附すべき条件"]
[null,null,"３．そ の 他 参 考 事 項"]
[null,null,null,null,null,null,null,null," 仮換地の使用収益開始　　　　　有　　・　　無"]
[]
[null,null,null,null,null,null,null,null,null,"年",null,null,"月",null,null,"日"]
[null,null,null,null," 　　　　　　　　　　　　",null,null,null,null,null,null,null,null,"土地区画整理施行者　　　　　　　　　                            　　   　"]
[]
[]
["許可条件\nその他",null," ",null,null,null,null,null,null,null,null,null,null,null,null,null,null,null,null,null,null,null," ","公印押印済印"]
["備考 ",null,"１．申請人において太わくの中を記入してください。"]
["　　",null,"２．添付図面（変更前後が分かるように図面に記入してください）"]
[null,null,"　　附近見取図、仮換地図(1/500 程度)、建物配置図(1/100 ～1/200 程度・屋根を破線で記入のうえ敷地境界からの寸法を記入)"]
["　　　　　    　 ",null,"　　建物平面図(1/100 ～1/200 程度)、 建物立面図(1/100 ～1/200 程度・敷地境界からの寸法及び建築高を記入)"]
["　　　　　　     ",null,"　※（仮換地を部分使用する場合）使用敷地図(1/500 程度・周囲寸法記入及び三斜求積等記入)を添付してください。"]
[null,null,"　※（建築行為以外の場合）縦断面図及び横断面図、土地の形質変更を示す平面図等を添付してください。"]
[null,null,"３．代理人から申請の場合は、代理権を証する委任状を添付してください。"]
["　　",null,"４．土地所有者が変更になった場合は、土地使用承諾書を添付してください。"]

{"sheet":"副本","index":1,"n_rows":59,"n_cols":28,"rows_kept":59,"cut":false,"hidden":false,"merged":[[8,3,8,4],[8,6,8,7],[8,9,8,10],[8,15,8,16],[9,0,10,4],[9,5,10,27],[11,0,11,27],[12,19,12,20],[12,22,12,23],[12,25,12,26],[14,0,14,27],[15,7,15,8],[15,9,15,26],[16,7,16,8],[16,9,16,19],[16,20,16,21],[16,22,16,26],[18,7,18,8],[18,9,18,26],[19,7,19,8],[19,9,19,19],[19,20,19,21],[19,22,19,26],[20,9,20,21],[20,23,20,27],[21,7,21,8],[21,9,21,26],[22,7,22,8],[22,9,22,19],[22,20,22,21],[22,22,22,26],[23,11,23,26],[24,0,26,4],[24,5,24,6],[24,7,26,12],[24,14,26,15],[24,16,26,19],[24,20,26,21],[24,22,26,24],[24,25,26,25],[24,26,26,27],[29,12,29,13],[29,15,29,17],[29,19,29,22],[29,24,29,26],[27,0,29,4],[27,5,29,9],[27,10,29,11],[27,12,27,13],[27,15,27,17],[27,19,27,22],[27,24,27,26],[28,12,28,13],[28,15,28,17],[28,19,28,22],[28,24,28,26],[30,5,30,27],[31,0,38,4],[31,5,31,13],[31,14,31,20],[31,21,31,27],[32,5,32,13],[32,14,32,20],[32,21,32,27],[33,5,33,13],[33,14,33,20],[33,21,33,27],[34,5,34,13],[34,14,34,20],[34,21,34,27],[35,5,35,13],[35,14,35,20],[35,21,35,27],[36,5,36,13],[36,14,36,20],[36,21,36,27],[37,5,37,13],[37,14,37,20],[37,21,37,27],[38,5,38,13],[38,14,38,20],[38,21,38,27],[41,0,48,1],[41,2,41,7],[41,8,41,22],[41,23,41,27],[42,2,42,7],[42,8,42,22],[42,23,44,27],[50,0,50,1],[50,2,50,20],[50,23,55,27],[43,2,44,7],[43,8,43,22],[46,7,46,8],[46,10,46,11],[46,13,46,14],[47,17,47,27]]}
[]
[]
[]
[null,null,null,"土地区画整理法第７６条第１項の規定による許可申請書（変更）"]
[]
[]
[]
["　土地区画整理法第７６条第１項の規定により、下記の許可内容に変更が生じたので関係書類を添えて申請します。"]
["　　許可年月日：",null,null,{"$f":"正本!$D$9","v":0},null,"年",{"$f":"正本!G9","v":0},null,"月",{"$f":"正本!J9","v":0},null,"日","　許可番号：第",null,null,{"$f":"正本!P9","v":0},null,"号"]
["　　許可を受けた行為の種類：",null,null,null,null,{"$f":"正本!F10","v":" 　　 　　　　"}]
[]
[]
[null,null,null,null,null,null,null,null,null,null,null,null,null,null,null,null,null,null,null,{"$f":"正本!T13","v":0},null,"年",{"$f":"正本!W13","v":0},null,"月",{"$f":"正本!Z13","v":0},null,"日"]
["　（あて先）姫路市長"]
[]
[null,null,null,null,null,"申請人",null,"住所1",null,{"$f":"正本!J16","v":0}]
[null,null,null,null,null,null,null,"氏名1",null,{"$f":"正本!J17","v":0},null,null,null,null,null,null,null,null,null,null,"（℡）",null,{"$f":"正本!W17","v":0}]
[]
[null,null,null,null,null,null,null,"住所2",null,{"$f":"正本!J19","v":0}]
[null,null,null,null,null,null,null,"氏名2",null,{"$f":"正本!J20","v":0},null,null,null,null,null,null,null,null,null,null,"（℡）",null,{"$f":"正本!W20","v":0}]
[null,null,null,null,null,null,null,null,null,null,null,null,null,null,null,null,null,null,null,false]
[null,null,null,null,null,"代理人",null,"住所",null,{"$f":"正本!J22","v":0}]
[null,null,null,null,null,null,null,"氏名",null,{"$f":"正本!J23","v":0},null,null,null,null,null,null,null,null,null,null,"（℡）",null,{"$f":"正本!W23","v":0}]
[null,null,null,null,null,null,null,"（担当者連絡先）",null,null,null,{"$f":"正本!L24","v":0}]
[" １．位　置\n　（仮換地の底地番）",null,null,null,null,"姫路市",null,{"$f":"正本!H25","v":0},null,null,null,null,null,null,"用途地域",null,{"$f":"正本!Q25","v":0},null,null,null,"地区",null,{"$f":"正本!W25","v":0},null,null,"地区計画",{"$f":"正本!AA25","v":0}]
[]
[null,null,null,null,null,null,null,null,null,null,null,null,null,"番地"]
[" ２．仮換地",null,null,null,null,{"$f":"正本!F28","v":0},null,null,null,null,"地区",null,null,null,null,{"$f":"正本!P28","v":0},null,null,"街区",{"$f":"正本!T28","v":0},null,null,null,"号",{"$f":"正本!Y28","v":0},null,null,"㎡"]
[null,null,null,null,null,null,null,null,null,null,null,null,null,null,null,{"$f":"正本!P29","v":0},null,null,"街区",{"$f":"正本!T29","v":0},null,null,null,"号",{"$f":"正本!Y29","v":0},null,null,"㎡"]
[null,null,null,null,null,null,null,null,null,null,null,null,null,null,null,{"$f":"正本!P30","v":0},null,null,"街区",{"$f":"正本!T30","v":0},null,null,null,"号",{"$f":"正本!Y30","v":0},null,null,"㎡"]
[" 3．変更理由",null,null,null,null,{"$f":"正本!F31","v":0}]
[" ４．変更内容",null,null,null,null,"項目",null,null,null,null,null,null,null,null,"変更前",null,null,null,null,null,null,"変更後"]
[null,null,null,null,null,{"$f":"正本!F33","v":0},null,null,null,null,null,null,null,null,{"$f":"正本!O33","v":0},null,null,null,null,null,null,{"$f":"正本!V33","v":0}]
[null,null,null,null,null,{"$f":"正本!F34","v":0},null,null,null,null,null,null,null,null,{"$f":"正本!O34","v":0},null,null,null,null,null,null,{"$f":"正本!V34","v":0}]
[null,null,null,null,null,{"$f":"正本!F35","v":0},null,null,null,null,null,null,null,null,{"$f":"正本!O35","v":0},null,null,null,null,null,null,{"$f":"正本!V35","v":0}]
[null,null,null,null,null,{"$f":"正本!F36","v":0},null,null,null,null,null,null,null,null,{"$f":"正本!O36","v":0},null,null,null,null,null,null,{"$f":"正本!V36","v":0}]
[null,null,null,null,null,{"$f":"正本!F37","v":0},null,null,null,null,null,null,null,null,{"$f":"正本!O37","v":0},null,null,null,null,null,null,{"$f":"正本!V37","v":0}]
[null,null,null,null,null,{"$f":"正本!F38","v":0},null,null,null,null,null,null,null,null,{"$f":"正本!O38","v":0},null,null,null,null,null,null,{"$f":"正本!V38","v":0}]
[null,null,null,null,null,{"$f":"正本!F39","v":0},null,null,null,null,null,null,null,null,{"$f":"正本!O39","v":0},null,null,null,null,null,null,{"$f":"正本!V39","v":0}]
[]
[]
["土地区画整理施行者記載欄",null,"１．許可についての支障の有無\n　(支障ある場合はその具体的理由) ",null,null,null,null,null,null,null,null,null,null,null,null,null,null,null,null,null,null,null,null,"土地区画整理施行者\n受付印"]
[null,null,"２．許可に附すべき条件"]
[null,null,"３．そ の 他 参 考 事 項"]
[null,null,null,null,null,null,null,null," 仮換地の使用収益開始　　　　　有　　・　　無"]
[]
[null,null,null,null,null,null,null,null,null,"年",null,null,"月",null,null,"日"]
[null,null,null,null," 　　　　　　　　　　　　",null,null,null,null,null,null,null,null,"土地区画整理施行者　　　　　　　　　                            　　   　"]
[]
[]
["許可条件\nその他",null," ",null,null,null,null,null,null,null,null,null,null,null,null,null,null,null,null,null,null,null," ","公印押印済印"]
["備考 ",null,"１．申請人において太わくの中を記入してください。"]
["　　",null,"２．添付図面（変更前後が分かるように図面に記入してください）"]
[null,null,"　　附近見取図、仮換地図(1/500 程度)、建物配置図(1/100 ～1/200 程度・屋根を破線で記入のうえ敷地境界からの寸法を記入)"]
["　　　　　    　 ",null,"　　建物平面図(1/100 ～1/200 程度)、 建物立面図(1/100 ～1/200 程度・敷地境界からの寸法及び建築高を記入)"]
["　　　　　　     ",null,"　※（仮換地を部分使用する場合）使用敷地図(1/500 程度・周囲寸法記入及び三斜求積等記入)を添付してください。"]
[null,null,"　※（建築行為以外の場合）縦断面図及び横断面図、土地の形質変更を示す平面図等を添付してください。"]
[null,null,"３．代理人から申請の場合は、代理権を証する委任状を添付してください。"]
["　　",null,"４．土地所有者が変更になった場合は、土地使用承諾書を添付してください。"]

{"sheet":"許可書 ","index":2,"n_rows":49,"n_cols":28,"rows_kept":49,"cut":false,"hidden":false,"merged":[[43,0,43,27],[46,0,46,27],[44,0,44,27],[45,0,45,27],[40,5,40,13],[40,14,40,20],[40,21,40,27],[26,0,40,0],[26,1,28,4],[26,5,26,6],[32,5,32,27],[33,1,40,4],[38,5,38,13],[38,14,38,20],[38,21,38,27],[39,5,39,13],[39,14,39,20],[39,21,39,27],[36,5,36,13],[36,14,36,20],[36,21,36,27],[37,5,37,13],[37,14,37,20],[37,21,37,27],[33,21,33,27],[34,5,34,13],[34,14,34,20],[34,21,34,27],[35,5,35,13],[35,14,35,20],[35,21,35,27],[33,5,33,13],[33,14,33,20],[26,7,28,12],[26,14,28,15],[26,16,28,19],[29,24,29,26],[30,12,30,13],[30,15,30,17],[30,19,30,22],[30,24,30,26],[31,19,31,22],[31,24,31,26],[26,20,28,21],[26,22,28,24],[26,25,28,25],[26,26,28,27],[29,19,29,22],[29,1,31,4],[29,5,31,9],[29,10,31,11],[29,12,29,13],[29,15,29,17],[31,12,31,13],[31,15,31,17],[24,11,24,26],[25,0,25,4],[25,6,25,7],[25,9,25,10],[25,12,25,13],[25,16,25,20],[25,22,25,24],[21,9,21,21],[21,23,21,27],[22,7,22,8],[22,9,22,26],[23,7,23,8],[23,9,23,19],[23,20,23,21],[23,22,23,26],[19,7,19,8],[19,9,19,26],[20,7,20,8],[20,9,20,19],[20,20,20,21],[20,22,20,26],[15,0,15,27],[16,7,16,8],[16,9,16,26],[17,7,17,8],[17,9,17,19],[17,20,17,21],[17,22,17,26],[8,7,8,8],[10,5,10,6],[10,8,10,9],[10,11,10,12],[14,0,14,5],[14,6,14,27]]}
[]
[]
[]
[null,null,null,null,"土地区画整理法第７６条第１項の規定による許可書（変更）"]
[]
[]
[null,null,"下記のとおり許可する。"]
[]
[null,null,"許可番号",null,null,null,"第",null,null,"号"]
[]
[null,null,"許可年月日",null,null,null,null,"年",null,null,"月",null,null,"日"]
[]
[null,null,null,null,null,null,null,null,null,null,null,null,null,null,"姫　路　市　長　　清　元　秀　泰　　　"]
[]
["　許可条件\n　その他"]
[]
[null,null,null,null,null,"申請人",null,"住所1",null,{"$f":"正本!J16","v":0}]
[null,null,null,null,null,null,null,"氏名1",null,{"$f":"正本!J17","v":0},null,null,null,null,null,null,null,null,null,null,"（℡）",null,{"$f":"正本!W17","v":0}]
[]
[null,null,null,null,null,null,null,"住所2",null,{"$f":"正本!J19","v":0}]
[null,null,null,null,null,null,null,"氏名2",null,{"$f":"正本!J20","v":0},null,null,null,null,null,null,null,null,null,null,"（℡）",null,{"$f":"正本!W20","v":0}]
[null,null,null,null,null,null,null,null,null,null,null,null,null,null,null,null,null,null,null,false]
[null,null,null,null,null,"代理人",null,"住所",null,{"$f":"正本!J22","v":0}]
[null,null,null,null,null,null,null,"氏名",null,{"$f":"正本!J23","v":0},null,null,null,null,null,null,null,null,null,null,"（℡）",null,{"$f":"正本!W23","v":0}]
[null,null,null,null,null,null,null,"（担当者連絡先）",null,null,null,{"$f":"正本!L24","v":0}]
["変更前の許可年月日",null,null,null,null,null,{"$f":"正本!D9","v":0},null,"年",{"$f":"正本!G9","v":0},null,"月",{"$f":"正本!J9","v":0},null,"日",null,"変更前の許可番号",null,null,null,null,"第",{"$f":"正本!P9","v":0},null,null,"号"]
["申 請 者 記 載 欄"," １．位　置\n　（仮換地の底地番）",null,null,null,"姫路市",null,{"$f":"正本!H25","v":0},null,null,null,null,null,null,"用途地域",null,{"$f":"正本!Q25","v":0},null,null,null,"地区",null,{"$f":"正本!W25","v":0},null,null,"地区計画",{"$f":"正本!AA25","v":0}]
[]
[null,null,null,null,null,null,null,null,null,null,null,null,null,"番地"]
[null," ２．仮換地",null,null,null,{"$f":"正本!F28","v":0},null,null,null,null,"地区",null,null,null,null,{"$f":"正本!P28","v":0},null,null,"街区",{"$f":"正本!T28","v":0},null,null,null,"号",{"$f":"正本!Y28","v":0},null,null,"㎡"]
[null,null,null,null,null,null,null,null,null,null,null,null,null,null,null,{"$f":"正本!P29","v":0},null,null,"街区",{"$f":"正本!T29","v":0},null,null,null,"号",{"$f":"正本!Y29","v":0},null,null,"㎡"]
[null,null,null,null,null,null,null,null,null,null,null,null,null,null,null,{"$f":"正本!P30","v":0},null,null,"街区",{"$f":"正本!T30","v":0},null,null,null,"号",{"$f":"正本!Y30","v":0},null,null,"㎡"]
[null," 3．変更理由",null,null,null,{"$f":"正本!F31","v":0}]
[null," ４．変更内容",null,null,null,"項目",null,null,null,null,null,null,null,null,"変更前",null,null,null,null,null,null,"変更後"]
[null,null,null,null,null,{"$f":"正本!F33","v":0},null,null,null,null,null,null,null,null,{"$f":"正本!O33","v":0},null,null,null,null,null,null,{"$f":"正本!V33","v":0}]
[null,null,null,null,null,{"$f":"正本!F34","v":0},null,null,null,null,null,null,null,null,{"$f":"正本!O34","v":0},null,null,null,null,null,null,{"$f":"正本!V34","v":0}]
[null,null,null,null,null,{"$f":"正本!F35","v":0},null,null,null,null,null,null,null,null,{"$f":"正本!O35","v":0},null,null,null,null,null,null,{"$f":"正本!V35","v":0}]
[null,null,null,null,null,{"$f":"正本!F36","v":0},null,null,null,null,null,null,null,null,{"$f":"正本!O36","v":0},null,null,null,null,null,null,{"$f":"正本!V36","v":0}]
[null,null,null,null,null,{"$f":"正本!F37","v":0},null,null,null,null,null,null,null,null,{"$f":"正本!O37","v":0},null,null,null,null,null,null,{"$f":"正本!V37","v":0}]
[null,null,null,null,null,{"$f":"正本!F38","v":0},null,null,null,null,null,null,null,null,{"$f":"正本!O38","v":0},null,null,null,null,null,null,{"$f":"正本!V38","v":0}]
[null,null,null,null,null,{"$f":"正本!F39","v":0},null,null,null,null,null,null,null,null,{"$f":"正本!O39","v":0},null,null,null,null,null,null,{"$f":"正本!V39","v":0}]
[]
[]
["　この許可について不服があるときは、この決定があったことを知った日の翌日から起算して３箇月以内に、姫路市長に対し審査請求をすることができる"]
["（なお、この決定があったことを知った日の翌日から起算して３箇月以内であっても、決定があった日の翌日から起算して１年を経過すると、正当な理由"]
["がある場合を除き、審査請求をすることができなくなる。）。"]
["　また、この決定があったことを知った日から起算して６箇月以内に、姫路市（代表者：姫路市長）を被告として処分の取消しの訴えを提起することが"]
["できる（なお、この決定があったことを知った日から起算して６箇月以内であっても、決定があった日から起算して１年を経過すると、正当な理由がある"]
["場合を除き、処分の取消しの訴えを提起することができなくなる。）。"]

{"sheet":"委任状","index":3,"n_rows":33,"n_cols":18,"rows_kept":33,"cut":false,"hidden":false,"merged":[[9,1,9,10],[58,8,58,15],[34,0,34,22],[50,17,50,19],[51,13,51,15],[51,17,51,19],[54,8,54,21],[55,8,55,15],[57,8,57,21],[41,4,41,21],[42,4,42,11],[49,13,49,15],[49,17,49,19],[49,3,49,8],[50,13,50,15],[40,4,40,21],[10,2,10,10],[25,9,25,10],[25,12,25,13],[25,15,25,16],[14,0,14,22],[36,1,37,22],[28,9,28,22],[31,9,31,22],[29,9,29,17],[32,9,32,17],[28,7,28,8],[29,7,29,8],[31,7,31,8],[32,7,32,8]]}
[]
[]
[]
[null,null,null,null,null,null,null,null,null,null,null,"委　任　状"]
[]
[]
[]
[" 　　私儀"]
[]
[" 　　　　　　　　　　　　　　　　　　        　",{"$f":"正本!$J$23","v":0},null,null,null,null,null,null,null,null,null,"を代理人と定め下記権限を委任する"]
[null,"（℡",{"$f":"正本!W23","v":0},null,null,null,null,null,null,null,null,"）"]
[]
[]
[]
["記　 "]
[]
[]
[]
[" 　　","１　土地区画整理法第７６条第１項の規定による許可申請図書作成並びに提出代理の件"]
[]
[null,"２　併せて上記申請に係る図書処理に関する一切の権限並びに関係書類の作成及び提出受領に関する件"]
[]
[]
[" 　　"]
[]
[null,null,null,null,null,null,null,null,null,null,null,"年",null,null,"月",null,null,"日"]
[]
[null,null,null,null,null,null,"（委任者申請人）"]
[null,null,null,null,null,null,null,"住所1",null,{"$f":"正本!J16","v":0}]
[null,null,null,null,null,null,null,"氏名1",null,{"$f":"正本!J17","v":0}]
[]
[null,null,null,null,null,null,null,"住所2",null,{"$f":"正本!J19","v":0}]
[null,null,null,null,null,null,null,"氏名2",null,{"$f":"正本!J20","v":0}]

{"sheet":"土地使用承諾書","index":4,"n_rows":45,"n_cols":20,"rows_kept":45,"cut":false,"hidden":false,"merged":[[6,0,7,21],[33,9,33,10],[33,12,33,13],[37,9,37,17],[36,9,36,22],[20,7,20,20],[21,7,21,15],[24,7,24,15],[23,7,23,20],[11,0,11,21],[17,12,17,14],[17,16,17,18],[37,7,37,8],[15,2,15,7],[15,12,15,14],[15,16,15,18],[16,12,16,14],[16,16,16,18],[15,9,15,10],[16,9,16,10],[17,9,17,10],[33,6,33,7],[36,7,36,8],[38,7,38,8],[38,9,38,17],[42,7,42,8],[42,9,42,17],[44,0,45,22],[40,7,40,8],[40,9,40,22],[41,7,41,8],[41,9,41,17]]}
[]
[]
[]
[null,null,null,null,null,null,null,null,null,"土地使用承諾書"]
[]
[]
["　私の所有する下記土地に、申請人が建築等の行為を行うため、土地区画整理法第76条第１項の規定による申請をすることを承諾します。"]
[]
[]
[]
[]
["記"]
[]
[]
[null,"１．仮換地"]
[null,null,{"$f":"正本!F28","v":0},null,null,null,null,null,"地区",null,null,null,{"$f":"正本!P28","v":0},null,null,"街区",{"$f":"正本!T28","v":0},null,null,"号"]
[null,null,null,null,null,null,null,null,null,null,null,null,{"$f":"正本!P29","v":0},null,null,"街区",{"$f":"正本!T29","v":0},null,null,"号"]
[null,null,null,null,null,null,null,null,null,null,null,null,{"$f":"正本!P30","v":0},null,null,"街区",{"$f":"正本!T30","v":0},null,null,"号"]
[]
[null,"２．土地を使用する者（土地区画整理法第７６条第１項の規定による申請の申請人）"]
[null,null,"申請人",null,null,"住所1",null,{"$f":"正本!J16","v":0}]
[null,null,null,null,null,"氏名1",null,{"$f":"正本!J17","v":0}]
[]
[null,null,null,null,null,"住所2",null,{"$f":"正本!J19","v":0}]
[null,null,null,null,null,"氏名2",null,{"$f":"正本!J20","v":0}]
[]
[]
[]
[]
[]
[]
[]
[]
[null,null,null,null,null,null,null,null,"年",null,null,"月",null,null,"日"]
[]
[null,null,null,null,null,"（土地所有者）"]
[null,null,null,null,null,null,null,"住所1"]
[null,null,null,null,null,null,null,"氏名1"]
[null,null,null,null,null,null,null," ℡"]
[]
[null,null,null,null,null,null,null,"住所2"]
[null,null,null,null,null,null,null,"氏名2"]
[null,null,null,null,null,null,null," ℡"]
[]
["　　※前回申請時から土地所有者が変更になった場合でも土地所有者と申請人が同一人物の場合は、土地使用承諾書の作成は不要です。"]