{"text_format":"1","workbook":"xlsx","n_sheets":5,"sheets":["正本","副本","許可書 ","委任状","土地使用承諾書"],"not_rendered":{"charts":0,"images":0,"macros":1,"external_links":0,"defined_names":5,"comments":5,"pivot_tables":0},"unopened":[],"bounds":{"document_bytes":16777216,"sheet_cells":100000,"rows_first":2000,"rows_last":500,"rows_between":2000,"halvings":0,"cell_chars":16384,"cell_head_chars":4096},"cells_cut":0,"cells_raw":0,"read":"whole","date_system":"1900"}

{"sheet":"正本","index":0,"n_rows":65,"n_cols":50,"rows_kept":65,"cut":false,"hidden":false,"merged":[[8,0,9,1],[10,27,11,33],[48,19,50,23],[56,19,61,23],[19,5,19,17],[19,19,19,23],[20,5,20,22],[39,8,39,14],[37,4,37,7],[23,12,25,15],[23,18,25,20],[37,15,37,19],[38,15,38,19],[39,15,39,19],[47,19,47,23],[47,1,47,4],[31,2,31,3],[32,2,32,3],[29,0,35,1],[13,0,13,23],[14,5,14,22],[10,0,10,23],[18,16,18,17],[15,18,15,22],[47,0,54,0],[44,12,44,14],[44,2,44,3],[36,0,43,1],[36,2,39,3],[40,2,43,3],[56,1,56,16],[49,1,50,4],[48,1,48,4],[47,5,47,18],[48,5,48,18],[49,5,49,18],[44,18,44,19],[44,15,44,16],[44,6,44,7],[44,9,44,10],[44,0,44,1],[44,21,44,22],[42,17,42,23],[43,17,43,23],[37,8,37,14],[41,17,41,23],[31,23,35,23],[37,20,37,22],[39,20,39,22],[32,4,32,17],[43,4,43,11],[41,12,41,16],[39,4,39,7],[38,4,38,7],[38,8,38,14],[42,12,42,16],[43,12,43,16],[41,4,41,11],[42,4,42,11],[23,2,23,3],[23,16,25,17],[29,3,29,10],[26,0,28,1],[35,2,35,3],[35,4,35,17],[34,2,34,3],[34,4,34,17],[28,8,28,9],[26,15,26,18],[27,15,27,18],[23,0,25,1],[26,11,26,13],[27,11,27,13],[28,11,28,13],[26,2,28,5],[26,6,28,7],[26,8,26,9],[27,8,27,9],[26,20,26,22],[27,20,27,22],[28,20,28,22],[31,19,35,22],[31,4,31,17],[1,19,5,23],[17,5,17,22],[15,16,15,17],[11,21,11,22],[11,18,11,19],[11,15,11,16],[8,2,9,23],[18,18,18,22],[18,5,18,15],[15,5,15,15],[21,16,21,17],[21,18,21,22],[21,5,21,15],[22,7,22,22],[23,21,25,21],[23,4,25,8],[23,10,25,11],[23,22,25,23],[28,15,28,18]]}
[]
[null,null,null,null,null,null,null,null,null,null,null,null,null,null,null,null,null,null,null,"受付印"]
[]
[null,null,"土地区画整理法第７６条第１項の規定による許可申請書"]
[]
[]
[]
["　土地区画整理法第７６条第１項の規定により、次のとおり許可を受けたいので、関係書類を添えて申請します。",null,null,null,null,null,null,null,null,null,null,null,null,null,null,null,null,null,null,null,null,null,null,null,null,"【申請を行う行為の選択】　"]
["　　申請を行う行為の種類：",null,{"$f":"CONCATENATE(AU9,AV9,AW9,AX9,\" 　　 \",AU10,AV10,AW10,AX10,\"　　\",AU12,\"　　\",AU13,AV13,AW13)","v":" 　　 　　　　"},null,null,null,null,null,null,null,null,null,null,null,null,null,null,null,null,null,null,null,null,null,null,null,null,"建築物の",null,"新築",null,"改築",null,"増築",null,null,null,"建築物の",false,"新築",false,"改築",false,"増築",false,null,{"$f":"IF(AM9=TRUE,\"建築物の\",\"\")","v":""},{"$f":"IF(AO9=TRUE,\" 新築\",\"\")","v":""},{"$f":"IF(AQ9=TRUE,\"　改築\",\"\")","v":""},{"$f":"IF(AS9=TRUE,\"　増築\",\"\")","v":""}]
[null,null,null,null,null,null,null,null,null,null,null,null,null,null,null,null,null,null,null,null,null,null,null,null,null,null,null,"工作物の",null,"新築",null,"改築",null,"増築",null,null,null,"工作物の",false,"新築",false,"改築",false,"増築",false,null,{"$f":"IF(AM10=TRUE,\"工作物の\",\"\")","v":""},{"$f":"IF(AO10=TRUE,\" 新築\",\"\")","v":""},{"$f":"IF(AQ10=TRUE,\"　改築\",\"\")","v":""},{"$f":"IF(AS10=TRUE,\"　増築\",\"\")","v":""}]
[null,null,null,null,null,null,null,null,null,null,null,null,null,null,null,null,null,null,null,null,null,null,null,null,null,null,null,"土地の区画形質の変更",null,null,null,null,null,null,null,null,null,null,null,null,null,null,null,null,null,null,null,{"$f":"IF(AN11=TRUE,\"工作物の\",\"\")","v":""},{"$f":"IF(AO11=TRUE,\"工作物の\",\"\")","v":""},{"$f":"IF(AP11=TRUE,\"工作物の\",\"\")","v":""}]
[null,null,null,null,null,null,null,null,null,null,null,null,null,null,null,null,null,"年",null,null,"月",null,null,"日",null,null,null,null,null,null,null,null,null,null,null,null,null,"土地の区画形質の変更",false,null,null,null,null,null,null,null,{"$f":"IF(AM12=TRUE,\"土地の区画形質の変更\",\"\")","v":""}]
["　（あて先）姫路市長",null,null,null,null,null,null,null,null,null,null,null,null,null,null,null,null,null,null,null,null,null,null,null,null,null,null,"物件の",null,"設置",null,"たい積",null,null,null,null,null,"物件の",false,"設置",false,"たい積",false,null,null,null,{"$f":"IF(AM13=TRUE,\"物件の\",\"\")","v":""},{"$f":"IF(AO13=TRUE,\" 設置\",\"\")","v":""},{"$f":"IF(AQ13=TRUE,\"　たい積\",\"\")","v":""}]
[]
[null,null,"申請人",null,"住所1"]
[null,null,null,null,"氏名1",null,null,null,null,null,null,null,null,null,null,null,"（℡）"]
[]
[null,null,null,null,"住所2"]
[null,null,null,null,"氏名2",null,null,null,null,null,null,null,null,null,null,null,"（℡）"]
[null,null,null,null,null,null,null,null,null,null,null,null,null,null,null,false]
[null,null,"代理人",null,"住所",null,null,null,null,null,null,null,null,null,null,null,null,null,null,null,null,null,null,null,null,null,"↑入力データを全削除します"]
[null,null,null,null,"氏名",null,null,null,null,null,null,null,null,null,null,null,"（℡）"]
[null,null,null,null,"（担当者連絡先）"]
[" １．位　置\n　（仮換地の底地番）",null,"姫路市",null,null,null,null,null,null,null,"用途地域",null,null,null,null,null,"地区",null,null,null,null,"地区計画"]
[]
[null,null,null,null,null,null,null,null,null,"番地"]
[" ２．仮換地",null,null,null,null,null,"地区",null,null,null,null,null,null,null,"街区",null,null,null,null,"号",null,null,null,"㎡"]
[null,null,null,null,null,null,null,null,null,null,null,null,null,null,"街区",null,null,null,null,"号",null,null,null,"㎡"]
[null,null,null,null,null,null,null,null,null,null,null,null,null,null,"街区",null,null,null,null,"号",null,null,null,"㎡"]
[" ３．土地所有者の住所、氏名並びに使用地面積",null,null,null,null,null,null,null,null,null,null,null,null,null,null,null,null,null,null," 使用地面積"]
[null,null,"　※土地所有者が申請人以外の者である場合に記入"]
[null,null,"(住所1)　　　　　　　　　　　　　　               ",null,null,null,null,null,null,null,null,null,null,null,null,null,null,null,null,null,null,null,null,"㎡"]
[null,null,"(氏名1)　　　　　　　　　　　　　　               "]
[]
[null,null,"(住所2)　　　　　　　　　　　　　　               "]
[null,null,"(氏名2)　　　　　　　　　　　　　　               "]
[" ４．許可を受けようとするもの",null,"建築行為",null," 工事種別",null,null,null,"構造",null,null,null,null,null,null," 用途",null,null,null,null,"建築面積"]
[null,null,null,null,null,null,null,null,null,null,null,null,null,null,null,null,null,null,null,null,null,null,null,"㎡"]
[null,null,null,null,null,null,null,null,null,null,null,null,null,null,null,null,null,null,null,null,"延べ面積"]
[null,null,null,null,null,null,null,null,null,null,null,null,null,null,null,null,null,null,null,null,null,null,null,"㎡"]
[null,null,"建築以外の行為",null,"種別",null,null,null,null,null,null,null,"数量",null,null,null,null,"概要"]
[]
[]
[]
[" ５．工事着手及び完了予定",null,"着手",null,null,"年",null,null,"月",null,null,"日","完了",null,null,null,null,"年",null,null,"月",null,null,"日"]
[]
[]
["土地区画整理施行者記載欄","１．許可についての支障の有無\n　(支障ある場合はその具体的理由) ",null,null,null,null,null,null,null,null,null,null,null,null,null,null,null,null,null,"土地区画整理施行者\n受付印"]
[null,"２．許可に附すべき条件"]
[null,"３．そ の 他 参 考 事 項"]
[null,null,null,null,null," 仮換地の使用収益開始　　　　　有　　・　　無"]
[]
[null,null,null,null,null,"年",null,null,"月",null,null,"日"]
[null," 　　　　　　　　　　　　",null,null,null,null,null,null,null,"土地区画整理施行者　　　　　　　　　                            　　   　"]
[]
[]
["許可条件\nその他"," ",null,null,null,null,null,null,null,null,null,null,null,null,null,null,null,null," ","公印押印済印"]
["備考 ","１．申請人において太わくの中を記入してください。"]
["　　","２．添付図面　※必要に応じて下記以外のものをお願いする場合があります。　"]
[null,"　　附近見取図、仮換地図(1/500 程度)、建物配置図(1/100 ～1/200 程度・屋根を破線で記入のうえ敷地境界からの寸法を記入)"]
["　　　　　    　 ","　　建物平面図(1/100 ～1/200 程度)、 建物立面図(1/100 ～1/200 程度・敷地境界からの寸法及び建築高を記入)"]
["　　　　　　     ","　※（仮換地を部分使用する場合）使用敷地図(1/500 程度・周囲寸法記入及び三斜求積等記入)を添付してください。"]
[null,"　※（建築行為以外の場合）縦断面図及び横断面図、土地の形質変更を示す平面図等を添付してください。"]
[null,"３．代理人から申請の場合は、代理権を証する委任状を添付してください。"]
["　　","４．土地所有者が申請人以外の者である場合は、土地使用承諾書を添付してください。"]

{"sheet":"副本","index":1,"n_rows":65,"n_cols":24,"rows_kept":65,"cut":false,"hidden":false,"merged":[[18,5,18,15],[18,16,18,17],[18,18,18,22],[10,0,10,23],[11,15,11,16],[11,18,11,19],[11,21,11,22],[13,0,13,23],[14,5,14,22],[15,5,15,15],[15,16,15,17],[15,18,15,22],[17,5,17,22],[19,5,19,17],[19,19,19,23],[20,5,20,22],[21,5,21,15],[21,16,21,17],[21,18,21,22],[22,7,22,22],[23,0,25,1],[23,2,23,3],[23,4,25,8],[23,10,25,11],[23,12,25,15],[23,16,25,17],[23,18,25,20],[23,21,25,21],[23,22,25,23],[26,0,28,1],[26,2,28,5],[26,6,28,7],[26,8,26,9],[26,11,26,13],[28,8,28,9],[28,11,28,13],[28,15,28,18],[28,20,28,22],[26,15,26,18],[26,20,26,22],[27,8,27,9],[27,11,27,13],[27,15,27,18],[27,20,27,22],[32,2,32,3],[34,2,34,3],[35,2,35,3],[32,4,32,17],[34,4,34,17],[35,4,35,17],[29,0,35,1],[31,2,31,3],[31,4,31,17],[31,19,35,22],[36,0,43,1],[36,2,39,3],[37,4,37,7],[37,8,37,14],[37,15,37,19],[40,2,43,3],[41,4,41,11],[41,12,41,16],[41,17,41,23],[43,4,43,11],[43,12,43,16],[31,23,35,23],[47,0,54,0],[47,1,47,4],[47,5,47,18],[47,19,47,23],[48,1,48,4],[48,5,48,18],[48,19,50,23],[49,1,50,4],[49,5,49,18],[43,17,43,23],[38,4,38,7],[38,8,38,14],[38,15,38,19],[39,4,39,7],[39,15,39,19],[42,12,42,16],[42,17,42,23],[39,8,39,14],[8,2,9,23],[8,0,9,1],[29,3,29,10],[56,1,56,16],[56,19,61,23],[37,20,37,22],[39,20,39,22],[44,18,44,19],[44,21,44,22],[44,0,44,1],[44,2,44,3],[44,6,44,7],[44,9,44,10],[44,12,44,14],[44,15,44,16],[42,4,42,11]]}
[]
[]
[]
[null,null,"土地区画整理法第７６条第１項の規定による許可申請書"]
[]
[]
[]
["　土地区画整理法第７６条第１項の規定により、次のとおり許可を受けたいので、関係書類を添えて申請します。"]
["　　申請を行う行為の種類：",null,{"$f":"正本!C9","v":" 　　 　　　　"}]
[]
[]
[null,null,null,null,null,null,null,null,null,null,null,null,null,null,null,{"$f":"正本!P12","v":0},null,"年",{"$f":"正本!S12","v":0},null,"月",{"$f":"正本!V12","v":0},null,"日"]
["　（あて先）姫路市長"]
[]
[null,null,"申請人",null,"住所1",{"$f":"正本!F15","v":0}]
[null,null,null,null,"氏名1",{"$f":"正本!F16","v":0},null,null,null,null,null,null,null,null,null,null,"（℡）",null,{"$f":"正本!S16","v":0}]
[]
[null,null,null,null,"住所2",{"$f":"正本!F18","v":0}]
[null,null,null,null,"氏名2",{"$f":"正本!F19","v":0},null,null,null,null,null,null,null,null,null,null,"（℡）",null,{"$f":"正本!S19","v":0}]
[]
[null,null,"代理人",null,"住所",{"$f":"正本!F21","v":0}]
[null,null,null,null,"氏名",{"$f":"正本!F22","v":0},null,null,null,null,null,null,null,null,null,null,"（℡）",null,{"$f":"正本!S22","v":0}]
[null,null,null,null,"（担当者連絡先）",null,null,{"$f":"正本!H23","v":0}]
[" １．位　置\n　（仮換地の底地番）",null,"姫路市",null,{"$f":"正本!E24","v":0},null,null,null,null,null,"用途地域",null,{"$f":"正本!M24","v":0},null,null,null,"地区",null,{"$f":"正本!S24","v":0},null,null,"地区計画",{"$f":"正本!W24","v":0}]
[]
[null,null,null,null,null,null,null,null,null,"番地"]
[" ２．仮換地",null,{"$f":"正本!C27","v":0},null,null,null,"地区",null,null,null,null,{"$f":"正本!L27","v":0},null,null,"街区",{"$f":"正本!P27","v":0},null,null,null,"号",{"$f":"正本!U27","v":0},null,null,"㎡"]
[null,null,null,null,null,null,null,null,null,null,null,{"$f":"正本!L28","v":0},null,null,"街区",{"$f":"正本!P28","v":0},null,null,null,"号",{"$f":"正本!U28","v":0},null,null,"㎡"]
[null,null,null,null,null,null,null,null,null,null,null,{"$f":"正本!L29","v":0},null,null,"街区",{"$f":"正本!P29","v":0},null,null,null,"号",{"$f":"正本!U29","v":0},null,null,"㎡"]
[" ３．土地所有者の住所、氏名並びに使用地面積",null,null,{"$f":"正本!$D$30","v":0},null,null,null,null,null,null,null,null,null,null,null,null,null,null,null," 使用地面積"]
[null,null,"　※土地所有者が申請人以外の者である場合に記入"]
[null,null,"(住所1)　　　　　　　　　　　　　　               ",null,{"$f":"正本!E32","v":0},null,null,null,null,null,null,null,null,null,null,null,null,null,null,{"$f":"正本!T32","v":0},null,null,null,"㎡"]
[null,null,"(氏名1)　　　　　　　　　　　　　　               ",null,{"$f":"正本!E33","v":0}]
[]
[null,null,"(住所2)　　　　　　　　　　　　　　               ",null,{"$f":"正本!E35","v":0}]
[null,null,"(氏名2)　　　　　　　　　　　　　　               ",null,{"$f":"正本!E36","v":0}]
[" ４．許可を受けようとするもの",null,"建築行為",null," 工事種別",null,null,null,"構造",null,null,null,null,null,null," 用途",null,null,null,null,"建築面積"]
[null,null,null,null,{"$f":"正本!E38","v":0},null,null,null,{"$f":"正本!I38","v":0},null,null,null,null,null,null,{"$f":"正本!P38","v":0},null,null,null,null,{"$f":"正本!U38","v":0},null,null,"㎡"]
[null,null,null,null,{"$f":"正本!E39","v":0},null,null,null,{"$f":"正本!I39","v":0},null,null,null,null,null,null,{"$f":"正本!P39","v":0},null,null,null,null,"延べ面積"]
[null,null,null,null,{"$f":"正本!E40","v":0},null,null,null,{"$f":"正本!I40","v":0},null,null,null,null,null,null,{"$f":"正本!P40","v":0},null,null,null,null,{"$f":"正本!U40","v":0},null,null,"㎡"]
[null,null,"建築以外の行為",null,"種別",null,null,null,null,null,null,null,"数量",null,null,null,null,"概要"]
[null,null,null,null,{"$f":"正本!E42","v":0},null,null,null,null,null,null,null,{"$f":"正本!M42","v":0},null,null,null,null,{"$f":"正本!R42","v":0}]
[null,null,null,null,{"$f":"正本!E43","v":0},null,null,null,null,null,null,null,{"$f":"正本!M43","v":0},null,null,null,null,{"$f":"正本!R43","v":0}]
[null,null,null,null,{"$f":"正本!E44","v":0},null,null,null,null,null,null,null,{"$f":"正本!M44","v":0},null,null,null,null,{"$f":"正本!R44","v":0}]
[" ５．工事着手及び完了予定",null,"着手",null,{"$f":"正本!E45","v":0},"年",{"$f":"正本!G45","v":0},null,"月",{"$f":"正本!J45","v":0},null,"日","完了",null,null,{"$f":"正本!P45","v":0},null,"年",{"$f":"正本!S45","v":0},null,"月",{"$f":"正本!V45","v":0},null,"日"]
[]
[]
["土地区画整理施行者記載欄","１．許可についての支障の有無\n　(支障ある場合はその具体的理由) ",null,null,null,null,null,null,null,null,null,null,null,null,null,null,null,null,null,"土地区画整理施行者\n受付印"]
[null,"２．許可に附すべき条件"]
[null,"３．そ の 他 参 考 事 項"]
[null,null,null,null,null," 仮換地の使用収益開始　　　　　有　　・　　無"]
[]
[null,null,null,null,null,"年",null,null,"月",null,null,"日"]
[null," 　　　　　　　　　　　　",null,null,null,null,null,null,null,"土地区画整理施行者　　　　　　　　　                            　　   　"]
[]
[]
["許可条件\nその他"," ",null,null,null,null,null,null,null,null,null,null,null,null,null,null,null,null," ","公印押印済印"]
["備考 ","１．申請人において太わくの中を記入してください。"]
["　　","２．添付図面　※必要に応じて下記以外のものをお願いする場合があります。　"]
[null,"　　附近見取図、仮換地図(1/500 程度)、建物配置図(1/100 ～1/200 程度・屋根を破線で記入のうえ敷地境界からの寸法を記入)"]
["　　　　　    　 ","　　建物平面図(1/100 ～1/200 程度)、 建物立面図(1/100 ～1/200 程度・敷地境界からの寸法及び建築高を記入)"]
["　　　　　　     ","　※（仮換地を部分使用する場合）使用敷地図(1/500 程度・周囲寸法記入及び三斜求積等記入)を添付してください。"]
[null,"　※（建築行為以外の場合）縦断面図及び横断面図、土地の形質変更を示す平面図等を添付してください。"]
[null,"３．代理人から申請の場合は、代理権を証する委任状を添付してください。"]
["　　","４．土地所有者が申請人以外の者である場合は、土地使用承諾書を添付してください。"]

{"sheet":"許可書 ","index":2,"n_rows":57,"n_cols":25,"rows_kept":57,"cut":false,"hidden":false,"merged":[[55,0,55,24],[56,0,56,24],[50,0,50,24],[49,19,49,20],[49,22,49,23],[51,0,51,24],[52,0,52,24],[53,0,53,24],[54,0,54,24],[18,0,49,0],[19,4,19,23],[20,4,20,14],[20,17,20,23],[22,4,22,23],[23,4,23,14],[23,17,23,23],[48,18,48,24],[49,1,49,2],[49,3,49,4],[49,5,49,6],[49,8,49,9],[49,11,49,12],[49,14,49,15],[49,16,49,17],[41,1,48,2],[43,10,43,14],[43,15,43,19],[44,5,44,9],[44,10,44,14],[44,15,44,19],[44,21,44,23],[45,3,48,4],[46,5,46,13],[46,14,46,17],[46,18,46,24],[47,5,47,13],[47,14,47,17],[47,18,47,24],[48,5,48,13],[48,14,48,17],[34,1,40,2],[34,4,34,11],[35,24,40,24],[36,5,36,19],[36,20,40,23],[37,5,37,19],[39,5,39,19],[40,5,40,19],[41,3,44,4],[42,5,42,9],[42,10,42,14],[42,15,42,19],[42,21,42,23],[43,5,43,9],[32,21,32,23],[33,9,33,10],[33,12,33,14],[33,16,33,19],[33,21,33,23],[28,23,30,24],[31,1,33,2],[31,3,33,7],[31,9,31,10],[31,12,31,14],[31,16,31,19],[31,21,31,23],[32,9,32,10],[32,12,32,14],[28,1,30,2],[28,4,30,9],[28,11,30,12],[28,13,30,16],[28,17,30,18],[28,19,30,21],[32,16,32,19],[9,3,9,4],[11,2,11,3],[11,5,11,6],[11,8,11,9],[28,22,30,22],[17,0,17,1],[17,2,17,24],[25,4,25,23],[26,4,26,14],[26,17,26,23]]}
[]
[]
[null,null,"土地区画整理法第７６条第１項の規定による許可書"]
[]
[]
[]
["　","下記のとおり許可する。"]
[]
[]
[null,"許可番号","第",null,null,"号"]
[]
[null,"許可年月日",null,null,"年",null,null,"月",null,null,"日"]
[]
[]
["　　",null,null,null,null,null,null,null,null,null,null,"姫　路　市　長　　清　元　秀　泰　　　"]
[" 　　　　　　　　　　　　　　　　  　　"]
[]
["　許可条件\n　その他"]
["申　請　者　記　載　欄"]
[null," 　申請人1","（住所1）",null,{"$f":"正本!F15","v":0}]
[null,null,"（氏名1）",null,{"$f":"正本!F16","v":0},null,null,null,null,null,null,null,null,null,null,"（℡）",null,{"$f":"正本!S16","v":0}]
[]
[null,null,"（住所2）",null,{"$f":"正本!F18","v":0}]
[null,null,"（氏名2）",null,{"$f":"正本!F19","v":0},null,null,null,null,null,null,null,null,null,null,"（℡）",null,{"$f":"正本!S19","v":0}]
[]
[null,"代理人","（住所）",null,{"$f":"正本!F21","v":0}]
[null,null,"（氏名）",null,{"$f":"正本!F22","v":0},null,null,null,null,null,null,null,null,null,null,"（℡）",null,{"$f":"正本!S22","v":0}]
[]
[null," １．位　置\n（仮換地の底地番）",null,"姫路市",{"$f":"正本!E24","v":0},null,null,null,null,null,null,"用途地域",null,{"$f":"正本!M24","v":0},null,null,null,"地区",null,{"$f":"正本!S24","v":0},null,null,"地区計画",{"$f":"正本!W24","v":0}]
[]
[null,null,null,null,null,null,null,null,null,null,"番地"]
[null," ２．仮　換　地",null,{"$f":"正本!C27","v":0},null,null,null,null,null,null,null,null,{"$f":"正本!L27","v":0},null,null,"街区",{"$f":"正本!P27","v":0},null,null,null,"号",{"$f":"正本!U27","v":0},null,null,"㎡"]
[null,null,null,null,null,null,null,null,"地区",null,null,null,{"$f":"正本!L28","v":0},null,null,"街区",{"$f":"正本!P28","v":0},null,null,null,"号",{"$f":"正本!U28","v":0},null,null,"㎡"]
[null,null,null,null,null,null,null,null,null,null,null,null,{"$f":"正本!L29","v":0},null,null,"街区",{"$f":"正本!P29","v":0},null,null,null,"号",{"$f":"正本!U29","v":0},null,null,"㎡"]
[null," ３．土地所有者の住所、氏名並びに使用地面積",null,null,{"$f":"正本!D30","v":0},null,null,null,null,null,null,null,null,null,null,null,null,null,null,null," 使用地面積"]
[null,null,null,"　※土地所有者が申請人以外の者である場合に記入",null,null,null,null,null,null,null,null,null,null,null,null,null,null,null,null,null,null,null,null,"㎡"]
[null,null,null,"　（住所1）",null,{"$f":"正本!E32","v":0},null,null,null,null,null,null,null,null,null,null,null,null,null,null,{"$f":"正本!T32","v":0}]
[null,null,null,"　（氏名1）",null,{"$f":"正本!E33","v":0}]
[]
[null,null,null,"　（住所2）",null,{"$f":"正本!E35","v":0}]
[null,null,null,"　（氏名2）",null,{"$f":"正本!E36","v":0}]
[null," ４．許可を受けようとするもの",null," 建築行為",null," 工事種別",null,null,null,null," 構造",null,null,null,null," 用途",null,null,null,null,"建築面積"]
[null,null,null,null,null,{"$f":"正本!E38","v":0},null,null,null,null,{"$f":"正本!I38","v":0},null,null,null,null,{"$f":"正本!P38","v":0},null,null,null,null,null,{"$f":"正本!U38","v":0},null,null,"㎡"]
[null,null,null,null,null,{"$f":"正本!E39","v":0},null,null,null,null,{"$f":"正本!I39","v":0},null,null,null,null,{"$f":"正本!P39","v":0},null,null,null,null,"延べ面積"]
[null,null,null,null,null,{"$f":"正本!E40","v":0},null,null,null,null,{"$f":"正本!I40","v":0},null,null,null,null,{"$f":"正本!P40","v":0},null,null,null,null,null,{"$f":"正本!U40","v":0},null,null,"㎡"]
[null,null,null,"建築以外の行為",null,"種別",null,null,null,null,null,null,null,null,"数量",null,null,null,"概要"]
[null,null,null,null,null,{"$f":"正本!E42","v":0},null,null,null,null,null,null,null,null,{"$f":"正本!M42","v":0},null,null,null,{"$f":"正本!R42","v":0}]
[null,null,null,null,null,{"$f":"正本!E43","v":0},null,null,null,null,null,null,null,null,{"$f":"正本!M43","v":0},null,null,null,{"$f":"正本!R43","v":0}]
[null,null,null,null,null,{"$f":"正本!E44","v":0},null,null,null,null,null,null,null,null,{"$f":"正本!M44","v":0},null,null,null,{"$f":"正本!R44","v":0}]
[null," ５．工事着手及び完了予定",null,"着手",null,{"$f":"正本!E45","v":0},null,"年",{"$f":"正本!G45","v":0},null,"月",{"$f":"正本!J45","v":0},null,"日","完了",null,{"$f":"正本!P45","v":0},null,"年",{"$f":"正本!S45","v":0},null,"月",{"$f":"正本!V45","v":0},null,"日"]
[]
["　この許可について不服があるときは、この決定があったことを知った日の翌日から起算して３箇月以内に、姫路市長に対し審査請求をすることができる"]
["（なお、この決定があったことを知った日の翌日から起算して３箇月以内であっても、決定があった日の翌日から起算して１年を経過すると、正当な理由"]
["がある場合を除き、審査請求をすることができなくなる。）。"]
["　また、この決定があったことを知った日から起算して６箇月以内に、姫路市（代表者：姫路市長）を被告として処分の取消しの訴えを提起することが"]
["できる（なお、この決定があったことを知った日から起算して６箇月以内であっても、決定があった日から起算して１年を経過すると、正当な理由がある"]
["場合を除き、処分の取消しの訴えを提起することができなくなる。）。"]

{"sheet":"委任状","index":3,"n_rows":33,"n_cols":18,"rows_kept":33,"cut":false,"hidden":false,"merged":[[36,1,37,22],[28,9,28,22],[31,9,31,22],[29,9,29,17],[32,9,32,17],[28,7,28,8],[29,7,29,8],[31,7,31,8],[32,7,32,8],[10,2,10,10],[25,9,25,10],[25,12,25,13],[25,15,25,16],[14,0,14,22],[9,1,9,10],[58,8,58,15],[34,0,34,22],[50,17,50,19],[51,13,51,15],[51,17,51,19],[54,8,54,21],[55,8,55,15],[57,8,57,21],[41,4,41,21],[42,4,42,11],[49,13,49,15],[49,17,49,19],[49,3,49,8],[50,13,50,15],[40,4,40,21]]}
[]
[]
[]
[null,null,null,null,null,null,null,null,null,null,null,"委　任　状"]
[]
[]
[]
[" 　　私儀"]
[]
[" 　　　　　　　　　　　　　　　　　　        　",{"$f":"正本!$F$22","v":0},null,null,null,null,null,null,null,null,null,"を代理人と定め下記権限を委任する"]
[null,"（℡",{"$f":"正本!S22","v":0},null,null,null,null,null,null,null,null,"）"]
[]
[]
[]
["記　 "]
[]
[]
[]
[" 　　","１　土地区画整理法第７６条第１項の規定による許可申請図書作成並びに提出代理の件"]
[]
[null,"２　併せて上記申請に係る図書処理に関する一切の権限並びに関係書類の作成及び提出受領に関する件"]
[]
[]
[" 　　"]
[]
[null,null,null,null,null,null,null,null,null,null,null,"年",null,null,"月",null,null,"日"]
[]
[null,null,null,null,null,null,"（委任者申請人）"]
[null,null,null,null,null,null,null,"住所1",null,{"$f":"正本!F15","v":0}]
[null,null,null,null,null,null,null,"氏名1",null,{"$f":"正本!F16","v":0}]
[]
[null,null,null,null,null,null,null,"住所2",null,{"$f":"正本!F18","v":0}]
[null,null,null,null,null,null,null,"氏名2",null,{"$f":"正本!F19","v":0}]

{"sheet":"土地使用承諾書","index":4,"n_rows":45,"n_cols":20,"rows_kept":45,"cut":false,"hidden":false,"merged":[[42,7,42,8],[42,9,42,17],[37,7,37,8],[41,7,41,8],[41,9,41,17],[40,7,40,8],[40,9,40,22],[38,7,38,8],[38,9,38,17],[15,12,15,14],[15,16,15,18],[16,12,16,14],[16,16,16,18],[15,9,15,10],[16,9,16,10],[6,0,7,21],[33,9,33,10],[33,12,33,13],[37,9,37,17],[36,9,36,22],[20,7,20,20],[21,7,21,15],[24,7,24,15],[23,7,23,20],[11,0,11,21],[17,12,17,14],[17,16,17,18],[17,9,17,10],[33,6,33,7],[36,7,36,8],[15,2,15,7]]}
[]
[]
[]
[null,null,null,null,null,null,null,null,null,"土地使用承諾書"]
[]
[]
["　私の所有する下記土地に、申請人が建築等の行為を行うため、土地区画整理法第76条第１項の規定による申請をすることを承諾します。"]
[]
[]
[]
[]
["記"]
[]
[]
[null,"１．仮換地"]
[null,null,{"$f":"正本!C27","v":0},null,null,null,null,null,"地区",null,null,null,{"$f":"正本!L27","v":0},null,null,"街区",{"$f":"正本!P27","v":0},null,null,"号"]
[null,null,null,null,null,null,null,null,null,null,null,null,{"$f":"正本!L28","v":0},null,null,"街区",{"$f":"正本!P28","v":0},null,null,"号"]
[null,null,null,null,null,null,null,null,null,null,null,null,{"$f":"正本!L29","v":0},null,null,"街区",{"$f":"正本!P29","v":0},null,null,"号"]
[]
[null,"２．土地を使用する者（土地区画整理法第７６条第１項の規定による申請の申請人）"]
[null,null,"申請人",null,null,"住所1",null,{"$f":"正本!F15","v":0}]
[null,null,null,null,null,"氏名1",null,{"$f":"正本!F16","v":0}]
[]
[null,null,null,null,null,"住所2",null,{"$f":"正本!F18","v":0}]
[null,null,null,null,null,"氏名2",null,{"$f":"正本!F19","v":0}]
[]
[]
[]
[]
[]
[]
[]
[]
[null,null,null,null,null,null,null,null,"年",null,null,"月",null,null,"日"]
[]
[null,null,null,null,null,"（土地所有者）"]
[null,null,null,null,null,null,null,"住所1",null,{"$f":"正本!E32","v":0}]
[null,null,null,null,null,null,null,"氏名1",null,{"$f":"正本!E33","v":0}]
[null,null,null,null,null,null,null,"℡"]
[]
[null,null,null,null,null,null,null,"住所2",null,{"$f":"正本!E35","v":0}]
[null,null,null,null,null,null,null,"氏名2",null,{"$f":"正本!E36","v":0}]
[null,null,null,null,null,null,null,"℡"]
[]
[null,"※土地所有者と申請人が同一人物の場合は、土地使用承諾書の作成は不要です。"]